BEGIN:VCALENDAR
VERSION:2.0
PRODID:-//Disfruta Denia - ECPv6.15.20//NONSGML v1.0//EN
CALSCALE:GREGORIAN
METHOD:PUBLISH
X-ORIGINAL-URL:https://disfruta-denia.com
X-WR-CALDESC:Eventos para Disfruta Denia
REFRESH-INTERVAL;VALUE=DURATION:PT1H
X-Robots-Tag:noindex
X-PUBLISHED-TTL:PT1H
BEGIN:VTIMEZONE
TZID:Europe/Madrid
BEGIN:DAYLIGHT
TZOFFSETFROM:+0100
TZOFFSETTO:+0200
TZNAME:CEST
DTSTART:20220327T010000
END:DAYLIGHT
BEGIN:STANDARD
TZOFFSETFROM:+0200
TZOFFSETTO:+0100
TZNAME:CET
DTSTART:20221030T010000
END:STANDARD
BEGIN:DAYLIGHT
TZOFFSETFROM:+0100
TZOFFSETTO:+0200
TZNAME:CEST
DTSTART:20230326T010000
END:DAYLIGHT
BEGIN:STANDARD
TZOFFSETFROM:+0200
TZOFFSETTO:+0100
TZNAME:CET
DTSTART:20231029T010000
END:STANDARD
BEGIN:DAYLIGHT
TZOFFSETFROM:+0100
TZOFFSETTO:+0200
TZNAME:CEST
DTSTART:20240331T010000
END:DAYLIGHT
BEGIN:STANDARD
TZOFFSETFROM:+0200
TZOFFSETTO:+0100
TZNAME:CET
DTSTART:20241027T010000
END:STANDARD
END:VTIMEZONE
BEGIN:VEVENT
DTSTART;TZID=Europe/Madrid:20230723T220000
DTEND;TZID=Europe/Madrid:20230723T220000
DTSTAMP:20260423T022746
CREATED:20230626T083530Z
LAST-MODIFIED:20230626T114157Z
UID:10011130-1690149600-1690149600@disfruta-denia.com
SUMMARY:Cine Vora Mar: COMPETENCIA OFICIAL
DESCRIPTION:COMPETENCIA OFICIAL. \n\nAño: 2021\nPaís: España\nGénero: Comedia negra\nDuración: 1 hora 54 minutos\nEdad recomendada: Mayores de 12 años\nLugar: Playa Punta del Raset\nHora: 22:00\nSinopsis: Buscando notoriedad y prestigio social\, un rico empresario se lanza a rodar una película que deje huella. Para ello\, ficha a los mejores: un equipo estelar formado por la prestigiosa cineasta Lola Cuevas (Penélope Cruz) y dos reconocidos intérpretes\, de enorme talento pero con un ego aún más grande: el actor de Hollywood Félix Rivero (Antonio Banderas) y el actor radical de teatro Iván Torres (Oscar Martínez). Ambos son leyendas\, pero tienen rencillas del pasado que solucionar. A través de una serie de pruebas cada vez más peculiares propuestas por Lola\, Félix e Iván deben enfrentarse no solo entre sí\, sino también con sus propios legados.\n\n 
URL:https://disfruta-denia.com/evento/cine-vora-mar-3/
LOCATION:Playa Punta del Raset\, Punta del Raset\, Denia\, Alicante\, 03700\, España
CATEGORIES:Ciné,Cultura
ATTACH;FMTTYPE=image/jpeg:https://disfruta-denia.com/wp-content/uploads/2023/06/cartel-de-competencia-oficial-634x908-1.jpeg
END:VEVENT
BEGIN:VEVENT
DTSTART;TZID=Europe/Madrid:20230730T220000
DTEND;TZID=Europe/Madrid:20230730T220000
DTSTAMP:20260423T022746
CREATED:20230626T083511Z
LAST-MODIFIED:20230727T100652Z
UID:10011131-1690754400-1690754400@disfruta-denia.com
SUMMARY:Cine Vora Mar:  Llenos de gracia
DESCRIPTION:LLENOS DE GRACIA. Dir.: Roberto Bueso. \n\n\nAño: 2022\nPaís: España\nGénero: Comedia familiar\nDuración: 1 hora 49 minutos\nEdad recomendada: Mayores de 7 años\nLugar: Playa Punta del Raset\nHora: 22:00\nSinopsis: La Hermana Marina es enviada a principios de los años noventa a El Parral\, un orfanato que se encuentra en sus horas bajas y está a punto de cerrar. A su llegada al centro\, los niños están fuera de control\, pero Marina capta su atención rápidamente y trata de gafarse de todas sus gamberradas. Valdo\, uno de los jóvenes de la escuela\, será el ingrediente prefecto para dar forma a la idea que tiene Marina\, crear un equipo de fútbol en El Parral. Con la ayuda de la Hermana Angeline y de la Hermana Tatiana (Anis Doroftei) crearán algo parecido a una familia.
URL:https://disfruta-denia.com/evento/cine-vora-mar-llenos-de-gracia/
LOCATION:Playa Punta del Raset\, Punta del Raset\, Denia\, Alicante\, 03700\, España
CATEGORIES:Ciné,Cultura
ATTACH;FMTTYPE=image/jpeg:https://disfruta-denia.com/wp-content/uploads/2023/06/1690443356744.jpg
END:VEVENT
END:VCALENDAR