BEGIN:VCALENDAR
VERSION:2.0
PRODID:-//Disfruta Denia - ECPv6.15.20//NONSGML v1.0//EN
CALSCALE:GREGORIAN
METHOD:PUBLISH
X-WR-CALNAME:Disfruta Denia
X-ORIGINAL-URL:https://disfruta-denia.com
X-WR-CALDESC:Eventos para Disfruta Denia
REFRESH-INTERVAL;VALUE=DURATION:PT1H
X-Robots-Tag:noindex
X-PUBLISHED-TTL:PT1H
BEGIN:VTIMEZONE
TZID:Europe/Madrid
BEGIN:DAYLIGHT
TZOFFSETFROM:+0100
TZOFFSETTO:+0200
TZNAME:CEST
DTSTART:20220327T010000
END:DAYLIGHT
BEGIN:STANDARD
TZOFFSETFROM:+0200
TZOFFSETTO:+0100
TZNAME:CET
DTSTART:20221030T010000
END:STANDARD
BEGIN:DAYLIGHT
TZOFFSETFROM:+0100
TZOFFSETTO:+0200
TZNAME:CEST
DTSTART:20230326T010000
END:DAYLIGHT
BEGIN:STANDARD
TZOFFSETFROM:+0200
TZOFFSETTO:+0100
TZNAME:CET
DTSTART:20231029T010000
END:STANDARD
BEGIN:DAYLIGHT
TZOFFSETFROM:+0100
TZOFFSETTO:+0200
TZNAME:CEST
DTSTART:20240331T010000
END:DAYLIGHT
BEGIN:STANDARD
TZOFFSETFROM:+0200
TZOFFSETTO:+0100
TZNAME:CET
DTSTART:20241027T010000
END:STANDARD
END:VTIMEZONE
BEGIN:VEVENT
DTSTART;VALUE=DATE:20230908
DTEND;VALUE=DATE:20231003
DTSTAMP:20260424T020523
CREATED:20230830T174633Z
LAST-MODIFIED:20230830T174633Z
UID:10013065-1694145600-1696219199@disfruta-denia.com
SUMMARY:Expo: Tardor\, Mirades retrobades
DESCRIPTION:Del 8 de septiembre al 1 de octubre de 2023\nInauguración 8 de septiembre a les 20:00h.\n\n\n\n\nMIRADAS REENCONTRADAS \nA través de la exposición\, podremos observar tres vertientes diferenciadas. Por un lado\, encontraremos una serie de imágenes de dibujo digital\, seguidas de otras de pintura con técnica mixta\, y una tercera que\, mediante la fotografía\, recoge varios trabajos de muralismo. \nLa interconexión se manifiesta de manera evidente en las expresiones de las figuras\, las cuales invitan a los asistentes a explorar su profundidad e\, incluso\, a entablar un diálogo silencioso con ellas. \nEste diálogo sutil fue previamente establecido por el propio autor y se desvela en los textos acompañantes\, que enriquecen las obras. Aunque\, resulta esencial que los visitantes establezcan una relación visual con cada figura antes de leer el texto que los adentrará en la pintura\, desvelando así el mencionado diálogo que se ha creado entre el autor y la obra\, a medida que la creación toma vida. \nDe este modo\, se presenta una exposición en la cual una segunda visita puede originar una complicidad entre la obra y el visitante con un simple reencuentro de miradas. \n\n\n\n\n\n\n\n\n\n\n\n\n\n\n\n\nMIRADES RETROBADES \nA través de l’exposició\, podrem observar tres vessants diferenciades. D’una banda\, trobarem una sèrie d’imatges de dibuix digital\, seguides d’altres de pintura amb tècnica mixta\, i una tercera que\, mitjançant la fotografia\, recull diversos treballs de muralisme. \nLa interconnexió es manifesta de manera evident en les expressions de les figures\, les quals conviden als assistents a explorar la seva profunditat i\, fins i tot\, a entaular un diàleg silenciós amb elles. \nAquest diàleg subtil va ser prèviament establert pel propi autor i es desvetlla als textos acompanyants\, que enriqueixen les obres. Encara que\, resulta essencial que els visitants establisquen una relació visual amb cada figura abans de llegir el text que els endinsarà en la pintura\, desvetllant així l’esmentat diàleg que s’ha creat entre l’autor i l’obra\, a mesura que la creació pren vida. \nD’aquesta manera\, es presenta una exposició en la qual una segona visita pot originar una complicitat entre l’obra i el visitant amb un simple retrobament de mirades. \n\n\n\n\n\n\n\n\nRECONNECTED VIEWS \nThroughout the exhibition we can appreciate three different perspectives. Firstly\, we encounter a series of digitally drawn images\, followed by others which use mixed media methods\, then a third group that\, through photography\, presents several works of muralism. \nThe interconnection is evident in the expressions of the figures\, which invite visitors to explore their depth and even to engage in a silent dialogue with them. \nThis subtle dialogue was previously determined by the artist himself and is revealed in the accompanying texts\, which serve to enrich the works. However\, it is essential that visitors establish a visual relationship with each figure before reading the text that will guide them into the painting\, thus revealing the aforementioned dialogue that has been created between the artist and the work\, as the creation comes to life. \nIn this way\, an exhibition is presented in which a second visit can create a connection between the work and the visitor with a simple meeting of the eyes.
URL:https://disfruta-denia.com/evento/expo-tardor-mirades-retrobades/
LOCATION:Els Magazinos\, Carrer Pont 19\, Denia\, Alicante\, 03700\, España
CATEGORIES:Cultura,Exposiciones
ATTACH;FMTTYPE=image/jpeg:https://disfruta-denia.com/wp-content/uploads/2023/08/cartel-exposicion-Miradas-Reencontradas-Tardor-1a.jpg
END:VEVENT
END:VCALENDAR