BEGIN:VCALENDAR
VERSION:2.0
PRODID:-//Disfruta Denia - ECPv6.15.20//NONSGML v1.0//EN
CALSCALE:GREGORIAN
METHOD:PUBLISH
X-WR-CALNAME:Disfruta Denia
X-ORIGINAL-URL:https://disfruta-denia.com
X-WR-CALDESC:Eventos para Disfruta Denia
REFRESH-INTERVAL;VALUE=DURATION:PT1H
X-Robots-Tag:noindex
X-PUBLISHED-TTL:PT1H
BEGIN:VTIMEZONE
TZID:Europe/Madrid
BEGIN:DAYLIGHT
TZOFFSETFROM:+0100
TZOFFSETTO:+0200
TZNAME:CEST
DTSTART:20230326T010000
END:DAYLIGHT
BEGIN:STANDARD
TZOFFSETFROM:+0200
TZOFFSETTO:+0100
TZNAME:CET
DTSTART:20231029T010000
END:STANDARD
BEGIN:DAYLIGHT
TZOFFSETFROM:+0100
TZOFFSETTO:+0200
TZNAME:CEST
DTSTART:20240331T010000
END:DAYLIGHT
BEGIN:STANDARD
TZOFFSETFROM:+0200
TZOFFSETTO:+0100
TZNAME:CET
DTSTART:20241027T010000
END:STANDARD
BEGIN:DAYLIGHT
TZOFFSETFROM:+0100
TZOFFSETTO:+0200
TZNAME:CEST
DTSTART:20250330T010000
END:DAYLIGHT
BEGIN:STANDARD
TZOFFSETFROM:+0200
TZOFFSETTO:+0100
TZNAME:CET
DTSTART:20251026T010000
END:STANDARD
END:VTIMEZONE
BEGIN:VEVENT
DTSTART;TZID=Europe/Madrid:20240616T123000
DTEND;TZID=Europe/Madrid:20240616T230000
DTSTAMP:20260423T094255
CREATED:20240615T083738Z
LAST-MODIFIED:20240615T083738Z
UID:10018769-1718541000-1718578800@disfruta-denia.com
SUMMARY:Día Internacional de la Tapa 2024 en Els Magazinos
DESCRIPTION:Tapear y Els Magazinos es algo que siempre va de la mano. Por ello\, ¡este domingo celebramos el Día Internacional de la Tapa! Pide tu Turia + tapa por 5€ en los locales de la Calle de los Sabores
URL:https://disfruta-denia.com/evento/dia-internacional-de-la-tapa-2024-en-els-magazinos/
LOCATION:Els Magazinos\, Carrer Pont 19\, Denia\, Alicante\, 03700\, España
CATEGORIES:Gastronomía
ATTACH;FMTTYPE=image/jpeg:https://disfruta-denia.com/wp-content/uploads/2024/06/dia-de-la-tapa.jpeg
END:VEVENT
END:VCALENDAR