BEGIN:VCALENDAR
VERSION:2.0
PRODID:-//Disfruta Denia - ECPv6.15.20//NONSGML v1.0//EN
CALSCALE:GREGORIAN
METHOD:PUBLISH
X-ORIGINAL-URL:https://disfruta-denia.com
X-WR-CALDESC:Eventos para Disfruta Denia
REFRESH-INTERVAL;VALUE=DURATION:PT1H
X-Robots-Tag:noindex
X-PUBLISHED-TTL:PT1H
BEGIN:VTIMEZONE
TZID:Europe/Madrid
BEGIN:DAYLIGHT
TZOFFSETFROM:+0100
TZOFFSETTO:+0200
TZNAME:CEST
DTSTART:20230326T010000
END:DAYLIGHT
BEGIN:STANDARD
TZOFFSETFROM:+0200
TZOFFSETTO:+0100
TZNAME:CET
DTSTART:20231029T010000
END:STANDARD
BEGIN:DAYLIGHT
TZOFFSETFROM:+0100
TZOFFSETTO:+0200
TZNAME:CEST
DTSTART:20240331T010000
END:DAYLIGHT
BEGIN:STANDARD
TZOFFSETFROM:+0200
TZOFFSETTO:+0100
TZNAME:CET
DTSTART:20241027T010000
END:STANDARD
BEGIN:DAYLIGHT
TZOFFSETFROM:+0100
TZOFFSETTO:+0200
TZNAME:CEST
DTSTART:20250330T010000
END:DAYLIGHT
BEGIN:STANDARD
TZOFFSETFROM:+0200
TZOFFSETTO:+0100
TZNAME:CET
DTSTART:20251026T010000
END:STANDARD
END:VTIMEZONE
BEGIN:VEVENT
DTSTART;TZID=Europe/Madrid:20241026T203000
DTEND;TZID=Europe/Madrid:20241026T203000
DTSTAMP:20260423T040846
CREATED:20240919T123542Z
LAST-MODIFIED:20240919T123542Z
UID:10019607-1729974600-1729974600@disfruta-denia.com
SUMMARY:Halloween Karaoké @ La Terraza
DESCRIPTION:
URL:https://disfruta-denia.com/evento/halloween-karaoke-la-terraza/
LOCATION:La Terraza\, Carretera Provincial Del Barranc Del Monyo 65\, Dénia\, 03700\, España
CATEGORIES:Karaoké,Música
ATTACH;FMTTYPE=image/jpeg:https://disfruta-denia.com/wp-content/uploads/2024/09/460258171_10163369040212573_2802568724973192102_n.jpg
END:VEVENT
BEGIN:VEVENT
DTSTART;TZID=Europe/Madrid:20241031T190000
DTEND;TZID=Europe/Madrid:20241031T190000
DTSTAMP:20260423T040846
CREATED:20241027T103602Z
LAST-MODIFIED:20241027T103633Z
UID:10020208-1730401200-1730401200@disfruta-denia.com
SUMMARY:Halloween party en Cresol 66
DESCRIPTION:31.10 apartir de 18.00 Halloween en Cresol 66 pedreguer. Música en vivo con la banda Blackats de 19 a 22 horas\, posteriormente DJ. Hay un chupito de bienvenida en la casa. Nuestras cocinas son abiertas\, prueba nuestra BBQ\, hacemos parrilladas a la leña o nuestras deliciosas pizzas. Esperamos verte. Reservas al 614109817.
URL:https://disfruta-denia.com/evento/halloween-party-en-cresol-66/
LOCATION:Cressol 66\, Carretera nacional 332 km 194\, Pedreguer\, España
CATEGORIES:Concierto,DJ,Música,Ocio nocturno
ATTACH;FMTTYPE=image/jpeg:https://disfruta-denia.com/wp-content/uploads/2024/10/464001430_122189192408226758_3977725957766804549_n-1.jpg
END:VEVENT
BEGIN:VEVENT
DTSTART;TZID=Europe/Madrid:20241031T210000
DTEND;TZID=Europe/Madrid:20241031T210000
DTSTAMP:20260423T040846
CREATED:20241029T080646Z
LAST-MODIFIED:20241029T080646Z
UID:10020209-1730408400-1730408400@disfruta-denia.com
SUMMARY:Halloween Night Party en Rebeldía
DESCRIPTION:¡La Halloween Night Party ya está aquí en Rebeldía Blues! Este jueves 31 de octubre te esperamos para una noche llena de comida\, bebida y música que no te querrás perder. Ven con tu mejor disfraz y disfruta de una noche espeluznante en el mejor ambiente de Dénia. ¡Será una noche de miedo con entrada gratuita! 
URL:https://disfruta-denia.com/evento/halloween-night-party-en-rebeldia/
LOCATION:Rebeldia Blues\, Carr. de Dénia A Xábia\, 3G\, Denia\, Alicante\, 03700\, España
CATEGORIES:Karaoké,Música,Ocio nocturno
ATTACH;FMTTYPE=image/jpeg:https://disfruta-denia.com/wp-content/uploads/2024/10/464179003_517861617816945_7198055047659187878_n.jpg
END:VEVENT
BEGIN:VEVENT
DTSTART;TZID=Europe/Madrid:20241031T235900
DTEND;TZID=Europe/Madrid:20241031T235900
DTSTAMP:20260423T040846
CREATED:20241027T103030Z
LAST-MODIFIED:20241027T103030Z
UID:10020207-1730419140-1730419140@disfruta-denia.com
SUMMARY:Halloween Party con Black Glitter
DESCRIPTION:Planes para Halloween??? 
URL:https://disfruta-denia.com/evento/halloween-party-con-black-glitter-2/
LOCATION:Paddy O’Connell Denia\, Calle de la Mar\, 20\, Denia\, Alicante\, 03700\, España
CATEGORIES:Concierto,Música,Ocio nocturno
ATTACH;FMTTYPE=image/jpeg:https://disfruta-denia.com/wp-content/uploads/2024/10/464782114_1103471305113430_2729517155066471049_n.jpg
END:VEVENT
END:VCALENDAR