BEGIN:VCALENDAR
VERSION:2.0
PRODID:-//Disfruta Denia - ECPv6.15.20//NONSGML v1.0//EN
CALSCALE:GREGORIAN
METHOD:PUBLISH
X-WR-CALNAME:Disfruta Denia
X-ORIGINAL-URL:https://disfruta-denia.com
X-WR-CALDESC:Eventos para Disfruta Denia
REFRESH-INTERVAL;VALUE=DURATION:PT1H
X-Robots-Tag:noindex
X-PUBLISHED-TTL:PT1H
BEGIN:VTIMEZONE
TZID:Europe/Madrid
BEGIN:DAYLIGHT
TZOFFSETFROM:+0100
TZOFFSETTO:+0200
TZNAME:CEST
DTSTART:20220327T010000
END:DAYLIGHT
BEGIN:STANDARD
TZOFFSETFROM:+0200
TZOFFSETTO:+0100
TZNAME:CET
DTSTART:20221030T010000
END:STANDARD
BEGIN:DAYLIGHT
TZOFFSETFROM:+0100
TZOFFSETTO:+0200
TZNAME:CEST
DTSTART:20230326T010000
END:DAYLIGHT
BEGIN:STANDARD
TZOFFSETFROM:+0200
TZOFFSETTO:+0100
TZNAME:CET
DTSTART:20231029T010000
END:STANDARD
BEGIN:DAYLIGHT
TZOFFSETFROM:+0100
TZOFFSETTO:+0200
TZNAME:CEST
DTSTART:20240331T010000
END:DAYLIGHT
BEGIN:STANDARD
TZOFFSETFROM:+0200
TZOFFSETTO:+0100
TZNAME:CET
DTSTART:20241027T010000
END:STANDARD
END:VTIMEZONE
BEGIN:VEVENT
DTSTART;TZID=Europe/Madrid:20230105T235900
DTEND;TZID=Europe/Madrid:20230105T235900
DTSTAMP:20260424T194206
CREATED:20230104T161743Z
LAST-MODIFIED:20230104T161744Z
UID:10005446-1672963140-1672963140@disfruta-denia.com
SUMMARY:Jueves en Dorian Gray
DESCRIPTION:00’00h • NOCHE\nJUNTOS Y REVUELTOS  en directo
URL:https://disfruta-denia.com/evento/jueves-en-dorian-gray-3-2-2-2-3/2023-01-05/
LOCATION:Dorian Gray Denia\, Carrer de la Mar\, 14\, Denia\, Alicante\, 03700\, España
CATEGORIES:Concierto,Música,Ocio nocturno
ATTACH;FMTTYPE=image/jpeg:https://disfruta-denia.com/wp-content/uploads/2022/11/324152304_710862790436120_7924792018688332668_n.jpg
END:VEVENT
BEGIN:VEVENT
DTSTART;TZID=Europe/Madrid:20230112T235900
DTEND;TZID=Europe/Madrid:20230112T235900
DTSTAMP:20260424T194206
CREATED:20230104T161743Z
LAST-MODIFIED:20230104T161744Z
UID:10005447-1673567940-1673567940@disfruta-denia.com
SUMMARY:Jueves en Dorian Gray
DESCRIPTION:00’00h • NOCHE\nJUNTOS Y REVUELTOS  en directo
URL:https://disfruta-denia.com/evento/jueves-en-dorian-gray-3-2-2-2-3/2023-01-12/
LOCATION:Dorian Gray Denia\, Carrer de la Mar\, 14\, Denia\, Alicante\, 03700\, España
CATEGORIES:Concierto,Música,Ocio nocturno
ATTACH;FMTTYPE=image/jpeg:https://disfruta-denia.com/wp-content/uploads/2022/11/324152304_710862790436120_7924792018688332668_n.jpg
END:VEVENT
BEGIN:VEVENT
DTSTART;TZID=Europe/Madrid:20230119T235900
DTEND;TZID=Europe/Madrid:20230119T235900
DTSTAMP:20260424T194206
CREATED:20230104T161743Z
LAST-MODIFIED:20230104T161744Z
UID:10005448-1674172740-1674172740@disfruta-denia.com
SUMMARY:Jueves en Dorian Gray
DESCRIPTION:00’00h • NOCHE\nJUNTOS Y REVUELTOS  en directo
URL:https://disfruta-denia.com/evento/jueves-en-dorian-gray-3-2-2-2-3/2023-01-19/
LOCATION:Dorian Gray Denia\, Carrer de la Mar\, 14\, Denia\, Alicante\, 03700\, España
CATEGORIES:Concierto,Música,Ocio nocturno
ATTACH;FMTTYPE=image/jpeg:https://disfruta-denia.com/wp-content/uploads/2022/11/324152304_710862790436120_7924792018688332668_n.jpg
END:VEVENT
BEGIN:VEVENT
DTSTART;TZID=Europe/Madrid:20230126T235900
DTEND;TZID=Europe/Madrid:20230126T235900
DTSTAMP:20260424T194206
CREATED:20230104T161743Z
LAST-MODIFIED:20230104T161744Z
UID:10005449-1674777540-1674777540@disfruta-denia.com
SUMMARY:Jueves en Dorian Gray
DESCRIPTION:00’00h • NOCHE\nJUNTOS Y REVUELTOS  en directo
URL:https://disfruta-denia.com/evento/jueves-en-dorian-gray-3-2-2-2-3/2023-01-26/
LOCATION:Dorian Gray Denia\, Carrer de la Mar\, 14\, Denia\, Alicante\, 03700\, España
CATEGORIES:Concierto,Música,Ocio nocturno
ATTACH;FMTTYPE=image/jpeg:https://disfruta-denia.com/wp-content/uploads/2022/11/324152304_710862790436120_7924792018688332668_n.jpg
END:VEVENT
END:VCALENDAR