BEGIN:VCALENDAR
VERSION:2.0
PRODID:-//Disfruta Denia - ECPv6.15.20//NONSGML v1.0//EN
CALSCALE:GREGORIAN
METHOD:PUBLISH
X-WR-CALNAME:Disfruta Denia
X-ORIGINAL-URL:https://disfruta-denia.com
X-WR-CALDESC:Eventos para Disfruta Denia
REFRESH-INTERVAL;VALUE=DURATION:PT1H
X-Robots-Tag:noindex
X-PUBLISHED-TTL:PT1H
BEGIN:VTIMEZONE
TZID:Europe/Madrid
BEGIN:DAYLIGHT
TZOFFSETFROM:+0100
TZOFFSETTO:+0200
TZNAME:CEST
DTSTART:20230326T010000
END:DAYLIGHT
BEGIN:STANDARD
TZOFFSETFROM:+0200
TZOFFSETTO:+0100
TZNAME:CET
DTSTART:20231029T010000
END:STANDARD
BEGIN:DAYLIGHT
TZOFFSETFROM:+0100
TZOFFSETTO:+0200
TZNAME:CEST
DTSTART:20240331T010000
END:DAYLIGHT
BEGIN:STANDARD
TZOFFSETFROM:+0200
TZOFFSETTO:+0100
TZNAME:CET
DTSTART:20241027T010000
END:STANDARD
BEGIN:DAYLIGHT
TZOFFSETFROM:+0100
TZOFFSETTO:+0200
TZNAME:CEST
DTSTART:20250330T010000
END:DAYLIGHT
BEGIN:STANDARD
TZOFFSETFROM:+0200
TZOFFSETTO:+0100
TZNAME:CET
DTSTART:20251026T010000
END:STANDARD
END:VTIMEZONE
BEGIN:VEVENT
DTSTART;TZID=Europe/Madrid:20241224T120000
DTEND;TZID=Europe/Madrid:20241224T200000
DTSTAMP:20260422T210804
CREATED:20241218T081245Z
LAST-MODIFIED:20241218T081312Z
UID:10020349-1735041600-1735070400@disfruta-denia.com
SUMMARY:Tardeo Nochebuena en Rebeldía
DESCRIPTION: ¡Celebra la Nochebuena al estilo Rebeldía Blues!  Martes 24 de diciembre De 12:00h a 20:00h Ctra. de Dénia a Xàbia\, 3G\, 03700 Dénia Barbacoa\, música en directo y buen ambiente  DJ El Moreno del Sabor para poner ritmo a esta jornada única.¡Reúne a tus amigos y familia y ven a disfrutar con nosotros!  Reserva tu mesa: +34 645 90 72 50¡El mejor tardeo de Nochebuena te espera en Rebeldía Blues! 
URL:https://disfruta-denia.com/evento/tardeo-nochebuena-en-rebeldia/
LOCATION:Rebeldia Blues\, Carr. de Dénia A Xábia\, 3G\, Denia\, Alicante\, 03700\, España
CATEGORIES:DJ,Música,Tardeo
ATTACH;FMTTYPE=image/jpeg:https://disfruta-denia.com/wp-content/uploads/2024/12/470666736_557569620512811_1735368701626610987_n.jpg
END:VEVENT
BEGIN:VEVENT
DTSTART;TZID=Europe/Madrid:20241224T170000
DTEND;TZID=Europe/Madrid:20241224T200000
DTSTAMP:20260422T210804
CREATED:20241223T131307Z
LAST-MODIFIED:20241223T131317Z
UID:10020377-1735059600-1735070400@disfruta-denia.com
SUMMARY:NocheBuena Candela
DESCRIPTION:Nuestra fiesta de Navidad🎄 con marcosriveramusic el 24 de Diciembre\, doble djset a partir de las 17:00h y a las 00:30h 🪩
URL:https://disfruta-denia.com/evento/nochebuena-candela/
LOCATION:Paddy O’Connell Denia\, Calle de la Mar\, 20\, Denia\, Alicante\, 03700\, España
CATEGORIES:DJ,Música,Tardeo
ATTACH;FMTTYPE=image/png:https://disfruta-denia.com/wp-content/uploads/2024/12/Rebeldia-Blues-rebeldiablues-•-Instagram-photos-and-videos-12-23-2024_02_10_PM.png
END:VEVENT
END:VCALENDAR