BEGIN:VCALENDAR
VERSION:2.0
PRODID:-//Disfruta Denia - ECPv6.15.20//NONSGML v1.0//EN
CALSCALE:GREGORIAN
METHOD:PUBLISH
X-WR-CALNAME:Disfruta Denia
X-ORIGINAL-URL:https://disfruta-denia.com
X-WR-CALDESC:Eventos para Disfruta Denia
REFRESH-INTERVAL;VALUE=DURATION:PT1H
X-Robots-Tag:noindex
X-PUBLISHED-TTL:PT1H
BEGIN:VTIMEZONE
TZID:Europe/Madrid
BEGIN:DAYLIGHT
TZOFFSETFROM:+0100
TZOFFSETTO:+0200
TZNAME:CEST
DTSTART:20230326T010000
END:DAYLIGHT
BEGIN:STANDARD
TZOFFSETFROM:+0200
TZOFFSETTO:+0100
TZNAME:CET
DTSTART:20231029T010000
END:STANDARD
BEGIN:DAYLIGHT
TZOFFSETFROM:+0100
TZOFFSETTO:+0200
TZNAME:CEST
DTSTART:20240331T010000
END:DAYLIGHT
BEGIN:STANDARD
TZOFFSETFROM:+0200
TZOFFSETTO:+0100
TZNAME:CET
DTSTART:20241027T010000
END:STANDARD
BEGIN:DAYLIGHT
TZOFFSETFROM:+0100
TZOFFSETTO:+0200
TZNAME:CEST
DTSTART:20250330T010000
END:DAYLIGHT
BEGIN:STANDARD
TZOFFSETFROM:+0200
TZOFFSETTO:+0100
TZNAME:CET
DTSTART:20251026T010000
END:STANDARD
END:VTIMEZONE
BEGIN:VEVENT
DTSTART;TZID=Europe/Madrid:20240714T230000
DTEND;TZID=Europe/Madrid:20240714T230000
DTSTAMP:20260422T002037
CREATED:20240615T082211Z
LAST-MODIFIED:20240615T082708Z
UID:10018767-1720998000-1720998000@disfruta-denia.com
SUMMARY:Espectáculo pirotécnico 'Vulcano Magia'
DESCRIPTION:espectáculo infantil ‘Beatles for Niños‘\, i espectáculo pirotécnico ‘Vulcano Magia‘\, a cargo de pirotecnia Vulcano\, como final de fiesta\, a las 22.30 horas\, en la explanada de Torrequemada.
URL:https://disfruta-denia.com/evento/espectaculo-pirotecnico-vulcano-magia/
LOCATION:Parque de Torrecremada\, Carrer Germans Maristes\, Denia\, Alicante\, 03700\, España
CATEGORIES:Cultura,Espectáculo
ATTACH;FMTTYPE=image/jpeg:https://disfruta-denia.com/wp-content/uploads/2024/06/7029f1.jpg
END:VEVENT
END:VCALENDAR