BEGIN:VCALENDAR
VERSION:2.0
PRODID:-//Disfruta Denia - ECPv6.15.20//NONSGML v1.0//EN
CALSCALE:GREGORIAN
METHOD:PUBLISH
X-ORIGINAL-URL:https://disfruta-denia.com
X-WR-CALDESC:Eventos para Disfruta Denia
REFRESH-INTERVAL;VALUE=DURATION:PT1H
X-Robots-Tag:noindex
X-PUBLISHED-TTL:PT1H
BEGIN:VTIMEZONE
TZID:Europe/Madrid
BEGIN:DAYLIGHT
TZOFFSETFROM:+0100
TZOFFSETTO:+0200
TZNAME:CEST
DTSTART:20220327T010000
END:DAYLIGHT
BEGIN:STANDARD
TZOFFSETFROM:+0200
TZOFFSETTO:+0100
TZNAME:CET
DTSTART:20221030T010000
END:STANDARD
BEGIN:DAYLIGHT
TZOFFSETFROM:+0100
TZOFFSETTO:+0200
TZNAME:CEST
DTSTART:20230326T010000
END:DAYLIGHT
BEGIN:STANDARD
TZOFFSETFROM:+0200
TZOFFSETTO:+0100
TZNAME:CET
DTSTART:20231029T010000
END:STANDARD
BEGIN:DAYLIGHT
TZOFFSETFROM:+0100
TZOFFSETTO:+0200
TZNAME:CEST
DTSTART:20240331T010000
END:DAYLIGHT
BEGIN:STANDARD
TZOFFSETFROM:+0200
TZOFFSETTO:+0100
TZNAME:CET
DTSTART:20241027T010000
END:STANDARD
END:VTIMEZONE
BEGIN:VEVENT
DTSTART;TZID=Europe/Madrid:20230607T200000
DTEND;TZID=Europe/Madrid:20230607T230000
DTSTAMP:20260425T125256
CREATED:20220928T081117Z
LAST-MODIFIED:20220928T081117Z
UID:10004868-1686168000-1686178800@disfruta-denia.com
SUMMARY:Tardeo en San Giuseppe
DESCRIPTION:
URL:https://disfruta-denia.com/evento/tardeo-en-san-giuseppe-inti-cardoso-2/2023-06-07/
LOCATION:Restaurante San Giuseppe Las Marinas\, Camí Assagador de Sant Pere\, 18\, Denia\, Alicante\, 03700\, España
CATEGORIES:Concierto,Música,Tardeo
ATTACH;FMTTYPE=image/jpeg:https://disfruta-denia.com/wp-content/uploads/2022/09/6209522710085632.jpg
END:VEVENT
BEGIN:VEVENT
DTSTART;TZID=Europe/Madrid:20230614T200000
DTEND;TZID=Europe/Madrid:20230614T230000
DTSTAMP:20260425T125256
CREATED:20220928T081117Z
LAST-MODIFIED:20220928T081117Z
UID:10004869-1686772800-1686783600@disfruta-denia.com
SUMMARY:Tardeo en San Giuseppe
DESCRIPTION:
URL:https://disfruta-denia.com/evento/tardeo-en-san-giuseppe-inti-cardoso-2/2023-06-14/
LOCATION:Restaurante San Giuseppe Las Marinas\, Camí Assagador de Sant Pere\, 18\, Denia\, Alicante\, 03700\, España
CATEGORIES:Concierto,Música,Tardeo
ATTACH;FMTTYPE=image/jpeg:https://disfruta-denia.com/wp-content/uploads/2022/09/6209522710085632.jpg
END:VEVENT
BEGIN:VEVENT
DTSTART;TZID=Europe/Madrid:20230621T200000
DTEND;TZID=Europe/Madrid:20230621T230000
DTSTAMP:20260425T125256
CREATED:20220928T081117Z
LAST-MODIFIED:20220928T081117Z
UID:10004870-1687377600-1687388400@disfruta-denia.com
SUMMARY:Tardeo en San Giuseppe
DESCRIPTION:
URL:https://disfruta-denia.com/evento/tardeo-en-san-giuseppe-inti-cardoso-2/2023-06-21/
LOCATION:Restaurante San Giuseppe Las Marinas\, Camí Assagador de Sant Pere\, 18\, Denia\, Alicante\, 03700\, España
CATEGORIES:Concierto,Música,Tardeo
ATTACH;FMTTYPE=image/jpeg:https://disfruta-denia.com/wp-content/uploads/2022/09/6209522710085632.jpg
END:VEVENT
BEGIN:VEVENT
DTSTART;TZID=Europe/Madrid:20230628T200000
DTEND;TZID=Europe/Madrid:20230628T230000
DTSTAMP:20260425T125256
CREATED:20220928T081117Z
LAST-MODIFIED:20220928T081117Z
UID:10004871-1687982400-1687993200@disfruta-denia.com
SUMMARY:Tardeo en San Giuseppe
DESCRIPTION:
URL:https://disfruta-denia.com/evento/tardeo-en-san-giuseppe-inti-cardoso-2/2023-06-28/
LOCATION:Restaurante San Giuseppe Las Marinas\, Camí Assagador de Sant Pere\, 18\, Denia\, Alicante\, 03700\, España
CATEGORIES:Concierto,Música,Tardeo
ATTACH;FMTTYPE=image/jpeg:https://disfruta-denia.com/wp-content/uploads/2022/09/6209522710085632.jpg
END:VEVENT
END:VCALENDAR