BEGIN:VCALENDAR
VERSION:2.0
PRODID:-//Disfruta Denia - ECPv6.15.20//NONSGML v1.0//EN
CALSCALE:GREGORIAN
METHOD:PUBLISH
X-ORIGINAL-URL:https://disfruta-denia.com
X-WR-CALDESC:Eventos para Disfruta Denia
REFRESH-INTERVAL;VALUE=DURATION:PT1H
X-Robots-Tag:noindex
X-PUBLISHED-TTL:PT1H
BEGIN:VTIMEZONE
TZID:Europe/Madrid
BEGIN:DAYLIGHT
TZOFFSETFROM:+0100
TZOFFSETTO:+0200
TZNAME:CEST
DTSTART:20220327T010000
END:DAYLIGHT
BEGIN:STANDARD
TZOFFSETFROM:+0200
TZOFFSETTO:+0100
TZNAME:CET
DTSTART:20221030T010000
END:STANDARD
BEGIN:DAYLIGHT
TZOFFSETFROM:+0100
TZOFFSETTO:+0200
TZNAME:CEST
DTSTART:20230326T010000
END:DAYLIGHT
BEGIN:STANDARD
TZOFFSETFROM:+0200
TZOFFSETTO:+0100
TZNAME:CET
DTSTART:20231029T010000
END:STANDARD
BEGIN:DAYLIGHT
TZOFFSETFROM:+0100
TZOFFSETTO:+0200
TZNAME:CEST
DTSTART:20240331T010000
END:DAYLIGHT
BEGIN:STANDARD
TZOFFSETFROM:+0200
TZOFFSETTO:+0100
TZNAME:CET
DTSTART:20241027T010000
END:STANDARD
END:VTIMEZONE
BEGIN:VEVENT
DTSTART;TZID=Europe/Madrid:20230402T193000
DTEND;TZID=Europe/Madrid:20230402T193000
DTSTAMP:20260425T181615
CREATED:20221216T222216Z
LAST-MODIFIED:20221216T222218Z
UID:10007600-1680463800-1680463800@disfruta-denia.com
SUMMARY:Domingos de Soul
DESCRIPTION:Un domingo por la tarde… ¿qué te pide el cuerpo?\nTodos los domingos\, a partir de las 19:30h\, @shaina_jones_official le pondrá la guinda a la semana.
URL:https://disfruta-denia.com/evento/domingos-de-soul-2/2023-04-02/
LOCATION:Bodega Casa Benjamín\, Ramón y Cajal\, 14\, Denia\, Alicante\, 03700\, España
CATEGORIES:Concierto,Música,Tardeo
ATTACH;FMTTYPE=image/jpeg:https://disfruta-denia.com/wp-content/uploads/2022/11/319276379_676597164205821_3459759957133906650_n.jpg
END:VEVENT
BEGIN:VEVENT
DTSTART;TZID=Europe/Madrid:20230409T193000
DTEND;TZID=Europe/Madrid:20230409T193000
DTSTAMP:20260425T181615
CREATED:20221216T222216Z
LAST-MODIFIED:20221216T222218Z
UID:10007601-1681068600-1681068600@disfruta-denia.com
SUMMARY:Domingos de Soul
DESCRIPTION:Un domingo por la tarde… ¿qué te pide el cuerpo?\nTodos los domingos\, a partir de las 19:30h\, @shaina_jones_official le pondrá la guinda a la semana.
URL:https://disfruta-denia.com/evento/domingos-de-soul-2/2023-04-09/
LOCATION:Bodega Casa Benjamín\, Ramón y Cajal\, 14\, Denia\, Alicante\, 03700\, España
CATEGORIES:Concierto,Música,Tardeo
ATTACH;FMTTYPE=image/jpeg:https://disfruta-denia.com/wp-content/uploads/2022/11/319276379_676597164205821_3459759957133906650_n.jpg
END:VEVENT
BEGIN:VEVENT
DTSTART;TZID=Europe/Madrid:20230416T193000
DTEND;TZID=Europe/Madrid:20230416T193000
DTSTAMP:20260425T181615
CREATED:20221216T222216Z
LAST-MODIFIED:20221216T222218Z
UID:10007602-1681673400-1681673400@disfruta-denia.com
SUMMARY:Domingos de Soul
DESCRIPTION:Un domingo por la tarde… ¿qué te pide el cuerpo?\nTodos los domingos\, a partir de las 19:30h\, @shaina_jones_official le pondrá la guinda a la semana.
URL:https://disfruta-denia.com/evento/domingos-de-soul-2/2023-04-16/
LOCATION:Bodega Casa Benjamín\, Ramón y Cajal\, 14\, Denia\, Alicante\, 03700\, España
CATEGORIES:Concierto,Música,Tardeo
ATTACH;FMTTYPE=image/jpeg:https://disfruta-denia.com/wp-content/uploads/2022/11/319276379_676597164205821_3459759957133906650_n.jpg
END:VEVENT
BEGIN:VEVENT
DTSTART;TZID=Europe/Madrid:20230423T193000
DTEND;TZID=Europe/Madrid:20230423T193000
DTSTAMP:20260425T181615
CREATED:20221216T222216Z
LAST-MODIFIED:20221216T222218Z
UID:10007603-1682278200-1682278200@disfruta-denia.com
SUMMARY:Domingos de Soul
DESCRIPTION:Un domingo por la tarde… ¿qué te pide el cuerpo?\nTodos los domingos\, a partir de las 19:30h\, @shaina_jones_official le pondrá la guinda a la semana.
URL:https://disfruta-denia.com/evento/domingos-de-soul-2/2023-04-23/
LOCATION:Bodega Casa Benjamín\, Ramón y Cajal\, 14\, Denia\, Alicante\, 03700\, España
CATEGORIES:Concierto,Música,Tardeo
ATTACH;FMTTYPE=image/jpeg:https://disfruta-denia.com/wp-content/uploads/2022/11/319276379_676597164205821_3459759957133906650_n.jpg
END:VEVENT
BEGIN:VEVENT
DTSTART;TZID=Europe/Madrid:20230430T193000
DTEND;TZID=Europe/Madrid:20230430T193000
DTSTAMP:20260425T181615
CREATED:20221216T222216Z
LAST-MODIFIED:20221216T222218Z
UID:10007604-1682883000-1682883000@disfruta-denia.com
SUMMARY:Domingos de Soul
DESCRIPTION:Un domingo por la tarde… ¿qué te pide el cuerpo?\nTodos los domingos\, a partir de las 19:30h\, @shaina_jones_official le pondrá la guinda a la semana.
URL:https://disfruta-denia.com/evento/domingos-de-soul-2/2023-04-30/
LOCATION:Bodega Casa Benjamín\, Ramón y Cajal\, 14\, Denia\, Alicante\, 03700\, España
CATEGORIES:Concierto,Música,Tardeo
ATTACH;FMTTYPE=image/jpeg:https://disfruta-denia.com/wp-content/uploads/2022/11/319276379_676597164205821_3459759957133906650_n.jpg
END:VEVENT
END:VCALENDAR