BEGIN:VCALENDAR
VERSION:2.0
PRODID:-//Disfruta Denia - ECPv6.15.20//NONSGML v1.0//EN
CALSCALE:GREGORIAN
METHOD:PUBLISH
X-WR-CALNAME:Disfruta Denia
X-ORIGINAL-URL:https://disfruta-denia.com
X-WR-CALDESC:Eventos para Disfruta Denia
REFRESH-INTERVAL;VALUE=DURATION:PT1H
X-Robots-Tag:noindex
X-PUBLISHED-TTL:PT1H
BEGIN:VTIMEZONE
TZID:Europe/Madrid
BEGIN:DAYLIGHT
TZOFFSETFROM:+0100
TZOFFSETTO:+0200
TZNAME:CEST
DTSTART:20220327T010000
END:DAYLIGHT
BEGIN:STANDARD
TZOFFSETFROM:+0200
TZOFFSETTO:+0100
TZNAME:CET
DTSTART:20221030T010000
END:STANDARD
BEGIN:DAYLIGHT
TZOFFSETFROM:+0100
TZOFFSETTO:+0200
TZNAME:CEST
DTSTART:20230326T010000
END:DAYLIGHT
BEGIN:STANDARD
TZOFFSETFROM:+0200
TZOFFSETTO:+0100
TZNAME:CET
DTSTART:20231029T010000
END:STANDARD
BEGIN:DAYLIGHT
TZOFFSETFROM:+0100
TZOFFSETTO:+0200
TZNAME:CEST
DTSTART:20240331T010000
END:DAYLIGHT
BEGIN:STANDARD
TZOFFSETFROM:+0200
TZOFFSETTO:+0100
TZNAME:CET
DTSTART:20241027T010000
END:STANDARD
END:VTIMEZONE
BEGIN:VEVENT
DTSTART;TZID=Europe/Madrid:20230604T193000
DTEND;TZID=Europe/Madrid:20230604T193000
DTSTAMP:20260425T145127
CREATED:20221216T222216Z
LAST-MODIFIED:20221216T222218Z
UID:10007609-1685907000-1685907000@disfruta-denia.com
SUMMARY:Domingos de Soul
DESCRIPTION:Un domingo por la tarde… ¿qué te pide el cuerpo?\nTodos los domingos\, a partir de las 19:30h\, @shaina_jones_official le pondrá la guinda a la semana.
URL:https://disfruta-denia.com/evento/domingos-de-soul-2/2023-06-04/
LOCATION:Bodega Casa Benjamín\, Ramón y Cajal\, 14\, Denia\, Alicante\, 03700\, España
CATEGORIES:Concierto,Música,Tardeo
ATTACH;FMTTYPE=image/jpeg:https://disfruta-denia.com/wp-content/uploads/2022/11/319276379_676597164205821_3459759957133906650_n.jpg
END:VEVENT
BEGIN:VEVENT
DTSTART;TZID=Europe/Madrid:20230611T193000
DTEND;TZID=Europe/Madrid:20230611T193000
DTSTAMP:20260425T145127
CREATED:20221216T222216Z
LAST-MODIFIED:20221216T222218Z
UID:10007610-1686511800-1686511800@disfruta-denia.com
SUMMARY:Domingos de Soul
DESCRIPTION:Un domingo por la tarde… ¿qué te pide el cuerpo?\nTodos los domingos\, a partir de las 19:30h\, @shaina_jones_official le pondrá la guinda a la semana.
URL:https://disfruta-denia.com/evento/domingos-de-soul-2/2023-06-11/
LOCATION:Bodega Casa Benjamín\, Ramón y Cajal\, 14\, Denia\, Alicante\, 03700\, España
CATEGORIES:Concierto,Música,Tardeo
ATTACH;FMTTYPE=image/jpeg:https://disfruta-denia.com/wp-content/uploads/2022/11/319276379_676597164205821_3459759957133906650_n.jpg
END:VEVENT
BEGIN:VEVENT
DTSTART;TZID=Europe/Madrid:20230618T193000
DTEND;TZID=Europe/Madrid:20230618T193000
DTSTAMP:20260425T145127
CREATED:20221216T222216Z
LAST-MODIFIED:20221216T222218Z
UID:10007611-1687116600-1687116600@disfruta-denia.com
SUMMARY:Domingos de Soul
DESCRIPTION:Un domingo por la tarde… ¿qué te pide el cuerpo?\nTodos los domingos\, a partir de las 19:30h\, @shaina_jones_official le pondrá la guinda a la semana.
URL:https://disfruta-denia.com/evento/domingos-de-soul-2/2023-06-18/
LOCATION:Bodega Casa Benjamín\, Ramón y Cajal\, 14\, Denia\, Alicante\, 03700\, España
CATEGORIES:Concierto,Música,Tardeo
ATTACH;FMTTYPE=image/jpeg:https://disfruta-denia.com/wp-content/uploads/2022/11/319276379_676597164205821_3459759957133906650_n.jpg
END:VEVENT
BEGIN:VEVENT
DTSTART;TZID=Europe/Madrid:20230625T193000
DTEND;TZID=Europe/Madrid:20230625T193000
DTSTAMP:20260425T145127
CREATED:20221216T222216Z
LAST-MODIFIED:20221216T222218Z
UID:10007612-1687721400-1687721400@disfruta-denia.com
SUMMARY:Domingos de Soul
DESCRIPTION:Un domingo por la tarde… ¿qué te pide el cuerpo?\nTodos los domingos\, a partir de las 19:30h\, @shaina_jones_official le pondrá la guinda a la semana.
URL:https://disfruta-denia.com/evento/domingos-de-soul-2/2023-06-25/
LOCATION:Bodega Casa Benjamín\, Ramón y Cajal\, 14\, Denia\, Alicante\, 03700\, España
CATEGORIES:Concierto,Música,Tardeo
ATTACH;FMTTYPE=image/jpeg:https://disfruta-denia.com/wp-content/uploads/2022/11/319276379_676597164205821_3459759957133906650_n.jpg
END:VEVENT
END:VCALENDAR