BEGIN:VCALENDAR
VERSION:2.0
PRODID:-//Disfruta Denia - ECPv6.15.20//NONSGML v1.0//EN
CALSCALE:GREGORIAN
METHOD:PUBLISH
X-WR-CALNAME:Disfruta Denia
X-ORIGINAL-URL:https://disfruta-denia.com
X-WR-CALDESC:Eventos para Disfruta Denia
REFRESH-INTERVAL;VALUE=DURATION:PT1H
X-Robots-Tag:noindex
X-PUBLISHED-TTL:PT1H
BEGIN:VTIMEZONE
TZID:Europe/Madrid
BEGIN:DAYLIGHT
TZOFFSETFROM:+0100
TZOFFSETTO:+0200
TZNAME:CEST
DTSTART:20290325T010000
END:DAYLIGHT
BEGIN:STANDARD
TZOFFSETFROM:+0200
TZOFFSETTO:+0100
TZNAME:CET
DTSTART:20291028T010000
END:STANDARD
BEGIN:DAYLIGHT
TZOFFSETFROM:+0100
TZOFFSETTO:+0200
TZNAME:CEST
DTSTART:20300331T010000
END:DAYLIGHT
BEGIN:STANDARD
TZOFFSETFROM:+0200
TZOFFSETTO:+0100
TZNAME:CET
DTSTART:20301027T010000
END:STANDARD
BEGIN:DAYLIGHT
TZOFFSETFROM:+0100
TZOFFSETTO:+0200
TZNAME:CEST
DTSTART:20310330T010000
END:DAYLIGHT
BEGIN:STANDARD
TZOFFSETFROM:+0200
TZOFFSETTO:+0100
TZNAME:CET
DTSTART:20311026T010000
END:STANDARD
END:VTIMEZONE
BEGIN:VEVENT
DTSTART;TZID=Europe/Madrid:20300901T090000
DTEND;TZID=Europe/Madrid:20300901T140000
DTSTAMP:20260421T203318
CREATED:20260410T103958Z
LAST-MODIFIED:20260410T103959Z
UID:10022773-1914483600-1914501600@disfruta-denia.com
SUMMARY:Mercat del Riurau Jesus Pobre
DESCRIPTION:¡Momentos únicos en el Mercat del Riurau!  Ven a disfrutar de un buen almuerzo al solecito\, música y la autenticidad de los productos locales. A partir de las 12:00 h nos acompañarán “Botamarges”\, para dar un toque alegre a la mañana.Jesús Pobre te recibe con ganas y buen ambiente… ¡nos vemos en el mercado!
URL:https://disfruta-denia.com/evento/mercat-del-riurau-jesus-pobre-26-2-2-2-3-2-2-2-4/2030-09-01/
LOCATION:Mercado Riurau Jesus Pobre\, Jesus Pobre\, Alicante\, 03749\, España
CATEGORIES:Concierto,Gastronomía,Mercado
ATTACH;FMTTYPE=image/jpeg:https://disfruta-denia.com/wp-content/uploads/2026/02/669356424_18089141459242809_2501307543561935097_n.jpg
END:VEVENT
BEGIN:VEVENT
DTSTART;TZID=Europe/Madrid:20300901T093000
DTEND;TZID=Europe/Madrid:20300901T140000
DTSTAMP:20260421T203318
CREATED:20260123T121555Z
LAST-MODIFIED:20260123T121555Z
UID:10023338-1914485400-1914501600@disfruta-denia.com
SUMMARY:Mercat del Autocine
DESCRIPTION:¡ La mejor música blues estará este domingo 25 en el Autocine Drive In de Dénia con la actuación en directo de BIG HOLLERS! Si eres amante de la buena música\, el buen ambiente y los planes diferentes\, no te puedes perder el Mercat de l’Autocine. Descubre un pequeño Mercado con artesanos y productores selectos\, una amplia oferta de artículos de rastro y un ambiente genial y apto para toda la familia. Zona infantil para que los más pequeños también se lo pasen en grande! Autocine Drive In Dénia – Final de la Carretera de Les Marines Abierto desde las 9:30 h Música en directo a partir de las 11:30 h Acceso libre y aparcamiento disponible ¡Ven a vivir un domingo diferente y disfruta de la vida! 
URL:https://disfruta-denia.com/evento/mercat-del-autocine-2-2-2-3/2030-09-01/
LOCATION:Autociné Denia\, Partida Deveses D\, 27\, Denia\, Alicante\, 03700\, España
CATEGORIES:Concierto,Gastronomía,Mercado,Música
ATTACH;FMTTYPE=image/jpeg:https://disfruta-denia.com/wp-content/uploads/2025/11/619185631_1400783535172886_178185546401561331_n.jpg
END:VEVENT
BEGIN:VEVENT
DTSTART;TZID=Europe/Madrid:20300901T160000
DTEND;TZID=Europe/Madrid:20300901T160000
DTSTAMP:20260421T203318
CREATED:20260421T083752Z
LAST-MODIFIED:20260421T083753Z
UID:10023034-1914508800-1914508800@disfruta-denia.com
SUMMARY:Tardeos live Mr Fisher
DESCRIPTION:
URL:https://disfruta-denia.com/evento/tardeos-live-mr-fisher-3-2-3/2030-09-01/
LOCATION:Mr Fisher\, Moll de La Pansa s/n. Marina El Portet\, Denia\, Alicante\, 03700\, España
CATEGORIES:Concierto,Música,Tardeo
ATTACH;FMTTYPE=image/png:https://disfruta-denia.com/wp-content/uploads/2026/04/MRFISHER_LAMOCHA_03_05.png
END:VEVENT
BEGIN:VEVENT
DTSTART;TZID=Europe/Madrid:20300901T160000
DTEND;TZID=Europe/Madrid:20300901T180000
DTSTAMP:20260421T203318
CREATED:20260403T085340Z
LAST-MODIFIED:20260403T090037Z
UID:10027123-1914508800-1914516000@disfruta-denia.com
SUMMARY:Tardeo música en directo en Nomada
DESCRIPTION:
URL:https://disfruta-denia.com/evento/tardeo-musica-en-directo-en-nomada/2030-09-01/
LOCATION:Nomada Restaurante\, 11\, Moll de la Pansa\, Dénia\, 03700\, España
CATEGORIES:Concierto,Música,Tardeo
ATTACH;FMTTYPE=image/jpeg:https://disfruta-denia.com/wp-content/uploads/2026/04/PHOTO-2026-04-03-10-49-20.jpg
END:VEVENT
BEGIN:VEVENT
DTSTART;TZID=Europe/Madrid:20300901T180000
DTEND;TZID=Europe/Madrid:20300901T180000
DTSTAMP:20260421T203318
CREATED:20260409T065357Z
LAST-MODIFIED:20260409T065357Z
UID:10025331-1914516000-1914516000@disfruta-denia.com
SUMMARY:Best Of en concierto
DESCRIPTION:
URL:https://disfruta-denia.com/evento/tardeo-en-la-chica-de-ayer-2-2/2030-09-01/
LOCATION:La Chica de ayer\, Calle la mar 30\, Denia\, Alicante\, 03700\, España
CATEGORIES:Concierto,Música,Tardeo
ATTACH;FMTTYPE=image/jpeg:https://disfruta-denia.com/wp-content/uploads/2026/03/86973c98-373f-4a86-82cf-b7b619475342.jpg
END:VEVENT
BEGIN:VEVENT
DTSTART;TZID=Europe/Madrid:20300902T203000
DTEND;TZID=Europe/Madrid:20300902T203000
DTSTAMP:20260421T203318
CREATED:20260307T125319Z
LAST-MODIFIED:20260307T125319Z
UID:10026744-1914611400-1914611400@disfruta-denia.com
SUMMARY:Tardeo con Marce Pesoa
DESCRIPTION:Esta noche. Tonight. \nLive music 20.30h. \nMarce Pesoa en The Speak Dénia. \nTacos\, Cocktails\, Parrilla \n& la mejor musica 🔥🤘 \nReservas: 675753879 \nLet’s #funmonday today!
URL:https://disfruta-denia.com/evento/tardeo-con-marce-pesoa-2-2/2030-09-02/
LOCATION:The Speak Denia\, Carrer del Pont\, 19\, Denia\, Alicante\, 03700\, España
CATEGORIES:Concierto,Música,Tardeo
ATTACH;FMTTYPE=image/jpeg:https://disfruta-denia.com/wp-content/uploads/2023/06/IMG-20230619-WA0000.jpg
END:VEVENT
BEGIN:VEVENT
DTSTART;TZID=Europe/Madrid:20300904T200000
DTEND;TZID=Europe/Madrid:20300904T233000
DTSTAMP:20260421T203318
CREATED:20230612T102803Z
LAST-MODIFIED:20230612T102804Z
UID:10022161-1914782400-1914795000@disfruta-denia.com
SUMMARY:Autocine: día del espectador
DESCRIPTION:
URL:https://disfruta-denia.com/evento/autocine-dia-del-espectador-3/2030-09-04/
LOCATION:Autociné Denia\, Partida Deveses D\, 27\, Denia\, Alicante\, 03700\, España
CATEGORIES:Ciné,Cultura
ATTACH;FMTTYPE=image/jpeg:https://disfruta-denia.com/wp-content/uploads/2022/11/Autocine-Drive-In-Denia-1.jpg
END:VEVENT
BEGIN:VEVENT
DTSTART;TZID=Europe/Madrid:20300905T210000
DTEND;TZID=Europe/Madrid:20300905T210000
DTSTAMP:20260421T203318
CREATED:20251126T080051Z
LAST-MODIFIED:20251126T080052Z
UID:10023402-1914872400-1914872400@disfruta-denia.com
SUMMARY:Karaoké en Rebeldía Blues
DESCRIPTION:Karaoké en Rebeldía Blues
URL:https://disfruta-denia.com/evento/karaoke-en-rebeldia-blues-4-2-2-2-2-2-4-2-2/2030-09-05/
LOCATION:Rebeldia Blues\, Carr. de Dénia A Xábia\, 3G\, Denia\, Alicante\, 03700\, España
CATEGORIES:Karaoké,Música
ATTACH;FMTTYPE=image/jpeg:https://disfruta-denia.com/wp-content/uploads/2025/11/8d230c5f-3bf9-49cf-abc3-d73a7ed23d68.jpg
END:VEVENT
BEGIN:VEVENT
DTSTART;TZID=Europe/Madrid:20300906T200000
DTEND;TZID=Europe/Madrid:20300906T200000
DTSTAMP:20260421T203318
CREATED:20260415T074411Z
LAST-MODIFIED:20260415T074415Z
UID:10026327-1914955200-1914955200@disfruta-denia.com
SUMMARY:Concierto Afterwork en La Chica de Ayer
DESCRIPTION:
URL:https://disfruta-denia.com/evento/concierto-afterwork-en-la-chica-de-ayer-3-2-2-2-2-2-2-2-2-2-2-2-3-2/2030-09-06/
LOCATION:La Chica de ayer\, Calle la mar 30\, Denia\, Alicante\, 03700\, España
CATEGORIES:Concierto,Música
ATTACH;FMTTYPE=image/jpeg:https://disfruta-denia.com/wp-content/uploads/2026/04/683f3716-98e0-4ec5-888b-8686426efbf6.jpg
END:VEVENT
BEGIN:VEVENT
DTSTART;TZID=Europe/Madrid:20300906T213000
DTEND;TZID=Europe/Madrid:20300906T213000
DTSTAMP:20260421T203318
CREATED:20260421T084402Z
LAST-MODIFIED:20260421T084402Z
UID:10022160-1914960600-1914960600@disfruta-denia.com
SUMMARY:Concierto de Viernes en Rebeldía Blues
DESCRIPTION:🎶🔥 VEREA FLAMENCA en Rebeldía Blues 🔥🎶\n\nEl viernes 24 de abril llega a Rebeldía Blues Verea Flamenca\, con una noche llena de arte\, pasión y puro flamenco 💃✨\n\nSevillanas\, bulerías y mucho duende sobre el escenario para disfrutar de un directo que te va a emocionar 😍\n\n🗓 Viernes 24 de abril\n🕤 Desde las 21:30 h\n🎟 Entrada gratuita\n📍 Rebeldía Blues – Dénia
URL:https://disfruta-denia.com/evento/concierto-de-viernes-en-rebeldia-blues-3-3-10-3-3-3-2-9-2-2-3-2-2-2-2-2-2-2-2-2-2-3-2-2-2-2-2-2-2-2-2-2-2-2-2-2-2-2-2-2/2030-09-06/
LOCATION:Rebeldia Blues\, Carr. de Dénia A Xábia\, 3G\, Denia\, Alicante\, 03700\, España
CATEGORIES:Jazz,Música
ATTACH;FMTTYPE=image/jpeg:https://disfruta-denia.com/wp-content/uploads/2026/04/PHOTO-2026-04-20-11-56-04-3.jpg
END:VEVENT
BEGIN:VEVENT
DTSTART;TZID=Europe/Madrid:20300906T235900
DTEND;TZID=Europe/Madrid:20300906T235900
DTSTAMP:20260421T203318
CREATED:20260415T074422Z
LAST-MODIFIED:20260415T074425Z
UID:10025598-1914969540-1914969540@disfruta-denia.com
SUMMARY:Concierto Pop Indie Rock
DESCRIPTION:El concierto empieza las 00h30
URL:https://disfruta-denia.com/evento/concierto-pop-indie-rock-2/2030-09-06/
LOCATION:La Chica de ayer\, Calle la mar 30\, Denia\, Alicante\, 03700\, España
CATEGORIES:Concierto,Música,Ocio nocturno
ATTACH;FMTTYPE=image/jpeg:https://disfruta-denia.com/wp-content/uploads/2026/04/683f3716-98e0-4ec5-888b-8686426efbf6.jpg
END:VEVENT
BEGIN:VEVENT
DTSTART;TZID=Europe/Madrid:20300907T193000
DTEND;TZID=Europe/Madrid:20300907T193000
DTSTAMP:20260421T203318
CREATED:20260415T074453Z
LAST-MODIFIED:20260415T074456Z
UID:10024810-1915039800-1915039800@disfruta-denia.com
SUMMARY:Concierto tardeo versiones en La Chica de Ayer
DESCRIPTION:
URL:https://disfruta-denia.com/evento/concierto-tardeo-en-la-chica-de-ayer-4-3-2-2-2-2-2-2-2-2-2-2-2-2-2-2/2030-09-07/
LOCATION:La Chica de ayer\, Calle la mar 30\, Denia\, Alicante\, 03700\, España
CATEGORIES:Concierto,Música,Tardeo
ATTACH;FMTTYPE=image/jpeg:https://disfruta-denia.com/wp-content/uploads/2026/04/9342b4e0-4915-4c3d-8e1f-b00296e2f798.jpg
END:VEVENT
BEGIN:VEVENT
DTSTART;TZID=Europe/Madrid:20300907T213000
DTEND;TZID=Europe/Madrid:20300907T213000
DTSTAMP:20260421T203318
CREATED:20260421T084311Z
LAST-MODIFIED:20260421T084311Z
UID:10022157-1915047000-1915047000@disfruta-denia.com
SUMMARY:Sábado concierto en Rebeldía Blues
DESCRIPTION:🎶🔥 THE FRENCH LOVERS en Rebeldía Blues 🔥🎶 \nEl sábado 25 de abril llegan a Rebeldía Blues The French Lovers\, con una noche de jazz y swing al más puro estilo francés 🎷✨ \nUn concierto elegante\, con ritmo y mucho encanto para dejarte llevar por el sonido más sofisticado 😎 \n🗓 Sábado 25 de abril\n🕤 Desde las 21:30 h\n🎟 Entrada: 5€\n📍 Rebeldía Blues – Dénia
URL:https://disfruta-denia.com/evento/sabado-concierto-en-rebeldia-blues-3-2-10-3-3-2-8-3-2-2-2-2-2-2-2-2-2-2-2-2-2-2-2-2-2-2-3-2-3-2-2-2-2-2-2-2-2-2-2/2030-09-07/
LOCATION:Rebeldia Blues\, Carr. de Dénia A Xábia\, 3G\, Denia\, Alicante\, 03700\, España
CATEGORIES:Jazz,Música
ATTACH;FMTTYPE=image/jpeg:https://disfruta-denia.com/wp-content/uploads/2026/04/PHOTO-2026-04-20-11-56-04-2.jpg
END:VEVENT
BEGIN:VEVENT
DTSTART;TZID=Europe/Madrid:20300907T235900
DTEND;TZID=Europe/Madrid:20300907T235900
DTSTAMP:20260421T203318
CREATED:20260415T074516Z
LAST-MODIFIED:20260415T074519Z
UID:10025935-1915055940-1915055940@disfruta-denia.com
SUMMARY:Concierto covers
DESCRIPTION:El concierto comienza a las 00h30
URL:https://disfruta-denia.com/evento/homenaje-pop-rock-80-90-2-2-2/2030-09-07/
LOCATION:La Chica de ayer\, Calle la mar 30\, Denia\, Alicante\, 03700\, España
CATEGORIES:Concierto,Música,Ocio nocturno
ATTACH;FMTTYPE=image/jpeg:https://disfruta-denia.com/wp-content/uploads/2026/04/9342b4e0-4915-4c3d-8e1f-b00296e2f798.jpg
END:VEVENT
BEGIN:VEVENT
DTSTART;TZID=Europe/Madrid:20300908T090000
DTEND;TZID=Europe/Madrid:20300908T140000
DTSTAMP:20260421T203318
CREATED:20260410T103958Z
LAST-MODIFIED:20260410T103959Z
UID:10022774-1915088400-1915106400@disfruta-denia.com
SUMMARY:Mercat del Riurau Jesus Pobre
DESCRIPTION:¡Momentos únicos en el Mercat del Riurau!  Ven a disfrutar de un buen almuerzo al solecito\, música y la autenticidad de los productos locales. A partir de las 12:00 h nos acompañarán “Botamarges”\, para dar un toque alegre a la mañana.Jesús Pobre te recibe con ganas y buen ambiente… ¡nos vemos en el mercado!
URL:https://disfruta-denia.com/evento/mercat-del-riurau-jesus-pobre-26-2-2-2-3-2-2-2-4/2030-09-08/
LOCATION:Mercado Riurau Jesus Pobre\, Jesus Pobre\, Alicante\, 03749\, España
CATEGORIES:Concierto,Gastronomía,Mercado
ATTACH;FMTTYPE=image/jpeg:https://disfruta-denia.com/wp-content/uploads/2026/02/669356424_18089141459242809_2501307543561935097_n.jpg
END:VEVENT
BEGIN:VEVENT
DTSTART;TZID=Europe/Madrid:20300908T093000
DTEND;TZID=Europe/Madrid:20300908T140000
DTSTAMP:20260421T203318
CREATED:20260123T121555Z
LAST-MODIFIED:20260123T121555Z
UID:10023339-1915090200-1915106400@disfruta-denia.com
SUMMARY:Mercat del Autocine
DESCRIPTION:¡ La mejor música blues estará este domingo 25 en el Autocine Drive In de Dénia con la actuación en directo de BIG HOLLERS! Si eres amante de la buena música\, el buen ambiente y los planes diferentes\, no te puedes perder el Mercat de l’Autocine. Descubre un pequeño Mercado con artesanos y productores selectos\, una amplia oferta de artículos de rastro y un ambiente genial y apto para toda la familia. Zona infantil para que los más pequeños también se lo pasen en grande! Autocine Drive In Dénia – Final de la Carretera de Les Marines Abierto desde las 9:30 h Música en directo a partir de las 11:30 h Acceso libre y aparcamiento disponible ¡Ven a vivir un domingo diferente y disfruta de la vida! 
URL:https://disfruta-denia.com/evento/mercat-del-autocine-2-2-2-3/2030-09-08/
LOCATION:Autociné Denia\, Partida Deveses D\, 27\, Denia\, Alicante\, 03700\, España
CATEGORIES:Concierto,Gastronomía,Mercado,Música
ATTACH;FMTTYPE=image/jpeg:https://disfruta-denia.com/wp-content/uploads/2025/11/619185631_1400783535172886_178185546401561331_n.jpg
END:VEVENT
BEGIN:VEVENT
DTSTART;TZID=Europe/Madrid:20300908T160000
DTEND;TZID=Europe/Madrid:20300908T160000
DTSTAMP:20260421T203318
CREATED:20260421T083752Z
LAST-MODIFIED:20260421T083753Z
UID:10023035-1915113600-1915113600@disfruta-denia.com
SUMMARY:Tardeos live Mr Fisher
DESCRIPTION:
URL:https://disfruta-denia.com/evento/tardeos-live-mr-fisher-3-2-3/2030-09-08/
LOCATION:Mr Fisher\, Moll de La Pansa s/n. Marina El Portet\, Denia\, Alicante\, 03700\, España
CATEGORIES:Concierto,Música,Tardeo
ATTACH;FMTTYPE=image/png:https://disfruta-denia.com/wp-content/uploads/2026/04/MRFISHER_LAMOCHA_03_05.png
END:VEVENT
BEGIN:VEVENT
DTSTART;TZID=Europe/Madrid:20300908T160000
DTEND;TZID=Europe/Madrid:20300908T180000
DTSTAMP:20260421T203318
CREATED:20260403T085340Z
LAST-MODIFIED:20260403T090037Z
UID:10027124-1915113600-1915120800@disfruta-denia.com
SUMMARY:Tardeo música en directo en Nomada
DESCRIPTION:
URL:https://disfruta-denia.com/evento/tardeo-musica-en-directo-en-nomada/2030-09-08/
LOCATION:Nomada Restaurante\, 11\, Moll de la Pansa\, Dénia\, 03700\, España
CATEGORIES:Concierto,Música,Tardeo
ATTACH;FMTTYPE=image/jpeg:https://disfruta-denia.com/wp-content/uploads/2026/04/PHOTO-2026-04-03-10-49-20.jpg
END:VEVENT
BEGIN:VEVENT
DTSTART;TZID=Europe/Madrid:20300908T180000
DTEND;TZID=Europe/Madrid:20300908T180000
DTSTAMP:20260421T203318
CREATED:20260409T065357Z
LAST-MODIFIED:20260409T065357Z
UID:10025332-1915120800-1915120800@disfruta-denia.com
SUMMARY:Best Of en concierto
DESCRIPTION:
URL:https://disfruta-denia.com/evento/tardeo-en-la-chica-de-ayer-2-2/2030-09-08/
LOCATION:La Chica de ayer\, Calle la mar 30\, Denia\, Alicante\, 03700\, España
CATEGORIES:Concierto,Música,Tardeo
ATTACH;FMTTYPE=image/jpeg:https://disfruta-denia.com/wp-content/uploads/2026/03/86973c98-373f-4a86-82cf-b7b619475342.jpg
END:VEVENT
BEGIN:VEVENT
DTSTART;TZID=Europe/Madrid:20300909T203000
DTEND;TZID=Europe/Madrid:20300909T203000
DTSTAMP:20260421T203318
CREATED:20260307T125319Z
LAST-MODIFIED:20260307T125319Z
UID:10026745-1915216200-1915216200@disfruta-denia.com
SUMMARY:Tardeo con Marce Pesoa
DESCRIPTION:Esta noche. Tonight. \nLive music 20.30h. \nMarce Pesoa en The Speak Dénia. \nTacos\, Cocktails\, Parrilla \n& la mejor musica 🔥🤘 \nReservas: 675753879 \nLet’s #funmonday today!
URL:https://disfruta-denia.com/evento/tardeo-con-marce-pesoa-2-2/2030-09-09/
LOCATION:The Speak Denia\, Carrer del Pont\, 19\, Denia\, Alicante\, 03700\, España
CATEGORIES:Concierto,Música,Tardeo
ATTACH;FMTTYPE=image/jpeg:https://disfruta-denia.com/wp-content/uploads/2023/06/IMG-20230619-WA0000.jpg
END:VEVENT
BEGIN:VEVENT
DTSTART;TZID=Europe/Madrid:20300911T200000
DTEND;TZID=Europe/Madrid:20300911T233000
DTSTAMP:20260421T203318
CREATED:20230612T102803Z
LAST-MODIFIED:20230612T102804Z
UID:10023041-1915387200-1915399800@disfruta-denia.com
SUMMARY:Autocine: día del espectador
DESCRIPTION:
URL:https://disfruta-denia.com/evento/autocine-dia-del-espectador-3/2030-09-11/
LOCATION:Autociné Denia\, Partida Deveses D\, 27\, Denia\, Alicante\, 03700\, España
CATEGORIES:Ciné,Cultura
ATTACH;FMTTYPE=image/jpeg:https://disfruta-denia.com/wp-content/uploads/2022/11/Autocine-Drive-In-Denia-1.jpg
END:VEVENT
BEGIN:VEVENT
DTSTART;TZID=Europe/Madrid:20300912T210000
DTEND;TZID=Europe/Madrid:20300912T210000
DTSTAMP:20260421T203318
CREATED:20251126T080051Z
LAST-MODIFIED:20251126T080052Z
UID:10023403-1915477200-1915477200@disfruta-denia.com
SUMMARY:Karaoké en Rebeldía Blues
DESCRIPTION:Karaoké en Rebeldía Blues
URL:https://disfruta-denia.com/evento/karaoke-en-rebeldia-blues-4-2-2-2-2-2-4-2-2/2030-09-12/
LOCATION:Rebeldia Blues\, Carr. de Dénia A Xábia\, 3G\, Denia\, Alicante\, 03700\, España
CATEGORIES:Karaoké,Música
ATTACH;FMTTYPE=image/jpeg:https://disfruta-denia.com/wp-content/uploads/2025/11/8d230c5f-3bf9-49cf-abc3-d73a7ed23d68.jpg
END:VEVENT
BEGIN:VEVENT
DTSTART;TZID=Europe/Madrid:20300913T200000
DTEND;TZID=Europe/Madrid:20300913T200000
DTSTAMP:20260421T203318
CREATED:20260415T074411Z
LAST-MODIFIED:20260415T074415Z
UID:10026328-1915560000-1915560000@disfruta-denia.com
SUMMARY:Concierto Afterwork en La Chica de Ayer
DESCRIPTION:
URL:https://disfruta-denia.com/evento/concierto-afterwork-en-la-chica-de-ayer-3-2-2-2-2-2-2-2-2-2-2-2-3-2/2030-09-13/
LOCATION:La Chica de ayer\, Calle la mar 30\, Denia\, Alicante\, 03700\, España
CATEGORIES:Concierto,Música
ATTACH;FMTTYPE=image/jpeg:https://disfruta-denia.com/wp-content/uploads/2026/04/683f3716-98e0-4ec5-888b-8686426efbf6.jpg
END:VEVENT
BEGIN:VEVENT
DTSTART;TZID=Europe/Madrid:20300913T213000
DTEND;TZID=Europe/Madrid:20300913T213000
DTSTAMP:20260421T203318
CREATED:20260421T084402Z
LAST-MODIFIED:20260421T084402Z
UID:10022167-1915565400-1915565400@disfruta-denia.com
SUMMARY:Concierto de Viernes en Rebeldía Blues
DESCRIPTION:🎶🔥 VEREA FLAMENCA en Rebeldía Blues 🔥🎶\n\nEl viernes 24 de abril llega a Rebeldía Blues Verea Flamenca\, con una noche llena de arte\, pasión y puro flamenco 💃✨\n\nSevillanas\, bulerías y mucho duende sobre el escenario para disfrutar de un directo que te va a emocionar 😍\n\n🗓 Viernes 24 de abril\n🕤 Desde las 21:30 h\n🎟 Entrada gratuita\n📍 Rebeldía Blues – Dénia
URL:https://disfruta-denia.com/evento/concierto-de-viernes-en-rebeldia-blues-3-3-10-3-3-3-2-9-2-2-3-2-2-2-2-2-2-2-2-2-2-3-2-2-2-2-2-2-2-2-2-2-2-2-2-2-2-2-2-2/2030-09-13/
LOCATION:Rebeldia Blues\, Carr. de Dénia A Xábia\, 3G\, Denia\, Alicante\, 03700\, España
CATEGORIES:Jazz,Música
ATTACH;FMTTYPE=image/jpeg:https://disfruta-denia.com/wp-content/uploads/2026/04/PHOTO-2026-04-20-11-56-04-3.jpg
END:VEVENT
BEGIN:VEVENT
DTSTART;TZID=Europe/Madrid:20300913T235900
DTEND;TZID=Europe/Madrid:20300913T235900
DTSTAMP:20260421T203318
CREATED:20260415T074422Z
LAST-MODIFIED:20260415T074425Z
UID:10025599-1915574340-1915574340@disfruta-denia.com
SUMMARY:Concierto Pop Indie Rock
DESCRIPTION:El concierto empieza las 00h30
URL:https://disfruta-denia.com/evento/concierto-pop-indie-rock-2/2030-09-13/
LOCATION:La Chica de ayer\, Calle la mar 30\, Denia\, Alicante\, 03700\, España
CATEGORIES:Concierto,Música,Ocio nocturno
ATTACH;FMTTYPE=image/jpeg:https://disfruta-denia.com/wp-content/uploads/2026/04/683f3716-98e0-4ec5-888b-8686426efbf6.jpg
END:VEVENT
BEGIN:VEVENT
DTSTART;TZID=Europe/Madrid:20300914T193000
DTEND;TZID=Europe/Madrid:20300914T193000
DTSTAMP:20260421T203318
CREATED:20260415T074453Z
LAST-MODIFIED:20260415T074456Z
UID:10024811-1915644600-1915644600@disfruta-denia.com
SUMMARY:Concierto tardeo versiones en La Chica de Ayer
DESCRIPTION:
URL:https://disfruta-denia.com/evento/concierto-tardeo-en-la-chica-de-ayer-4-3-2-2-2-2-2-2-2-2-2-2-2-2-2-2/2030-09-14/
LOCATION:La Chica de ayer\, Calle la mar 30\, Denia\, Alicante\, 03700\, España
CATEGORIES:Concierto,Música,Tardeo
ATTACH;FMTTYPE=image/jpeg:https://disfruta-denia.com/wp-content/uploads/2026/04/9342b4e0-4915-4c3d-8e1f-b00296e2f798.jpg
END:VEVENT
BEGIN:VEVENT
DTSTART;TZID=Europe/Madrid:20300914T213000
DTEND;TZID=Europe/Madrid:20300914T213000
DTSTAMP:20260421T203318
CREATED:20260421T084311Z
LAST-MODIFIED:20260421T084311Z
UID:10022166-1915651800-1915651800@disfruta-denia.com
SUMMARY:Sábado concierto en Rebeldía Blues
DESCRIPTION:🎶🔥 THE FRENCH LOVERS en Rebeldía Blues 🔥🎶 \nEl sábado 25 de abril llegan a Rebeldía Blues The French Lovers\, con una noche de jazz y swing al más puro estilo francés 🎷✨ \nUn concierto elegante\, con ritmo y mucho encanto para dejarte llevar por el sonido más sofisticado 😎 \n🗓 Sábado 25 de abril\n🕤 Desde las 21:30 h\n🎟 Entrada: 5€\n📍 Rebeldía Blues – Dénia
URL:https://disfruta-denia.com/evento/sabado-concierto-en-rebeldia-blues-3-2-10-3-3-2-8-3-2-2-2-2-2-2-2-2-2-2-2-2-2-2-2-2-2-2-3-2-3-2-2-2-2-2-2-2-2-2-2/2030-09-14/
LOCATION:Rebeldia Blues\, Carr. de Dénia A Xábia\, 3G\, Denia\, Alicante\, 03700\, España
CATEGORIES:Jazz,Música
ATTACH;FMTTYPE=image/jpeg:https://disfruta-denia.com/wp-content/uploads/2026/04/PHOTO-2026-04-20-11-56-04-2.jpg
END:VEVENT
BEGIN:VEVENT
DTSTART;TZID=Europe/Madrid:20300914T235900
DTEND;TZID=Europe/Madrid:20300914T235900
DTSTAMP:20260421T203318
CREATED:20260415T074516Z
LAST-MODIFIED:20260415T074519Z
UID:10025936-1915660740-1915660740@disfruta-denia.com
SUMMARY:Concierto covers
DESCRIPTION:El concierto comienza a las 00h30
URL:https://disfruta-denia.com/evento/homenaje-pop-rock-80-90-2-2-2/2030-09-14/
LOCATION:La Chica de ayer\, Calle la mar 30\, Denia\, Alicante\, 03700\, España
CATEGORIES:Concierto,Música,Ocio nocturno
ATTACH;FMTTYPE=image/jpeg:https://disfruta-denia.com/wp-content/uploads/2026/04/9342b4e0-4915-4c3d-8e1f-b00296e2f798.jpg
END:VEVENT
BEGIN:VEVENT
DTSTART;TZID=Europe/Madrid:20300915T090000
DTEND;TZID=Europe/Madrid:20300915T140000
DTSTAMP:20260421T203318
CREATED:20260410T103958Z
LAST-MODIFIED:20260410T103959Z
UID:10022775-1915693200-1915711200@disfruta-denia.com
SUMMARY:Mercat del Riurau Jesus Pobre
DESCRIPTION:¡Momentos únicos en el Mercat del Riurau!  Ven a disfrutar de un buen almuerzo al solecito\, música y la autenticidad de los productos locales. A partir de las 12:00 h nos acompañarán “Botamarges”\, para dar un toque alegre a la mañana.Jesús Pobre te recibe con ganas y buen ambiente… ¡nos vemos en el mercado!
URL:https://disfruta-denia.com/evento/mercat-del-riurau-jesus-pobre-26-2-2-2-3-2-2-2-4/2030-09-15/
LOCATION:Mercado Riurau Jesus Pobre\, Jesus Pobre\, Alicante\, 03749\, España
CATEGORIES:Concierto,Gastronomía,Mercado
ATTACH;FMTTYPE=image/jpeg:https://disfruta-denia.com/wp-content/uploads/2026/02/669356424_18089141459242809_2501307543561935097_n.jpg
END:VEVENT
BEGIN:VEVENT
DTSTART;TZID=Europe/Madrid:20300915T093000
DTEND;TZID=Europe/Madrid:20300915T140000
DTSTAMP:20260421T203318
CREATED:20260123T121555Z
LAST-MODIFIED:20260123T121555Z
UID:10023340-1915695000-1915711200@disfruta-denia.com
SUMMARY:Mercat del Autocine
DESCRIPTION:¡ La mejor música blues estará este domingo 25 en el Autocine Drive In de Dénia con la actuación en directo de BIG HOLLERS! Si eres amante de la buena música\, el buen ambiente y los planes diferentes\, no te puedes perder el Mercat de l’Autocine. Descubre un pequeño Mercado con artesanos y productores selectos\, una amplia oferta de artículos de rastro y un ambiente genial y apto para toda la familia. Zona infantil para que los más pequeños también se lo pasen en grande! Autocine Drive In Dénia – Final de la Carretera de Les Marines Abierto desde las 9:30 h Música en directo a partir de las 11:30 h Acceso libre y aparcamiento disponible ¡Ven a vivir un domingo diferente y disfruta de la vida! 
URL:https://disfruta-denia.com/evento/mercat-del-autocine-2-2-2-3/2030-09-15/
LOCATION:Autociné Denia\, Partida Deveses D\, 27\, Denia\, Alicante\, 03700\, España
CATEGORIES:Concierto,Gastronomía,Mercado,Música
ATTACH;FMTTYPE=image/jpeg:https://disfruta-denia.com/wp-content/uploads/2025/11/619185631_1400783535172886_178185546401561331_n.jpg
END:VEVENT
END:VCALENDAR