BEGIN:VCALENDAR
VERSION:2.0
PRODID:-//Disfruta Denia - ECPv6.15.20//NONSGML v1.0//EN
CALSCALE:GREGORIAN
METHOD:PUBLISH
X-ORIGINAL-URL:https://disfruta-denia.com
X-WR-CALDESC:Eventos para Disfruta Denia
REFRESH-INTERVAL;VALUE=DURATION:PT1H
X-Robots-Tag:noindex
X-PUBLISHED-TTL:PT1H
BEGIN:VTIMEZONE
TZID:Europe/Madrid
BEGIN:DAYLIGHT
TZOFFSETFROM:+0100
TZOFFSETTO:+0200
TZNAME:CEST
DTSTART:20220327T010000
END:DAYLIGHT
BEGIN:STANDARD
TZOFFSETFROM:+0200
TZOFFSETTO:+0100
TZNAME:CET
DTSTART:20221030T010000
END:STANDARD
BEGIN:DAYLIGHT
TZOFFSETFROM:+0100
TZOFFSETTO:+0200
TZNAME:CEST
DTSTART:20230326T010000
END:DAYLIGHT
BEGIN:STANDARD
TZOFFSETFROM:+0200
TZOFFSETTO:+0100
TZNAME:CET
DTSTART:20231029T010000
END:STANDARD
BEGIN:DAYLIGHT
TZOFFSETFROM:+0100
TZOFFSETTO:+0200
TZNAME:CEST
DTSTART:20240331T010000
END:DAYLIGHT
BEGIN:STANDARD
TZOFFSETFROM:+0200
TZOFFSETTO:+0100
TZNAME:CET
DTSTART:20241027T010000
END:STANDARD
END:VTIMEZONE
BEGIN:VEVENT
DTSTART;VALUE=DATE:20230501
DTEND;VALUE=DATE:20230516
DTSTAMP:20260421T221424
CREATED:20230501T151834Z
LAST-MODIFIED:20230501T151935Z
UID:10010642-1682913600-1684123199@disfruta-denia.com
SUMMARY:OJOS ROJOS. V FESTIVAL INTERNACIONAL DE FOTOGRAFIA
DESCRIPTION:Neus Solà. POUPÉES. \nHorari/horario: tots els dies/ todos los días de 10 – 13 h / 17 – 21 h 
URL:https://disfruta-denia.com/evento/ojos-rojos-v-festival-internacional-de-fotografia/
LOCATION:Centre d’art l’Estació\, Carrer Calderón\, 2\, Denia\, Alicante\, 03700\, España
CATEGORIES:Cultura,Exposiciones
ATTACH;FMTTYPE=image/png:https://disfruta-denia.com/wp-content/uploads/2023/05/12-expo-Neus-Sola.png
ORGANIZER;CN="Denia Cultura":MAILTO:cultura@ayto-denia.es
END:VEVENT
BEGIN:VEVENT
DTSTART;TZID=Europe/Madrid:20230501T080000
DTEND;TZID=Europe/Madrid:20230501T133000
DTSTAMP:20260421T221424
CREATED:20220303T082647Z
LAST-MODIFIED:20221128T104722Z
UID:10003316-1682928000-1682947800@disfruta-denia.com
SUMMARY:Mercadillo de Denia
DESCRIPTION:En 2022 el mercadillo de Denia es los lunes de 8:00 a 13:30 en la calle Hermanos Maristas. \nEs uno de los mercadillos más grandes y visitados de la Costa Blanca\, con unos 400 puestos en los que se puede comprar: bolsos\, ropa\, calzado y complementos\, bisutería\, decoración\, equipamiento del hogar\, artesanía\, cerámica\, flores y plantas\, etc. \nDurante la feria de Todos Los Santos se traslada a la Avenida Joan Fuster.
URL:https://disfruta-denia.com/evento/mercadillo-de-denia/2023-05-01/
LOCATION:Parque de Torrecremada\, Carrer Germans Maristes\, Denia\, Alicante\, 03700\, España
CATEGORIES:Mercado
ATTACH;FMTTYPE=image/jpeg:https://disfruta-denia.com/wp-content/uploads/2022/03/mercadillo-de-denia.jpg
END:VEVENT
BEGIN:VEVENT
DTSTART;TZID=Europe/Madrid:20230503T190000
DTEND;TZID=Europe/Madrid:20230503T210000
DTSTAMP:20260421T221424
CREATED:20221228T081643Z
LAST-MODIFIED:20221228T081643Z
UID:10008249-1683140400-1683147600@disfruta-denia.com
SUMMARY:Tardeo en Basta
DESCRIPTION:
URL:https://disfruta-denia.com/evento/tardeo-en-basta-3/2023-05-03/
LOCATION:Basta Lounge Bar\, Marina de Dénia\, Local C2\, Denia\, Valencian Community\, 03700\, España
CATEGORIES:Concierto,Música,Tardeo
ATTACH;FMTTYPE=image/jpeg:https://disfruta-denia.com/wp-content/uploads/2022/11/322262315_3143026829322781_6385522771817988742_n.jpg
END:VEVENT
BEGIN:VEVENT
DTSTART;TZID=Europe/Madrid:20230503T200000
DTEND;TZID=Europe/Madrid:20230503T230000
DTSTAMP:20260421T221424
CREATED:20220928T081117Z
LAST-MODIFIED:20220928T081117Z
UID:10004863-1683144000-1683154800@disfruta-denia.com
SUMMARY:Tardeo en San Giuseppe
DESCRIPTION:
URL:https://disfruta-denia.com/evento/tardeo-en-san-giuseppe-inti-cardoso-2/2023-05-03/
LOCATION:Restaurante San Giuseppe Las Marinas\, Camí Assagador de Sant Pere\, 18\, Denia\, Alicante\, 03700\, España
CATEGORIES:Concierto,Música,Tardeo
ATTACH;FMTTYPE=image/jpeg:https://disfruta-denia.com/wp-content/uploads/2022/09/6209522710085632.jpg
END:VEVENT
BEGIN:VEVENT
DTSTART;TZID=Europe/Madrid:20230503T200000
DTEND;TZID=Europe/Madrid:20230503T233000
DTSTAMP:20260421T221424
CREATED:20221122T074309Z
LAST-MODIFIED:20221122T074309Z
UID:10008932-1683144000-1683156600@disfruta-denia.com
SUMMARY:Autocine: día del espectador
DESCRIPTION:
URL:https://disfruta-denia.com/evento/autocine-dia-del-espectador/2023-05-03/
LOCATION:Autociné Denia\, Partida Deveses D\, 27\, Denia\, Alicante\, 03700\, España
CATEGORIES:Ciné,Cultura
ATTACH;FMTTYPE=image/jpeg:https://disfruta-denia.com/wp-content/uploads/2022/11/Autocine-Drive-In-Denia-1.jpg
END:VEVENT
BEGIN:VEVENT
DTSTART;VALUE=DATE:20230504
DTEND;VALUE=DATE:20230522
DTSTAMP:20260421T221424
CREATED:20230427T101539Z
LAST-MODIFIED:20230427T101717Z
UID:10010632-1683172800-1684641599@disfruta-denia.com
SUMMARY:EXPOSICIÓN: “LUCES Y COLORES”
DESCRIPTION:“LUCES Y COLORES”. Pintures de/ pinturas de THOMAS INGLESANT        \nInauguració dia / inauguración día  4 – 19 h \nHorari/horario: laborables 11 – 14 h /  17 – 21 h\, dissabtes/sábados  10 -13.30 h 
URL:https://disfruta-denia.com/evento/exposicion-luces-y-colores/
LOCATION:Casa de la Cultura Denia\, Plaça Jaume I\, Denia\, Alicante\, 03700\, España
CATEGORIES:Cultura,Exposiciones
ATTACH;FMTTYPE=image/png:https://disfruta-denia.com/wp-content/uploads/2023/04/1-expo-Luces-y-Colores.png
ORGANIZER;CN="Denia Cultura":MAILTO:cultura@ayto-denia.es
END:VEVENT
BEGIN:VEVENT
DTSTART;TZID=Europe/Madrid:20230504T203000
DTEND;TZID=Europe/Madrid:20230504T203000
DTSTAMP:20260421T221424
CREATED:20221118T123231Z
LAST-MODIFIED:20221118T130136Z
UID:10008515-1683232200-1683232200@disfruta-denia.com
SUMMARY:Tardeo Flamenco y punto
DESCRIPTION:Cada jueves te proponemos un tardeo Flamenco con Flamenco y Punto. Ambientazo! Apúntate!
URL:https://disfruta-denia.com/evento/tardeo-flamenco-y-punto/2023-05-04/
LOCATION:Bodega Casa Benjamín\, Ramón y Cajal\, 14\, Denia\, Alicante\, 03700\, España
CATEGORIES:Concierto,Danza,Música,Tardeo
ATTACH;FMTTYPE=image/jpeg:https://disfruta-denia.com/wp-content/uploads/2022/11/Post-de-Instagram-Feria-de-Sevilla-dibujo-sevillana-blanco-y-rojo-fondo-azul-2.jpg
END:VEVENT
BEGIN:VEVENT
DTSTART;TZID=Europe/Madrid:20230504T203000
DTEND;TZID=Europe/Madrid:20230504T223000
DTSTAMP:20260421T221424
CREATED:20221205T220352Z
LAST-MODIFIED:20221205T220354Z
UID:10005724-1683232200-1683239400@disfruta-denia.com
SUMMARY:Tardeo en el Speak
DESCRIPTION:
URL:https://disfruta-denia.com/evento/tardeo-en-el-speak-2-3/2023-05-04/
LOCATION:The Speak Denia\, Carrer del Pont\, 19\, Denia\, Alicante\, 03700\, España
CATEGORIES:Concierto,Música,Tardeo
ATTACH;FMTTYPE=image/jpeg:https://disfruta-denia.com/wp-content/uploads/2022/09/308081793_10159219287059335_399531489635629964_n-1.jpg
END:VEVENT
BEGIN:VEVENT
DTSTART;TZID=Europe/Madrid:20230504T235500
DTEND;TZID=Europe/Madrid:20230504T235500
DTSTAMP:20260421T221424
CREATED:20221201T104209Z
LAST-MODIFIED:20221201T104209Z
UID:10007065-1683244500-1683244500@disfruta-denia.com
SUMMARY:Micro abierto en LCDA
DESCRIPTION:Es fácil: si quieres\, puedes cantar tu temazo favorito\, nuestros músicos tocarán para ti. ¡Hoy abrimos!
URL:https://disfruta-denia.com/evento/micro-abierto-en-lcda-4/2023-05-04/
LOCATION:La Chica de ayer\, Calle la mar 30\, Denia\, Alicante\, 03700\, España
CATEGORIES:Concierto,Karaoké,Música,Ocio nocturno
ATTACH;FMTTYPE=image/jpeg:https://disfruta-denia.com/wp-content/uploads/2022/10/317656532_593492869447639_4324504093198109496_n.jpg
END:VEVENT
BEGIN:VEVENT
DTSTART;TZID=Europe/Madrid:20230505T080000
DTEND;TZID=Europe/Madrid:20230505T170000
DTSTAMP:20260421T221424
CREATED:20230427T101852Z
LAST-MODIFIED:20230427T102028Z
UID:10010633-1683273600-1683306000@disfruta-denia.com
SUMMARY:MÚSICA /CICLO MUJER Y MÚSICA
DESCRIPTION:CICLE DONA I MÚSICA /CICLO MUJER Y MÚSICA                            \nPresentació de/presentación de Maria Bertomeu\, LA MARIA.  \nEl nou fenomen de la cançó valenciana/el nuevo fenómeno de la canción valenciana. \nEntrada: lliure amb invitació / libre con invitación. Reserva: https://notikumi.com
URL:https://disfruta-denia.com/evento/musica-ciclo-mujer-y-musica/
LOCATION:Teatro Auditorio Centro Social\, 4 Carrer Calderón\, Dénia\, VC\, 03700\, Spain
CATEGORIES:Charlas y conferencias,Cultura,Música
ATTACH;FMTTYPE=image/png:https://disfruta-denia.com/wp-content/uploads/2023/04/2-cicle-dona-i-musica.-Dia-5.png
ORGANIZER;CN="Denia Cultura":MAILTO:cultura@ayto-denia.es
END:VEVENT
BEGIN:VEVENT
DTSTART;TZID=Europe/Madrid:20230505T200000
DTEND;TZID=Europe/Madrid:20230505T220000
DTSTAMP:20260421T221424
CREATED:20230203T155104Z
LAST-MODIFIED:20230203T155104Z
UID:10009863-1683316800-1683324000@disfruta-denia.com
SUMMARY:War Songs
DESCRIPTION:A concert of international war songs.\n\n\nA concert featuring songs from World War II\, and various songs that can be associated with war. Songs from Vera Lynn\, The Andrew Sisters\, Marlene Dietrich\, and more. \nI look forward to seeing you there. \nTickets available online through the Eventbrite link\, \nor call 0034 683 230 993
URL:https://disfruta-denia.com/evento/war-songs-2/
LOCATION:Auditori Municipal Ondara\, 14 Carrer Sant Jaume\, Ondara\, VC\, 03760\, Spain
CATEGORIES:Concierto,Música
ATTACH;FMTTYPE=image/jpeg:https://disfruta-denia.com/wp-content/uploads/2023/02/102700bccb20a74839d41bf2e7a6ee16.jpg
END:VEVENT
BEGIN:VEVENT
DTSTART;TZID=Europe/Madrid:20230505T223000
DTEND;TZID=Europe/Madrid:20230505T223000
DTSTAMP:20260421T221424
CREATED:20221009T104344Z
LAST-MODIFIED:20221009T104344Z
UID:10006415-1683325800-1683325800@disfruta-denia.com
SUMMARY:Karaoké en A fer la Mar
DESCRIPTION:El viernes KARAOKE \, te atreves?? 🎤🎤 \nReserva tu mesa para las cenas 🇮🇹\nos esperamos! 🔥
URL:https://disfruta-denia.com/evento/karaoke-en-a-fer-la-mar/2023-05-05/
LOCATION:A fer la mar\, calle la mar\, nº 7\, Denia\, Alicante\, 03700\, España
CATEGORIES:Karaoké,Música
ATTACH;FMTTYPE=image/jpeg:https://disfruta-denia.com/wp-content/uploads/2022/10/309902935_847749016574718_387941431502313107_n.jpeg
END:VEVENT
BEGIN:VEVENT
DTSTART;TZID=Europe/Madrid:20230505T235900
DTEND;TZID=Europe/Madrid:20230505T235900
DTSTAMP:20260421T221424
CREATED:20230412T073945Z
LAST-MODIFIED:20230412T073946Z
UID:10003793-1683331140-1683331140@disfruta-denia.com
SUMMARY:Viernes de Dorian Gray
DESCRIPTION:Cada viernes una experiencia diferente
URL:https://disfruta-denia.com/evento/viernes-de-dorian-gray-2-3-2-2-2-2-3-2-2-2-2-2/2023-05-05/
LOCATION:Dorian Gray Denia\, Carrer de la Mar\, 14\, Denia\, Alicante\, 03700\, España
CATEGORIES:Concierto,DJ,Música,Ocio nocturno
ATTACH;FMTTYPE=image/jpeg:https://disfruta-denia.com/wp-content/uploads/2023/04/340972786_6185217901534761_8405886246076465285_n.jpg
END:VEVENT
BEGIN:VEVENT
DTSTART;TZID=Europe/Madrid:20230506T080000
DTEND;TZID=Europe/Madrid:20230506T170000
DTSTAMP:20260421T221424
CREATED:20230501T150213Z
LAST-MODIFIED:20230501T150541Z
UID:10010635-1683360000-1683392400@disfruta-denia.com
SUMMARY:CONCIERTO DE PRIMAVERA
DESCRIPTION:GRUP POLIFÒNIC CADENZA.  \nEntrada: lliure limitada a l’aforament del local/ libre limitada al aforo del local.
URL:https://disfruta-denia.com/evento/concierto-de-primavera/
LOCATION:Teatro Auditorio Centro Social\, 4 Carrer Calderón\, Dénia\, VC\, 03700\, Spain
CATEGORIES:Concierto,Cultura,Música
ATTACH;FMTTYPE=image/png:https://disfruta-denia.com/wp-content/uploads/2023/05/4-GRUP-POLIFONIC-CADENZA.png
ORGANIZER;CN="Denia Cultura":MAILTO:cultura@ayto-denia.es
END:VEVENT
BEGIN:VEVENT
DTSTART;TZID=Europe/Madrid:20230506T130000
DTEND;TZID=Europe/Madrid:20230506T170000
DTSTAMP:20260421T221424
CREATED:20221129T083248Z
LAST-MODIFIED:20221129T083248Z
UID:10009467-1683378000-1683392400@disfruta-denia.com
SUMMARY:Loco Brunch en Botanic
DESCRIPTION:Esto si que no te lo esperabas..¡Nos encanta sorprenderte! ⁣\nLlega el LOCO BRUNCH a Botānic  Una experiencia gastronómica diferente y muuuy divertida ⁣\n⁣\nTodos los sábados de diciembre⁣\n A partir de las 13:00h⁣\nTardeo TOP con DJ Javi Mengu⁣\n\n⁣\n¿Te lo vas a perder?
URL:https://disfruta-denia.com/evento/loco-brunch-en-botanic/2023-05-06/
LOCATION:Botanic Denia\, C/ de la Mar 18\, Denia\, Alicante\, 03700\, España
CATEGORIES:DJ,Música,Tardeo
ATTACH;FMTTYPE=image/jpeg:https://disfruta-denia.com/wp-content/uploads/2022/11/316689250_195990046273019_8044592669097497158_n.jpg
END:VEVENT
BEGIN:VEVENT
DTSTART;TZID=Europe/Madrid:20230506T170000
DTEND;TZID=Europe/Madrid:20230506T200000
DTSTAMP:20260421T221424
CREATED:20221121T092408Z
LAST-MODIFIED:20221121T092518Z
UID:10008845-1683392400-1683403200@disfruta-denia.com
SUMMARY:Tardeo Happy Hour en La Lola
DESCRIPTION:
URL:https://disfruta-denia.com/evento/tardeo-happy-hour-en-la-lola/2023-05-06/
LOCATION:La Lola Denia\, Carrer Senieta\, 7\, Denia\, Alicante\, 03700\, España
CATEGORIES:Tardeo
ATTACH;FMTTYPE=image/jpeg:https://disfruta-denia.com/wp-content/uploads/2022/11/La-Lola-happy-hour.jpg
END:VEVENT
BEGIN:VEVENT
DTSTART;TZID=Europe/Madrid:20230506T183000
DTEND;TZID=Europe/Madrid:20230506T203000
DTSTAMP:20260421T221424
CREATED:20230412T074058Z
LAST-MODIFIED:20230412T074059Z
UID:10005202-1683397800-1683405000@disfruta-denia.com
SUMMARY:Tardeo en Dorian Gray
DESCRIPTION: SÁBADO • 18’30h• TARDEO\nj  en cabina #urbanmusic
URL:https://disfruta-denia.com/evento/tardeo-en-dorian-gray-2-2-2-2-3-2-2-2-2-2/2023-05-06/
LOCATION:Dorian Gray Denia\, Carrer de la Mar\, 14\, Denia\, Alicante\, 03700\, España
CATEGORIES:DJ,Música,Tardeo
ATTACH;FMTTYPE=image/jpeg:https://disfruta-denia.com/wp-content/uploads/2023/04/340972786_6185217901534761_8405886246076465285_n.jpg
END:VEVENT
BEGIN:VEVENT
DTSTART;TZID=Europe/Madrid:20230506T190000
DTEND;TZID=Europe/Madrid:20230506T210000
DTSTAMP:20260421T221424
CREATED:20221103T080406Z
LAST-MODIFIED:20221103T080407Z
UID:10007691-1683399600-1683406800@disfruta-denia.com
SUMMARY:Concierto tardeo en La Chica de Ayer
DESCRIPTION:
URL:https://disfruta-denia.com/evento/concierto-tardeo-en-la-chica-de-ayer-3/2023-05-06/
LOCATION:La Chica de ayer\, Calle la mar 30\, Denia\, Alicante\, 03700\, España
CATEGORIES:Concierto,Música,Tardeo
ATTACH;FMTTYPE=image/jpeg:https://disfruta-denia.com/wp-content/uploads/2022/01/la-chica-de-ayer.jpg
END:VEVENT
BEGIN:VEVENT
DTSTART;TZID=Europe/Madrid:20230506T200000
DTEND;TZID=Europe/Madrid:20230506T200000
DTSTAMP:20260421T221424
CREATED:20230427T094723Z
LAST-MODIFIED:20230427T094902Z
UID:10010631-1683403200-1683403200@disfruta-denia.com
SUMMARY:Chiquito pantano en Les Tramoies
DESCRIPTION:
URL:https://disfruta-denia.com/evento/chiquito-pantano-en-les-tramoies/
LOCATION:Les Tramoies\, C/ de Patricio Ferrándiz\, 88\, Denia\, Alicante\, 03700\, España
CATEGORIES:Concierto,Música
ATTACH;FMTTYPE=image/png:https://disfruta-denia.com/wp-content/uploads/2023/04/chiquito-pantano-blues-music.png
END:VEVENT
BEGIN:VEVENT
DTSTART;TZID=Europe/Madrid:20230506T235900
DTEND;TZID=Europe/Madrid:20230506T235900
DTSTAMP:20260421T221424
CREATED:20221128T194020Z
LAST-MODIFIED:20221128T194021Z
UID:10006506-1683417540-1683417540@disfruta-denia.com
SUMMARY:Concierto en LCDA
DESCRIPTION:
URL:https://disfruta-denia.com/evento/concierto-en-lcda-4/2023-05-06/
LOCATION:La Chica de ayer\, Calle la mar 30\, Denia\, Alicante\, 03700\, España
CATEGORIES:Concierto,Música,Ocio nocturno
ATTACH;FMTTYPE=image/jpeg:https://disfruta-denia.com/wp-content/uploads/2022/11/317545016_592127712917488_4859295703944293873_n.jpg
END:VEVENT
BEGIN:VEVENT
DTSTART;TZID=Europe/Madrid:20230506T235900
DTEND;TZID=Europe/Madrid:20230506T235900
DTSTAMP:20260421T221424
CREATED:20230412T074109Z
LAST-MODIFIED:20230412T074109Z
UID:10004054-1683417540-1683417540@disfruta-denia.com
SUMMARY:Sábado de Dorian Gray
DESCRIPTION:• NOCHE
URL:https://disfruta-denia.com/evento/sabado-de-dorian-gray-2-2-2-2-3-2-3-2-2-2-2-2/2023-05-06/
LOCATION:Dorian Gray Denia\, Carrer de la Mar\, 14\, Denia\, Alicante\, 03700\, España
CATEGORIES:DJ,Música,Ocio nocturno
ATTACH;FMTTYPE=image/jpeg:https://disfruta-denia.com/wp-content/uploads/2023/04/340972786_6185217901534761_8405886246076465285_n.jpg
END:VEVENT
BEGIN:VEVENT
DTSTART;TZID=Europe/Madrid:20230507T090000
DTEND;TZID=Europe/Madrid:20230507T140000
DTSTAMP:20260421T221424
CREATED:20230505T201546Z
LAST-MODIFIED:20230505T201605Z
UID:10006318-1683450000-1683468000@disfruta-denia.com
SUMMARY:The 3 MusicTeers en el Mercadillo de Jesús Pobre
DESCRIPTION:En el #MercatdelRiurau siempre encontraras:\n\n\nArtesanos con sus creaciones hechas a mano\, desde el taller a la venta sin intermediarios. Joyería\, cerámica\, cuero\, madera y todo tipo de arte textil.\nCon La mejor música de los años de antes.
URL:https://disfruta-denia.com/evento/mercat-del-riurau-en-jesus-pobre-2-2-4/
LOCATION:Mercado Riurau Jesus Pobre\, Jesus Pobre\, Alicante\, 03749\, España
CATEGORIES:Mercado
ATTACH;FMTTYPE=image/jpeg:https://disfruta-denia.com/wp-content/uploads/2022/11/riurau_jesus-pobre-mayo-2023-scaled.jpg
END:VEVENT
BEGIN:VEVENT
DTSTART;TZID=Europe/Madrid:20230507T090000
DTEND;TZID=Europe/Madrid:20230507T170000
DTSTAMP:20260421T221424
CREATED:20230501T150556Z
LAST-MODIFIED:20230501T150709Z
UID:10010636-1683450000-1683478800@disfruta-denia.com
SUMMARY:EXCURSIÓN EN FAMÍLIA
DESCRIPTION:DE GATA A XÀBIA. Caminos rurales en los valles. Acantilados desde el mar. \nInscripción previa obligatoria hasta las 14 h del jueves anterior al correo: deniaviva@ayto-denia.es \nComer: picnic o bares en Xàbia. \nDesplazamiento en tren y barco. Billete tren FGV: 1\,45 €. Barco: 10 €. Duración: 8 h.
URL:https://disfruta-denia.com/evento/excursion-en-familia-6/
LOCATION:Denia\, Denia\, Alicante\, 03700\, España
CATEGORIES:Deporte,Excursión
ATTACH;FMTTYPE=image/png:https://disfruta-denia.com/wp-content/uploads/2023/05/5-excursio-en-familia-dia-7.png
ORGANIZER;CN="Denia Cultura":MAILTO:cultura@ayto-denia.es
END:VEVENT
BEGIN:VEVENT
DTSTART;TZID=Europe/Madrid:20230507T093000
DTEND;TZID=Europe/Madrid:20230507T140000
DTSTAMP:20260421T221424
CREATED:20230220T140028Z
LAST-MODIFIED:20230220T140042Z
UID:10009943-1683451800-1683468000@disfruta-denia.com
SUMMARY:Mercado del autociné
DESCRIPTION:
URL:https://disfruta-denia.com/evento/mercado-del-autocine-3/2023-05-07/
LOCATION:Autociné Denia\, Partida Deveses D\, 27\, Denia\, Alicante\, 03700\, España
CATEGORIES:Mercado
ATTACH;FMTTYPE=image/jpeg:https://disfruta-denia.com/wp-content/uploads/2023/02/328696615_713548360324943_2484204053604012380_n.jpg
END:VEVENT
BEGIN:VEVENT
DTSTART;TZID=Europe/Madrid:20230507T120000
DTEND;TZID=Europe/Madrid:20230507T133000
DTSTAMP:20260421T221424
CREATED:20230501T150719Z
LAST-MODIFIED:20230501T150842Z
UID:10010637-1683460800-1683466200@disfruta-denia.com
SUMMARY:Concierto de l’AGRUPACIÓ ARTÍSTICA MUSICAL DE DÉNIA
DESCRIPTION:XXVIII Campanya Música als Pobles  2023 \nEntrada: lliure amb invitació / libre con invitación.  \nReserva: https://notikumi.com En taquilla el mateix dia una hora abans/ el mismo día una hora antes.
URL:https://disfruta-denia.com/evento/concierto-de-lagrupacio-artistica-musical-de-denia/
LOCATION:Teatro Auditorio Centro Social\, 4 Carrer Calderón\, Dénia\, VC\, 03700\, Spain
CATEGORIES:Concierto,Música
ATTACH;FMTTYPE=image/png:https://disfruta-denia.com/wp-content/uploads/2023/05/6-Musica-als-pobles-ok.png
ORGANIZER;CN="Denia Cultura":MAILTO:cultura@ayto-denia.es
END:VEVENT
BEGIN:VEVENT
DTSTART;TZID=Europe/Madrid:20230507T160000
DTEND;TZID=Europe/Madrid:20230507T180000
DTSTAMP:20260421T221424
CREATED:20220930T203145Z
LAST-MODIFIED:20220930T203335Z
UID:10006135-1683475200-1683482400@disfruta-denia.com
SUMMARY:Concierto en Mr Fisher
DESCRIPTION:📣Temporada de Conciertos en MR.FISHER 🎣\n¡Empezamos el 2 de octubre con TANDEM!\n. 9/09 Pol y Valen\n. 16/09 LOLYPOP\n. 23/09 LA MOCHA\n👉🏼Síguenos para más noticias sobre los conciertos y nuestro nuevo menú 😋\n#musicaendirecto #conciertos #mrfisherdénia #vistasalmar #dénia #grupoelelraset #otoño022 #denia #comervivirdenia
URL:https://disfruta-denia.com/evento/concierto-en-mr-fisher/2023-05-07/
LOCATION:Mr Fisher\, Moll de La Pansa s/n. Marina El Portet\, Denia\, Alicante\, 03700\, España
CATEGORIES:Concierto,Música,Tardeo
ATTACH;FMTTYPE=image/jpeg:https://disfruta-denia.com/wp-content/uploads/2022/09/FB_IMG_1664569293037.jpg
END:VEVENT
BEGIN:VEVENT
DTSTART;TZID=Europe/Madrid:20230507T193000
DTEND;TZID=Europe/Madrid:20230507T193000
DTSTAMP:20260421T221424
CREATED:20221216T222216Z
LAST-MODIFIED:20221216T222218Z
UID:10007605-1683487800-1683487800@disfruta-denia.com
SUMMARY:Domingos de Soul
DESCRIPTION:Un domingo por la tarde… ¿qué te pide el cuerpo?\nTodos los domingos\, a partir de las 19:30h\, @shaina_jones_official le pondrá la guinda a la semana.
URL:https://disfruta-denia.com/evento/domingos-de-soul-2/2023-05-07/
LOCATION:Bodega Casa Benjamín\, Ramón y Cajal\, 14\, Denia\, Alicante\, 03700\, España
CATEGORIES:Concierto,Música,Tardeo
ATTACH;FMTTYPE=image/jpeg:https://disfruta-denia.com/wp-content/uploads/2022/11/319276379_676597164205821_3459759957133906650_n.jpg
END:VEVENT
BEGIN:VEVENT
DTSTART;TZID=Europe/Madrid:20230508T080000
DTEND;TZID=Europe/Madrid:20230508T133000
DTSTAMP:20260421T221424
CREATED:20220303T082647Z
LAST-MODIFIED:20221128T104722Z
UID:10003317-1683532800-1683552600@disfruta-denia.com
SUMMARY:Mercadillo de Denia
DESCRIPTION:En 2022 el mercadillo de Denia es los lunes de 8:00 a 13:30 en la calle Hermanos Maristas. \nEs uno de los mercadillos más grandes y visitados de la Costa Blanca\, con unos 400 puestos en los que se puede comprar: bolsos\, ropa\, calzado y complementos\, bisutería\, decoración\, equipamiento del hogar\, artesanía\, cerámica\, flores y plantas\, etc. \nDurante la feria de Todos Los Santos se traslada a la Avenida Joan Fuster.
URL:https://disfruta-denia.com/evento/mercadillo-de-denia/2023-05-08/
LOCATION:Parque de Torrecremada\, Carrer Germans Maristes\, Denia\, Alicante\, 03700\, España
CATEGORIES:Mercado
ATTACH;FMTTYPE=image/jpeg:https://disfruta-denia.com/wp-content/uploads/2022/03/mercadillo-de-denia.jpg
END:VEVENT
BEGIN:VEVENT
DTSTART;TZID=Europe/Madrid:20230508T200000
DTEND;TZID=Europe/Madrid:20230508T200000
DTSTAMP:20260421T221424
CREATED:20230501T150849Z
LAST-MODIFIED:20230501T151105Z
UID:10010638-1683576000-1683576000@disfruta-denia.com
SUMMARY:DILLUNS amb JAZZ
DESCRIPTION:AN EVENING WITH COLE PORTER \nEn este concierto especial de final de temporada\, algunos de los músicos que han formado parte de esta segunda edición del ciclo\, como el contrabajista Diego Barberá\, el pianista Richard Busiakiewicz o el saxofonista Enric Peidro entre otros\, se reunirán para revisar el gran legado de uno de los compositores clave del siglo XX: Cole Porter\, autor de melodías que forman ya parte tanto de la historia de la música o el cine como del imaginario colectivo. \nDilluns amb Jazz se despide pues\, con un concierto muy especial que lejos de ser una despedida emplazará a los muchos aficionados a una nueva cita para la próxima temporada 2023/2024 que empezará a finales de septiembre. \nEntrada: 15 € en  https://www.notikumi.com. En taquilla: una hora abans del concert/una hora antes del concierto.
URL:https://disfruta-denia.com/evento/dilluns-amb-jazz-2/
LOCATION:Teatro Auditorio Centro Social\, 4 Carrer Calderón\, Dénia\, VC\, 03700\, Spain
CATEGORIES:Concierto,Jazz,Música
ATTACH;FMTTYPE=image/png:https://disfruta-denia.com/wp-content/uploads/2023/05/7-Dilluns-amb-jazz.png
ORGANIZER;CN="Denia Cultura":MAILTO:cultura@ayto-denia.es
END:VEVENT
BEGIN:VEVENT
DTSTART;TZID=Europe/Madrid:20230510T190000
DTEND;TZID=Europe/Madrid:20230510T210000
DTSTAMP:20260421T221424
CREATED:20221228T081643Z
LAST-MODIFIED:20221228T081643Z
UID:10008250-1683745200-1683752400@disfruta-denia.com
SUMMARY:Tardeo en Basta
DESCRIPTION:
URL:https://disfruta-denia.com/evento/tardeo-en-basta-3/2023-05-10/
LOCATION:Basta Lounge Bar\, Marina de Dénia\, Local C2\, Denia\, Valencian Community\, 03700\, España
CATEGORIES:Concierto,Música,Tardeo
ATTACH;FMTTYPE=image/jpeg:https://disfruta-denia.com/wp-content/uploads/2022/11/322262315_3143026829322781_6385522771817988742_n.jpg
END:VEVENT
END:VCALENDAR