BEGIN:VCALENDAR
VERSION:2.0
PRODID:-//Disfruta Denia - ECPv6.15.20//NONSGML v1.0//EN
CALSCALE:GREGORIAN
METHOD:PUBLISH
X-ORIGINAL-URL:https://disfruta-denia.com
X-WR-CALDESC:Eventos para Disfruta Denia
REFRESH-INTERVAL;VALUE=DURATION:PT1H
X-Robots-Tag:noindex
X-PUBLISHED-TTL:PT1H
BEGIN:VTIMEZONE
TZID:Europe/Madrid
BEGIN:DAYLIGHT
TZOFFSETFROM:+0100
TZOFFSETTO:+0200
TZNAME:CEST
DTSTART:20240331T010000
END:DAYLIGHT
BEGIN:STANDARD
TZOFFSETFROM:+0200
TZOFFSETTO:+0100
TZNAME:CET
DTSTART:20241027T010000
END:STANDARD
BEGIN:DAYLIGHT
TZOFFSETFROM:+0100
TZOFFSETTO:+0200
TZNAME:CEST
DTSTART:20250330T010000
END:DAYLIGHT
BEGIN:STANDARD
TZOFFSETFROM:+0200
TZOFFSETTO:+0100
TZNAME:CET
DTSTART:20251026T010000
END:STANDARD
BEGIN:DAYLIGHT
TZOFFSETFROM:+0100
TZOFFSETTO:+0200
TZNAME:CEST
DTSTART:20260329T010000
END:DAYLIGHT
BEGIN:STANDARD
TZOFFSETFROM:+0200
TZOFFSETTO:+0100
TZNAME:CET
DTSTART:20261025T010000
END:STANDARD
END:VTIMEZONE
BEGIN:VEVENT
DTSTART;TZID=Europe/Madrid:20250529T210000
DTEND;TZID=Europe/Madrid:20250529T210000
DTSTAMP:20260424T130130
CREATED:20250529T095226Z
LAST-MODIFIED:20250529T095226Z
UID:10016662-1748552400-1748552400@disfruta-denia.com
SUMMARY:Karaoké en Rebeldía Blues
DESCRIPTION:Karaoké en Rebeldía Blues
URL:https://disfruta-denia.com/evento/karaoke-en-rebeldia-blues-4-2-2-2-2-2-4/2025-05-29/
LOCATION:Rebeldia Blues\, Carr. de Dénia A Xábia\, 3G\, Denia\, Alicante\, 03700\, España
CATEGORIES:Karaoké,Música
ATTACH;FMTTYPE=image/jpeg:https://disfruta-denia.com/wp-content/uploads/2024/03/PHOTO-2025-05-26-21-02-14.jpg
END:VEVENT
BEGIN:VEVENT
DTSTART;TZID=Europe/Madrid:20250529T083000
DTEND;TZID=Europe/Madrid:20250529T083000
DTSTAMP:20260424T130130
CREATED:20231005T092619Z
LAST-MODIFIED:20231005T092702Z
UID:10014208-1748507400-1748507400@disfruta-denia.com
SUMMARY:Clase de Yoga en Códigos del Arte
DESCRIPTION:Clase de Yoga en Códigos del Arte
URL:https://disfruta-denia.com/evento/clase-de-yoga-en-codigos-del-arte/2025-05-29/
LOCATION:Códigos del Arte\, Carreró de Morant\, 8\, Dénia\, 03700\, España
CATEGORIES:Deporte,Yoga
ATTACH;FMTTYPE=image/jpeg:https://disfruta-denia.com/wp-content/uploads/2023/10/image_6487327.jpg
END:VEVENT
BEGIN:VEVENT
DTSTART;TZID=Europe/Madrid:20250528T203000
DTEND;TZID=Europe/Madrid:20250528T203000
DTSTAMP:20260424T130130
CREATED:20240414T124150Z
LAST-MODIFIED:20240414T124150Z
UID:10017970-1748464200-1748464200@disfruta-denia.com
SUMMARY:Miércoles latinos\, miércoles clandestinos
DESCRIPTION:Miércoles latinos\, miércoles clandestinos  Cada miércoles a las 20.30h tenemos una cita con Madelyn Torroella a ritmo cubano!! Voz\, percusión y versiones de salsa clásica\, cada miércoles\, en el Speak. Parrillada\, tacos\, tapas\, cocktails & música. Reserva tu mesa
URL:https://disfruta-denia.com/evento/miercoles-latinos-miercoles-clandestinos/2025-05-28/
LOCATION:The Speak Denia\, Carrer del Pont\, 19\, Denia\, Alicante\, 03700\, España
CATEGORIES:Concierto,Música
ATTACH;FMTTYPE=image/jpeg:https://disfruta-denia.com/wp-content/uploads/2024/04/434468313_1159701198651630_4992165217264460198_n.jpg
END:VEVENT
BEGIN:VEVENT
DTSTART;TZID=Europe/Madrid:20250528T200000
DTEND;TZID=Europe/Madrid:20250528T233000
DTSTAMP:20260424T130130
CREATED:20250526T075702Z
LAST-MODIFIED:20250526T075703Z
UID:10009040-1748462400-1748475000@disfruta-denia.com
SUMMARY:Autocine: día del espectador
DESCRIPTION:
URL:https://disfruta-denia.com/evento/autocine-dia-del-espectador-3-46/
LOCATION:Autociné Denia\, Partida Deveses D\, 27\, Denia\, Alicante\, 03700\, España
CATEGORIES:Ciné,Cultura
ATTACH;FMTTYPE=image/png:https://disfruta-denia.com/wp-content/uploads/2023/06/Instagram-05-26-2025_09_56_AM.png
END:VEVENT
BEGIN:VEVENT
DTSTART;TZID=Europe/Madrid:20250528T190000
DTEND;TZID=Europe/Madrid:20250528T210000
DTSTAMP:20260424T130130
CREATED:20231115T115842Z
LAST-MODIFIED:20231115T115843Z
UID:10008357-1748458800-1748466000@disfruta-denia.com
SUMMARY:Tardeo en Basta
DESCRIPTION:
URL:https://disfruta-denia.com/evento/tardeo-en-basta-3-3/2025-05-28/
LOCATION:Basta Lounge Bar\, Marina de Dénia\, Local C2\, Denia\, Valencian Community\, 03700\, España
CATEGORIES:Concierto,Música,Tardeo
ATTACH;FMTTYPE=image/jpeg:https://disfruta-denia.com/wp-content/uploads/2022/12/IMG_3678.jpeg
END:VEVENT
BEGIN:VEVENT
DTSTART;TZID=Europe/Madrid:20250527T083000
DTEND;TZID=Europe/Madrid:20250527T083000
DTSTAMP:20260424T130130
CREATED:20231005T092619Z
LAST-MODIFIED:20231005T092702Z
UID:10014207-1748334600-1748334600@disfruta-denia.com
SUMMARY:Clase de Yoga en Códigos del Arte
DESCRIPTION:Clase de Yoga en Códigos del Arte
URL:https://disfruta-denia.com/evento/clase-de-yoga-en-codigos-del-arte/2025-05-27/
LOCATION:Códigos del Arte\, Carreró de Morant\, 8\, Dénia\, 03700\, España
CATEGORIES:Deporte,Yoga
ATTACH;FMTTYPE=image/jpeg:https://disfruta-denia.com/wp-content/uploads/2023/10/image_6487327.jpg
END:VEVENT
BEGIN:VEVENT
DTSTART;TZID=Europe/Madrid:20250526T203000
DTEND;TZID=Europe/Madrid:20250526T203000
DTSTAMP:20260424T130130
CREATED:20230912T174836Z
LAST-MODIFIED:20230912T174838Z
UID:10011499-1748291400-1748291400@disfruta-denia.com
SUMMARY:Tardeo con Marce Pesoa
DESCRIPTION:Esta noche. Tonight. \nLive music 20.30h. \nMarce Pesoa en The Speak Dénia. \nTacos\, Cocktails\, Parrilla \n& la mejor musica 🔥🤘 \nReservas: 675753879 \nLet’s #funmonday today!
URL:https://disfruta-denia.com/evento/tardeo-con-marce-pesoa-2/2025-05-26/
LOCATION:The Speak Denia\, Carrer del Pont\, 19\, Denia\, Alicante\, 03700\, España
CATEGORIES:Concierto,Música,Tardeo
ATTACH;FMTTYPE=image/jpeg:https://disfruta-denia.com/wp-content/uploads/2023/06/IMG-20230619-WA0000.jpg
END:VEVENT
BEGIN:VEVENT
DTSTART;TZID=Europe/Madrid:20250525T210000
DTEND;TZID=Europe/Madrid:20250525T210000
DTSTAMP:20260424T130130
CREATED:20250523T084330Z
LAST-MODIFIED:20250523T084331Z
UID:10016385-1748206800-1748206800@disfruta-denia.com
SUMMARY:Concierto: Rebeldía Blues Band
DESCRIPTION:
URL:https://disfruta-denia.com/evento/concierto-rebeldia-blues-band-5-2-2-2-6/2025-05-25/
LOCATION:Rebeldia Blues\, Carr. de Dénia A Xábia\, 3G\, Denia\, Alicante\, 03700\, España
CATEGORIES:Concierto,Música
ATTACH;FMTTYPE=image/jpeg:https://disfruta-denia.com/wp-content/uploads/2024/02/PHOTO-2025-05-19-21-59-17.jpg
END:VEVENT
BEGIN:VEVENT
DTSTART;TZID=Europe/Madrid:20250525T160000
DTEND;TZID=Europe/Madrid:20250525T160000
DTSTAMP:20260424T130130
CREATED:20240911T131353Z
LAST-MODIFIED:20240911T131353Z
UID:10019330-1748188800-1748188800@disfruta-denia.com
SUMMARY:Los Tardeos de Mr Fisher
DESCRIPTION:Disfruta de los tardeos de buena música en directo en Mr. Fisher
URL:https://disfruta-denia.com/evento/los-tardeos-de-mr-fisher/2025-05-25/
LOCATION:Mr Fisher\, Moll de La Pansa s/n. Marina El Portet\, Denia\, Alicante\, 03700\, España
CATEGORIES:Concierto,Música,Tardeo
ATTACH;FMTTYPE=image/jpeg:https://disfruta-denia.com/wp-content/uploads/2024/09/459139871_18092607781468008_6776720106805976607_n.jpg
END:VEVENT
BEGIN:VEVENT
DTSTART;TZID=Europe/Madrid:20250525T120000
DTEND;TZID=Europe/Madrid:20250525T120000
DTSTAMP:20260424T130130
CREATED:20250523T080800Z
LAST-MODIFIED:20250523T080800Z
UID:10020673-1748174400-1748174400@disfruta-denia.com
SUMMARY:Musical als Pobles
DESCRIPTION:
URL:https://disfruta-denia.com/evento/musical-als-pobles/
LOCATION:Carrer del Marqués de Campo\, Carrer del Marqués de Campo\, Denia\, Alicante\, 03700\, España
CATEGORIES:Concierto,Música
ATTACH;FMTTYPE=image/png:https://disfruta-denia.com/wp-content/uploads/2025/05/Poster-Musica-als-Pobles-2025-FInal-scaled.png
END:VEVENT
BEGIN:VEVENT
DTSTART;TZID=Europe/Madrid:20250525T090000
DTEND;TZID=Europe/Madrid:20250525T140000
DTSTAMP:20260424T130130
CREATED:20241206T165430Z
LAST-MODIFIED:20241206T165431Z
UID:10019376-1748163600-1748181600@disfruta-denia.com
SUMMARY:Mercat del Riurau Jesus Pobre
DESCRIPTION:Este domingo 8 de diciembre te esperamos en el Mercat del Riurau\, de 10:00 a 14:00! Además\, a las 12:00 tendremos el placer de disfrutar del concierto en directo de la cantautora Inma Serrano. ¡Ven a pasar una mañana llena de música\, artesanía y buen ambiente!  ¿Dónde? Jesús Pobre ¿Cuándo? Domingo 8 de diciembre\, de 10:00 a 14:00¡No te lo pierdas\, te esperamos con las puertas abiertas!
URL:https://disfruta-denia.com/evento/mercat-del-riurau-jesus-pobre-2-25-3-2-2-8-2-4-3/2025-05-25/
LOCATION:Mercado Riurau Jesus Pobre\, Jesus Pobre\, Alicante\, 03749\, España
CATEGORIES:Concierto,Gastronomía,Mercado
ATTACH;FMTTYPE=image/jpeg:https://disfruta-denia.com/wp-content/uploads/2024/11/468421700_961429749353723_2511845002113226302_n.jpg
END:VEVENT
BEGIN:VEVENT
DTSTART;TZID=Europe/Madrid:20250524T235900
DTEND;TZID=Europe/Madrid:20250524T235900
DTSTAMP:20260424T130130
CREATED:20221128T194020Z
LAST-MODIFIED:20221128T194021Z
UID:10006613-1748131140-1748131140@disfruta-denia.com
SUMMARY:Concierto en LCDA
DESCRIPTION:
URL:https://disfruta-denia.com/evento/concierto-en-lcda-4/2025-05-24/
LOCATION:La Chica de ayer\, Calle la mar 30\, Denia\, Alicante\, 03700\, España
CATEGORIES:Concierto,Música,Ocio nocturno
ATTACH;FMTTYPE=image/jpeg:https://disfruta-denia.com/wp-content/uploads/2022/11/317545016_592127712917488_4859295703944293873_n.jpg
END:VEVENT
BEGIN:VEVENT
DTSTART;TZID=Europe/Madrid:20250524T213000
DTEND;TZID=Europe/Madrid:20250524T213000
DTSTAMP:20260424T130130
CREATED:20250523T084355Z
LAST-MODIFIED:20250523T084355Z
UID:10019958-1748122200-1748122200@disfruta-denia.com
SUMMARY:Sábado concierto en Rebeldía Blues
DESCRIPTION:Sábado concierto en Rebledía Blues
URL:https://disfruta-denia.com/evento/sabado-concierto-en-rebeldia-blues-3-2-10-3-3-2-8-3/
LOCATION:Rebeldia Blues\, Carr. de Dénia A Xábia\, 3G\, Denia\, Alicante\, 03700\, España
CATEGORIES:Concierto,Música
ATTACH;FMTTYPE=image/jpeg:https://disfruta-denia.com/wp-content/uploads/2024/02/PHOTO-2025-05-19-12-38-13-2.jpg
END:VEVENT
BEGIN:VEVENT
DTSTART;VALUE=DATE:20250524
DTEND;VALUE=DATE:20250717
DTSTAMP:20260424T130130
CREATED:20250523T080942Z
LAST-MODIFIED:20250523T080942Z
UID:10020674-1748059200-1752638399@disfruta-denia.com
SUMMARY:Expo: SubAcquea
DESCRIPTION:La pintora italiana Valeria Oliva vuelve a exponer en Dénia\, en el restaurante ConAlma. La exposición se podrá visitar del 24 de mayo hasta al 15 de julio.\nLa inauguración\, sabado 24 de mayo a las 12:00\, contará con la presencia de la artista.\nValeria Oliva es una figura destacada en el panorama artístico nacional y internacional. Sus obras se caracterizan por una tridimensionalidad muy marcada\, en una perfecta fusión entre pintura y escultura.\nLa nueva Exposición «Subacquea» es un tributo al agua y a sus creaturas. Agua como elemento de vida\, que fluye\, que enamora!
URL:https://disfruta-denia.com/evento/expo-subacquea/
LOCATION:Con Alma\, Carrer Gabriel Moreno 23\, Dénia\, 03700\, España
CATEGORIES:Cultura,Exposiciones
ATTACH;FMTTYPE=image/jpeg:https://disfruta-denia.com/wp-content/uploads/2025/05/PHOTO-2025-05-20-08-53-15.jpg
END:VEVENT
BEGIN:VEVENT
DTSTART;TZID=Europe/Madrid:20250523T213000
DTEND;TZID=Europe/Madrid:20250523T213000
DTSTAMP:20260424T130130
CREATED:20250523T084413Z
LAST-MODIFIED:20250523T084414Z
UID:10019698-1748035800-1748035800@disfruta-denia.com
SUMMARY:Concierto de Viernes en Rebeldía Blues
DESCRIPTION:¡Este viernes en Rebeldía Blues te espera una noche llena de música en vivo Prepárate para disfrutar de lo mejor del swing\, pop y música latina en un ambiente único. La entrada es totalmente gratuita\, así que trae a tus amigos y no te pierdas esta experiencia inolvidable.  Hora: 21:30h
URL:https://disfruta-denia.com/evento/concierto-de-viernes-en-rebeldia-blues-3-3-10-3-3-3-2-9/
LOCATION:Rebeldia Blues\, Carr. de Dénia A Xábia\, 3G\, Denia\, Alicante\, 03700\, España
CATEGORIES:Concierto,Música
ATTACH;FMTTYPE=image/jpeg:https://disfruta-denia.com/wp-content/uploads/2024/02/PHOTO-2025-05-19-12-38-13.jpg
END:VEVENT
BEGIN:VEVENT
DTSTART;TZID=Europe/Madrid:20250522T210000
DTEND;TZID=Europe/Madrid:20250522T210000
DTSTAMP:20260424T130130
CREATED:20240307T094627Z
LAST-MODIFIED:20240307T094631Z
UID:10016661-1747947600-1747947600@disfruta-denia.com
SUMMARY:Karaoké en Rebeldía Blues
DESCRIPTION:Karaoké en Rebeldía Blues
URL:https://disfruta-denia.com/evento/karaoke-en-rebeldia-blues-4-2-2-2-2-2/2025-05-22/
LOCATION:Rebeldia Blues\, Carr. de Dénia A Xábia\, 3G\, Denia\, Alicante\, 03700\, España
CATEGORIES:Karaoké,Música
ATTACH;FMTTYPE=image/jpeg:https://disfruta-denia.com/wp-content/uploads/2024/02/429768881_17912348297911738_3047273990901060399_n.jpg
END:VEVENT
BEGIN:VEVENT
DTSTART;TZID=Europe/Madrid:20250522T083000
DTEND;TZID=Europe/Madrid:20250522T083000
DTSTAMP:20260424T130130
CREATED:20231005T092619Z
LAST-MODIFIED:20231005T092702Z
UID:10014206-1747902600-1747902600@disfruta-denia.com
SUMMARY:Clase de Yoga en Códigos del Arte
DESCRIPTION:Clase de Yoga en Códigos del Arte
URL:https://disfruta-denia.com/evento/clase-de-yoga-en-codigos-del-arte/2025-05-22/
LOCATION:Códigos del Arte\, Carreró de Morant\, 8\, Dénia\, 03700\, España
CATEGORIES:Deporte,Yoga
ATTACH;FMTTYPE=image/jpeg:https://disfruta-denia.com/wp-content/uploads/2023/10/image_6487327.jpg
END:VEVENT
BEGIN:VEVENT
DTSTART;TZID=Europe/Madrid:20250521T203000
DTEND;TZID=Europe/Madrid:20250521T203000
DTSTAMP:20260424T130130
CREATED:20240414T124150Z
LAST-MODIFIED:20240414T124150Z
UID:10017969-1747859400-1747859400@disfruta-denia.com
SUMMARY:Miércoles latinos\, miércoles clandestinos
DESCRIPTION:Miércoles latinos\, miércoles clandestinos  Cada miércoles a las 20.30h tenemos una cita con Madelyn Torroella a ritmo cubano!! Voz\, percusión y versiones de salsa clásica\, cada miércoles\, en el Speak. Parrillada\, tacos\, tapas\, cocktails & música. Reserva tu mesa
URL:https://disfruta-denia.com/evento/miercoles-latinos-miercoles-clandestinos/2025-05-21/
LOCATION:The Speak Denia\, Carrer del Pont\, 19\, Denia\, Alicante\, 03700\, España
CATEGORIES:Concierto,Música
ATTACH;FMTTYPE=image/jpeg:https://disfruta-denia.com/wp-content/uploads/2024/04/434468313_1159701198651630_4992165217264460198_n.jpg
END:VEVENT
BEGIN:VEVENT
DTSTART;TZID=Europe/Madrid:20250521T200000
DTEND;TZID=Europe/Madrid:20250521T233000
DTSTAMP:20260424T130130
CREATED:20230612T102803Z
LAST-MODIFIED:20230612T102804Z
UID:10009039-1747857600-1747870200@disfruta-denia.com
SUMMARY:Autocine: día del espectador
DESCRIPTION:
URL:https://disfruta-denia.com/evento/autocine-dia-del-espectador-3/2025-05-21/
LOCATION:Autociné Denia\, Partida Deveses D\, 27\, Denia\, Alicante\, 03700\, España
CATEGORIES:Ciné,Cultura
ATTACH;FMTTYPE=image/jpeg:https://disfruta-denia.com/wp-content/uploads/2022/11/Autocine-Drive-In-Denia-1.jpg
END:VEVENT
BEGIN:VEVENT
DTSTART;TZID=Europe/Madrid:20250521T190000
DTEND;TZID=Europe/Madrid:20250521T210000
DTSTAMP:20260424T130130
CREATED:20231115T115842Z
LAST-MODIFIED:20231115T115843Z
UID:10008356-1747854000-1747861200@disfruta-denia.com
SUMMARY:Tardeo en Basta
DESCRIPTION:
URL:https://disfruta-denia.com/evento/tardeo-en-basta-3-3/2025-05-21/
LOCATION:Basta Lounge Bar\, Marina de Dénia\, Local C2\, Denia\, Valencian Community\, 03700\, España
CATEGORIES:Concierto,Música,Tardeo
ATTACH;FMTTYPE=image/jpeg:https://disfruta-denia.com/wp-content/uploads/2022/12/IMG_3678.jpeg
END:VEVENT
BEGIN:VEVENT
DTSTART;TZID=Europe/Madrid:20250520T083000
DTEND;TZID=Europe/Madrid:20250520T083000
DTSTAMP:20260424T130130
CREATED:20231005T092619Z
LAST-MODIFIED:20231005T092702Z
UID:10014205-1747729800-1747729800@disfruta-denia.com
SUMMARY:Clase de Yoga en Códigos del Arte
DESCRIPTION:Clase de Yoga en Códigos del Arte
URL:https://disfruta-denia.com/evento/clase-de-yoga-en-codigos-del-arte/2025-05-20/
LOCATION:Códigos del Arte\, Carreró de Morant\, 8\, Dénia\, 03700\, España
CATEGORIES:Deporte,Yoga
ATTACH;FMTTYPE=image/jpeg:https://disfruta-denia.com/wp-content/uploads/2023/10/image_6487327.jpg
END:VEVENT
BEGIN:VEVENT
DTSTART;TZID=Europe/Madrid:20250519T203000
DTEND;TZID=Europe/Madrid:20250519T203000
DTSTAMP:20260424T130130
CREATED:20230912T174836Z
LAST-MODIFIED:20230912T174838Z
UID:10011498-1747686600-1747686600@disfruta-denia.com
SUMMARY:Tardeo con Marce Pesoa
DESCRIPTION:Esta noche. Tonight. \nLive music 20.30h. \nMarce Pesoa en The Speak Dénia. \nTacos\, Cocktails\, Parrilla \n& la mejor musica 🔥🤘 \nReservas: 675753879 \nLet’s #funmonday today!
URL:https://disfruta-denia.com/evento/tardeo-con-marce-pesoa-2/2025-05-19/
LOCATION:The Speak Denia\, Carrer del Pont\, 19\, Denia\, Alicante\, 03700\, España
CATEGORIES:Concierto,Música,Tardeo
ATTACH;FMTTYPE=image/jpeg:https://disfruta-denia.com/wp-content/uploads/2023/06/IMG-20230619-WA0000.jpg
END:VEVENT
BEGIN:VEVENT
DTSTART;TZID=Europe/Madrid:20250518T210000
DTEND;TZID=Europe/Madrid:20250518T210000
DTSTAMP:20260424T130130
CREATED:20250515T084720Z
LAST-MODIFIED:20250515T084720Z
UID:10016384-1747602000-1747602000@disfruta-denia.com
SUMMARY:Concierto: Luis Manuel Gil
DESCRIPTION:Concierto: Rebeldía Blues Band
URL:https://disfruta-denia.com/evento/concierto-rebeldia-blues-band-5-2-2-2-5/
LOCATION:Rebeldia Blues\, Carr. de Dénia A Xábia\, 3G\, Denia\, Alicante\, 03700\, España
CATEGORIES:Concierto,Música
ATTACH;FMTTYPE=image/jpeg:https://disfruta-denia.com/wp-content/uploads/2024/03/PHOTO-2025-05-12-14-21-19.jpg
END:VEVENT
BEGIN:VEVENT
DTSTART;TZID=Europe/Madrid:20250518T160000
DTEND;TZID=Europe/Madrid:20250518T160000
DTSTAMP:20260424T130130
CREATED:20240911T131353Z
LAST-MODIFIED:20240911T131353Z
UID:10019329-1747584000-1747584000@disfruta-denia.com
SUMMARY:Los Tardeos de Mr Fisher
DESCRIPTION:Disfruta de los tardeos de buena música en directo en Mr. Fisher
URL:https://disfruta-denia.com/evento/los-tardeos-de-mr-fisher/2025-05-18/
LOCATION:Mr Fisher\, Moll de La Pansa s/n. Marina El Portet\, Denia\, Alicante\, 03700\, España
CATEGORIES:Concierto,Música,Tardeo
ATTACH;FMTTYPE=image/jpeg:https://disfruta-denia.com/wp-content/uploads/2024/09/459139871_18092607781468008_6776720106805976607_n.jpg
END:VEVENT
BEGIN:VEVENT
DTSTART;TZID=Europe/Madrid:20250518T113000
DTEND;TZID=Europe/Madrid:20250518T113000
DTSTAMP:20260424T130130
CREATED:20250514T065430Z
LAST-MODIFIED:20250514T065430Z
UID:10020635-1747567800-1747567800@disfruta-denia.com
SUMMARY:Visita guíada gratuita Castell de Dénia
DESCRIPTION:el domingo 18 de mayo\, se ofrece una visita guiada al Castell de Dénia y al Centro de interpretación Dénia\, ciutat vigia que encontramos en la cima de la fortaleza. El Castell\, emblema de la ciudad\, ha sido siempre centinela y defensa de Dénia. Entre sus murallas se pueden leer siglos de historia grabados en cada una de las piedras que lo conforman. \nAl llegar a la parte más alta\, se visitará el Centro de interpretación donde se expone un breve recorrido cronológico materializado por piezas arqueológicas clave que permiten a los visitantes comprender la rica historia de Dénia a través de cinco periodos: íbero\, romano\, Taifa\, moderno y siglo XIX.
URL:https://disfruta-denia.com/evento/visita-guiada-gratuita-castell-de-denia/
LOCATION:Castillo de Denia\, Carrer Sant Francesc\, S/n\, Denia\, Alicante\, 03700\, España
CATEGORIES:Cultura,Exposiciones,Visita
ATTACH;FMTTYPE=image/jpeg:https://disfruta-denia.com/wp-content/uploads/2025/05/7330f2.jpg
END:VEVENT
BEGIN:VEVENT
DTSTART;TZID=Europe/Madrid:20250518T090000
DTEND;TZID=Europe/Madrid:20250518T140000
DTSTAMP:20260424T130130
CREATED:20241206T165430Z
LAST-MODIFIED:20241206T165431Z
UID:10019375-1747558800-1747576800@disfruta-denia.com
SUMMARY:Mercat del Riurau Jesus Pobre
DESCRIPTION:Este domingo 8 de diciembre te esperamos en el Mercat del Riurau\, de 10:00 a 14:00! Además\, a las 12:00 tendremos el placer de disfrutar del concierto en directo de la cantautora Inma Serrano. ¡Ven a pasar una mañana llena de música\, artesanía y buen ambiente!  ¿Dónde? Jesús Pobre ¿Cuándo? Domingo 8 de diciembre\, de 10:00 a 14:00¡No te lo pierdas\, te esperamos con las puertas abiertas!
URL:https://disfruta-denia.com/evento/mercat-del-riurau-jesus-pobre-2-25-3-2-2-8-2-4-3/2025-05-18/
LOCATION:Mercado Riurau Jesus Pobre\, Jesus Pobre\, Alicante\, 03749\, España
CATEGORIES:Concierto,Gastronomía,Mercado
ATTACH;FMTTYPE=image/jpeg:https://disfruta-denia.com/wp-content/uploads/2024/11/468421700_961429749353723_2511845002113226302_n.jpg
END:VEVENT
BEGIN:VEVENT
DTSTART;TZID=Europe/Madrid:20250517T235900
DTEND;TZID=Europe/Madrid:20250517T235900
DTSTAMP:20260424T130130
CREATED:20221128T194020Z
LAST-MODIFIED:20221128T194021Z
UID:10006612-1747526340-1747526340@disfruta-denia.com
SUMMARY:Concierto en LCDA
DESCRIPTION:
URL:https://disfruta-denia.com/evento/concierto-en-lcda-4/2025-05-17/
LOCATION:La Chica de ayer\, Calle la mar 30\, Denia\, Alicante\, 03700\, España
CATEGORIES:Concierto,Música,Ocio nocturno
ATTACH;FMTTYPE=image/jpeg:https://disfruta-denia.com/wp-content/uploads/2022/11/317545016_592127712917488_4859295703944293873_n.jpg
END:VEVENT
BEGIN:VEVENT
DTSTART;TZID=Europe/Madrid:20250517T213000
DTEND;TZID=Europe/Madrid:20250517T213000
DTSTAMP:20260424T130130
CREATED:20250515T084733Z
LAST-MODIFIED:20250515T084734Z
UID:10019957-1747517400-1747517400@disfruta-denia.com
SUMMARY:Sábado concierto en Rebeldía Blues
DESCRIPTION:Sábado concierto en Rebledía Blues
URL:https://disfruta-denia.com/evento/sabado-concierto-en-rebeldia-blues-3-2-10-3-3-2-8-2/
LOCATION:Rebeldia Blues\, Carr. de Dénia A Xábia\, 3G\, Denia\, Alicante\, 03700\, España
CATEGORIES:Concierto,Música
ATTACH;FMTTYPE=image/jpeg:https://disfruta-denia.com/wp-content/uploads/2024/03/PHOTO-2025-05-12-14-21-00.jpg
END:VEVENT
BEGIN:VEVENT
DTSTART;TZID=Europe/Madrid:20250517T113000
DTEND;TZID=Europe/Madrid:20250517T113000
DTSTAMP:20260424T130130
CREATED:20250514T065253Z
LAST-MODIFIED:20250514T065253Z
UID:10020634-1747481400-1747481400@disfruta-denia.com
SUMMARY:Visita guíada gratuita Museo Arqueológico de Dénia
DESCRIPTION:El sábado 17 de mayo se visitará la propuesta museográfica “Dianium\, Daniya\, Dénia. Una ciutat de mar estant” del Museo Arqueológico de Dénia\, una alusión a lo que hemos sido históricamente y a lo que somos.
URL:https://disfruta-denia.com/evento/visita-guiada-gratuita-museo-arqueologico-de-denia/
LOCATION:Museo Etnológico de Dénia\, C/ Cavallers\, 1\, Denia\, Alicante\, 03700\, España
CATEGORIES:Cultura,Exposiciones,Visita
ATTACH;FMTTYPE=image/jpeg:https://disfruta-denia.com/wp-content/uploads/2025/05/7330f2.jpg
END:VEVENT
BEGIN:VEVENT
DTSTART;TZID=Europe/Madrid:20250516T213000
DTEND;TZID=Europe/Madrid:20250516T213000
DTSTAMP:20260424T130130
CREATED:20250515T084653Z
LAST-MODIFIED:20250515T084655Z
UID:10019697-1747431000-1747431000@disfruta-denia.com
SUMMARY:Concierto de Viernes en Rebeldía Blues
DESCRIPTION:¡Este viernes en Rebeldía Blues te espera una noche llena de música en vivo Prepárate para disfrutar de lo mejor del swing\, pop y música latina en un ambiente único. La entrada es totalmente gratuita\, así que trae a tus amigos y no te pierdas esta experiencia inolvidable.  Hora: 21:30h
URL:https://disfruta-denia.com/evento/concierto-de-viernes-en-rebeldia-blues-3-3-10-3-3-3-2-8/
LOCATION:Rebeldia Blues\, Carr. de Dénia A Xábia\, 3G\, Denia\, Alicante\, 03700\, España
CATEGORIES:Concierto,Música
ATTACH;FMTTYPE=image/jpeg:https://disfruta-denia.com/wp-content/uploads/2024/03/PHOTO-2025-05-12-14-21-00.jpg
END:VEVENT
END:VCALENDAR