BEGIN:VCALENDAR
VERSION:2.0
PRODID:-//Disfruta Denia - ECPv6.15.20//NONSGML v1.0//EN
CALSCALE:GREGORIAN
METHOD:PUBLISH
X-WR-CALNAME:Disfruta Denia
X-ORIGINAL-URL:https://disfruta-denia.com
X-WR-CALDESC:Eventos para Disfruta Denia
REFRESH-INTERVAL;VALUE=DURATION:PT1H
X-Robots-Tag:noindex
X-PUBLISHED-TTL:PT1H
BEGIN:VTIMEZONE
TZID:Europe/Madrid
BEGIN:DAYLIGHT
TZOFFSETFROM:+0100
TZOFFSETTO:+0200
TZNAME:CEST
DTSTART:20240331T010000
END:DAYLIGHT
BEGIN:STANDARD
TZOFFSETFROM:+0200
TZOFFSETTO:+0100
TZNAME:CET
DTSTART:20241027T010000
END:STANDARD
BEGIN:DAYLIGHT
TZOFFSETFROM:+0100
TZOFFSETTO:+0200
TZNAME:CEST
DTSTART:20250330T010000
END:DAYLIGHT
BEGIN:STANDARD
TZOFFSETFROM:+0200
TZOFFSETTO:+0100
TZNAME:CET
DTSTART:20251026T010000
END:STANDARD
BEGIN:DAYLIGHT
TZOFFSETFROM:+0100
TZOFFSETTO:+0200
TZNAME:CEST
DTSTART:20260329T010000
END:DAYLIGHT
BEGIN:STANDARD
TZOFFSETFROM:+0200
TZOFFSETTO:+0100
TZNAME:CET
DTSTART:20261025T010000
END:STANDARD
END:VTIMEZONE
BEGIN:VEVENT
DTSTART;TZID=Europe/Madrid:20250513T083000
DTEND;TZID=Europe/Madrid:20250513T083000
DTSTAMP:20260424T085001
CREATED:20231005T092619Z
LAST-MODIFIED:20231005T092702Z
UID:10014203-1747125000-1747125000@disfruta-denia.com
SUMMARY:Clase de Yoga en Códigos del Arte
DESCRIPTION:Clase de Yoga en Códigos del Arte
URL:https://disfruta-denia.com/evento/clase-de-yoga-en-codigos-del-arte/2025-05-13/
LOCATION:Códigos del Arte\, Carreró de Morant\, 8\, Dénia\, 03700\, España
CATEGORIES:Deporte,Yoga
ATTACH;FMTTYPE=image/jpeg:https://disfruta-denia.com/wp-content/uploads/2023/10/image_6487327.jpg
END:VEVENT
BEGIN:VEVENT
DTSTART;TZID=Europe/Madrid:20250512T203000
DTEND;TZID=Europe/Madrid:20250512T203000
DTSTAMP:20260424T085001
CREATED:20230912T174836Z
LAST-MODIFIED:20230912T174838Z
UID:10011497-1747081800-1747081800@disfruta-denia.com
SUMMARY:Tardeo con Marce Pesoa
DESCRIPTION:Esta noche. Tonight. \nLive music 20.30h. \nMarce Pesoa en The Speak Dénia. \nTacos\, Cocktails\, Parrilla \n& la mejor musica 🔥🤘 \nReservas: 675753879 \nLet’s #funmonday today!
URL:https://disfruta-denia.com/evento/tardeo-con-marce-pesoa-2/2025-05-12/
LOCATION:The Speak Denia\, Carrer del Pont\, 19\, Denia\, Alicante\, 03700\, España
CATEGORIES:Concierto,Música,Tardeo
ATTACH;FMTTYPE=image/jpeg:https://disfruta-denia.com/wp-content/uploads/2023/06/IMG-20230619-WA0000.jpg
END:VEVENT
BEGIN:VEVENT
DTSTART;TZID=Europe/Madrid:20250511T210000
DTEND;TZID=Europe/Madrid:20250511T210000
DTSTAMP:20260424T085001
CREATED:20240219T102543Z
LAST-MODIFIED:20240219T102546Z
UID:10016383-1746997200-1746997200@disfruta-denia.com
SUMMARY:Concierto: Rebeldía Blues Band
DESCRIPTION:Concierto: Rebeldía Blues Band
URL:https://disfruta-denia.com/evento/concierto-rebeldia-blues-band-5-2-2-2/2025-05-11/
LOCATION:Rebeldia Blues\, Carr. de Dénia A Xábia\, 3G\, Denia\, Alicante\, 03700\, España
CATEGORIES:Concierto,Música
ATTACH;FMTTYPE=image/jpeg:https://disfruta-denia.com/wp-content/uploads/2024/02/428298315_17910192284911738_2883817046859909485_n.jpg
END:VEVENT
BEGIN:VEVENT
DTSTART;TZID=Europe/Madrid:20250511T183000
DTEND;TZID=Europe/Madrid:20250511T183000
DTSTAMP:20260424T085001
CREATED:20250509T065844Z
LAST-MODIFIED:20250509T065844Z
UID:10020632-1746988200-1746988200@disfruta-denia.com
SUMMARY:Dorian: Habemus Fiestón
DESCRIPTION:HABEMUS FIESTÓN! \n🔹 JUEVES • 23’30h • NOCHE\n•Sala Dorian JUNTOS Y REVUELTOS 🎸 en directo #poprocknacional \n🔸 VIERNES • 00’00h • NOCHE\n•Sala Dorian LA MOCHA 🎸 en directo #poprocknacional\n•Sala Gray BORJA CONESA 🎧 en cabina #urbanmusic \n🔹 SÁBADO • 18’30h • TARDEO\n•Sala Dorian TARON 🎧 en cabina #urbanmusic \n🔸 SÁBADO • 00’00h • NOCHE\n•Sala Dorian DORIAN GRAY BAND🎸 en directo #popindie\n•Sala Gray BORJA CONESA 🎧 en cabina #urbanmusic \n🔹 DOMINGO • 18’30h • TARDEO\n•Sala Dorian RUMBADOS 💃🏼 en directo #rumbaflamenca \nHEMOS TENIDO FUMATA BLANCA 💨 EN EL DORIAN Y VAMOS A MONTAR UNA BUENA ESTE FIN DE SEMANA
URL:https://disfruta-denia.com/evento/dorian-habemus-fieston/2025-05-11/
LOCATION:Dorian Gray Denia\, Carrer de la Mar\, 14\, Denia\, Alicante\, 03700\, España
CATEGORIES:Concierto,DJ,Música,Ocio nocturno,Tardeo
ATTACH;FMTTYPE=image/png:https://disfruta-denia.com/wp-content/uploads/2025/05/1-Inbox-•-Direct-05-09-2025_08_39_AM.png
END:VEVENT
BEGIN:VEVENT
DTSTART;TZID=Europe/Madrid:20250511T160000
DTEND;TZID=Europe/Madrid:20250511T160000
DTSTAMP:20260424T085001
CREATED:20240911T131353Z
LAST-MODIFIED:20240911T131353Z
UID:10019328-1746979200-1746979200@disfruta-denia.com
SUMMARY:Los Tardeos de Mr Fisher
DESCRIPTION:Disfruta de los tardeos de buena música en directo en Mr. Fisher
URL:https://disfruta-denia.com/evento/los-tardeos-de-mr-fisher/2025-05-11/
LOCATION:Mr Fisher\, Moll de La Pansa s/n. Marina El Portet\, Denia\, Alicante\, 03700\, España
CATEGORIES:Concierto,Música,Tardeo
ATTACH;FMTTYPE=image/jpeg:https://disfruta-denia.com/wp-content/uploads/2024/09/459139871_18092607781468008_6776720106805976607_n.jpg
END:VEVENT
BEGIN:VEVENT
DTSTART;TZID=Europe/Madrid:20250511T110000
DTEND;TZID=Europe/Madrid:20250511T110000
DTSTAMP:20260424T085001
CREATED:20250505T074003Z
LAST-MODIFIED:20250505T074003Z
UID:10020628-1746961200-1746961200@disfruta-denia.com
SUMMARY:Homenaje a Maria Ibars
DESCRIPTION:Escriptora de l’Any 2024 per l’Acadèmia Valenciana de la Llengua \n11:15 h Presentació del bust dedicat a la poetessa i narradora. \n11.30 h Recital d’Ina Martí.
URL:https://disfruta-denia.com/evento/homenaje-a-maria-ibars-2/
LOCATION:Glorieta del País Valencià\, Glorieta del País Valencià\, Denia\, Alicante\, 03700\, España
CATEGORIES:Cultura,Presentación
ATTACH;FMTTYPE=image/png:https://disfruta-denia.com/wp-content/uploads/2025/05/10-Homenatge-Ina-Marti.png
END:VEVENT
BEGIN:VEVENT
DTSTART;TZID=Europe/Madrid:20250511T090000
DTEND;TZID=Europe/Madrid:20250511T140000
DTSTAMP:20260424T085001
CREATED:20241206T165430Z
LAST-MODIFIED:20241206T165431Z
UID:10019374-1746954000-1746972000@disfruta-denia.com
SUMMARY:Mercat del Riurau Jesus Pobre
DESCRIPTION:Este domingo 8 de diciembre te esperamos en el Mercat del Riurau\, de 10:00 a 14:00! Además\, a las 12:00 tendremos el placer de disfrutar del concierto en directo de la cantautora Inma Serrano. ¡Ven a pasar una mañana llena de música\, artesanía y buen ambiente!  ¿Dónde? Jesús Pobre ¿Cuándo? Domingo 8 de diciembre\, de 10:00 a 14:00¡No te lo pierdas\, te esperamos con las puertas abiertas!
URL:https://disfruta-denia.com/evento/mercat-del-riurau-jesus-pobre-2-25-3-2-2-8-2-4-3/2025-05-11/
LOCATION:Mercado Riurau Jesus Pobre\, Jesus Pobre\, Alicante\, 03749\, España
CATEGORIES:Concierto,Gastronomía,Mercado
ATTACH;FMTTYPE=image/jpeg:https://disfruta-denia.com/wp-content/uploads/2024/11/468421700_961429749353723_2511845002113226302_n.jpg
END:VEVENT
BEGIN:VEVENT
DTSTART;TZID=Europe/Madrid:20250510T235900
DTEND;TZID=Europe/Madrid:20250510T235900
DTSTAMP:20260424T085001
CREATED:20221128T194020Z
LAST-MODIFIED:20221128T194021Z
UID:10006611-1746921540-1746921540@disfruta-denia.com
SUMMARY:Concierto en LCDA
DESCRIPTION:
URL:https://disfruta-denia.com/evento/concierto-en-lcda-4/2025-05-10/
LOCATION:La Chica de ayer\, Calle la mar 30\, Denia\, Alicante\, 03700\, España
CATEGORIES:Concierto,Música,Ocio nocturno
ATTACH;FMTTYPE=image/jpeg:https://disfruta-denia.com/wp-content/uploads/2022/11/317545016_592127712917488_4859295703944293873_n.jpg
END:VEVENT
BEGIN:VEVENT
DTSTART;TZID=Europe/Madrid:20250510T233000
DTEND;TZID=Europe/Madrid:20250510T233000
DTSTAMP:20260424T085001
CREATED:20250509T065844Z
LAST-MODIFIED:20250509T065844Z
UID:10020631-1746919800-1746919800@disfruta-denia.com
SUMMARY:Dorian: Habemus Fiestón
DESCRIPTION:HABEMUS FIESTÓN! \n🔹 JUEVES • 23’30h • NOCHE\n•Sala Dorian JUNTOS Y REVUELTOS 🎸 en directo #poprocknacional \n🔸 VIERNES • 00’00h • NOCHE\n•Sala Dorian LA MOCHA 🎸 en directo #poprocknacional\n•Sala Gray BORJA CONESA 🎧 en cabina #urbanmusic \n🔹 SÁBADO • 18’30h • TARDEO\n•Sala Dorian TARON 🎧 en cabina #urbanmusic \n🔸 SÁBADO • 00’00h • NOCHE\n•Sala Dorian DORIAN GRAY BAND🎸 en directo #popindie\n•Sala Gray BORJA CONESA 🎧 en cabina #urbanmusic \n🔹 DOMINGO • 18’30h • TARDEO\n•Sala Dorian RUMBADOS 💃🏼 en directo #rumbaflamenca \nHEMOS TENIDO FUMATA BLANCA 💨 EN EL DORIAN Y VAMOS A MONTAR UNA BUENA ESTE FIN DE SEMANA
URL:https://disfruta-denia.com/evento/dorian-habemus-fieston/2025-05-10/2/
LOCATION:Dorian Gray Denia\, Carrer de la Mar\, 14\, Denia\, Alicante\, 03700\, España
CATEGORIES:Concierto,DJ,Música,Ocio nocturno,Tardeo
ATTACH;FMTTYPE=image/png:https://disfruta-denia.com/wp-content/uploads/2025/05/1-Inbox-•-Direct-05-09-2025_08_39_AM.png
END:VEVENT
BEGIN:VEVENT
DTSTART;TZID=Europe/Madrid:20250510T213000
DTEND;TZID=Europe/Madrid:20250510T213000
DTSTAMP:20260424T085001
CREATED:20250424T114954Z
LAST-MODIFIED:20250424T114955Z
UID:10019956-1746912600-1746912600@disfruta-denia.com
SUMMARY:Sábado concierto en Rebeldía Blues
DESCRIPTION:Sábado concierto en Rebledía Blues
URL:https://disfruta-denia.com/evento/sabado-concierto-en-rebeldia-blues-3-2-10-3-3-2-8/2025-05-10/
LOCATION:Rebeldia Blues\, Carr. de Dénia A Xábia\, 3G\, Denia\, Alicante\, 03700\, España
CATEGORIES:Concierto,Música
ATTACH;FMTTYPE=image/jpeg:https://disfruta-denia.com/wp-content/uploads/2025/04/PHOTO-2025-04-17-12-49-42-2.jpeg
END:VEVENT
BEGIN:VEVENT
DTSTART;TZID=Europe/Madrid:20250510T200000
DTEND;TZID=Europe/Madrid:20250510T200000
DTSTAMP:20260424T085001
CREATED:20250505T073318Z
LAST-MODIFIED:20250505T073318Z
UID:10020626-1746907200-1746907200@disfruta-denia.com
SUMMARY:Concierto de primavera
DESCRIPTION:GRUP POLIFÒNIC CADENZA \nCanciones de amor y desamor. \nDirecció: Silvia Peña. Piano: Lellany Lizana \nEntrada: lliure limitada a l’aforament del local/ libre limitada al aforo del local.
URL:https://disfruta-denia.com/evento/concierto-de-primavera-2/
LOCATION:Teatro Auditorio Centro Social\, 4 Carrer Calderón\, Dénia\, VC\, 03700\, Spain
CATEGORIES:Concierto,Música
ATTACH;FMTTYPE=image/png:https://disfruta-denia.com/wp-content/uploads/2025/05/9-Cadenza.png
END:VEVENT
BEGIN:VEVENT
DTSTART;TZID=Europe/Madrid:20250510T183000
DTEND;TZID=Europe/Madrid:20250510T183000
DTSTAMP:20260424T085001
CREATED:20250509T065844Z
LAST-MODIFIED:20250509T065844Z
UID:10020630-1746901800-1746901800@disfruta-denia.com
SUMMARY:Dorian: Habemus Fiestón
DESCRIPTION:HABEMUS FIESTÓN! \n🔹 JUEVES • 23’30h • NOCHE\n•Sala Dorian JUNTOS Y REVUELTOS 🎸 en directo #poprocknacional \n🔸 VIERNES • 00’00h • NOCHE\n•Sala Dorian LA MOCHA 🎸 en directo #poprocknacional\n•Sala Gray BORJA CONESA 🎧 en cabina #urbanmusic \n🔹 SÁBADO • 18’30h • TARDEO\n•Sala Dorian TARON 🎧 en cabina #urbanmusic \n🔸 SÁBADO • 00’00h • NOCHE\n•Sala Dorian DORIAN GRAY BAND🎸 en directo #popindie\n•Sala Gray BORJA CONESA 🎧 en cabina #urbanmusic \n🔹 DOMINGO • 18’30h • TARDEO\n•Sala Dorian RUMBADOS 💃🏼 en directo #rumbaflamenca \nHEMOS TENIDO FUMATA BLANCA 💨 EN EL DORIAN Y VAMOS A MONTAR UNA BUENA ESTE FIN DE SEMANA
URL:https://disfruta-denia.com/evento/dorian-habemus-fieston/2025-05-10/1/
LOCATION:Dorian Gray Denia\, Carrer de la Mar\, 14\, Denia\, Alicante\, 03700\, España
CATEGORIES:Concierto,DJ,Música,Ocio nocturno,Tardeo
ATTACH;FMTTYPE=image/png:https://disfruta-denia.com/wp-content/uploads/2025/05/1-Inbox-•-Direct-05-09-2025_08_39_AM.png
END:VEVENT
BEGIN:VEVENT
DTSTART;TZID=Europe/Madrid:20250510T113000
DTEND;TZID=Europe/Madrid:20250510T210000
DTSTAMP:20260424T085001
CREATED:20250505T073852Z
LAST-MODIFIED:20250505T073852Z
UID:10020627-1746876600-1746910800@disfruta-denia.com
SUMMARY:III Festival Dénia d’Arts de Carrer/Moviment/Acció. DAMA
DESCRIPTION:Direcció artística  / dirección artística: Frágiles  Danza.  https://www.festivaldama.com \nOrganitza i Patrocina / Organiza y Patrocina: Ajuntament de Dénia. Cultura
URL:https://disfruta-denia.com/evento/iii-festival-denia-darts-de-carrer-moviment-accio-dama/
LOCATION:Carrer del Marqués de Campo\, Carrer del Marqués de Campo\, Denia\, Alicante\, 03700\, España
CATEGORIES:Cultura,Danza
ATTACH;FMTTYPE=image/png:https://disfruta-denia.com/wp-content/uploads/2025/05/CARTEL-FESTIVAL-DAMA-05-05-2025_09_36_AM.png
END:VEVENT
BEGIN:VEVENT
DTSTART;TZID=Europe/Madrid:20250510T100000
DTEND;TZID=Europe/Madrid:20250510T153000
DTSTAMP:20260424T085001
CREATED:20250505T065940Z
LAST-MODIFIED:20250505T065940Z
UID:10020622-1746871200-1746891000@disfruta-denia.com
SUMMARY:Feria “Terra Moscatell”
DESCRIPTION:PROGRAMACIÓN | Feria “Terra Moscatell” \n\n\nUn año más\, el sábado 10 de mayo  disfrutaremos de la cuarta edición de la feria de vinos del Mediterráneo\, con la variedad de uva moscatel  como protagonista dando sabor a nuestros paladares.\n\n\n\n\n\n10-15 H: Mercado Terra Moscatell con los vinos de las bodegas participantes\n11-12:30 H: Mesa redonda “El Paraíso de la Uva Moscatel\, la Marina Alta”\n– Presentación del libro “Dénia y la pasa” por el historiador Javier Calvo\n– Presentación “Passaport Cellers de la Marina Alta 2025” por Luis Silvestre\, gerente Melicatesen\n12:30-15 H: Taller de pintura “Els colors i aromes del vi de la nostra terra” con @ximocanetpintures\nDurante toda la jornada: Gran oferta gastronómica de los más de 20 locales de la Calle de los Sabores\, que ofrecerán diferentes vinos moscatell con sus propuestas.
URL:https://disfruta-denia.com/evento/feria-terra-moscatell/
LOCATION:Els Magazinos\, Carrer Pont 19\, Denia\, Alicante\, 03700\, España
CATEGORIES:Cata,Feria,Gastronomía
ATTACH;FMTTYPE=image/jpeg:https://disfruta-denia.com/wp-content/uploads/2025/05/494210291_1114850630670091_8274447359174867460_n.jpg
END:VEVENT
BEGIN:VEVENT
DTSTART;TZID=Europe/Madrid:20250509T233000
DTEND;TZID=Europe/Madrid:20250509T233000
DTSTAMP:20260424T085001
CREATED:20250509T065844Z
LAST-MODIFIED:20250509T065844Z
UID:10020629-1746833400-1746833400@disfruta-denia.com
SUMMARY:Dorian: Habemus Fiestón
DESCRIPTION:HABEMUS FIESTÓN! \n🔹 JUEVES • 23’30h • NOCHE\n•Sala Dorian JUNTOS Y REVUELTOS 🎸 en directo #poprocknacional \n🔸 VIERNES • 00’00h • NOCHE\n•Sala Dorian LA MOCHA 🎸 en directo #poprocknacional\n•Sala Gray BORJA CONESA 🎧 en cabina #urbanmusic \n🔹 SÁBADO • 18’30h • TARDEO\n•Sala Dorian TARON 🎧 en cabina #urbanmusic \n🔸 SÁBADO • 00’00h • NOCHE\n•Sala Dorian DORIAN GRAY BAND🎸 en directo #popindie\n•Sala Gray BORJA CONESA 🎧 en cabina #urbanmusic \n🔹 DOMINGO • 18’30h • TARDEO\n•Sala Dorian RUMBADOS 💃🏼 en directo #rumbaflamenca \nHEMOS TENIDO FUMATA BLANCA 💨 EN EL DORIAN Y VAMOS A MONTAR UNA BUENA ESTE FIN DE SEMANA
URL:https://disfruta-denia.com/evento/dorian-habemus-fieston/2025-05-09/
LOCATION:Dorian Gray Denia\, Carrer de la Mar\, 14\, Denia\, Alicante\, 03700\, España
CATEGORIES:Concierto,DJ,Música,Ocio nocturno,Tardeo
ATTACH;FMTTYPE=image/png:https://disfruta-denia.com/wp-content/uploads/2025/05/1-Inbox-•-Direct-05-09-2025_08_39_AM.png
END:VEVENT
BEGIN:VEVENT
DTSTART;TZID=Europe/Madrid:20250509T213000
DTEND;TZID=Europe/Madrid:20250509T213000
DTSTAMP:20260424T085001
CREATED:20241207T133517Z
LAST-MODIFIED:20241207T133518Z
UID:10019696-1746826200-1746826200@disfruta-denia.com
SUMMARY:Concierto de Viernes en Rebeldía Blues
DESCRIPTION:¡Este viernes en Rebeldía Blues te espera una noche llena de música en vivo Prepárate para disfrutar de lo mejor del swing\, pop y música latina en un ambiente único. La entrada es totalmente gratuita\, así que trae a tus amigos y no te pierdas esta experiencia inolvidable.  Hora: 21:30h
URL:https://disfruta-denia.com/evento/concierto-de-viernes-en-rebeldia-blues-3-3-10-3-3-3-2/2025-05-09/
LOCATION:Rebeldia Blues\, Carr. de Dénia A Xábia\, 3G\, Denia\, Alicante\, 03700\, España
CATEGORIES:Concierto,Música
ATTACH;FMTTYPE=image/jpeg:https://disfruta-denia.com/wp-content/uploads/2024/12/PHOTO-2024-12-07-11-37-03.jpg
END:VEVENT
BEGIN:VEVENT
DTSTART;TZID=Europe/Madrid:20250509T200000
DTEND;TZID=Europe/Madrid:20250509T200000
DTSTAMP:20260424T085001
CREATED:20250505T073210Z
LAST-MODIFIED:20250505T073210Z
UID:10020625-1746820800-1746820800@disfruta-denia.com
SUMMARY:Teatro: En Femení
DESCRIPTION:utora i dir.: María Goiricelaya \nIntèrprets / Intérpretes: Gema Matarranz\, Ales Furundarena\, Marta Megías \nEn 2001\, y por primera vez en la historia de España\, una mujer ganó un juicio por acoso sexual a un político.  \nNevenka Fernández sentó por primera vez a un alcalde en el banquillo de los acusados\, convirtiéndose en el primer caso de #MeToo en un país que le dio la razón en los tribunales\, pero que la estigmatizó públicamente. \nHoy “Nevenka” sigue siendo ese espejo en el que se miran las mujeres que la precedieron y que la siguieron; un reflejo de una sociedad que ha cambiado o\, quizás\, no tanto. \n  \nEntrada: 5€ en  https://www.notikumi.com En taquilla: el mateix dia una hora abans/ El mismo día una hora antes
URL:https://disfruta-denia.com/evento/teatro-en-femeni/
LOCATION:Teatro Auditorio Centro Social\, 4 Carrer Calderón\, Dénia\, VC\, 03700\, Spain
CATEGORIES:Cultura,Teatro
ATTACH;FMTTYPE=image/png:https://disfruta-denia.com/wp-content/uploads/2025/05/7-En-femeni-dia-9.png
END:VEVENT
BEGIN:VEVENT
DTSTART;TZID=Europe/Madrid:20250509T190000
DTEND;TZID=Europe/Madrid:20250509T203000
DTSTAMP:20260424T085001
CREATED:20250505T072855Z
LAST-MODIFIED:20250505T072855Z
UID:10020624-1746817200-1746822600@disfruta-denia.com
SUMMARY:Concert benèfic del grup MONTGÓ CHORALE a favor de “Cáritas”
DESCRIPTION:Dir.: Aileen Lightfoot. Acompanyant / acompañante:  Kirsty Glen  \nObres / obras: Requiem – Rutter\, Lacrimosa – Mozart\, Hallelujah – Cohen\, Skye boat Song – Trad. Inglés.
URL:https://disfruta-denia.com/evento/concert-benefic-del-grup-montgo-chorale-a-favor-de-caritas/
LOCATION:Casa de la Cultura Denia\, Plaça Jaume I\, Denia\, Alicante\, 03700\, España
CATEGORIES:Concierto,Música
ATTACH;FMTTYPE=image/jpeg:https://disfruta-denia.com/wp-content/uploads/2025/05/8-Concert-benefic-Montgo-chorale-rotated.jpg
END:VEVENT
BEGIN:VEVENT
DTSTART;VALUE=DATE:20250509
DTEND;VALUE=DATE:20250603
DTSTAMP:20260424T085001
CREATED:20250505T072757Z
LAST-MODIFIED:20250505T072757Z
UID:10020623-1746763200-1748836799@disfruta-denia.com
SUMMARY:Expo: 400 anys de la mort del DUC DE LERMA
DESCRIPTION:Horari/horario: \nDilluns a dissabte / lunes a sábado:  10 – 14 h / 17 – 20 h. Diumenges i festius / Domingos y festivos: 9 a 15 h
URL:https://disfruta-denia.com/evento/expo-400-anys-de-la-mort-del-duc-de-lerma/
LOCATION:Centre d’art l’Estació\, Carrer Calderón\, 2\, Denia\, Alicante\, 03700\, España
CATEGORIES:Cultura,Exposiciones
ATTACH;FMTTYPE=image/png:https://disfruta-denia.com/wp-content/uploads/2025/05/6-Expo-Duc-de-Lerma.png
END:VEVENT
BEGIN:VEVENT
DTSTART;TZID=Europe/Madrid:20250508T210000
DTEND;TZID=Europe/Madrid:20250508T210000
DTSTAMP:20260424T085001
CREATED:20240307T094627Z
LAST-MODIFIED:20240307T094631Z
UID:10016659-1746738000-1746738000@disfruta-denia.com
SUMMARY:Karaoké en Rebeldía Blues
DESCRIPTION:Karaoké en Rebeldía Blues
URL:https://disfruta-denia.com/evento/karaoke-en-rebeldia-blues-4-2-2-2-2-2/2025-05-08/
LOCATION:Rebeldia Blues\, Carr. de Dénia A Xábia\, 3G\, Denia\, Alicante\, 03700\, España
CATEGORIES:Karaoké,Música
ATTACH;FMTTYPE=image/jpeg:https://disfruta-denia.com/wp-content/uploads/2024/02/429768881_17912348297911738_3047273990901060399_n.jpg
END:VEVENT
BEGIN:VEVENT
DTSTART;TZID=Europe/Madrid:20250508T083000
DTEND;TZID=Europe/Madrid:20250508T083000
DTSTAMP:20260424T085001
CREATED:20231005T092619Z
LAST-MODIFIED:20231005T092702Z
UID:10014202-1746693000-1746693000@disfruta-denia.com
SUMMARY:Clase de Yoga en Códigos del Arte
DESCRIPTION:Clase de Yoga en Códigos del Arte
URL:https://disfruta-denia.com/evento/clase-de-yoga-en-codigos-del-arte/2025-05-08/
LOCATION:Códigos del Arte\, Carreró de Morant\, 8\, Dénia\, 03700\, España
CATEGORIES:Deporte,Yoga
ATTACH;FMTTYPE=image/jpeg:https://disfruta-denia.com/wp-content/uploads/2023/10/image_6487327.jpg
END:VEVENT
BEGIN:VEVENT
DTSTART;TZID=Europe/Madrid:20250507T203000
DTEND;TZID=Europe/Madrid:20250507T203000
DTSTAMP:20260424T085001
CREATED:20240414T124150Z
LAST-MODIFIED:20240414T124150Z
UID:10017967-1746649800-1746649800@disfruta-denia.com
SUMMARY:Miércoles latinos\, miércoles clandestinos
DESCRIPTION:Miércoles latinos\, miércoles clandestinos  Cada miércoles a las 20.30h tenemos una cita con Madelyn Torroella a ritmo cubano!! Voz\, percusión y versiones de salsa clásica\, cada miércoles\, en el Speak. Parrillada\, tacos\, tapas\, cocktails & música. Reserva tu mesa
URL:https://disfruta-denia.com/evento/miercoles-latinos-miercoles-clandestinos/2025-05-07/
LOCATION:The Speak Denia\, Carrer del Pont\, 19\, Denia\, Alicante\, 03700\, España
CATEGORIES:Concierto,Música
ATTACH;FMTTYPE=image/jpeg:https://disfruta-denia.com/wp-content/uploads/2024/04/434468313_1159701198651630_4992165217264460198_n.jpg
END:VEVENT
BEGIN:VEVENT
DTSTART;TZID=Europe/Madrid:20250507T200000
DTEND;TZID=Europe/Madrid:20250507T233000
DTSTAMP:20260424T085001
CREATED:20230612T102803Z
LAST-MODIFIED:20230612T102804Z
UID:10009037-1746648000-1746660600@disfruta-denia.com
SUMMARY:Autocine: día del espectador
DESCRIPTION:
URL:https://disfruta-denia.com/evento/autocine-dia-del-espectador-3/2025-05-07/
LOCATION:Autociné Denia\, Partida Deveses D\, 27\, Denia\, Alicante\, 03700\, España
CATEGORIES:Ciné,Cultura
ATTACH;FMTTYPE=image/jpeg:https://disfruta-denia.com/wp-content/uploads/2022/11/Autocine-Drive-In-Denia-1.jpg
END:VEVENT
BEGIN:VEVENT
DTSTART;TZID=Europe/Madrid:20250507T193000
DTEND;TZID=Europe/Madrid:20250507T193000
DTSTAMP:20260424T085001
CREATED:20250603T095046Z
LAST-MODIFIED:20250603T095046Z
UID:10021577-1746646200-1746646200@disfruta-denia.com
SUMMARY:Vinyl nights
DESCRIPTION:Bienvenido a Vinyl Nights!\nCada mes\, nos reunimos en Códigos del Arte para escuchar un álbum diferente en vinilo.\nComenzamos cada sesión con una introducción al álbum\, compartiendo información sobre los antecedentes del artista y su importancia histórica. A continuación\, pinchamos el disco y dejamos que la música se apodere de nosotros. Cada álbum dura entre 40 y 60 minutos (con una breve pausa a mitad de camino para darle la vuelta al disco).\nCuando termina la última canción\, empieza la conversación. Quédate para disfrutar de un animado debate\, más bebidas y una velada llena de buen rollo y buena compañía.\n\n\n​Programa para los próximos meses:\n14/06: El Mal Querer — Rosalía\n05/07: Kind of Blue — Miles Davis\n09/08: Nevermind — Nirvana\n06/09: Samba Esquema Novo — Jorge Ben Jor\n08/11: Miguel Hernández — Joan Manuel Serrat\n13/12: The Album — Blackpink\nEntrada: Gratuita
URL:https://disfruta-denia.com/evento/vinyl-nights-2-2/2025-05-07/
LOCATION:Códigos del Arte\, Carreró de Morant\, 8\, Dénia\, 03700\, España
CATEGORIES:Música,Tardeo
ATTACH;FMTTYPE=image/png:https://disfruta-denia.com/wp-content/uploads/2025/03/Codigos-del-Arte-20-1.png
END:VEVENT
BEGIN:VEVENT
DTSTART;TZID=Europe/Madrid:20250507T190000
DTEND;TZID=Europe/Madrid:20250507T210000
DTSTAMP:20260424T085001
CREATED:20231115T115842Z
LAST-MODIFIED:20231115T115843Z
UID:10008354-1746644400-1746651600@disfruta-denia.com
SUMMARY:Tardeo en Basta
DESCRIPTION:
URL:https://disfruta-denia.com/evento/tardeo-en-basta-3-3/2025-05-07/
LOCATION:Basta Lounge Bar\, Marina de Dénia\, Local C2\, Denia\, Valencian Community\, 03700\, España
CATEGORIES:Concierto,Música,Tardeo
ATTACH;FMTTYPE=image/jpeg:https://disfruta-denia.com/wp-content/uploads/2022/12/IMG_3678.jpeg
END:VEVENT
BEGIN:VEVENT
DTSTART;TZID=Europe/Madrid:20250506T083000
DTEND;TZID=Europe/Madrid:20250506T083000
DTSTAMP:20260424T085001
CREATED:20231005T092619Z
LAST-MODIFIED:20231005T092702Z
UID:10014201-1746520200-1746520200@disfruta-denia.com
SUMMARY:Clase de Yoga en Códigos del Arte
DESCRIPTION:Clase de Yoga en Códigos del Arte
URL:https://disfruta-denia.com/evento/clase-de-yoga-en-codigos-del-arte/2025-05-06/
LOCATION:Códigos del Arte\, Carreró de Morant\, 8\, Dénia\, 03700\, España
CATEGORIES:Deporte,Yoga
ATTACH;FMTTYPE=image/jpeg:https://disfruta-denia.com/wp-content/uploads/2023/10/image_6487327.jpg
END:VEVENT
BEGIN:VEVENT
DTSTART;TZID=Europe/Madrid:20250505T203000
DTEND;TZID=Europe/Madrid:20250505T203000
DTSTAMP:20260424T085001
CREATED:20230912T174836Z
LAST-MODIFIED:20230912T174838Z
UID:10011496-1746477000-1746477000@disfruta-denia.com
SUMMARY:Tardeo con Marce Pesoa
DESCRIPTION:Esta noche. Tonight. \nLive music 20.30h. \nMarce Pesoa en The Speak Dénia. \nTacos\, Cocktails\, Parrilla \n& la mejor musica 🔥🤘 \nReservas: 675753879 \nLet’s #funmonday today!
URL:https://disfruta-denia.com/evento/tardeo-con-marce-pesoa-2/2025-05-05/
LOCATION:The Speak Denia\, Carrer del Pont\, 19\, Denia\, Alicante\, 03700\, España
CATEGORIES:Concierto,Música,Tardeo
ATTACH;FMTTYPE=image/jpeg:https://disfruta-denia.com/wp-content/uploads/2023/06/IMG-20230619-WA0000.jpg
END:VEVENT
BEGIN:VEVENT
DTSTART;TZID=Europe/Madrid:20250504T210000
DTEND;TZID=Europe/Madrid:20250504T210000
DTSTAMP:20260424T085001
CREATED:20240219T102543Z
LAST-MODIFIED:20240219T102546Z
UID:10016382-1746392400-1746392400@disfruta-denia.com
SUMMARY:Concierto: Rebeldía Blues Band
DESCRIPTION:Concierto: Rebeldía Blues Band
URL:https://disfruta-denia.com/evento/concierto-rebeldia-blues-band-5-2-2-2/2025-05-04/
LOCATION:Rebeldia Blues\, Carr. de Dénia A Xábia\, 3G\, Denia\, Alicante\, 03700\, España
CATEGORIES:Concierto,Música
ATTACH;FMTTYPE=image/jpeg:https://disfruta-denia.com/wp-content/uploads/2024/02/428298315_17910192284911738_2883817046859909485_n.jpg
END:VEVENT
BEGIN:VEVENT
DTSTART;TZID=Europe/Madrid:20250504T193000
DTEND;TZID=Europe/Madrid:20250504T193000
DTSTAMP:20260424T085001
CREATED:20250603T095046Z
LAST-MODIFIED:20250603T095046Z
UID:10021576-1746387000-1746387000@disfruta-denia.com
SUMMARY:Vinyl nights
DESCRIPTION:Bienvenido a Vinyl Nights!\nCada mes\, nos reunimos en Códigos del Arte para escuchar un álbum diferente en vinilo.\nComenzamos cada sesión con una introducción al álbum\, compartiendo información sobre los antecedentes del artista y su importancia histórica. A continuación\, pinchamos el disco y dejamos que la música se apodere de nosotros. Cada álbum dura entre 40 y 60 minutos (con una breve pausa a mitad de camino para darle la vuelta al disco).\nCuando termina la última canción\, empieza la conversación. Quédate para disfrutar de un animado debate\, más bebidas y una velada llena de buen rollo y buena compañía.\n\n\n​Programa para los próximos meses:\n14/06: El Mal Querer — Rosalía\n05/07: Kind of Blue — Miles Davis\n09/08: Nevermind — Nirvana\n06/09: Samba Esquema Novo — Jorge Ben Jor\n08/11: Miguel Hernández — Joan Manuel Serrat\n13/12: The Album — Blackpink\nEntrada: Gratuita
URL:https://disfruta-denia.com/evento/vinyl-nights-2-2/2025-05-04/
LOCATION:Códigos del Arte\, Carreró de Morant\, 8\, Dénia\, 03700\, España
CATEGORIES:Música,Tardeo
ATTACH;FMTTYPE=image/png:https://disfruta-denia.com/wp-content/uploads/2025/03/Codigos-del-Arte-20-1.png
END:VEVENT
BEGIN:VEVENT
DTSTART;TZID=Europe/Madrid:20250504T160000
DTEND;TZID=Europe/Madrid:20250504T160000
DTSTAMP:20260424T085001
CREATED:20240911T131353Z
LAST-MODIFIED:20240911T131353Z
UID:10019327-1746374400-1746374400@disfruta-denia.com
SUMMARY:Los Tardeos de Mr Fisher
DESCRIPTION:Disfruta de los tardeos de buena música en directo en Mr. Fisher
URL:https://disfruta-denia.com/evento/los-tardeos-de-mr-fisher/2025-05-04/
LOCATION:Mr Fisher\, Moll de La Pansa s/n. Marina El Portet\, Denia\, Alicante\, 03700\, España
CATEGORIES:Concierto,Música,Tardeo
ATTACH;FMTTYPE=image/jpeg:https://disfruta-denia.com/wp-content/uploads/2024/09/459139871_18092607781468008_6776720106805976607_n.jpg
END:VEVENT
END:VCALENDAR