BEGIN:VCALENDAR
VERSION:2.0
PRODID:-//Disfruta Denia - ECPv6.15.20//NONSGML v1.0//EN
CALSCALE:GREGORIAN
METHOD:PUBLISH
X-ORIGINAL-URL:https://disfruta-denia.com
X-WR-CALDESC:Eventos para Disfruta Denia
REFRESH-INTERVAL;VALUE=DURATION:PT1H
X-Robots-Tag:noindex
X-PUBLISHED-TTL:PT1H
BEGIN:VTIMEZONE
TZID:Europe/Madrid
BEGIN:DAYLIGHT
TZOFFSETFROM:+0100
TZOFFSETTO:+0200
TZNAME:CEST
DTSTART:20240331T010000
END:DAYLIGHT
BEGIN:STANDARD
TZOFFSETFROM:+0200
TZOFFSETTO:+0100
TZNAME:CET
DTSTART:20241027T010000
END:STANDARD
BEGIN:DAYLIGHT
TZOFFSETFROM:+0100
TZOFFSETTO:+0200
TZNAME:CEST
DTSTART:20250330T010000
END:DAYLIGHT
BEGIN:STANDARD
TZOFFSETFROM:+0200
TZOFFSETTO:+0100
TZNAME:CET
DTSTART:20251026T010000
END:STANDARD
BEGIN:DAYLIGHT
TZOFFSETFROM:+0100
TZOFFSETTO:+0200
TZNAME:CEST
DTSTART:20260329T010000
END:DAYLIGHT
BEGIN:STANDARD
TZOFFSETFROM:+0200
TZOFFSETTO:+0100
TZNAME:CET
DTSTART:20261025T010000
END:STANDARD
END:VTIMEZONE
BEGIN:VEVENT
DTSTART;TZID=Europe/Madrid:20250424T233000
DTEND;TZID=Europe/Madrid:20250424T233000
DTSTAMP:20260423T232434
CREATED:20250424T115421Z
LAST-MODIFIED:20250424T115421Z
UID:10020613-1745537400-1745537400@disfruta-denia.com
SUMMARY:Dorian Gray: LA PASQUA VALENCIANA
DESCRIPTION:LA PASQUA VALENCIANA! \n🔸 MIÉRCOLES • 23’30h • NOCHE\n•Sala Dorian DEIA 🎧 en cabina #urbanmusic \n🔹 JUEVES • 23’30h • NOCHE\n•Sala Dorian TARON 🎧 en cabina #urbanmusic \n🔸 VIERNES • 00’00h • NOCHE\n•Sala Dorian MENPHIS 🎸 en directo #poprocknacional\n•Sala Gray BORJA CONESA 🎧 en cabina #urbanmusic \n🔹 SÁBADO • 18’30h • TARDEO\n•Sala Dorian CAPITAL 90 🎸 en directo #popindie\n•Sala Gray DION DOBBE 🎧 en cabina #urbanmusic \n⚽️🏆 FINAL COPA DEL REY • 22’00h\n🔴🔵 BARÇA – MADRID ⚪️🟣 \n🔸 SÁBADO • 00’00h • NOCHE\n•Sala Dorian CAPITAL 90 🎸 en directo #popindie\n•Sala Gray BORJA CONESA 🎧 en cabina #urbanmusic \n🔹 DOMINGO • 18’30h • TARDEO\n•Sala Dorian RUMBADOS 💃🏼 en directo #rumbaflamenca \n🔸 DOMINGO • 00’00h • NOCHE\n•Sala Dorian BORJA CONESA 🎧 en cabina #urbanmusic \ni recorda: SI EN FALLES NO FOLLES\, EN PASQUA NO FALLES!
URL:https://disfruta-denia.com/evento/dorian-gray-la-pasqua-valenciana/2025-04-24/
LOCATION:Dorian Gray Denia\, Carrer de la Mar\, 14\, Denia\, Alicante\, 03700\, España
CATEGORIES:Concierto,DJ,Música,Ocio nocturno,Tardeo
ATTACH;FMTTYPE=image/png:https://disfruta-denia.com/wp-content/uploads/2025/04/Instagram-04-24-2025_01_51_PM.png
END:VEVENT
BEGIN:VEVENT
DTSTART;TZID=Europe/Madrid:20250424T210000
DTEND;TZID=Europe/Madrid:20250424T210000
DTSTAMP:20260423T232434
CREATED:20240307T094627Z
LAST-MODIFIED:20240307T094631Z
UID:10016657-1745528400-1745528400@disfruta-denia.com
SUMMARY:Karaoké en Rebeldía Blues
DESCRIPTION:Karaoké en Rebeldía Blues
URL:https://disfruta-denia.com/evento/karaoke-en-rebeldia-blues-4-2-2-2-2-2/2025-04-24/
LOCATION:Rebeldia Blues\, Carr. de Dénia A Xábia\, 3G\, Denia\, Alicante\, 03700\, España
CATEGORIES:Karaoké,Música
ATTACH;FMTTYPE=image/jpeg:https://disfruta-denia.com/wp-content/uploads/2024/02/429768881_17912348297911738_3047273990901060399_n.jpg
END:VEVENT
BEGIN:VEVENT
DTSTART;TZID=Europe/Madrid:20250424T110000
DTEND;TZID=Europe/Madrid:20250424T110000
DTSTAMP:20260423T232435
CREATED:20250226T085348Z
LAST-MODIFIED:20250226T085348Z
UID:10020533-1745492400-1745492400@disfruta-denia.com
SUMMARY:jornadas de actividad física y salud
DESCRIPTION:La Concejalía de Deportes del Ajuntament de Dénia ha puesto en marcha tres nuevas jornadas teórico-prácticas con el objetivo de fomentar la actividad física entre la ciudadanía de todas las edades y mejorar el bienestar general. Estas jornadas\, gratuitas y abiertas a cualquier persona interesada\, son complementarias a otras actividades prácticas ya ofrecidas por el departamento\, como son Mou-te\, Esport als barris\, Dénia Camina o Dénia En Moviment. \nComo parte de esta iniciativa\, los participantes podrán disfrutar de actividades como el entrenamiento funcional\, baile y nutrición\, adaptadas a todos los niveles. \nTodas las sesiones son abiertas al público general y no requieren inscripción previa. Las fechas y actividades programadas son las siguientes \n•             Viernes 28 de febrero: Jornada de entrenamiento funcional. \nHora: 11:00 h. Lugar: Pabellón Joan Fuster. \nDescripción: Sesión en grupo con ejercicios de fuerza y elasticidad\, para mejorar la capacidad física general y la salud muscular. \n•             Miércoles 26 de marzo: Jornada de baile. \nHora: 11:00 h. Lugar: Pabellón Joan Fuster. \nDescripción: Actividades recreativas en grupo\, diseñadas para mejorar la flexibilidad\, la coordinación y la diversión mientras se hace actividad física. \n•             Jueves 24 de abril: Jornada de nutrición. \nHora: 11:00 h. Lugar: Casa de la Cultura (plaza Jaume I\, Dénia). \nDescripción: Consejos saludables y planificación dietética para ayudar a mantener una alimentación equilibrada y potenciar los resultados de la actividad física. \nSegún ha explicado el concejal de Deportes\, Valen Alcalà: “Hemos querido ofrecer un complemento a algunas de las iniciativas que ya tenemos en marcha\, como Mou-te o Esport als barris\, para que todo el mundo interesado pueda incorporar actividad física a su rutina\, añadiendo además una jornada teórica dedicada a la alimentación y la salud\, previa a las charlas sobre hábitos saludables que volveremos a realizar”.
URL:https://disfruta-denia.com/evento/jornadas-de-actividad-fisica-y-salud/2025-04-24/
LOCATION:Denia\, Denia\, Alicante\, 03700\, España
CATEGORIES:Deporte
ATTACH;FMTTYPE=image/jpeg:https://disfruta-denia.com/wp-content/uploads/2025/02/7260f2.jpg
END:VEVENT
BEGIN:VEVENT
DTSTART;TZID=Europe/Madrid:20250424T083000
DTEND;TZID=Europe/Madrid:20250424T083000
DTSTAMP:20260423T232435
CREATED:20231005T092619Z
LAST-MODIFIED:20231005T092702Z
UID:10014198-1745483400-1745483400@disfruta-denia.com
SUMMARY:Clase de Yoga en Códigos del Arte
DESCRIPTION:Clase de Yoga en Códigos del Arte
URL:https://disfruta-denia.com/evento/clase-de-yoga-en-codigos-del-arte/2025-04-24/
LOCATION:Códigos del Arte\, Carreró de Morant\, 8\, Dénia\, 03700\, España
CATEGORIES:Deporte,Yoga
ATTACH;FMTTYPE=image/jpeg:https://disfruta-denia.com/wp-content/uploads/2023/10/image_6487327.jpg
END:VEVENT
BEGIN:VEVENT
DTSTART;TZID=Europe/Madrid:20250423T203000
DTEND;TZID=Europe/Madrid:20250423T203000
DTSTAMP:20260423T232435
CREATED:20240414T124150Z
LAST-MODIFIED:20240414T124150Z
UID:10017965-1745440200-1745440200@disfruta-denia.com
SUMMARY:Miércoles latinos\, miércoles clandestinos
DESCRIPTION:Miércoles latinos\, miércoles clandestinos  Cada miércoles a las 20.30h tenemos una cita con Madelyn Torroella a ritmo cubano!! Voz\, percusión y versiones de salsa clásica\, cada miércoles\, en el Speak. Parrillada\, tacos\, tapas\, cocktails & música. Reserva tu mesa
URL:https://disfruta-denia.com/evento/miercoles-latinos-miercoles-clandestinos/2025-04-23/
LOCATION:The Speak Denia\, Carrer del Pont\, 19\, Denia\, Alicante\, 03700\, España
CATEGORIES:Concierto,Música
ATTACH;FMTTYPE=image/jpeg:https://disfruta-denia.com/wp-content/uploads/2024/04/434468313_1159701198651630_4992165217264460198_n.jpg
END:VEVENT
BEGIN:VEVENT
DTSTART;TZID=Europe/Madrid:20250423T200000
DTEND;TZID=Europe/Madrid:20250423T233000
DTSTAMP:20260423T232435
CREATED:20230612T102803Z
LAST-MODIFIED:20230612T102804Z
UID:10009035-1745438400-1745451000@disfruta-denia.com
SUMMARY:Autocine: día del espectador
DESCRIPTION:
URL:https://disfruta-denia.com/evento/autocine-dia-del-espectador-3/2025-04-23/
LOCATION:Autociné Denia\, Partida Deveses D\, 27\, Denia\, Alicante\, 03700\, España
CATEGORIES:Ciné,Cultura
ATTACH;FMTTYPE=image/jpeg:https://disfruta-denia.com/wp-content/uploads/2022/11/Autocine-Drive-In-Denia-1.jpg
END:VEVENT
BEGIN:VEVENT
DTSTART;TZID=Europe/Madrid:20250423T193000
DTEND;TZID=Europe/Madrid:20250423T193000
DTSTAMP:20260423T232435
CREATED:20250321T101457Z
LAST-MODIFIED:20250321T101457Z
UID:10020588-1745436600-1745436600@disfruta-denia.com
SUMMARY:Homenatge a Vicent Balaguer
DESCRIPTION:El Día del Libro queremos recordar a Vicent Balaguer\, siempre vinculado a la cultura y a su Dénia. \nXiquets dels anys difícils \, publicada en 1978\, fue una obra pionera de la memoria democrática. Balaguer retrató su niñez en la Dénia de la República\, de la Guerra Civil y de la inmediata Posguerra. Un texto de gran amenidad para todos los públicos. \nEntrada: lliure limitada a l’aforament del local / libre limitada al aforo del local.          
URL:https://disfruta-denia.com/evento/homenatge-a-vicent-balaguer/
LOCATION:Biblioteca pública Denia\, c/ de Sant Josep\, 6\, Denia\, Alicante\, 03700\, España
CATEGORIES:Cultura,Presentación
END:VEVENT
BEGIN:VEVENT
DTSTART;TZID=Europe/Madrid:20250423T190000
DTEND;TZID=Europe/Madrid:20250423T210000
DTSTAMP:20260423T232435
CREATED:20231115T115842Z
LAST-MODIFIED:20231115T115843Z
UID:10008352-1745434800-1745442000@disfruta-denia.com
SUMMARY:Tardeo en Basta
DESCRIPTION:
URL:https://disfruta-denia.com/evento/tardeo-en-basta-3-3/2025-04-23/
LOCATION:Basta Lounge Bar\, Marina de Dénia\, Local C2\, Denia\, Valencian Community\, 03700\, España
CATEGORIES:Concierto,Música,Tardeo
ATTACH;FMTTYPE=image/jpeg:https://disfruta-denia.com/wp-content/uploads/2022/12/IMG_3678.jpeg
END:VEVENT
BEGIN:VEVENT
DTSTART;TZID=Europe/Madrid:20250422T083000
DTEND;TZID=Europe/Madrid:20250422T083000
DTSTAMP:20260423T232435
CREATED:20231005T092619Z
LAST-MODIFIED:20231005T092702Z
UID:10014197-1745310600-1745310600@disfruta-denia.com
SUMMARY:Clase de Yoga en Códigos del Arte
DESCRIPTION:Clase de Yoga en Códigos del Arte
URL:https://disfruta-denia.com/evento/clase-de-yoga-en-codigos-del-arte/2025-04-22/
LOCATION:Códigos del Arte\, Carreró de Morant\, 8\, Dénia\, 03700\, España
CATEGORIES:Deporte,Yoga
ATTACH;FMTTYPE=image/jpeg:https://disfruta-denia.com/wp-content/uploads/2023/10/image_6487327.jpg
END:VEVENT
BEGIN:VEVENT
DTSTART;TZID=Europe/Madrid:20250421T203000
DTEND;TZID=Europe/Madrid:20250421T203000
DTSTAMP:20260423T232435
CREATED:20230912T174836Z
LAST-MODIFIED:20230912T174838Z
UID:10011494-1745267400-1745267400@disfruta-denia.com
SUMMARY:Tardeo con Marce Pesoa
DESCRIPTION:Esta noche. Tonight. \nLive music 20.30h. \nMarce Pesoa en The Speak Dénia. \nTacos\, Cocktails\, Parrilla \n& la mejor musica 🔥🤘 \nReservas: 675753879 \nLet’s #funmonday today!
URL:https://disfruta-denia.com/evento/tardeo-con-marce-pesoa-2/2025-04-21/
LOCATION:The Speak Denia\, Carrer del Pont\, 19\, Denia\, Alicante\, 03700\, España
CATEGORIES:Concierto,Música,Tardeo
ATTACH;FMTTYPE=image/jpeg:https://disfruta-denia.com/wp-content/uploads/2023/06/IMG-20230619-WA0000.jpg
END:VEVENT
BEGIN:VEVENT
DTSTART;TZID=Europe/Madrid:20250420T210000
DTEND;TZID=Europe/Madrid:20250420T210000
DTSTAMP:20260423T232435
CREATED:20240219T102543Z
LAST-MODIFIED:20240219T102546Z
UID:10016380-1745182800-1745182800@disfruta-denia.com
SUMMARY:Concierto: Rebeldía Blues Band
DESCRIPTION:Concierto: Rebeldía Blues Band
URL:https://disfruta-denia.com/evento/concierto-rebeldia-blues-band-5-2-2-2/2025-04-20/
LOCATION:Rebeldia Blues\, Carr. de Dénia A Xábia\, 3G\, Denia\, Alicante\, 03700\, España
CATEGORIES:Concierto,Música
ATTACH;FMTTYPE=image/jpeg:https://disfruta-denia.com/wp-content/uploads/2024/02/428298315_17910192284911738_2883817046859909485_n.jpg
END:VEVENT
BEGIN:VEVENT
DTSTART;TZID=Europe/Madrid:20250420T160000
DTEND;TZID=Europe/Madrid:20250420T160000
DTSTAMP:20260423T232435
CREATED:20240911T131353Z
LAST-MODIFIED:20240911T131353Z
UID:10019325-1745164800-1745164800@disfruta-denia.com
SUMMARY:Los Tardeos de Mr Fisher
DESCRIPTION:Disfruta de los tardeos de buena música en directo en Mr. Fisher
URL:https://disfruta-denia.com/evento/los-tardeos-de-mr-fisher/2025-04-20/
LOCATION:Mr Fisher\, Moll de La Pansa s/n. Marina El Portet\, Denia\, Alicante\, 03700\, España
CATEGORIES:Concierto,Música,Tardeo
ATTACH;FMTTYPE=image/jpeg:https://disfruta-denia.com/wp-content/uploads/2024/09/459139871_18092607781468008_6776720106805976607_n.jpg
END:VEVENT
BEGIN:VEVENT
DTSTART;TZID=Europe/Madrid:20250420T090000
DTEND;TZID=Europe/Madrid:20250420T140000
DTSTAMP:20260423T232435
CREATED:20241206T165430Z
LAST-MODIFIED:20241206T165431Z
UID:10019371-1745139600-1745157600@disfruta-denia.com
SUMMARY:Mercat del Riurau Jesus Pobre
DESCRIPTION:Este domingo 8 de diciembre te esperamos en el Mercat del Riurau\, de 10:00 a 14:00! Además\, a las 12:00 tendremos el placer de disfrutar del concierto en directo de la cantautora Inma Serrano. ¡Ven a pasar una mañana llena de música\, artesanía y buen ambiente!  ¿Dónde? Jesús Pobre ¿Cuándo? Domingo 8 de diciembre\, de 10:00 a 14:00¡No te lo pierdas\, te esperamos con las puertas abiertas!
URL:https://disfruta-denia.com/evento/mercat-del-riurau-jesus-pobre-2-25-3-2-2-8-2-4-3/2025-04-20/
LOCATION:Mercado Riurau Jesus Pobre\, Jesus Pobre\, Alicante\, 03749\, España
CATEGORIES:Concierto,Gastronomía,Mercado
ATTACH;FMTTYPE=image/jpeg:https://disfruta-denia.com/wp-content/uploads/2024/11/468421700_961429749353723_2511845002113226302_n.jpg
END:VEVENT
BEGIN:VEVENT
DTSTART;TZID=Europe/Madrid:20250419T235900
DTEND;TZID=Europe/Madrid:20250419T235900
DTSTAMP:20260423T232435
CREATED:20221128T194020Z
LAST-MODIFIED:20221128T194021Z
UID:10006608-1745107140-1745107140@disfruta-denia.com
SUMMARY:Concierto en LCDA
DESCRIPTION:
URL:https://disfruta-denia.com/evento/concierto-en-lcda-4/2025-04-19/
LOCATION:La Chica de ayer\, Calle la mar 30\, Denia\, Alicante\, 03700\, España
CATEGORIES:Concierto,Música,Ocio nocturno
ATTACH;FMTTYPE=image/jpeg:https://disfruta-denia.com/wp-content/uploads/2022/11/317545016_592127712917488_4859295703944293873_n.jpg
END:VEVENT
BEGIN:VEVENT
DTSTART;TZID=Europe/Madrid:20250419T213000
DTEND;TZID=Europe/Madrid:20250419T213000
DTSTAMP:20260423T232435
CREATED:20241207T133508Z
LAST-MODIFIED:20241207T133509Z
UID:10019953-1745098200-1745098200@disfruta-denia.com
SUMMARY:Sábado concierto en Rebeldía Blues
DESCRIPTION:Sábado concierto en Rebledía Blues
URL:https://disfruta-denia.com/evento/sabado-concierto-en-rebeldia-blues-3-2-10-3-3-2/2025-04-19/
LOCATION:Rebeldia Blues\, Carr. de Dénia A Xábia\, 3G\, Denia\, Alicante\, 03700\, España
CATEGORIES:Concierto,Música
ATTACH;FMTTYPE=image/jpeg:https://disfruta-denia.com/wp-content/uploads/2024/12/PHOTO-2024-12-07-09-51-48.jpg
END:VEVENT
BEGIN:VEVENT
DTSTART;TZID=Europe/Madrid:20250418T213000
DTEND;TZID=Europe/Madrid:20250418T213000
DTSTAMP:20260423T232435
CREATED:20241207T133517Z
LAST-MODIFIED:20241207T133518Z
UID:10019693-1745011800-1745011800@disfruta-denia.com
SUMMARY:Concierto de Viernes en Rebeldía Blues
DESCRIPTION:¡Este viernes en Rebeldía Blues te espera una noche llena de música en vivo Prepárate para disfrutar de lo mejor del swing\, pop y música latina en un ambiente único. La entrada es totalmente gratuita\, así que trae a tus amigos y no te pierdas esta experiencia inolvidable.  Hora: 21:30h
URL:https://disfruta-denia.com/evento/concierto-de-viernes-en-rebeldia-blues-3-3-10-3-3-3-2/2025-04-18/
LOCATION:Rebeldia Blues\, Carr. de Dénia A Xábia\, 3G\, Denia\, Alicante\, 03700\, España
CATEGORIES:Concierto,Música
ATTACH;FMTTYPE=image/jpeg:https://disfruta-denia.com/wp-content/uploads/2024/12/PHOTO-2024-12-07-11-37-03.jpg
END:VEVENT
BEGIN:VEVENT
DTSTART;TZID=Europe/Madrid:20250417T210000
DTEND;TZID=Europe/Madrid:20250417T210000
DTSTAMP:20260423T232435
CREATED:20240307T094627Z
LAST-MODIFIED:20240307T094631Z
UID:10016656-1744923600-1744923600@disfruta-denia.com
SUMMARY:Karaoké en Rebeldía Blues
DESCRIPTION:Karaoké en Rebeldía Blues
URL:https://disfruta-denia.com/evento/karaoke-en-rebeldia-blues-4-2-2-2-2-2/2025-04-17/
LOCATION:Rebeldia Blues\, Carr. de Dénia A Xábia\, 3G\, Denia\, Alicante\, 03700\, España
CATEGORIES:Karaoké,Música
ATTACH;FMTTYPE=image/jpeg:https://disfruta-denia.com/wp-content/uploads/2024/02/429768881_17912348297911738_3047273990901060399_n.jpg
END:VEVENT
BEGIN:VEVENT
DTSTART;TZID=Europe/Madrid:20250417T083000
DTEND;TZID=Europe/Madrid:20250417T083000
DTSTAMP:20260423T232435
CREATED:20231005T092619Z
LAST-MODIFIED:20231005T092702Z
UID:10014196-1744878600-1744878600@disfruta-denia.com
SUMMARY:Clase de Yoga en Códigos del Arte
DESCRIPTION:Clase de Yoga en Códigos del Arte
URL:https://disfruta-denia.com/evento/clase-de-yoga-en-codigos-del-arte/2025-04-17/
LOCATION:Códigos del Arte\, Carreró de Morant\, 8\, Dénia\, 03700\, España
CATEGORIES:Deporte,Yoga
ATTACH;FMTTYPE=image/jpeg:https://disfruta-denia.com/wp-content/uploads/2023/10/image_6487327.jpg
END:VEVENT
BEGIN:VEVENT
DTSTART;TZID=Europe/Madrid:20250416T203000
DTEND;TZID=Europe/Madrid:20250416T203000
DTSTAMP:20260423T232435
CREATED:20240414T124150Z
LAST-MODIFIED:20240414T124150Z
UID:10017964-1744835400-1744835400@disfruta-denia.com
SUMMARY:Miércoles latinos\, miércoles clandestinos
DESCRIPTION:Miércoles latinos\, miércoles clandestinos  Cada miércoles a las 20.30h tenemos una cita con Madelyn Torroella a ritmo cubano!! Voz\, percusión y versiones de salsa clásica\, cada miércoles\, en el Speak. Parrillada\, tacos\, tapas\, cocktails & música. Reserva tu mesa
URL:https://disfruta-denia.com/evento/miercoles-latinos-miercoles-clandestinos/2025-04-16/
LOCATION:The Speak Denia\, Carrer del Pont\, 19\, Denia\, Alicante\, 03700\, España
CATEGORIES:Concierto,Música
ATTACH;FMTTYPE=image/jpeg:https://disfruta-denia.com/wp-content/uploads/2024/04/434468313_1159701198651630_4992165217264460198_n.jpg
END:VEVENT
BEGIN:VEVENT
DTSTART;TZID=Europe/Madrid:20250416T200000
DTEND;TZID=Europe/Madrid:20250416T233000
DTSTAMP:20260423T232435
CREATED:20230612T102803Z
LAST-MODIFIED:20230612T102804Z
UID:10009034-1744833600-1744846200@disfruta-denia.com
SUMMARY:Autocine: día del espectador
DESCRIPTION:
URL:https://disfruta-denia.com/evento/autocine-dia-del-espectador-3/2025-04-16/
LOCATION:Autociné Denia\, Partida Deveses D\, 27\, Denia\, Alicante\, 03700\, España
CATEGORIES:Ciné,Cultura
ATTACH;FMTTYPE=image/jpeg:https://disfruta-denia.com/wp-content/uploads/2022/11/Autocine-Drive-In-Denia-1.jpg
END:VEVENT
BEGIN:VEVENT
DTSTART;TZID=Europe/Madrid:20250416T193000
DTEND;TZID=Europe/Madrid:20250416T193000
DTSTAMP:20260423T232435
CREATED:20250321T101724Z
LAST-MODIFIED:20250321T101724Z
UID:10020589-1744831800-1744831800@disfruta-denia.com
SUMMARY:Documental: LOS 42 DE SEPTFONDS
DESCRIPTION:Xarrada/charla: “Memòria escrita. Els documents personals de l’arxiu de Dénia”\, per Rosa Seser\, arxivera municipal. \nL’organització d’un fons d’arxiu de l’Ajuntament de Septfonds (Occitània) descobreix el trist final d’un grup de republicans exiliats a França\, morts al camp de concentració local. Un còmic i este documental donen a conéixer la història. \nVeurem la importància dels documents i dels arxius\, guardians de la memòria.  \n  \nLa organización de un fondo de archivo del Ayuntamiento de Septfonds (Occitania) descubre el triste final de un grupo de republicanos exiliados en Francia\, muertos en el campo de concentración local. Un cómico y este documental dan a conocer la historia. \nVeremos la importancia de los documentos y de los archivos\, guardianes de la memoria. \nEntrada: lliure limitada a l’aforament del local / limitada al aforo del local. 
URL:https://disfruta-denia.com/evento/documental-los-42-de-septfonds/
LOCATION:Biblioteca pública Denia\, c/ de Sant Josep\, 6\, Denia\, Alicante\, 03700\, España
CATEGORIES:Charlas y conferencias,Cultura,Presentación
END:VEVENT
BEGIN:VEVENT
DTSTART;TZID=Europe/Madrid:20250416T190000
DTEND;TZID=Europe/Madrid:20250416T210000
DTSTAMP:20260423T232435
CREATED:20231115T115842Z
LAST-MODIFIED:20231115T115843Z
UID:10008351-1744830000-1744837200@disfruta-denia.com
SUMMARY:Tardeo en Basta
DESCRIPTION:
URL:https://disfruta-denia.com/evento/tardeo-en-basta-3-3/2025-04-16/
LOCATION:Basta Lounge Bar\, Marina de Dénia\, Local C2\, Denia\, Valencian Community\, 03700\, España
CATEGORIES:Concierto,Música,Tardeo
ATTACH;FMTTYPE=image/jpeg:https://disfruta-denia.com/wp-content/uploads/2022/12/IMG_3678.jpeg
END:VEVENT
BEGIN:VEVENT
DTSTART;TZID=Europe/Madrid:20250415T083000
DTEND;TZID=Europe/Madrid:20250415T083000
DTSTAMP:20260423T232435
CREATED:20231005T092619Z
LAST-MODIFIED:20231005T092702Z
UID:10014195-1744705800-1744705800@disfruta-denia.com
SUMMARY:Clase de Yoga en Códigos del Arte
DESCRIPTION:Clase de Yoga en Códigos del Arte
URL:https://disfruta-denia.com/evento/clase-de-yoga-en-codigos-del-arte/2025-04-15/
LOCATION:Códigos del Arte\, Carreró de Morant\, 8\, Dénia\, 03700\, España
CATEGORIES:Deporte,Yoga
ATTACH;FMTTYPE=image/jpeg:https://disfruta-denia.com/wp-content/uploads/2023/10/image_6487327.jpg
END:VEVENT
BEGIN:VEVENT
DTSTART;TZID=Europe/Madrid:20250414T203000
DTEND;TZID=Europe/Madrid:20250414T203000
DTSTAMP:20260423T232435
CREATED:20230912T174836Z
LAST-MODIFIED:20230912T174838Z
UID:10011493-1744662600-1744662600@disfruta-denia.com
SUMMARY:Tardeo con Marce Pesoa
DESCRIPTION:Esta noche. Tonight. \nLive music 20.30h. \nMarce Pesoa en The Speak Dénia. \nTacos\, Cocktails\, Parrilla \n& la mejor musica 🔥🤘 \nReservas: 675753879 \nLet’s #funmonday today!
URL:https://disfruta-denia.com/evento/tardeo-con-marce-pesoa-2/2025-04-14/
LOCATION:The Speak Denia\, Carrer del Pont\, 19\, Denia\, Alicante\, 03700\, España
CATEGORIES:Concierto,Música,Tardeo
ATTACH;FMTTYPE=image/jpeg:https://disfruta-denia.com/wp-content/uploads/2023/06/IMG-20230619-WA0000.jpg
END:VEVENT
BEGIN:VEVENT
DTSTART;TZID=Europe/Madrid:20250413T210000
DTEND;TZID=Europe/Madrid:20250413T210000
DTSTAMP:20260423T232435
CREATED:20240219T102543Z
LAST-MODIFIED:20240219T102546Z
UID:10016379-1744578000-1744578000@disfruta-denia.com
SUMMARY:Concierto: Rebeldía Blues Band
DESCRIPTION:Concierto: Rebeldía Blues Band
URL:https://disfruta-denia.com/evento/concierto-rebeldia-blues-band-5-2-2-2/2025-04-13/
LOCATION:Rebeldia Blues\, Carr. de Dénia A Xábia\, 3G\, Denia\, Alicante\, 03700\, España
CATEGORIES:Concierto,Música
ATTACH;FMTTYPE=image/jpeg:https://disfruta-denia.com/wp-content/uploads/2024/02/428298315_17910192284911738_2883817046859909485_n.jpg
END:VEVENT
BEGIN:VEVENT
DTSTART;TZID=Europe/Madrid:20250413T173000
DTEND;TZID=Europe/Madrid:20250413T193000
DTSTAMP:20260423T232435
CREATED:20250321T101200Z
LAST-MODIFIED:20250321T101200Z
UID:10020586-1744565400-1744572600@disfruta-denia.com
SUMMARY:MÀSTERCLASS DANSA
DESCRIPTION:Con el profesor RAFA DARDER (Profesor del Conservatorio profesional de Danza Valencia).
URL:https://disfruta-denia.com/evento/masterclass-dansa/
LOCATION:Plaza del Consell\, Carrer de la Mar\, Denia\, 03700
CATEGORIES:Cultura,Danza
END:VEVENT
BEGIN:VEVENT
DTSTART;TZID=Europe/Madrid:20250413T160000
DTEND;TZID=Europe/Madrid:20250413T160000
DTSTAMP:20260423T232435
CREATED:20240911T131353Z
LAST-MODIFIED:20240911T131353Z
UID:10019324-1744560000-1744560000@disfruta-denia.com
SUMMARY:Los Tardeos de Mr Fisher
DESCRIPTION:Disfruta de los tardeos de buena música en directo en Mr. Fisher
URL:https://disfruta-denia.com/evento/los-tardeos-de-mr-fisher/2025-04-13/
LOCATION:Mr Fisher\, Moll de La Pansa s/n. Marina El Portet\, Denia\, Alicante\, 03700\, España
CATEGORIES:Concierto,Música,Tardeo
ATTACH;FMTTYPE=image/jpeg:https://disfruta-denia.com/wp-content/uploads/2024/09/459139871_18092607781468008_6776720106805976607_n.jpg
END:VEVENT
BEGIN:VEVENT
DTSTART;TZID=Europe/Madrid:20250413T120000
DTEND;TZID=Europe/Madrid:20250413T120000
DTSTAMP:20260423T232435
CREATED:20250321T101307Z
LAST-MODIFIED:20250321T101307Z
UID:10020587-1744545600-1744545600@disfruta-denia.com
SUMMARY:DANSES POPULARS VALENCIANES
DESCRIPTION:DANZAS POPULARES VALENCIANAS con el Grupo de infantil de Dianium Dansa y dulzaina y tambor.
URL:https://disfruta-denia.com/evento/danses-populars-valencianes/
LOCATION:Carrer del Marqués de Campo\, Carrer del Marqués de Campo\, Denia\, Alicante\, 03700\, España
CATEGORIES:Cultura,Danza
ATTACH;FMTTYPE=image/png:https://disfruta-denia.com/wp-content/uploads/2025/03/13-DANSES-VALENCIANES.png
END:VEVENT
BEGIN:VEVENT
DTSTART;TZID=Europe/Madrid:20250413T090000
DTEND;TZID=Europe/Madrid:20250413T140000
DTSTAMP:20260423T232435
CREATED:20241206T165430Z
LAST-MODIFIED:20241206T165431Z
UID:10019370-1744534800-1744552800@disfruta-denia.com
SUMMARY:Mercat del Riurau Jesus Pobre
DESCRIPTION:Este domingo 8 de diciembre te esperamos en el Mercat del Riurau\, de 10:00 a 14:00! Además\, a las 12:00 tendremos el placer de disfrutar del concierto en directo de la cantautora Inma Serrano. ¡Ven a pasar una mañana llena de música\, artesanía y buen ambiente!  ¿Dónde? Jesús Pobre ¿Cuándo? Domingo 8 de diciembre\, de 10:00 a 14:00¡No te lo pierdas\, te esperamos con las puertas abiertas!
URL:https://disfruta-denia.com/evento/mercat-del-riurau-jesus-pobre-2-25-3-2-2-8-2-4-3/2025-04-13/
LOCATION:Mercado Riurau Jesus Pobre\, Jesus Pobre\, Alicante\, 03749\, España
CATEGORIES:Concierto,Gastronomía,Mercado
ATTACH;FMTTYPE=image/jpeg:https://disfruta-denia.com/wp-content/uploads/2024/11/468421700_961429749353723_2511845002113226302_n.jpg
END:VEVENT
BEGIN:VEVENT
DTSTART;TZID=Europe/Madrid:20250412T235900
DTEND;TZID=Europe/Madrid:20250412T235900
DTSTAMP:20260423T232435
CREATED:20221128T194020Z
LAST-MODIFIED:20221128T194021Z
UID:10006607-1744502340-1744502340@disfruta-denia.com
SUMMARY:Concierto en LCDA
DESCRIPTION:
URL:https://disfruta-denia.com/evento/concierto-en-lcda-4/2025-04-12/
LOCATION:La Chica de ayer\, Calle la mar 30\, Denia\, Alicante\, 03700\, España
CATEGORIES:Concierto,Música,Ocio nocturno
ATTACH;FMTTYPE=image/jpeg:https://disfruta-denia.com/wp-content/uploads/2022/11/317545016_592127712917488_4859295703944293873_n.jpg
END:VEVENT
END:VCALENDAR