BEGIN:VCALENDAR
VERSION:2.0
PRODID:-//Disfruta Denia - ECPv6.15.20//NONSGML v1.0//EN
CALSCALE:GREGORIAN
METHOD:PUBLISH
X-ORIGINAL-URL:https://disfruta-denia.com
X-WR-CALDESC:Eventos para Disfruta Denia
REFRESH-INTERVAL;VALUE=DURATION:PT1H
X-Robots-Tag:noindex
X-PUBLISHED-TTL:PT1H
BEGIN:VTIMEZONE
TZID:Europe/Madrid
BEGIN:DAYLIGHT
TZOFFSETFROM:+0100
TZOFFSETTO:+0200
TZNAME:CEST
DTSTART:20240331T010000
END:DAYLIGHT
BEGIN:STANDARD
TZOFFSETFROM:+0200
TZOFFSETTO:+0100
TZNAME:CET
DTSTART:20241027T010000
END:STANDARD
BEGIN:DAYLIGHT
TZOFFSETFROM:+0100
TZOFFSETTO:+0200
TZNAME:CEST
DTSTART:20250330T010000
END:DAYLIGHT
BEGIN:STANDARD
TZOFFSETFROM:+0200
TZOFFSETTO:+0100
TZNAME:CET
DTSTART:20251026T010000
END:STANDARD
BEGIN:DAYLIGHT
TZOFFSETFROM:+0100
TZOFFSETTO:+0200
TZNAME:CEST
DTSTART:20260329T010000
END:DAYLIGHT
BEGIN:STANDARD
TZOFFSETFROM:+0200
TZOFFSETTO:+0100
TZNAME:CET
DTSTART:20261025T010000
END:STANDARD
END:VTIMEZONE
BEGIN:VEVENT
DTSTART;TZID=Europe/Madrid:20250320T193000
DTEND;TZID=Europe/Madrid:20250320T193000
DTSTAMP:20260421T113305
CREATED:20250306T094142Z
LAST-MODIFIED:20250306T094142Z
UID:10020550-1742499000-1742499000@disfruta-denia.com
SUMMARY:Concierto: SOFÍA GUTIERREZ-TOBAR
DESCRIPTION:SOFÍA GUTIERREZ-TOBAR\, soprano. DUNCAN GIFFORD\, piano. \nObres de/ obres de : Richard Strauss\, Gustav Mahler i Alban Berg. \nEntrada:15 € en https://www.notikumi.com  \nEn taquilla el mateix dia una hora abans / el mismo dia una hora antes.  \n+ INFO.: Tel. 616 699 035 – 619825918  \nOrganitza/organiza: L’Esperança Coronada. Col·labora/colabora: Ajuntament de Dénia. Cultura.  
URL:https://disfruta-denia.com/evento/concierto-sofia-gutierrez-tobar/
LOCATION:Teatro Auditorio Centro Social\, 4 Carrer Calderón\, Dénia\, VC\, 03700\, Spain
CATEGORIES:Concierto,Música
ATTACH;FMTTYPE=image/png:https://disfruta-denia.com/wp-content/uploads/2025/03/14-Concert-esperanca-Coronada-1.png
ORGANIZER;CN="Denia Cultura":MAILTO:cultura@ayto-denia.es
END:VEVENT
BEGIN:VEVENT
DTSTART;TZID=Europe/Madrid:20250320T083000
DTEND;TZID=Europe/Madrid:20250320T083000
DTSTAMP:20260421T113305
CREATED:20231005T092619Z
LAST-MODIFIED:20231005T092702Z
UID:10014188-1742459400-1742459400@disfruta-denia.com
SUMMARY:Clase de Yoga en Códigos del Arte
DESCRIPTION:Clase de Yoga en Códigos del Arte
URL:https://disfruta-denia.com/evento/clase-de-yoga-en-codigos-del-arte/2025-03-20/
LOCATION:Códigos del Arte\, Carreró de Morant\, 8\, Dénia\, 03700\, España
CATEGORIES:Deporte,Yoga
ATTACH;FMTTYPE=image/jpeg:https://disfruta-denia.com/wp-content/uploads/2023/10/image_6487327.jpg
END:VEVENT
BEGIN:VEVENT
DTSTART;VALUE=DATE:20250320
DTEND;VALUE=DATE:20250407
DTSTAMP:20260421T113305
CREATED:20250306T093936Z
LAST-MODIFIED:20250306T093936Z
UID:10020549-1742443200-1743911999@disfruta-denia.com
SUMMARY:Expo: BUNDLES
DESCRIPTION:BUNDLES de GARY COOK. Escultura. \nInauguració dia 20-19 h \nHorari/horario: laborables 11 – 14 h / 17 – 21 h. Dissabte/sábado 10 – 13.30 h 
URL:https://disfruta-denia.com/evento/expo-bundles/
LOCATION:Casa de la Cultura Denia\, Plaça Jaume I\, Denia\, Alicante\, 03700\, España
CATEGORIES:Cultura,Exposiciones
ATTACH;FMTTYPE=image/png:https://disfruta-denia.com/wp-content/uploads/2025/03/13-EXPO-GARY-COOK-1.png
END:VEVENT
BEGIN:VEVENT
DTSTART;TZID=Europe/Madrid:20250319T203000
DTEND;TZID=Europe/Madrid:20250319T203000
DTSTAMP:20260421T113305
CREATED:20240414T124150Z
LAST-MODIFIED:20240414T124150Z
UID:10017960-1742416200-1742416200@disfruta-denia.com
SUMMARY:Miércoles latinos\, miércoles clandestinos
DESCRIPTION:Miércoles latinos\, miércoles clandestinos  Cada miércoles a las 20.30h tenemos una cita con Madelyn Torroella a ritmo cubano!! Voz\, percusión y versiones de salsa clásica\, cada miércoles\, en el Speak. Parrillada\, tacos\, tapas\, cocktails & música. Reserva tu mesa
URL:https://disfruta-denia.com/evento/miercoles-latinos-miercoles-clandestinos/2025-03-19/
LOCATION:The Speak Denia\, Carrer del Pont\, 19\, Denia\, Alicante\, 03700\, España
CATEGORIES:Concierto,Música
ATTACH;FMTTYPE=image/jpeg:https://disfruta-denia.com/wp-content/uploads/2024/04/434468313_1159701198651630_4992165217264460198_n.jpg
END:VEVENT
BEGIN:VEVENT
DTSTART;TZID=Europe/Madrid:20250319T200000
DTEND;TZID=Europe/Madrid:20250319T233000
DTSTAMP:20260421T113305
CREATED:20230612T102803Z
LAST-MODIFIED:20230612T102804Z
UID:10009030-1742414400-1742427000@disfruta-denia.com
SUMMARY:Autocine: día del espectador
DESCRIPTION:
URL:https://disfruta-denia.com/evento/autocine-dia-del-espectador-3/2025-03-19/
LOCATION:Autociné Denia\, Partida Deveses D\, 27\, Denia\, Alicante\, 03700\, España
CATEGORIES:Ciné,Cultura
ATTACH;FMTTYPE=image/jpeg:https://disfruta-denia.com/wp-content/uploads/2022/11/Autocine-Drive-In-Denia-1.jpg
END:VEVENT
BEGIN:VEVENT
DTSTART;TZID=Europe/Madrid:20250319T190000
DTEND;TZID=Europe/Madrid:20250319T210000
DTSTAMP:20260421T113305
CREATED:20231115T115842Z
LAST-MODIFIED:20231115T115843Z
UID:10008347-1742410800-1742418000@disfruta-denia.com
SUMMARY:Tardeo en Basta
DESCRIPTION:
URL:https://disfruta-denia.com/evento/tardeo-en-basta-3-3/2025-03-19/
LOCATION:Basta Lounge Bar\, Marina de Dénia\, Local C2\, Denia\, Valencian Community\, 03700\, España
CATEGORIES:Concierto,Música,Tardeo
ATTACH;FMTTYPE=image/jpeg:https://disfruta-denia.com/wp-content/uploads/2022/12/IMG_3678.jpeg
END:VEVENT
BEGIN:VEVENT
DTSTART;TZID=Europe/Madrid:20250318T083000
DTEND;TZID=Europe/Madrid:20250318T083000
DTSTAMP:20260421T113305
CREATED:20231005T092619Z
LAST-MODIFIED:20231005T092702Z
UID:10014187-1742286600-1742286600@disfruta-denia.com
SUMMARY:Clase de Yoga en Códigos del Arte
DESCRIPTION:Clase de Yoga en Códigos del Arte
URL:https://disfruta-denia.com/evento/clase-de-yoga-en-codigos-del-arte/2025-03-18/
LOCATION:Códigos del Arte\, Carreró de Morant\, 8\, Dénia\, 03700\, España
CATEGORIES:Deporte,Yoga
ATTACH;FMTTYPE=image/jpeg:https://disfruta-denia.com/wp-content/uploads/2023/10/image_6487327.jpg
END:VEVENT
BEGIN:VEVENT
DTSTART;TZID=Europe/Madrid:20250317T203000
DTEND;TZID=Europe/Madrid:20250317T203000
DTSTAMP:20260421T113305
CREATED:20230912T174836Z
LAST-MODIFIED:20230912T174838Z
UID:10011489-1742243400-1742243400@disfruta-denia.com
SUMMARY:Tardeo con Marce Pesoa
DESCRIPTION:Esta noche. Tonight. \nLive music 20.30h. \nMarce Pesoa en The Speak Dénia. \nTacos\, Cocktails\, Parrilla \n& la mejor musica 🔥🤘 \nReservas: 675753879 \nLet’s #funmonday today!
URL:https://disfruta-denia.com/evento/tardeo-con-marce-pesoa-2/2025-03-17/
LOCATION:The Speak Denia\, Carrer del Pont\, 19\, Denia\, Alicante\, 03700\, España
CATEGORIES:Concierto,Música,Tardeo
ATTACH;FMTTYPE=image/jpeg:https://disfruta-denia.com/wp-content/uploads/2023/06/IMG-20230619-WA0000.jpg
END:VEVENT
BEGIN:VEVENT
DTSTART;TZID=Europe/Madrid:20250316T210000
DTEND;TZID=Europe/Madrid:20250316T210000
DTSTAMP:20260421T113305
CREATED:20240219T102543Z
LAST-MODIFIED:20240219T102546Z
UID:10016375-1742158800-1742158800@disfruta-denia.com
SUMMARY:Concierto: Rebeldía Blues Band
DESCRIPTION:Concierto: Rebeldía Blues Band
URL:https://disfruta-denia.com/evento/concierto-rebeldia-blues-band-5-2-2-2/2025-03-16/
LOCATION:Rebeldia Blues\, Carr. de Dénia A Xábia\, 3G\, Denia\, Alicante\, 03700\, España
CATEGORIES:Concierto,Música
ATTACH;FMTTYPE=image/jpeg:https://disfruta-denia.com/wp-content/uploads/2024/02/428298315_17910192284911738_2883817046859909485_n.jpg
END:VEVENT
BEGIN:VEVENT
DTSTART;TZID=Europe/Madrid:20250316T190000
DTEND;TZID=Europe/Madrid:20250316T190000
DTSTAMP:20260421T113305
CREATED:20250306T093607Z
LAST-MODIFIED:20250306T093757Z
UID:10020548-1742151600-1742151600@disfruta-denia.com
SUMMARY:Cineclub: Viaje a alguna parte
DESCRIPTION:Dir.: Helena de Llanos. Espanya / España\, 2021\, 104 min.  V.O. en castellà / castellano \nPer a + 12 anys/años.  Presenta la directora. \nEntrada: 3 € en  https://www.notikumi.com . \nEn taquilla: el mateix dia una hora abans/el mismo día una hora antes.
URL:https://disfruta-denia.com/evento/cineclub-viaje-a-alguna-parte/
LOCATION:Teatro Auditorio Centro Social\, 4 Carrer Calderón\, Dénia\, VC\, 03700\, Spain
CATEGORIES:Ciné,Cultura
ATTACH;FMTTYPE=image/png:https://disfruta-denia.com/wp-content/uploads/2025/03/12-cine-viaje-a-alguna-parte-1.png
ORGANIZER;CN="Denia Cultura":MAILTO:cultura@ayto-denia.es
END:VEVENT
BEGIN:VEVENT
DTSTART;TZID=Europe/Madrid:20250316T160000
DTEND;TZID=Europe/Madrid:20250316T160000
DTSTAMP:20260421T113305
CREATED:20240911T131353Z
LAST-MODIFIED:20240911T131353Z
UID:10019320-1742140800-1742140800@disfruta-denia.com
SUMMARY:Los Tardeos de Mr Fisher
DESCRIPTION:Disfruta de los tardeos de buena música en directo en Mr. Fisher
URL:https://disfruta-denia.com/evento/los-tardeos-de-mr-fisher/2025-03-16/
LOCATION:Mr Fisher\, Moll de La Pansa s/n. Marina El Portet\, Denia\, Alicante\, 03700\, España
CATEGORIES:Concierto,Música,Tardeo
ATTACH;FMTTYPE=image/jpeg:https://disfruta-denia.com/wp-content/uploads/2024/09/459139871_18092607781468008_6776720106805976607_n.jpg
END:VEVENT
BEGIN:VEVENT
DTSTART;TZID=Europe/Madrid:20250316T090000
DTEND;TZID=Europe/Madrid:20250316T140000
DTSTAMP:20260421T113305
CREATED:20241206T165430Z
LAST-MODIFIED:20241206T165431Z
UID:10019366-1742115600-1742133600@disfruta-denia.com
SUMMARY:Mercat del Riurau Jesus Pobre
DESCRIPTION:Este domingo 8 de diciembre te esperamos en el Mercat del Riurau\, de 10:00 a 14:00! Además\, a las 12:00 tendremos el placer de disfrutar del concierto en directo de la cantautora Inma Serrano. ¡Ven a pasar una mañana llena de música\, artesanía y buen ambiente!  ¿Dónde? Jesús Pobre ¿Cuándo? Domingo 8 de diciembre\, de 10:00 a 14:00¡No te lo pierdas\, te esperamos con las puertas abiertas!
URL:https://disfruta-denia.com/evento/mercat-del-riurau-jesus-pobre-2-25-3-2-2-8-2-4-3/2025-03-16/
LOCATION:Mercado Riurau Jesus Pobre\, Jesus Pobre\, Alicante\, 03749\, España
CATEGORIES:Concierto,Gastronomía,Mercado
ATTACH;FMTTYPE=image/jpeg:https://disfruta-denia.com/wp-content/uploads/2024/11/468421700_961429749353723_2511845002113226302_n.jpg
END:VEVENT
BEGIN:VEVENT
DTSTART;TZID=Europe/Madrid:20250315T235900
DTEND;TZID=Europe/Madrid:20250315T235900
DTSTAMP:20260421T113305
CREATED:20221128T194020Z
LAST-MODIFIED:20221128T194021Z
UID:10006603-1742083140-1742083140@disfruta-denia.com
SUMMARY:Concierto en LCDA
DESCRIPTION:
URL:https://disfruta-denia.com/evento/concierto-en-lcda-4/2025-03-15/
LOCATION:La Chica de ayer\, Calle la mar 30\, Denia\, Alicante\, 03700\, España
CATEGORIES:Concierto,Música,Ocio nocturno
ATTACH;FMTTYPE=image/jpeg:https://disfruta-denia.com/wp-content/uploads/2022/11/317545016_592127712917488_4859295703944293873_n.jpg
END:VEVENT
BEGIN:VEVENT
DTSTART;TZID=Europe/Madrid:20250315T233000
DTEND;TZID=Europe/Madrid:20250315T233000
DTSTAMP:20260421T113305
CREATED:20230727T082308Z
LAST-MODIFIED:20250314T111212Z
UID:10020563-1742081400-1742081400@disfruta-denia.com
SUMMARY:Concierto: La Mocha en el Paddy
DESCRIPTION:Los esperamos a tod@s para disfrutar de una gran noche!\nSaludos!
URL:https://disfruta-denia.com/evento/concierto-la-mocha-en-el-paddy-2/2025-03-15/
LOCATION:Paddy O’Connell Denia\, Calle de la Mar\, 20\, Denia\, Alicante\, 03700\, España
CATEGORIES:Concierto,Música,Ocio nocturno
ATTACH;FMTTYPE=image/png:https://disfruta-denia.com/wp-content/uploads/2023/07/Instagram-03-14-2025_12_11_PM.png
END:VEVENT
BEGIN:VEVENT
DTSTART;TZID=Europe/Madrid:20250315T213000
DTEND;TZID=Europe/Madrid:20250315T213000
DTSTAMP:20260421T113305
CREATED:20241207T133508Z
LAST-MODIFIED:20241207T133509Z
UID:10019948-1742074200-1742074200@disfruta-denia.com
SUMMARY:Sábado concierto en Rebeldía Blues
DESCRIPTION:Sábado concierto en Rebledía Blues
URL:https://disfruta-denia.com/evento/sabado-concierto-en-rebeldia-blues-3-2-10-3-3-2/2025-03-15/
LOCATION:Rebeldia Blues\, Carr. de Dénia A Xábia\, 3G\, Denia\, Alicante\, 03700\, España
CATEGORIES:Concierto,Música
ATTACH;FMTTYPE=image/jpeg:https://disfruta-denia.com/wp-content/uploads/2024/12/PHOTO-2024-12-07-09-51-48.jpg
END:VEVENT
BEGIN:VEVENT
DTSTART;TZID=Europe/Madrid:20250315T193000
DTEND;TZID=Europe/Madrid:20250315T193000
DTSTAMP:20260421T113305
CREATED:20250306T091244Z
LAST-MODIFIED:20250603T095027Z
UID:10020534-1742067000-1742067000@disfruta-denia.com
SUMMARY:Vinyl nights
DESCRIPTION:Bienvenido a Vinyl Nights!\nCada mes\, nos reunimos en Códigos del Arte para escuchar un álbum diferente en vinilo.\nComenzamos cada sesión con una introducción al álbum\, compartiendo información sobre los antecedentes del artista y su importancia histórica. A continuación\, pinchamos el disco y dejamos que la música se apodere de nosotros. Cada álbum dura entre 40 y 60 minutos (con una breve pausa a mitad de camino para darle la vuelta al disco).\nCuando termina la última canción\, empieza la conversación. Quédate para disfrutar de un animado debate\, más bebidas y una velada llena de buen rollo y buena compañía.\n\n\n​Programa para los próximos meses:\n14/06: El Mal Querer — Rosalía\n05/07: Kind of Blue — Miles Davis\n09/08: Nevermind — Nirvana\n06/09: Samba Esquema Novo — Jorge Ben Jor\n08/11: Miguel Hernández — Joan Manuel Serrat\n13/12: The Album — Blackpink\nEntrada: Gratuita
URL:https://disfruta-denia.com/evento/vinyl-nights-2/
LOCATION:Códigos del Arte\, Carreró de Morant\, 8\, Dénia\, 03700\, España
CATEGORIES:Música,Tardeo
ATTACH;FMTTYPE=image/png:https://disfruta-denia.com/wp-content/uploads/2025/03/Vinyl-Nights-Poster-ad.png
END:VEVENT
BEGIN:VEVENT
DTSTART;TZID=Europe/Madrid:20250314T233000
DTEND;TZID=Europe/Madrid:20250314T233000
DTSTAMP:20260421T113305
CREATED:20231123T215729Z
LAST-MODIFIED:20250314T110959Z
UID:10020562-1741995000-1741995000@disfruta-denia.com
SUMMARY:Concierto: Lost Tracks en el Paddy
DESCRIPTION:LOST TRACKS \nPOP • ROCK • FUNK from 70s\,80s y 90s
URL:https://disfruta-denia.com/evento/concierto-lost-tracks-en-el-paddy/2025-03-14/
LOCATION:Paddy O’Connell Denia\, Calle de la Mar\, 20\, Denia\, Alicante\, 03700\, España
CATEGORIES:Concierto,Música,Ocio nocturno
ATTACH;FMTTYPE=image/png:https://disfruta-denia.com/wp-content/uploads/2023/11/Instagram-03-14-2025_12_08_PM-1.png
END:VEVENT
BEGIN:VEVENT
DTSTART;TZID=Europe/Madrid:20250314T213000
DTEND;TZID=Europe/Madrid:20250314T213000
DTSTAMP:20260421T113305
CREATED:20241207T133517Z
LAST-MODIFIED:20241207T133518Z
UID:10019688-1741987800-1741987800@disfruta-denia.com
SUMMARY:Concierto de Viernes en Rebeldía Blues
DESCRIPTION:¡Este viernes en Rebeldía Blues te espera una noche llena de música en vivo Prepárate para disfrutar de lo mejor del swing\, pop y música latina en un ambiente único. La entrada es totalmente gratuita\, así que trae a tus amigos y no te pierdas esta experiencia inolvidable.  Hora: 21:30h
URL:https://disfruta-denia.com/evento/concierto-de-viernes-en-rebeldia-blues-3-3-10-3-3-3-2/2025-03-14/
LOCATION:Rebeldia Blues\, Carr. de Dénia A Xábia\, 3G\, Denia\, Alicante\, 03700\, España
CATEGORIES:Concierto,Música
ATTACH;FMTTYPE=image/jpeg:https://disfruta-denia.com/wp-content/uploads/2024/12/PHOTO-2024-12-07-11-37-03.jpg
END:VEVENT
BEGIN:VEVENT
DTSTART;VALUE=DATE:20250314
DTEND;VALUE=DATE:20250408
DTSTAMP:20260421T113305
CREATED:20250306T093439Z
LAST-MODIFIED:20250306T101517Z
UID:10020547-1741924800-1743998399@disfruta-denia.com
SUMMARY:Exposición DEL PINZELL A LA GRANERA
DESCRIPTION:Centenari d’Inés Bas i Nebot (1925-2025) \nInauguració dia 14- 19 h  \nHorari/horario: \nDilluns a dissabte / lunes a sábado:  10 – 14 h / 16 – 19 h. Diumenges i festius / Domingos y festivos: 9 a 15 h
URL:https://disfruta-denia.com/evento/exposicion-del-pinzell-a-la-granera/
LOCATION:Centre d’art l’Estació\, Carrer Calderón\, 2\, Denia\, Alicante\, 03700\, España
CATEGORIES:Cultura,Exposiciones
ATTACH;FMTTYPE=image/png:https://disfruta-denia.com/wp-content/uploads/2025/03/5-Expo-Ines-Bas-1.png
END:VEVENT
BEGIN:VEVENT
DTSTART;TZID=Europe/Madrid:20250313T210000
DTEND;TZID=Europe/Madrid:20250313T210000
DTSTAMP:20260421T113305
CREATED:20240307T094627Z
LAST-MODIFIED:20240307T094631Z
UID:10016651-1741899600-1741899600@disfruta-denia.com
SUMMARY:Karaoké en Rebeldía Blues
DESCRIPTION:Karaoké en Rebeldía Blues
URL:https://disfruta-denia.com/evento/karaoke-en-rebeldia-blues-4-2-2-2-2-2/2025-03-13/
LOCATION:Rebeldia Blues\, Carr. de Dénia A Xábia\, 3G\, Denia\, Alicante\, 03700\, España
CATEGORIES:Karaoké,Música
ATTACH;FMTTYPE=image/jpeg:https://disfruta-denia.com/wp-content/uploads/2024/02/429768881_17912348297911738_3047273990901060399_n.jpg
END:VEVENT
BEGIN:VEVENT
DTSTART;TZID=Europe/Madrid:20250313T190000
DTEND;TZID=Europe/Madrid:20250313T193000
DTSTAMP:20260421T113305
CREATED:20250201T111832Z
LAST-MODIFIED:20250201T111832Z
UID:10020494-1741892400-1741894200@disfruta-denia.com
SUMMARY:Día de los casales
DESCRIPTION:19:00 horas: Inauguración de los casales falleros\n19:30 horas: Visita del jurado calificador a los casales que participan en el premio de casals engalanats
URL:https://disfruta-denia.com/evento/dia-de-los-casales/
LOCATION:Denia\, Denia\, Alicante\, 03700\, España
CATEGORIES:Fiesta
ATTACH;FMTTYPE=image/jpeg:https://disfruta-denia.com/wp-content/uploads/2025/01/cartel-de-las-fallas-de-denia-2025-766x1083_Vertical.jpg
END:VEVENT
BEGIN:VEVENT
DTSTART;TZID=Europe/Madrid:20250313T190000
DTEND;TZID=Europe/Madrid:20250313T190000
DTSTAMP:20260421T113305
CREATED:20250306T093210Z
LAST-MODIFIED:20250306T093210Z
UID:10020546-1741892400-1741892400@disfruta-denia.com
SUMMARY:Concierto: CICLE PRIMAVERA MUSICAL IAC
DESCRIPTION:MÚSICA DE CAMBRA.  \nCONSERVATORI SUPERIOR DE MÚSICA ÓCAR ESPLÀ d’Alacant  \nGrups  instrumentals de corda i vent / Grupos instrumentales de cuerda y viento.  \nEntrada lliure limitada a l’aforament del local / libre limitada al aforo del local. \nOrganitza / Organiza: Institut Alacantí de Cultura Juan Gil-Albert. Col·labora/colabora: Ajuntament de Dénia. Cultura. 
URL:https://disfruta-denia.com/evento/concierto-cicle-primavera-musical-iac/
LOCATION:Teatro Auditorio Centro Social\, 4 Carrer Calderón\, Dénia\, VC\, 03700\, Spain
CATEGORIES:Concierto,Música
ATTACH;FMTTYPE=image/png:https://disfruta-denia.com/wp-content/uploads/2025/03/11-Concert-Conservatori-Oscar-Espla-1.png
END:VEVENT
BEGIN:VEVENT
DTSTART;TZID=Europe/Madrid:20250313T083000
DTEND;TZID=Europe/Madrid:20250313T083000
DTSTAMP:20260421T113305
CREATED:20231005T092619Z
LAST-MODIFIED:20231005T092702Z
UID:10014186-1741854600-1741854600@disfruta-denia.com
SUMMARY:Clase de Yoga en Códigos del Arte
DESCRIPTION:Clase de Yoga en Códigos del Arte
URL:https://disfruta-denia.com/evento/clase-de-yoga-en-codigos-del-arte/2025-03-13/
LOCATION:Códigos del Arte\, Carreró de Morant\, 8\, Dénia\, 03700\, España
CATEGORIES:Deporte,Yoga
ATTACH;FMTTYPE=image/jpeg:https://disfruta-denia.com/wp-content/uploads/2023/10/image_6487327.jpg
END:VEVENT
BEGIN:VEVENT
DTSTART;VALUE=DATE:20250313
DTEND;VALUE=DATE:20250414
DTSTAMP:20260421T113305
CREATED:20250306T093008Z
LAST-MODIFIED:20250306T093008Z
UID:10020545-1741838400-1744516799@disfruta-denia.com
SUMMARY:Exposición: BAJO LA PIEL
DESCRIPTION:Exposició de pintura BAJO LA PIEL\, de ROBERTO CALVO \nHorari/horario: laborables 11 – 14 h / 17 – 21 h. Dissabte/sábado 10 – 13.30 h 
URL:https://disfruta-denia.com/evento/exposicion-bajo-la-piel/
LOCATION:Casa de la Cultura Denia\, Plaça Jaume I\, Denia\, Alicante\, 03700\, España
CATEGORIES:Cultura,Exposiciones
ATTACH;FMTTYPE=image/png:https://disfruta-denia.com/wp-content/uploads/2025/03/10-Expo-Roberto-Calvo-1.png
END:VEVENT
BEGIN:VEVENT
DTSTART;TZID=Europe/Madrid:20250312T203000
DTEND;TZID=Europe/Madrid:20250312T203000
DTSTAMP:20260421T113305
CREATED:20240414T124150Z
LAST-MODIFIED:20240414T124150Z
UID:10017959-1741811400-1741811400@disfruta-denia.com
SUMMARY:Miércoles latinos\, miércoles clandestinos
DESCRIPTION:Miércoles latinos\, miércoles clandestinos  Cada miércoles a las 20.30h tenemos una cita con Madelyn Torroella a ritmo cubano!! Voz\, percusión y versiones de salsa clásica\, cada miércoles\, en el Speak. Parrillada\, tacos\, tapas\, cocktails & música. Reserva tu mesa
URL:https://disfruta-denia.com/evento/miercoles-latinos-miercoles-clandestinos/2025-03-12/
LOCATION:The Speak Denia\, Carrer del Pont\, 19\, Denia\, Alicante\, 03700\, España
CATEGORIES:Concierto,Música
ATTACH;FMTTYPE=image/jpeg:https://disfruta-denia.com/wp-content/uploads/2024/04/434468313_1159701198651630_4992165217264460198_n.jpg
END:VEVENT
BEGIN:VEVENT
DTSTART;TZID=Europe/Madrid:20250312T200000
DTEND;TZID=Europe/Madrid:20250312T233000
DTSTAMP:20260421T113305
CREATED:20230612T102803Z
LAST-MODIFIED:20230612T102804Z
UID:10009029-1741809600-1741822200@disfruta-denia.com
SUMMARY:Autocine: día del espectador
DESCRIPTION:
URL:https://disfruta-denia.com/evento/autocine-dia-del-espectador-3/2025-03-12/
LOCATION:Autociné Denia\, Partida Deveses D\, 27\, Denia\, Alicante\, 03700\, España
CATEGORIES:Ciné,Cultura
ATTACH;FMTTYPE=image/jpeg:https://disfruta-denia.com/wp-content/uploads/2022/11/Autocine-Drive-In-Denia-1.jpg
END:VEVENT
BEGIN:VEVENT
DTSTART;TZID=Europe/Madrid:20250312T190000
DTEND;TZID=Europe/Madrid:20250312T210000
DTSTAMP:20260421T113305
CREATED:20231115T115842Z
LAST-MODIFIED:20231115T115843Z
UID:10008346-1741806000-1741813200@disfruta-denia.com
SUMMARY:Tardeo en Basta
DESCRIPTION:
URL:https://disfruta-denia.com/evento/tardeo-en-basta-3-3/2025-03-12/
LOCATION:Basta Lounge Bar\, Marina de Dénia\, Local C2\, Denia\, Valencian Community\, 03700\, España
CATEGORIES:Concierto,Música,Tardeo
ATTACH;FMTTYPE=image/jpeg:https://disfruta-denia.com/wp-content/uploads/2022/12/IMG_3678.jpeg
END:VEVENT
BEGIN:VEVENT
DTSTART;TZID=Europe/Madrid:20250311T083000
DTEND;TZID=Europe/Madrid:20250311T083000
DTSTAMP:20260421T113305
CREATED:20231005T092619Z
LAST-MODIFIED:20231005T092702Z
UID:10014185-1741681800-1741681800@disfruta-denia.com
SUMMARY:Clase de Yoga en Códigos del Arte
DESCRIPTION:Clase de Yoga en Códigos del Arte
URL:https://disfruta-denia.com/evento/clase-de-yoga-en-codigos-del-arte/2025-03-11/
LOCATION:Códigos del Arte\, Carreró de Morant\, 8\, Dénia\, 03700\, España
CATEGORIES:Deporte,Yoga
ATTACH;FMTTYPE=image/jpeg:https://disfruta-denia.com/wp-content/uploads/2023/10/image_6487327.jpg
END:VEVENT
BEGIN:VEVENT
DTSTART;TZID=Europe/Madrid:20250310T203000
DTEND;TZID=Europe/Madrid:20250310T203000
DTSTAMP:20260421T113305
CREATED:20230912T174836Z
LAST-MODIFIED:20230912T174838Z
UID:10011488-1741638600-1741638600@disfruta-denia.com
SUMMARY:Tardeo con Marce Pesoa
DESCRIPTION:Esta noche. Tonight. \nLive music 20.30h. \nMarce Pesoa en The Speak Dénia. \nTacos\, Cocktails\, Parrilla \n& la mejor musica 🔥🤘 \nReservas: 675753879 \nLet’s #funmonday today!
URL:https://disfruta-denia.com/evento/tardeo-con-marce-pesoa-2/2025-03-10/
LOCATION:The Speak Denia\, Carrer del Pont\, 19\, Denia\, Alicante\, 03700\, España
CATEGORIES:Concierto,Música,Tardeo
ATTACH;FMTTYPE=image/jpeg:https://disfruta-denia.com/wp-content/uploads/2023/06/IMG-20230619-WA0000.jpg
END:VEVENT
BEGIN:VEVENT
DTSTART;TZID=Europe/Madrid:20250310T200000
DTEND;TZID=Europe/Madrid:20250310T200000
DTSTAMP:20260421T113305
CREATED:20250306T092843Z
LAST-MODIFIED:20250306T092843Z
UID:10020544-1741636800-1741636800@disfruta-denia.com
SUMMARY:Dilluns amb Jazz: Thilo Wagner & Friends
DESCRIPTION:Wagner\, es uno de los pianistas más prestigiosos en el mundo del jazz clásico. Muy valorado por su exquisito estilo pianístico\, es de los más demandados por su capacidad de brillar como solista a la vez que integrarse en cualquier contexto jazzístico. \nEntrada 15 €. Anticipada online en https://www.notikumi.com – Llibreria Públics.  \nEn taquilla el mateix dia una hora abans / el mismo día en taquilla una hora antes. \nOrganitza/Organiza: Snibor producciones
URL:https://disfruta-denia.com/evento/dilluns-amb-jazz-thilo-wagner-friends-2/
LOCATION:Casa de la Cultura Denia\, Plaça Jaume I\, Denia\, Alicante\, 03700\, España
CATEGORIES:Concierto,Jazz,Música
ATTACH;FMTTYPE=image/png:https://disfruta-denia.com/wp-content/uploads/2025/03/9-Dilluns-amb-jazz-1.png
END:VEVENT
END:VCALENDAR