BEGIN:VCALENDAR
VERSION:2.0
PRODID:-//Disfruta Denia - ECPv6.15.20//NONSGML v1.0//EN
CALSCALE:GREGORIAN
METHOD:PUBLISH
X-WR-CALNAME:Disfruta Denia
X-ORIGINAL-URL:https://disfruta-denia.com
X-WR-CALDESC:Eventos para Disfruta Denia
REFRESH-INTERVAL;VALUE=DURATION:PT1H
X-Robots-Tag:noindex
X-PUBLISHED-TTL:PT1H
BEGIN:VTIMEZONE
TZID:Europe/Madrid
BEGIN:DAYLIGHT
TZOFFSETFROM:+0100
TZOFFSETTO:+0200
TZNAME:CEST
DTSTART:20250330T010000
END:DAYLIGHT
BEGIN:STANDARD
TZOFFSETFROM:+0200
TZOFFSETTO:+0100
TZNAME:CET
DTSTART:20251026T010000
END:STANDARD
BEGIN:DAYLIGHT
TZOFFSETFROM:+0100
TZOFFSETTO:+0200
TZNAME:CEST
DTSTART:20260329T010000
END:DAYLIGHT
BEGIN:STANDARD
TZOFFSETFROM:+0200
TZOFFSETTO:+0100
TZNAME:CET
DTSTART:20261025T010000
END:STANDARD
BEGIN:DAYLIGHT
TZOFFSETFROM:+0100
TZOFFSETTO:+0200
TZNAME:CEST
DTSTART:20270328T010000
END:DAYLIGHT
BEGIN:STANDARD
TZOFFSETFROM:+0200
TZOFFSETTO:+0100
TZNAME:CET
DTSTART:20271031T010000
END:STANDARD
END:VTIMEZONE
BEGIN:VEVENT
DTSTART;TZID=Europe/Madrid:20260321T235900
DTEND;TZID=Europe/Madrid:20260321T235900
DTSTAMP:20260422T035837
CREATED:20260315T164152Z
LAST-MODIFIED:20260315T164154Z
UID:10025702-1774137540-1774137540@disfruta-denia.com
SUMMARY:Concierto Pop rock Indie
DESCRIPTION:El concierto comienza a las 00h30
URL:https://disfruta-denia.com/evento/concierto-lo-mejor-del-pop-2-2-2-2-2-2/
LOCATION:La Chica de ayer\, Calle la mar 30\, Denia\, Alicante\, 03700\, España
CATEGORIES:Concierto,Música,Ocio nocturno
ATTACH;FMTTYPE=image/jpeg:https://disfruta-denia.com/wp-content/uploads/2026/03/e2f15e46-6f0d-4839-bd5b-756c8a1175ee.jpg
END:VEVENT
BEGIN:VEVENT
DTSTART;TZID=Europe/Madrid:20260321T213000
DTEND;TZID=Europe/Madrid:20260321T213000
DTSTAMP:20260422T035837
CREATED:20260316T080639Z
LAST-MODIFIED:20260316T080639Z
UID:10020001-1774128600-1774128600@disfruta-denia.com
SUMMARY:Sábado concierto en Rebeldía Blues
DESCRIPTION:🎶🔥 THE BLOOSTERS blues band en Rebeldía Blues 🔥🎶\n\nEl sábado 21 de marzo disfruta de una gran noche de blues y rhythm & blues con THE BLOOSTERS blues band 🎸🔥\n\nUn concierto lleno de groove\, buen rollo y el auténtico sonido del blues en directo para vivir un sábado con mucha música.\n\n🗓 Sábado 21 de marzo\n🕤 Desde las 21:30 h\n\n🎟 Entrada: 5€\n\n📍 Rebeldía Blues – Dénia\n\n🎧 Después del concierto… la noche continúa con DJ Ismael Monsonis
URL:https://disfruta-denia.com/evento/sabado-concierto-en-rebeldia-blues-3-2-10-3-3-2-8-3-2-2-2-2-2-2-2-2-2-2-2-2-2-2-2-2-2-2-3-2-3-2-2-2-2-2-2/
LOCATION:Rebeldia Blues\, Carr. de Dénia A Xábia\, 3G\, Denia\, Alicante\, 03700\, España
CATEGORIES:Jazz,Música
ATTACH;FMTTYPE=image/jpeg:https://disfruta-denia.com/wp-content/uploads/2026/03/ba4292b9-a667-417e-9017-9456c3eff9dc.jpg
END:VEVENT
BEGIN:VEVENT
DTSTART;TZID=Europe/Madrid:20260321T193000
DTEND;TZID=Europe/Madrid:20260321T193000
DTSTAMP:20260422T035837
CREATED:20260315T164143Z
LAST-MODIFIED:20260315T164145Z
UID:10024577-1774121400-1774121400@disfruta-denia.com
SUMMARY:Concierto tardeo en La Chica de Ayer
DESCRIPTION:
URL:https://disfruta-denia.com/evento/concierto-tardeo-en-la-chica-de-ayer-4-3-2-2-2-2-2-2-2-2-2-2/
LOCATION:La Chica de ayer\, Calle la mar 30\, Denia\, Alicante\, 03700\, España
CATEGORIES:Concierto,Música,Tardeo
ATTACH;FMTTYPE=image/jpeg:https://disfruta-denia.com/wp-content/uploads/2026/03/e2f15e46-6f0d-4839-bd5b-756c8a1175ee.jpg
END:VEVENT
BEGIN:VEVENT
DTSTART;TZID=Europe/Madrid:20260321T114500
DTEND;TZID=Europe/Madrid:20260321T114500
DTSTAMP:20260422T035837
CREATED:20260220T090101Z
LAST-MODIFIED:20260220T090101Z
UID:10026536-1774093500-1774093500@disfruta-denia.com
SUMMARY:PRESENTACIÓN LIBRO : A LA SOMBRA DEL TANGO
DESCRIPTION:e Vicente Barberá Albalat.  \nEntrada: lliure fins a completar aforament / libre hasta completar aforo. \nOrganitza/organiza: Poetes per la Cultura. Col·labora / colabora: Ajuntament de Dénia. Cultura
URL:https://disfruta-denia.com/evento/presentacion-libro-a-la-sombra-del-tango/
LOCATION:Casa de la Cultura Denia\, Plaça Jaume I\, Denia\, Alicante\, 03700\, España
CATEGORIES:Cultura,Presentación
ATTACH;FMTTYPE=image/png:https://disfruta-denia.com/wp-content/uploads/2026/02/11-llibre-dia-21.png
END:VEVENT
BEGIN:VEVENT
DTSTART;TZID=Europe/Madrid:20260320T235900
DTEND;TZID=Europe/Madrid:20260320T235900
DTSTAMP:20260422T035837
CREATED:20260315T164128Z
LAST-MODIFIED:20260315T164131Z
UID:10025365-1774051140-1774051140@disfruta-denia.com
SUMMARY:Concierto tributo 80-90
DESCRIPTION:El concierto empieza las 00h30
URL:https://disfruta-denia.com/evento/concierto-tributo-80-90-2-2-2-2-2-2/
LOCATION:La Chica de ayer\, Calle la mar 30\, Denia\, Alicante\, 03700\, España
CATEGORIES:Concierto,Música,Ocio nocturno
ATTACH;FMTTYPE=image/jpeg:https://disfruta-denia.com/wp-content/uploads/2026/03/d204b395-7e4f-45ec-97ce-2f54cf151e29.jpg
END:VEVENT
BEGIN:VEVENT
DTSTART;TZID=Europe/Madrid:20260320T235500
DTEND;TZID=Europe/Madrid:20260320T235500
DTSTAMP:20260422T035837
CREATED:20251030T130835Z
LAST-MODIFIED:20260320T103902Z
UID:10026832-1774050900-1774050900@disfruta-denia.com
SUMMARY:Concierto: Star on Years
DESCRIPTION:
URL:https://disfruta-denia.com/evento/concierto-star-on-years-4/2026-03-20/
LOCATION:Paddy O’Connell Denia\, Calle de la Mar\, 20\, Denia\, Alicante\, 03700\, España
CATEGORIES:Concierto,Música,Ocio nocturno
ATTACH;FMTTYPE=image/png:https://disfruta-denia.com/wp-content/uploads/2025/10/Instagram-03-20-2026_11_37_AM.png
END:VEVENT
BEGIN:VEVENT
DTSTART;TZID=Europe/Madrid:20260320T213000
DTEND;TZID=Europe/Madrid:20260320T213000
DTSTAMP:20260422T035837
CREATED:20260316T080714Z
LAST-MODIFIED:20260316T080715Z
UID:10019741-1774042200-1774042200@disfruta-denia.com
SUMMARY:Concierto de Viernes en Rebeldía Blues
DESCRIPTION:🎸🔥 DOUBLE TROUBLE en Rebeldía Blues 🔥🎸\n\nEste viernes 20 de marzo llega a Rebeldía Blues DOUBLE TROUBLE con una potente noche de classic rock & smooth rock ⚡🎤\n\nGrandes clásicos\, guitarras potentes y una energía brutal sobre el escenario para disfrutar del rock como se merece 🤘🔥\n\nUna noche para cantar\, bailar y revivir los mejores himnos del rock en directo.\n\n🗓 Viernes 20 de marzo\n🕤 Desde las 21:30 h\n🎟 Entrada libre\n📍 Rebeldía Blues – Dénia\n\n🎧 Después del concierto… seguimos la fiesta con DJ Ismael Monsonis
URL:https://disfruta-denia.com/evento/concierto-de-viernes-en-rebeldia-blues-3-3-10-3-3-3-2-9-2-2-3-2-2-2-2-2-2-2-2-2-2-3-2-2-2-2-2-2-2-2-2-2-2-2-2-2/
LOCATION:Rebeldia Blues\, Carr. de Dénia A Xábia\, 3G\, Denia\, Alicante\, 03700\, España
CATEGORIES:Jazz,Música
ATTACH;FMTTYPE=image/jpeg:https://disfruta-denia.com/wp-content/uploads/2026/03/089d0e2f-af1a-48c2-8db6-9002495c3916.jpg
END:VEVENT
BEGIN:VEVENT
DTSTART;TZID=Europe/Madrid:20260320T200000
DTEND;TZID=Europe/Madrid:20260320T200000
DTSTAMP:20260422T035837
CREATED:20260315T164118Z
LAST-MODIFIED:20260315T164122Z
UID:10026094-1774036800-1774036800@disfruta-denia.com
SUMMARY:Concierto Afterwork en La Chica de Ayer
DESCRIPTION:
URL:https://disfruta-denia.com/evento/concierto-afterwork-en-la-chica-de-ayer-3-2-2-2-2-2-2-2-2-2-2/
LOCATION:La Chica de ayer\, Calle la mar 30\, Denia\, Alicante\, 03700\, España
CATEGORIES:Concierto,Música
ATTACH;FMTTYPE=image/jpeg:https://disfruta-denia.com/wp-content/uploads/2026/03/d204b395-7e4f-45ec-97ce-2f54cf151e29.jpg
END:VEVENT
BEGIN:VEVENT
DTSTART;TZID=Europe/Madrid:20260319T210000
DTEND;TZID=Europe/Madrid:20260319T210000
DTSTAMP:20260422T035837
CREATED:20251126T080051Z
LAST-MODIFIED:20251126T080052Z
UID:10016704-1773954000-1773954000@disfruta-denia.com
SUMMARY:Karaoké en Rebeldía Blues
DESCRIPTION:Karaoké en Rebeldía Blues
URL:https://disfruta-denia.com/evento/karaoke-en-rebeldia-blues-4-2-2-2-2-2-4-2-2/2026-03-19/
LOCATION:Rebeldia Blues\, Carr. de Dénia A Xábia\, 3G\, Denia\, Alicante\, 03700\, España
CATEGORIES:Karaoké,Música
ATTACH;FMTTYPE=image/jpeg:https://disfruta-denia.com/wp-content/uploads/2025/11/8d230c5f-3bf9-49cf-abc3-d73a7ed23d68.jpg
END:VEVENT
BEGIN:VEVENT
DTSTART;TZID=Europe/Madrid:20260319T203000
DTEND;TZID=Europe/Madrid:20260319T203000
DTSTAMP:20260422T035837
CREATED:20260226T091701Z
LAST-MODIFIED:20260228T124128Z
UID:10026605-1773952200-1773952200@disfruta-denia.com
SUMMARY:Concierto en Café Marin
DESCRIPTION:
URL:https://disfruta-denia.com/evento/concierto-en-cafe-marin-3/2026-03-19/
LOCATION:Café Marin\, Centro Comercial El Poblet\, Carr. de les Marines a Dénia\, 71\, Denia\, 03700\, España
CATEGORIES:Concierto,Música
ATTACH;FMTTYPE=image/jpeg:https://disfruta-denia.com/wp-content/uploads/2026/02/84CCD82D-30D3-42D6-9557-4EE6279D1A4E-scaled.jpg
END:VEVENT
BEGIN:VEVENT
DTSTART;TZID=Europe/Madrid:20260319T093000
DTEND;TZID=Europe/Madrid:20260319T093000
DTSTAMP:20260422T035837
CREATED:20251218T163752Z
LAST-MODIFIED:20260227T104533Z
UID:10022101-1773912600-1773912600@disfruta-denia.com
SUMMARY:Denia camina
DESCRIPTION:🚶‍♀️ ¡Dénia Camina vuelve a caminar!\n¿Y tú\, te animas?\nMartes y jueves a las 9:30 h desde el Centro de Salud Joan Fuster\, con nuevas salidas temáticas y culturales para disfrutar caminando. \nℹ️ + info en el 618 945 344 o en esports.denia.es \nTambién:\n➡️La Xara Camina (dos viernes al mes).\n➡️Jesús Pobre Camina (los otros dos viernes). \nActividad gratuita y abierta a todas y todos
URL:https://disfruta-denia.com/evento/denia-camina-2/2026-03-19/
LOCATION:Denia\, Denia\, Alicante\, 03700\, España
CATEGORIES:Deporte
ATTACH;FMTTYPE=image/png:https://disfruta-denia.com/wp-content/uploads/2025/09/Instagram-09-05-2025_11_31_AM.png
END:VEVENT
BEGIN:VEVENT
DTSTART;TZID=Europe/Madrid:20260318T203000
DTEND;TZID=Europe/Madrid:20260318T203000
DTSTAMP:20260422T035837
CREATED:20240414T124150Z
LAST-MODIFIED:20240414T124150Z
UID:10018012-1773865800-1773865800@disfruta-denia.com
SUMMARY:Miércoles latinos\, miércoles clandestinos
DESCRIPTION:Miércoles latinos\, miércoles clandestinos  Cada miércoles a las 20.30h tenemos una cita con Madelyn Torroella a ritmo cubano!! Voz\, percusión y versiones de salsa clásica\, cada miércoles\, en el Speak. Parrillada\, tacos\, tapas\, cocktails & música. Reserva tu mesa
URL:https://disfruta-denia.com/evento/miercoles-latinos-miercoles-clandestinos/2026-03-18/
LOCATION:The Speak Denia\, Carrer del Pont\, 19\, Denia\, Alicante\, 03700\, España
CATEGORIES:Concierto,Música
ATTACH;FMTTYPE=image/jpeg:https://disfruta-denia.com/wp-content/uploads/2024/04/434468313_1159701198651630_4992165217264460198_n.jpg
END:VEVENT
BEGIN:VEVENT
DTSTART;TZID=Europe/Madrid:20260318T200000
DTEND;TZID=Europe/Madrid:20260318T233000
DTSTAMP:20260422T035837
CREATED:20230612T102803Z
LAST-MODIFIED:20230612T102804Z
UID:10009082-1773864000-1773876600@disfruta-denia.com
SUMMARY:Autocine: día del espectador
DESCRIPTION:
URL:https://disfruta-denia.com/evento/autocine-dia-del-espectador-3/2026-03-18/
LOCATION:Autociné Denia\, Partida Deveses D\, 27\, Denia\, Alicante\, 03700\, España
CATEGORIES:Ciné,Cultura
ATTACH;FMTTYPE=image/jpeg:https://disfruta-denia.com/wp-content/uploads/2022/11/Autocine-Drive-In-Denia-1.jpg
END:VEVENT
BEGIN:VEVENT
DTSTART;TZID=Europe/Madrid:20260318T200000
DTEND;TZID=Europe/Madrid:20260318T220000
DTSTAMP:20260422T035837
CREATED:20260310T110738Z
LAST-MODIFIED:20260310T110738Z
UID:10026798-1773864000-1773871200@disfruta-denia.com
SUMMARY:Tardeo faller
DESCRIPTION:La semana grande de las Fallas de Dénia 2026 se acerca y\, con ella\, un amplio programa de actividades que llenará la ciudad de música\, pólvora y ambiente festivo. A los numerosos actos ya previstos durante esos días se suma ahora una nueva propuesta musical organizada por el departamento de Fiestas para animar la tarde-noche del miércoles 18 de marzo. \nEl Ayuntamiento ha preparado un concierto en formato “tardeo” que tendrá lugar en la plaza de María Hervás\, entre las 20:00 y las 22:00 horas\, con el objetivo de complementar la programación fallera y ofrecer una nueva oportunidad para disfrutar de la música en directo en pleno ambiente festivo. \nLa actuación correrá a cargo de Star on Years\, una banda formada por músicos de la propia ciudad. El grupo interpretará un repertorio de grandes éxitos del pop y el rock\, pensado para animar la velada y acompañar a falleros\, vecinos y visitantes durante una de las jornadas centrales de las fiestas. \nCon esta iniciativa\, el departamento de Fiestas continúa ampliando la oferta cultural y de ocio de las Fallas de 2026\, incorporando propuestas musicales que contribuyen a dinamizar los espacios públicos y a reforzar el ambiente festivo que caracteriza estos días en Dénia.
URL:https://disfruta-denia.com/evento/tardeo-faller/
LOCATION:Plaza María Hervás\, Carrer del Marqués de Campo\, 52\, Denia\, 03700\, España
CATEGORIES:Concierto,Música
ATTACH;FMTTYPE=image/jpeg:https://disfruta-denia.com/wp-content/uploads/2026/03/WhatsApp-Image-2026-03-09-at-11.13.30.jpeg
END:VEVENT
BEGIN:VEVENT
DTSTART;TZID=Europe/Madrid:20260318T193000
DTEND;TZID=Europe/Madrid:20260318T193000
DTSTAMP:20260422T035837
CREATED:20260224T094018Z
LAST-MODIFIED:20260224T094019Z
UID:10026575-1773862200-1773862200@disfruta-denia.com
SUMMARY:Cine: The Thinking Game (2024)
DESCRIPTION:LÍNEA DOCUMENTAL\n\n\n\n\n\n\n\n\n\n\n\n\n11 FEBRERO—15 ABRIL\n\n\n\n\n\n\n\n\n\n\n\n\nLa Línea Documental lleva a Códigos del Arte el cine documental más potente del mundo: clásicos icónicos\, cortometrajes audaces y los favoritos de festivales de todos los rincones. \n\n\n\n\n\n\n\n\n\n\n\n\n\n\n\n\n\n\nPROGRAMA\n\n\n\n\n\n\n\n\n\n\n\n\n  \n\n\nCortos: Ritmos Urbanos\nfebrero 25 — 19:30\n\nEl Hombre de la Cámara (1929)\nmarzo 4 — 19:30\n\nForest of Bliss (1986)\nmarzo 11 — 19:30\n\nThe Thinking Game (2024)\nmarzo 18 — 19:30\n\nCortos: Almas en Movimiento\nmarzo 25 — 19:30\n\nNanook of the North (1922)\nabril 8 — 19:30\n\nLife in a Day (2021)\nabril 15 — 19:30
URL:https://disfruta-denia.com/evento/cine-en-codigos-2/
LOCATION:Códigos del Arte\, Carreró de Morant\, 8\, Dénia\, 03700\, España
CATEGORIES:Ciné,Cultura
ATTACH;FMTTYPE=image/jpeg:https://disfruta-denia.com/wp-content/uploads/2026/02/026CFB35-35B6-40C9-A8B0-CA1E664337B9.jpg
END:VEVENT
BEGIN:VEVENT
DTSTART;TZID=Europe/Madrid:20260318T193000
DTEND;TZID=Europe/Madrid:20260318T193000
DTSTAMP:20260422T035837
CREATED:20250603T094354Z
LAST-MODIFIED:20250603T094354Z
UID:10021352-1773862200-1773862200@disfruta-denia.com
SUMMARY:Encuentros en Códigos
DESCRIPTION:​¡Bienvenidos a Encuentros en Códigos\, el Meetup internacional semanal en Códigos del Arte!\nNos reunimos todos los miércoles a partir de las 19:30 — toma algo\, relájate\, y disfruta de una buena conversación.\nTodos los miércoles – 19:30\nEntrada: Gratuita
URL:https://disfruta-denia.com/evento/encuentros-en-codigos/2026-03-18/
LOCATION:Códigos del Arte\, Carreró de Morant\, 8\, Dénia\, 03700\, España
CATEGORIES:Tardeo
ATTACH;FMTTYPE=image/png:https://disfruta-denia.com/wp-content/uploads/2025/06/Codigos-del-Arte-20.png
END:VEVENT
BEGIN:VEVENT
DTSTART;TZID=Europe/Madrid:20260318T190000
DTEND;TZID=Europe/Madrid:20260318T210000
DTSTAMP:20260422T035837
CREATED:20260128T085100Z
LAST-MODIFIED:20260128T085100Z
UID:10008399-1773860400-1773867600@disfruta-denia.com
SUMMARY:Tardeo en Basta
DESCRIPTION:
URL:https://disfruta-denia.com/evento/tardeo-en-basta-3-3-2/2026-03-18/
LOCATION:Basta Lounge Bar\, Marina de Dénia\, Local C2\, Denia\, Valencian Community\, 03700\, España
CATEGORIES:Concierto,Música,Tardeo
ATTACH;FMTTYPE=image/jpeg:https://disfruta-denia.com/wp-content/uploads/2023/11/622742350_1496613362465887_1711052853307817582_n.jpg
END:VEVENT
BEGIN:VEVENT
DTSTART;TZID=Europe/Madrid:20260318T190000
DTEND;TZID=Europe/Madrid:20260318T210000
DTSTAMP:20260422T035837
CREATED:20260106T091208Z
LAST-MODIFIED:20260106T091208Z
UID:10025977-1773860400-1773867600@disfruta-denia.com
SUMMARY:XXVI Escuela de Familias Educando para prevenir
DESCRIPTION:Esta XXVI edición pone el foco en las necesidades actuales de niños\, adolescentes y jóvenes\, ofreciendo herramientas prácticas y reflexiones útiles para el día a día familiar. Todo el ciclo está conducido por profesionales del ámbito de la psicología\, trabajo social y prevención\, con experiencia directa en centros educativos y recursos especializados del territorio. \nUn recorrido en cinco sesiones \nLa Escuela de Familias se desarrollará en cinco encuentros que tendrán lugar los miércoles 14\, 21 y 28 de enero y 4 y 11 de febrero de 2026\, de 19 a 21 horas\, en el IES Historiador Chabàs de Dénia. \nA lo largo de estas sesiones se trabajarán los siguientes contenidos: \n\nEl crecimiento y desarrollo de las hijas e hijos en las distintas etapas evolutivas.\nLa importancia de comunicarse mejor en familia y de construir relaciones de confianza.\nLos límites y estilos parentales que favorecen una sana convivencia.\nLa salud mental y las estrategias para promover el bienestar socioemocional.\nLos riesgos asociados a las adicciones desde una perspectiva preventiva y educativa.\nUna apuesta por la prevención desde casa\n\nDesde la UPCCA de Denia se recuerda que la familia es un pilar fundamental en la prevención. Contar con información\, soporte y espacios de formación reflexivos para reforzar vínculos\, anticipar riesgos\, y acompañar mejor los procesos de crecimiento. \nLa actividad es gratuita y está abierta a todas las familias interesadas\, tengan hijos pequeños\, adolescentes o jóvenes ya que el vínculo y el acompañamiento están ahí desde el momento del nacimiento. \nInscripciones abiertas \nPara participar es necesario facilitar nombre y apellidos\, teléfono y correo electrónico a través de: \n\nTeléfono o WhatsApp: 628 076 449\nCorreo electrónico: upccadenia@ayto-denia.es\nRedes sociales: @UPCCAdenia\nFormulario de inscripción mediante QR del cartel
URL:https://disfruta-denia.com/evento/xxvi-escuela-de-familias-educando-para-prevenir/2026-03-18/
LOCATION:IES Historiador Chabàs\, Carrer Metge Manuel Vallalta\, 3\, Denia\, 03700\, España
ATTACH;FMTTYPE=image/png:https://disfruta-denia.com/wp-content/uploads/2026/01/7564f1.png
END:VEVENT
BEGIN:VEVENT
DTSTART;TZID=Europe/Madrid:20260317T200000
DTEND;TZID=Europe/Madrid:20260317T200000
DTSTAMP:20260422T035837
CREATED:20260315T091111Z
LAST-MODIFIED:20260315T091111Z
UID:10026824-1773777600-1773777600@disfruta-denia.com
SUMMARY:St Patrick en el Paddy
DESCRIPTION:
URL:https://disfruta-denia.com/evento/st-patrick-en-el-paddy/
LOCATION:Paddy O’Connell Denia\, Calle de la Mar\, 20\, Denia\, Alicante\, 03700\, España
CATEGORIES:Concierto,Música,Tardeo
ATTACH;FMTTYPE=image/jpeg:https://disfruta-denia.com/wp-content/uploads/2026/03/651698448_1538383071622249_3366199520793549038_n.jpg
END:VEVENT
BEGIN:VEVENT
DTSTART;TZID=Europe/Madrid:20260317T093000
DTEND;TZID=Europe/Madrid:20260317T093000
DTSTAMP:20260422T035837
CREATED:20251218T163752Z
LAST-MODIFIED:20260227T104533Z
UID:10022100-1773739800-1773739800@disfruta-denia.com
SUMMARY:Denia camina
DESCRIPTION:🚶‍♀️ ¡Dénia Camina vuelve a caminar!\n¿Y tú\, te animas?\nMartes y jueves a las 9:30 h desde el Centro de Salud Joan Fuster\, con nuevas salidas temáticas y culturales para disfrutar caminando. \nℹ️ + info en el 618 945 344 o en esports.denia.es \nTambién:\n➡️La Xara Camina (dos viernes al mes).\n➡️Jesús Pobre Camina (los otros dos viernes). \nActividad gratuita y abierta a todas y todos
URL:https://disfruta-denia.com/evento/denia-camina-2/2026-03-17/
LOCATION:Denia\, Denia\, Alicante\, 03700\, España
CATEGORIES:Deporte
ATTACH;FMTTYPE=image/png:https://disfruta-denia.com/wp-content/uploads/2025/09/Instagram-09-05-2025_11_31_AM.png
END:VEVENT
BEGIN:VEVENT
DTSTART;TZID=Europe/Madrid:20260316T203000
DTEND;TZID=Europe/Madrid:20260316T203000
DTSTAMP:20260422T035837
CREATED:20260307T125319Z
LAST-MODIFIED:20260307T125319Z
UID:10011541-1773693000-1773693000@disfruta-denia.com
SUMMARY:Tardeo con Marce Pesoa
DESCRIPTION:Esta noche. Tonight. \nLive music 20.30h. \nMarce Pesoa en The Speak Dénia. \nTacos\, Cocktails\, Parrilla \n& la mejor musica 🔥🤘 \nReservas: 675753879 \nLet’s #funmonday today!
URL:https://disfruta-denia.com/evento/tardeo-con-marce-pesoa-2-2/2026-03-16/
LOCATION:The Speak Denia\, Carrer del Pont\, 19\, Denia\, Alicante\, 03700\, España
CATEGORIES:Concierto,Música,Tardeo
ATTACH;FMTTYPE=image/jpeg:https://disfruta-denia.com/wp-content/uploads/2023/06/IMG-20230619-WA0000.jpg
END:VEVENT
BEGIN:VEVENT
DTSTART;TZID=Europe/Madrid:20260316T203000
DTEND;TZID=Europe/Madrid:20260316T203000
DTSTAMP:20260422T035837
CREATED:20260226T091701Z
LAST-MODIFIED:20260228T124128Z
UID:10026604-1773693000-1773693000@disfruta-denia.com
SUMMARY:Concierto en Café Marin
DESCRIPTION:
URL:https://disfruta-denia.com/evento/concierto-en-cafe-marin-3/2026-03-16/
LOCATION:Café Marin\, Centro Comercial El Poblet\, Carr. de les Marines a Dénia\, 71\, Denia\, 03700\, España
CATEGORIES:Concierto,Música
ATTACH;FMTTYPE=image/jpeg:https://disfruta-denia.com/wp-content/uploads/2026/02/84CCD82D-30D3-42D6-9557-4EE6279D1A4E-scaled.jpg
END:VEVENT
BEGIN:VEVENT
DTSTART;TZID=Europe/Madrid:20260315T235900
DTEND;TZID=Europe/Madrid:20260315T235900
DTSTAMP:20260422T035837
CREATED:20260315T164317Z
LAST-MODIFIED:20260315T164317Z
UID:10026829-1773619140-1773619140@disfruta-denia.com
SUMMARY:Concierto On Fire LCDA
DESCRIPTION:El concierto empieza a las 00:30
URL:https://disfruta-denia.com/evento/concierto-on-fire-lcda/
LOCATION:La Chica de ayer\, Calle la mar 30\, Denia\, Alicante\, 03700\, España
CATEGORIES:Concierto,Música,Ocio nocturno
ATTACH;FMTTYPE=image/jpeg:https://disfruta-denia.com/wp-content/uploads/2026/03/b3dd40c4-e4b7-4963-8162-0b36edf0f5df.jpg
END:VEVENT
BEGIN:VEVENT
DTSTART;TZID=Europe/Madrid:20260315T203000
DTEND;TZID=Europe/Madrid:20260315T203000
DTSTAMP:20260422T035837
CREATED:20260226T091701Z
LAST-MODIFIED:20260228T124128Z
UID:10026603-1773606600-1773606600@disfruta-denia.com
SUMMARY:Concierto en Café Marin
DESCRIPTION:
URL:https://disfruta-denia.com/evento/concierto-en-cafe-marin-3/2026-03-15/
LOCATION:Café Marin\, Centro Comercial El Poblet\, Carr. de les Marines a Dénia\, 71\, Denia\, 03700\, España
CATEGORIES:Concierto,Música
ATTACH;FMTTYPE=image/jpeg:https://disfruta-denia.com/wp-content/uploads/2026/02/84CCD82D-30D3-42D6-9557-4EE6279D1A4E-scaled.jpg
END:VEVENT
BEGIN:VEVENT
DTSTART;TZID=Europe/Madrid:20260315T190000
DTEND;TZID=Europe/Madrid:20260315T190000
DTSTAMP:20260422T035837
CREATED:20260220T085835Z
LAST-MODIFIED:20260220T085835Z
UID:10026535-1773601200-1773601200@disfruta-denia.com
SUMMARY:Cineclub: VALOR SENTIMENTAL
DESCRIPTION:Dir.: Joachim Trier. 2025\, Noruega\, 135 min.   V.O en noruec\, anglès i francés / noruego\, inglés y francés. Subtitulada en castellà/castellano. Recomanada / recomendada + 12 anys/años \nEntrada: 3 € en www.notikumi.com. En taquilla: el mateix dia una hora abans/el mismo día una hora antes.
URL:https://disfruta-denia.com/evento/cineclub-valor-sentimental/
LOCATION:Teatro Auditorio Centro Social\, 4 Carrer Calderón\, Dénia\, VC\, 03700\, Spain
CATEGORIES:Ciné,Cultura
ATTACH;FMTTYPE=image/png:https://disfruta-denia.com/wp-content/uploads/2026/02/2-Cineclub-general.png
END:VEVENT
BEGIN:VEVENT
DTSTART;TZID=Europe/Madrid:20260315T180000
DTEND;TZID=Europe/Madrid:20260315T180000
DTSTAMP:20260422T035837
CREATED:20260312T071016Z
LAST-MODIFIED:20260312T071019Z
UID:10025098-1773597600-1773597600@disfruta-denia.com
SUMMARY:Best of versiones en La Chica de Ayer
DESCRIPTION:
URL:https://disfruta-denia.com/evento/domingos-acusticos-en-la-chica-de-ayer-5-2-2-2-2-2-2-2/
LOCATION:La Chica de ayer\, Calle la mar 30\, Denia\, Alicante\, 03700\, España
CATEGORIES:Concierto,Música,Tardeo
ATTACH;FMTTYPE=image/jpeg:https://disfruta-denia.com/wp-content/uploads/2026/03/b566e6e2-930d-4303-9788-a3b33e9d25b4.jpeg
END:VEVENT
BEGIN:VEVENT
DTSTART;TZID=Europe/Madrid:20260315T160000
DTEND;TZID=Europe/Madrid:20260315T160000
DTSTAMP:20260422T035837
CREATED:20260310T121244Z
LAST-MODIFIED:20260310T121245Z
UID:10022801-1773590400-1773590400@disfruta-denia.com
SUMMARY:Tardeos live Mr Fisher
DESCRIPTION:El 15 de marzo\, Carlos & Kelly nos acompañan para un tardeo con voz\, energía y ese punto especial que cambia la tarde. Nos vemos en MR FISHER. 
URL:https://disfruta-denia.com/evento/tardeos-live-mr-fisher-2-2-2-2-4-2-2-2-2-2/2026-03-15/
LOCATION:Mr Fisher\, Moll de La Pansa s/n. Marina El Portet\, Denia\, Alicante\, 03700\, España
CATEGORIES:Concierto,Música,Tardeo
ATTACH;FMTTYPE=image/jpeg:https://disfruta-denia.com/wp-content/uploads/2026/03/647407493_1344176860849358_9113141035845385676_n.jpg
END:VEVENT
BEGIN:VEVENT
DTSTART;TZID=Europe/Madrid:20260315T120000
DTEND;TZID=Europe/Madrid:20260315T120000
DTSTAMP:20260422T035837
CREATED:20260220T085535Z
LAST-MODIFIED:20260220T111551Z
UID:10026534-1773576000-1773576000@disfruta-denia.com
SUMMARY:Cine en familia: SUPER MARIO BROS
DESCRIPTION:Any / año  2023. 92’. En valencià / valenciano. \nRecomanada / recomendada  TP  \nEntrada: lliure limitada a l’aforament del local / libre limitada al aforo del local.
URL:https://disfruta-denia.com/evento/cine-en-familia-super-mario-bros/
LOCATION:Teatro Auditorio Centro Social\, 4 Carrer Calderón\, Dénia\, VC\, 03700\, Spain
CATEGORIES:Ciné,Cultura
ATTACH;FMTTYPE=image/png:https://disfruta-denia.com/wp-content/uploads/2026/02/familia-dia-15.png
END:VEVENT
BEGIN:VEVENT
DTSTART;TZID=Europe/Madrid:20260315T093000
DTEND;TZID=Europe/Madrid:20260315T140000
DTSTAMP:20260422T035837
CREATED:20260123T121555Z
LAST-MODIFIED:20260123T121555Z
UID:10023105-1773567000-1773583200@disfruta-denia.com
SUMMARY:Mercat del Autocine
DESCRIPTION:¡ La mejor música blues estará este domingo 25 en el Autocine Drive In de Dénia con la actuación en directo de BIG HOLLERS! Si eres amante de la buena música\, el buen ambiente y los planes diferentes\, no te puedes perder el Mercat de l’Autocine. Descubre un pequeño Mercado con artesanos y productores selectos\, una amplia oferta de artículos de rastro y un ambiente genial y apto para toda la familia. Zona infantil para que los más pequeños también se lo pasen en grande! Autocine Drive In Dénia – Final de la Carretera de Les Marines Abierto desde las 9:30 h Música en directo a partir de las 11:30 h Acceso libre y aparcamiento disponible ¡Ven a vivir un domingo diferente y disfruta de la vida! 
URL:https://disfruta-denia.com/evento/mercat-del-autocine-2-2-2-3/2026-03-15/
LOCATION:Autociné Denia\, Partida Deveses D\, 27\, Denia\, Alicante\, 03700\, España
CATEGORIES:Concierto,Gastronomía,Mercado,Música
ATTACH;FMTTYPE=image/jpeg:https://disfruta-denia.com/wp-content/uploads/2025/11/619185631_1400783535172886_178185546401561331_n.jpg
END:VEVENT
BEGIN:VEVENT
DTSTART;TZID=Europe/Madrid:20260315T090000
DTEND;TZID=Europe/Madrid:20260315T140000
DTSTAMP:20260422T035837
CREATED:20260220T111354Z
LAST-MODIFIED:20260307T125226Z
UID:10022540-1773565200-1773583200@disfruta-denia.com
SUMMARY:Mercat del Riurau Jesus Pobre
DESCRIPTION:¡Momentos únicos en el Mercat del Riurau!  Ven a disfrutar de un buen almuerzo al solecito\, música y la autenticidad de los productos locales. A partir de las 12:00 h nos acompañará “Deler Duo”\, para darle un toque alegre a la mañana.Jesús Pobre te acoge con ganas y buen ambiente… ¡nos vemos en el mercado! 
URL:https://disfruta-denia.com/evento/mercat-del-riurau-jesus-pobre-26-2-2-2-3-2-2-2/2026-03-15/
LOCATION:Mercado Riurau Jesus Pobre\, Jesus Pobre\, Alicante\, 03749\, España
CATEGORIES:Concierto,Gastronomía,Mercado
ATTACH;FMTTYPE=image/jpeg:https://disfruta-denia.com/wp-content/uploads/2026/02/649228901_18085263365242809_3764596456007815183_n.jpg
END:VEVENT
END:VCALENDAR