BEGIN:VCALENDAR
VERSION:2.0
PRODID:-//Disfruta Denia - ECPv6.15.20//NONSGML v1.0//EN
CALSCALE:GREGORIAN
METHOD:PUBLISH
X-WR-CALNAME:Disfruta Denia
X-ORIGINAL-URL:https://disfruta-denia.com
X-WR-CALDESC:Eventos para Disfruta Denia
REFRESH-INTERVAL;VALUE=DURATION:PT1H
X-Robots-Tag:noindex
X-PUBLISHED-TTL:PT1H
BEGIN:VTIMEZONE
TZID:Europe/Madrid
BEGIN:DAYLIGHT
TZOFFSETFROM:+0100
TZOFFSETTO:+0200
TZNAME:CEST
DTSTART:20230326T010000
END:DAYLIGHT
BEGIN:STANDARD
TZOFFSETFROM:+0200
TZOFFSETTO:+0100
TZNAME:CET
DTSTART:20231029T010000
END:STANDARD
BEGIN:DAYLIGHT
TZOFFSETFROM:+0100
TZOFFSETTO:+0200
TZNAME:CEST
DTSTART:20240331T010000
END:DAYLIGHT
BEGIN:STANDARD
TZOFFSETFROM:+0200
TZOFFSETTO:+0100
TZNAME:CET
DTSTART:20241027T010000
END:STANDARD
BEGIN:DAYLIGHT
TZOFFSETFROM:+0100
TZOFFSETTO:+0200
TZNAME:CEST
DTSTART:20250330T010000
END:DAYLIGHT
BEGIN:STANDARD
TZOFFSETFROM:+0200
TZOFFSETTO:+0100
TZNAME:CET
DTSTART:20251026T010000
END:STANDARD
END:VTIMEZONE
BEGIN:VEVENT
DTSTART;TZID=Europe/Madrid:20240906T190000
DTEND;TZID=Europe/Madrid:20241031T235900
DTSTAMP:20260424T061953
CREATED:20240904T145928Z
LAST-MODIFIED:20240904T145928Z
UID:10019286-1725649200-1730419140@disfruta-denia.com
SUMMARY:Exposición fotográfica ‘Sinestesia'
DESCRIPTION:Presentamos Sinestesia: Dénia\, una nueva exposición fotográfica por Reuben Ross con poemas por Sonia Sánchez. \nEsta exposición estará abierta al público del 06 de septiembre al 31 de octubre en Códigos del Arte  y podrá visitarse en horario de miércoles a sábado de 19:00 a 00:00 horas. \nLa inauguración\, el 6 de septiembre a partir de las 20.00 horas\, irá acompañada de música electrónica en vivo del artista valenciano PLLCK . \n\nEl verano en Dénia estalla en una sinfonía de colores\, sabores\, sonidos y olores. Es el aire salado de la Playa de las Marinas\, el sabor refrescante de un mojito en la Plaza San Antonio y el bullicio en la calle Marqués de Campo. Vivimos aquí\, en Dénia\, y fue nuestro profundo afecto por esta ciudad el que inspiró este proyecto. \nPara crear esta serie fotográfica\, utilizamos una técnica experimental llamada «film soup». Primero\, tomamos las fotos con película en color Kodak Gold de forma totalmente analógica. A continuación\, sumergimos los rollos de película en una mezcla líquida\, que contiene diversos ingredientes\, entre doce y veinticuatro horas. Así alteramos las propiedades químicas de la película\, dando lugar a efectos únicos e impredecibles. \nCada fotografía ha sido sometida a este proceso utilizando ingredientes encontrados en el lugar correspondiente o inspirados en él. Por ejemplo\, la foto de la Playa de las Marinas contiene sal marina\, algas y limón. La foto de la Plaza de San Antonio contiene mojito\, cerveza Turia y Aperol. Y la de la calle Marqués de Campo contiene perfume y el tinte azul de la ropa. Así nació sinestesia. \nInspirados en estos lugares\, también encontraréis unos hermosos versos que acompañan a cada fotografía. \n¡Nos vemos en la exposición!
URL:https://disfruta-denia.com/evento/exposicion-fotografica-sinestesia/
LOCATION:Códigos del Arte\, Carreró de Morant\, 8\, Dénia\, 03700\, España
CATEGORIES:Cultura,Exposiciones
ATTACH;FMTTYPE=image/jpeg:https://disfruta-denia.com/wp-content/uploads/2024/09/Sinestesia-Denia-COVER.jpg
END:VEVENT
BEGIN:VEVENT
DTSTART;TZID=Europe/Madrid:20240906T173000
DTEND;TZID=Europe/Madrid:20240906T173000
DTSTAMP:20260424T061953
CREATED:20240530T130548Z
LAST-MODIFIED:20240530T130550Z
UID:10018617-1725643800-1725643800@disfruta-denia.com
SUMMARY:Tardeo en La Mar Serena
DESCRIPTION:No estáis listos para el show de este Viernes ❤️‍🔥\n@miguellemadj & @raquelcardonamusic vienen cargados de hits 🪩 ¡Nos vemos en la pista!
URL:https://disfruta-denia.com/evento/tardeo-en-la-mar-serena-2-2/2024-09-06/
LOCATION:La Mar Serena\, Moll de la Pansa s/n Edificio Marina el Portet\, Denia\, Alicante\, 03700\, España
CATEGORIES:DJ,Música,Tardeo
ATTACH;FMTTYPE=image/jpeg:https://disfruta-denia.com/wp-content/uploads/2024/05/IMG-20240530-WA0011.jpg
END:VEVENT
BEGIN:VEVENT
DTSTART;TZID=Europe/Madrid:20240905T210000
DTEND;TZID=Europe/Madrid:20240905T210000
DTSTAMP:20260424T061953
CREATED:20240307T094627Z
LAST-MODIFIED:20240307T094631Z
UID:10016624-1725570000-1725570000@disfruta-denia.com
SUMMARY:Karaoké en Rebeldía Blues
DESCRIPTION:Karaoké en Rebeldía Blues
URL:https://disfruta-denia.com/evento/karaoke-en-rebeldia-blues-4-2-2-2-2-2/2024-09-05/
LOCATION:Rebeldia Blues\, Carr. de Dénia A Xábia\, 3G\, Denia\, Alicante\, 03700\, España
CATEGORIES:Karaoké,Música
ATTACH;FMTTYPE=image/jpeg:https://disfruta-denia.com/wp-content/uploads/2024/02/429768881_17912348297911738_3047273990901060399_n.jpg
END:VEVENT
BEGIN:VEVENT
DTSTART;TZID=Europe/Madrid:20240905T113000
DTEND;TZID=Europe/Madrid:20240905T113000
DTSTAMP:20260424T061953
CREATED:20240902T085629Z
LAST-MODIFIED:20240902T085652Z
UID:10019278-1725535800-1725535800@disfruta-denia.com
SUMMARY:CONVIVIUM. UN BANQUETE ROMANO EN DIANIUM
DESCRIPTION:VISITA GUIADA \n\n\n\n\nEl banquete o convivium era una ocasión especial para celebrar algún acontecimiento familiar o festividad importante. Tenía un relevante carácter social\, un momento de entretenimiento y placer alrededor de una buena mesa\, donde se unía la conversación con el gusto culinario\, pero también servía para mostrar la riqueza y posición del anfitrión. \nEn la visita se explicará la vasa escaria\, nombre que recibe el conjunto de mesa\, se dio en la antigüedad romana al conjunto de utensilios de mesa\, a través de los materiales procedentes de las últimas intervenciones arqueológicas desarrolladas en la ciudad romana. \nVISITAS GUIADAS los jueves a las 11.30 horas. \nPUNTO DE ENCUENTRO: puerta de acceso al Museo. Recepción. \nInformación e inscripción: teléfono 966420260\, de lunes a domingo de 10 a 13 horas.
URL:https://disfruta-denia.com/evento/convivium-un-banquete-romano-en-dianium/2024-09-05/
LOCATION:Museo del Mar\, Explanada Cervantes 2\, Dénia\, 03700\, España
CATEGORIES:Cultura,Visita
ATTACH;FMTTYPE=image/jpeg:https://disfruta-denia.com/wp-content/uploads/2024/09/1724672568MARCASTELLA.jpg
END:VEVENT
BEGIN:VEVENT
DTSTART;TZID=Europe/Madrid:20240905T083000
DTEND;TZID=Europe/Madrid:20240905T083000
DTSTAMP:20260424T061953
CREATED:20231005T092619Z
LAST-MODIFIED:20231005T092702Z
UID:10014132-1725525000-1725525000@disfruta-denia.com
SUMMARY:Clase de Yoga en Códigos del Arte
DESCRIPTION:Clase de Yoga en Códigos del Arte
URL:https://disfruta-denia.com/evento/clase-de-yoga-en-codigos-del-arte/2024-09-05/
LOCATION:Códigos del Arte\, Carreró de Morant\, 8\, Dénia\, 03700\, España
CATEGORIES:Deporte,Yoga
ATTACH;FMTTYPE=image/jpeg:https://disfruta-denia.com/wp-content/uploads/2023/10/image_6487327.jpg
END:VEVENT
BEGIN:VEVENT
DTSTART;VALUE=DATE:20240905
DTEND;VALUE=DATE:20240923
DTSTAMP:20260424T061953
CREATED:20240826T105452Z
LAST-MODIFIED:20240826T105452Z
UID:10019253-1725508800-1726977599@disfruta-denia.com
SUMMARY:Expo:  COLECTIVO ADAMA
DESCRIPTION:Inauguració dia 5 a les 19 h \nHorari/ horario: Laborables 11 – 14 h  /  17  –  21 h.  Dissabte/Sábado  10 – 13.30 h  
URL:https://disfruta-denia.com/evento/expo-colectivo-adama/
LOCATION:Casa de la Cultura Denia\, Plaça Jaume I\, Denia\, Alicante\, 03700\, España
CATEGORIES:Cultura,Exposiciones
ATTACH;FMTTYPE=image/png:https://disfruta-denia.com/wp-content/uploads/2024/08/1-ADAMA.png
ORGANIZER;CN="Denia Cultura":MAILTO:cultura@ayto-denia.es
END:VEVENT
BEGIN:VEVENT
DTSTART;TZID=Europe/Madrid:20240904T203000
DTEND;TZID=Europe/Madrid:20240904T203000
DTSTAMP:20260424T061953
CREATED:20240414T124150Z
LAST-MODIFIED:20240414T124150Z
UID:10017932-1725481800-1725481800@disfruta-denia.com
SUMMARY:Miércoles latinos\, miércoles clandestinos
DESCRIPTION:Miércoles latinos\, miércoles clandestinos  Cada miércoles a las 20.30h tenemos una cita con Madelyn Torroella a ritmo cubano!! Voz\, percusión y versiones de salsa clásica\, cada miércoles\, en el Speak. Parrillada\, tacos\, tapas\, cocktails & música. Reserva tu mesa
URL:https://disfruta-denia.com/evento/miercoles-latinos-miercoles-clandestinos/2024-09-04/
LOCATION:The Speak Denia\, Carrer del Pont\, 19\, Denia\, Alicante\, 03700\, España
CATEGORIES:Concierto,Música
ATTACH;FMTTYPE=image/jpeg:https://disfruta-denia.com/wp-content/uploads/2024/04/434468313_1159701198651630_4992165217264460198_n.jpg
END:VEVENT
BEGIN:VEVENT
DTSTART;TZID=Europe/Madrid:20240904T200000
DTEND;TZID=Europe/Madrid:20240904T233000
DTSTAMP:20260424T061953
CREATED:20240902T104942Z
LAST-MODIFIED:20240902T104943Z
UID:10009002-1725480000-1725492600@disfruta-denia.com
SUMMARY:Autocine: día del espectador
DESCRIPTION:
URL:https://disfruta-denia.com/evento/autocine-dia-del-espectador-3-35/
LOCATION:Autociné Denia\, Partida Deveses D\, 27\, Denia\, Alicante\, 03700\, España
CATEGORIES:Ciné,Cultura
ATTACH;FMTTYPE=image/png:https://disfruta-denia.com/wp-content/uploads/2023/06/Autocine-Drive-In-autocine_drivein-•-Instagram-photos-and-videos-6.png
END:VEVENT
BEGIN:VEVENT
DTSTART;TZID=Europe/Madrid:20240904T190000
DTEND;TZID=Europe/Madrid:20240904T210000
DTSTAMP:20260424T061953
CREATED:20231115T115842Z
LAST-MODIFIED:20231115T115843Z
UID:10008319-1725476400-1725483600@disfruta-denia.com
SUMMARY:Tardeo en Basta
DESCRIPTION:
URL:https://disfruta-denia.com/evento/tardeo-en-basta-3-3/2024-09-04/
LOCATION:Basta Lounge Bar\, Marina de Dénia\, Local C2\, Denia\, Valencian Community\, 03700\, España
CATEGORIES:Concierto,Música,Tardeo
ATTACH;FMTTYPE=image/jpeg:https://disfruta-denia.com/wp-content/uploads/2022/12/IMG_3678.jpeg
END:VEVENT
BEGIN:VEVENT
DTSTART;TZID=Europe/Madrid:20240903T190000
DTEND;TZID=Europe/Madrid:20240903T190000
DTSTAMP:20260424T061953
CREATED:20240723T073345Z
LAST-MODIFIED:20240723T073345Z
UID:10019126-1725390000-1725390000@disfruta-denia.com
SUMMARY:Tardeos de verano en Casa Mena
DESCRIPTION:
URL:https://disfruta-denia.com/evento/tardeos-de-verano-en-casa-mena/2024-09-03/
LOCATION:Restaurante Mena\, Km 5 Carretera Las Rotas\, Denia\, 03700\, España
CATEGORIES:Concierto,Música,Tardeo
ATTACH;FMTTYPE=image/jpeg:https://disfruta-denia.com/wp-content/uploads/2024/07/449616078_10230380516634195_705857145489822784_n.jpg
END:VEVENT
BEGIN:VEVENT
DTSTART;TZID=Europe/Madrid:20240903T083000
DTEND;TZID=Europe/Madrid:20240903T083000
DTSTAMP:20260424T061953
CREATED:20231005T092619Z
LAST-MODIFIED:20231005T092702Z
UID:10014131-1725352200-1725352200@disfruta-denia.com
SUMMARY:Clase de Yoga en Códigos del Arte
DESCRIPTION:Clase de Yoga en Códigos del Arte
URL:https://disfruta-denia.com/evento/clase-de-yoga-en-codigos-del-arte/2024-09-03/
LOCATION:Códigos del Arte\, Carreró de Morant\, 8\, Dénia\, 03700\, España
CATEGORIES:Deporte,Yoga
ATTACH;FMTTYPE=image/jpeg:https://disfruta-denia.com/wp-content/uploads/2023/10/image_6487327.jpg
END:VEVENT
BEGIN:VEVENT
DTSTART;TZID=Europe/Madrid:20240902T203000
DTEND;TZID=Europe/Madrid:20240902T203000
DTSTAMP:20260424T061953
CREATED:20230912T174836Z
LAST-MODIFIED:20230912T174838Z
UID:10011461-1725309000-1725309000@disfruta-denia.com
SUMMARY:Tardeo con Marce Pesoa
DESCRIPTION:Esta noche. Tonight. \nLive music 20.30h. \nMarce Pesoa en The Speak Dénia. \nTacos\, Cocktails\, Parrilla \n& la mejor musica 🔥🤘 \nReservas: 675753879 \nLet’s #funmonday today!
URL:https://disfruta-denia.com/evento/tardeo-con-marce-pesoa-2/2024-09-02/
LOCATION:The Speak Denia\, Carrer del Pont\, 19\, Denia\, Alicante\, 03700\, España
CATEGORIES:Concierto,Música,Tardeo
ATTACH;FMTTYPE=image/jpeg:https://disfruta-denia.com/wp-content/uploads/2023/06/IMG-20230619-WA0000.jpg
END:VEVENT
BEGIN:VEVENT
DTSTART;TZID=Europe/Madrid:20240901T210000
DTEND;TZID=Europe/Madrid:20240901T210000
DTSTAMP:20260424T061953
CREATED:20240219T102543Z
LAST-MODIFIED:20240219T102546Z
UID:10016347-1725224400-1725224400@disfruta-denia.com
SUMMARY:Concierto: Rebeldía Blues Band
DESCRIPTION:Concierto: Rebeldía Blues Band
URL:https://disfruta-denia.com/evento/concierto-rebeldia-blues-band-5-2-2-2/2024-09-01/
LOCATION:Rebeldia Blues\, Carr. de Dénia A Xábia\, 3G\, Denia\, Alicante\, 03700\, España
CATEGORIES:Concierto,Música
ATTACH;FMTTYPE=image/jpeg:https://disfruta-denia.com/wp-content/uploads/2024/02/428298315_17910192284911738_2883817046859909485_n.jpg
END:VEVENT
BEGIN:VEVENT
DTSTART;TZID=Europe/Madrid:20240901T180000
DTEND;TZID=Europe/Madrid:20240901T230000
DTSTAMP:20260424T061953
CREATED:20240829T163614Z
LAST-MODIFIED:20240829T163615Z
UID:10018840-1725213600-1725231600@disfruta-denia.com
SUMMARY:Mercat del Riurau Jesus Pobre
DESCRIPTION:¡Este domingo 1 de septiembre\, ven al Mercat del Riurau y disfruta de un concierto muy especial! \n\n\nA partir de las 20:00\, tendremos la actuación de los «Voluntarios Europeos»\, un grupo de músicos que viajan por Europa compartiendo su música y alegría. ¡No te pierdas esta ocasión única!\n\n\nEl Mercat del Riurau estará abierto de 18:00 a 23:00\, con los mejores productos locales\, artesanía y comida fresca.\n\n\n ¿Dónde? En Jesús Pobre\n\n\n ¿Cuándo? Domingo 1 de septiembre\, de 18:00 a 23:00\n\n\n¡Te esperamos para pasar una tarde llena de música y buen ambiente!
URL:https://disfruta-denia.com/evento/mercat-del-riurau-jesus-pobre-2-25-3-2-2-6/
LOCATION:Mercado Riurau Jesus Pobre\, Jesus Pobre\, Alicante\, 03749\, España
CATEGORIES:Concierto,Gastronomía,Mercado
ATTACH;FMTTYPE=image/jpeg:https://disfruta-denia.com/wp-content/uploads/2024/07/457457465_890725586424140_7988640079169216681_n-e1724949367971.jpg
END:VEVENT
BEGIN:VEVENT
DTSTART;TZID=Europe/Madrid:20240831T235900
DTEND;TZID=Europe/Madrid:20240831T235900
DTSTAMP:20260424T061953
CREATED:20240827T113228Z
LAST-MODIFIED:20240827T113229Z
UID:10004123-1725148740-1725148740@disfruta-denia.com
SUMMARY:Sábado de Dorian Gray
DESCRIPTION:DESPEDIMOS AGOSTO POR TODO LO ALTO! \n🔸 MARTES • 00’00h • NOCHE\nLA MOCHA 🎸 en directo #poprocknacional \n🔹 MIÉRCOLES • 00’00h • NOCHE\nJUNTOS Y REVUELTOS 🎸 en directo #poprockindieespañol \n🔸 JUEVES • 00’00h • NOCHE\nRUMBADOS 💃🏼 en directo #rumbaflamenco \n🔹 VIERNES • 00’00h • NOCHE\nBORJA CONESA 🎧 en cabina #urbanmusic \n🔸 SÁBADO • 00’00h • NOCHE\n•Sala Dorian MENPHIS 🎸 en directo #poprockindieespañol\n•Sala Gray BORJA CONESA 🎧 en cabina #urbanmusic \nTermina Agosto pero la buena música en Dorian Gray no acaba nunca!
URL:https://disfruta-denia.com/evento/sabado-de-dorian-gray-4-2-2-2-2-2-2-2-2-2/2024-08-31/
LOCATION:Dorian Gray Denia\, Carrer de la Mar\, 14\, Denia\, Alicante\, 03700\, España
CATEGORIES:DJ,Música,Ocio nocturno
ATTACH;FMTTYPE=image/png:https://disfruta-denia.com/wp-content/uploads/2024/08/Dorian-Gray-Denia-doriangray_denia-•-Instagram-photos-and-videos-4-e1724758321741.png
END:VEVENT
BEGIN:VEVENT
DTSTART;TZID=Europe/Madrid:20240831T235900
DTEND;TZID=Europe/Madrid:20240831T235900
DTSTAMP:20260424T061953
CREATED:20221128T194020Z
LAST-MODIFIED:20221128T194021Z
UID:10006575-1725148740-1725148740@disfruta-denia.com
SUMMARY:Concierto en LCDA
DESCRIPTION:
URL:https://disfruta-denia.com/evento/concierto-en-lcda-4/2024-08-31/
LOCATION:La Chica de ayer\, Calle la mar 30\, Denia\, Alicante\, 03700\, España
CATEGORIES:Concierto,Música,Ocio nocturno
ATTACH;FMTTYPE=image/jpeg:https://disfruta-denia.com/wp-content/uploads/2022/11/317545016_592127712917488_4859295703944293873_n.jpg
END:VEVENT
BEGIN:VEVENT
DTSTART;TZID=Europe/Madrid:20240831T233000
DTEND;TZID=Europe/Madrid:20240831T233000
DTSTAMP:20260424T061953
CREATED:20231123T215729Z
LAST-MODIFIED:20250314T110959Z
UID:10019276-1725147000-1725147000@disfruta-denia.com
SUMMARY:Concierto: Lost Tracks en el Paddy
DESCRIPTION:LOST TRACKS \nPOP • ROCK • FUNK from 70s\,80s y 90s
URL:https://disfruta-denia.com/evento/concierto-lost-tracks-en-el-paddy/2024-08-31/
LOCATION:Paddy O’Connell Denia\, Calle de la Mar\, 20\, Denia\, Alicante\, 03700\, España
CATEGORIES:Concierto,Música,Ocio nocturno
ATTACH;FMTTYPE=image/png:https://disfruta-denia.com/wp-content/uploads/2023/11/Instagram-03-14-2025_12_08_PM-1.png
END:VEVENT
BEGIN:VEVENT
DTSTART;TZID=Europe/Madrid:20240831T210000
DTEND;TZID=Europe/Madrid:20240831T210000
DTSTAMP:20260424T061953
CREATED:20240826T155008Z
LAST-MODIFIED:20240826T155008Z
UID:10016885-1725138000-1725138000@disfruta-denia.com
SUMMARY:Sábado concierto en Rebeldía Blues
DESCRIPTION:Sábado concierto en Rebledía Blues
URL:https://disfruta-denia.com/evento/sabado-concierto-en-rebeldia-blues-3-2-6/
LOCATION:Rebeldia Blues\, Carr. de Dénia A Xábia\, 3G\, Denia\, Alicante\, 03700\, España
CATEGORIES:Concierto,Música
ATTACH;FMTTYPE=image/jpeg:https://disfruta-denia.com/wp-content/uploads/2024/06/PHOTO-2024-08-26-17-42-44.jpg
END:VEVENT
BEGIN:VEVENT
DTSTART;TZID=Europe/Madrid:20240830T235900
DTEND;TZID=Europe/Madrid:20240830T235900
DTSTAMP:20260424T061953
CREATED:20240827T113212Z
LAST-MODIFIED:20240827T113213Z
UID:10003862-1725062340-1725062340@disfruta-denia.com
SUMMARY:Viernes de Dorian Gray
DESCRIPTION:DESPEDIMOS AGOSTO POR TODO LO ALTO! \n🔸 MARTES • 00’00h • NOCHE\nLA MOCHA 🎸 en directo #poprocknacional \n🔹 MIÉRCOLES • 00’00h • NOCHE\nJUNTOS Y REVUELTOS 🎸 en directo #poprockindieespañol \n🔸 JUEVES • 00’00h • NOCHE\nRUMBADOS 💃🏼 en directo #rumbaflamenco \n🔹 VIERNES • 00’00h • NOCHE\nBORJA CONESA 🎧 en cabina #urbanmusic \n🔸 SÁBADO • 00’00h • NOCHE\n•Sala Dorian MENPHIS 🎸 en directo #poprockindieespañol\n•Sala Gray BORJA CONESA 🎧 en cabina #urbanmusic \nTermina Agosto pero la buena música en Dorian Gray no acaba nunca!
URL:https://disfruta-denia.com/evento/viernes-de-dorian-gray-4-2-2-2-2-2-2-2/2024-08-30/
LOCATION:Dorian Gray Denia\, Carrer de la Mar\, 14\, Denia\, Alicante\, 03700\, España
CATEGORIES:Concierto,DJ,Música,Ocio nocturno
ATTACH;FMTTYPE=image/png:https://disfruta-denia.com/wp-content/uploads/2024/08/Dorian-Gray-Denia-doriangray_denia-•-Instagram-photos-and-videos-4-e1724758321741.png
END:VEVENT
BEGIN:VEVENT
DTSTART;TZID=Europe/Madrid:20240830T210000
DTEND;TZID=Europe/Madrid:20240830T210000
DTSTAMP:20260424T061953
CREATED:20240826T155024Z
LAST-MODIFIED:20240826T155025Z
UID:10016085-1725051600-1725051600@disfruta-denia.com
SUMMARY:Concierto de Viernes en Rebeldía Blues
DESCRIPTION:Concierto de Viernes en Rebeldía Blues
URL:https://disfruta-denia.com/evento/concierto-de-viernes-en-rebeldia-blues-3-3-7/
LOCATION:Rebeldia Blues\, Carr. de Dénia A Xábia\, 3G\, Denia\, Alicante\, 03700\, España
CATEGORIES:Concierto,Música
ATTACH;FMTTYPE=image/jpeg:https://disfruta-denia.com/wp-content/uploads/2024/06/PHOTO-2024-08-26-17-42-34.jpg
END:VEVENT
BEGIN:VEVENT
DTSTART;TZID=Europe/Madrid:20240830T173000
DTEND;TZID=Europe/Madrid:20240830T173000
DTSTAMP:20260424T061953
CREATED:20240530T130548Z
LAST-MODIFIED:20240530T130550Z
UID:10018616-1725039000-1725039000@disfruta-denia.com
SUMMARY:Tardeo en La Mar Serena
DESCRIPTION:No estáis listos para el show de este Viernes ❤️‍🔥\n@miguellemadj & @raquelcardonamusic vienen cargados de hits 🪩 ¡Nos vemos en la pista!
URL:https://disfruta-denia.com/evento/tardeo-en-la-mar-serena-2-2/2024-08-30/
LOCATION:La Mar Serena\, Moll de la Pansa s/n Edificio Marina el Portet\, Denia\, Alicante\, 03700\, España
CATEGORIES:DJ,Música,Tardeo
ATTACH;FMTTYPE=image/jpeg:https://disfruta-denia.com/wp-content/uploads/2024/05/IMG-20240530-WA0011.jpg
END:VEVENT
BEGIN:VEVENT
DTSTART;TZID=Europe/Madrid:20240829T210000
DTEND;TZID=Europe/Madrid:20240829T210000
DTSTAMP:20260424T061953
CREATED:20240307T094627Z
LAST-MODIFIED:20240307T094631Z
UID:10016623-1724965200-1724965200@disfruta-denia.com
SUMMARY:Karaoké en Rebeldía Blues
DESCRIPTION:Karaoké en Rebeldía Blues
URL:https://disfruta-denia.com/evento/karaoke-en-rebeldia-blues-4-2-2-2-2-2/2024-08-29/
LOCATION:Rebeldia Blues\, Carr. de Dénia A Xábia\, 3G\, Denia\, Alicante\, 03700\, España
CATEGORIES:Karaoké,Música
ATTACH;FMTTYPE=image/jpeg:https://disfruta-denia.com/wp-content/uploads/2024/02/429768881_17912348297911738_3047273990901060399_n.jpg
END:VEVENT
BEGIN:VEVENT
DTSTART;TZID=Europe/Madrid:20240829T083000
DTEND;TZID=Europe/Madrid:20240829T083000
DTSTAMP:20260424T061953
CREATED:20231005T092619Z
LAST-MODIFIED:20231005T092702Z
UID:10014130-1724920200-1724920200@disfruta-denia.com
SUMMARY:Clase de Yoga en Códigos del Arte
DESCRIPTION:Clase de Yoga en Códigos del Arte
URL:https://disfruta-denia.com/evento/clase-de-yoga-en-codigos-del-arte/2024-08-29/
LOCATION:Códigos del Arte\, Carreró de Morant\, 8\, Dénia\, 03700\, España
CATEGORIES:Deporte,Yoga
ATTACH;FMTTYPE=image/jpeg:https://disfruta-denia.com/wp-content/uploads/2023/10/image_6487327.jpg
END:VEVENT
BEGIN:VEVENT
DTSTART;TZID=Europe/Madrid:20240828T203000
DTEND;TZID=Europe/Madrid:20240828T203000
DTSTAMP:20260424T061953
CREATED:20240414T124150Z
LAST-MODIFIED:20240414T124150Z
UID:10017931-1724877000-1724877000@disfruta-denia.com
SUMMARY:Miércoles latinos\, miércoles clandestinos
DESCRIPTION:Miércoles latinos\, miércoles clandestinos  Cada miércoles a las 20.30h tenemos una cita con Madelyn Torroella a ritmo cubano!! Voz\, percusión y versiones de salsa clásica\, cada miércoles\, en el Speak. Parrillada\, tacos\, tapas\, cocktails & música. Reserva tu mesa
URL:https://disfruta-denia.com/evento/miercoles-latinos-miercoles-clandestinos/2024-08-28/
LOCATION:The Speak Denia\, Carrer del Pont\, 19\, Denia\, Alicante\, 03700\, España
CATEGORIES:Concierto,Música
ATTACH;FMTTYPE=image/jpeg:https://disfruta-denia.com/wp-content/uploads/2024/04/434468313_1159701198651630_4992165217264460198_n.jpg
END:VEVENT
BEGIN:VEVENT
DTSTART;TZID=Europe/Madrid:20240828T200000
DTEND;TZID=Europe/Madrid:20240828T233000
DTSTAMP:20260424T061953
CREATED:20240826T091026Z
LAST-MODIFIED:20240826T091027Z
UID:10009001-1724875200-1724887800@disfruta-denia.com
SUMMARY:Autocine: día del espectador
DESCRIPTION:
URL:https://disfruta-denia.com/evento/autocine-dia-del-espectador-3-34/
LOCATION:Autociné Denia\, Partida Deveses D\, 27\, Denia\, Alicante\, 03700\, España
CATEGORIES:Ciné,Cultura
ATTACH;FMTTYPE=image/png:https://disfruta-denia.com/wp-content/uploads/2023/06/Autocine-Drive-In-autocine_drivein-•-Instagram-photos-and-videos-5.png
END:VEVENT
BEGIN:VEVENT
DTSTART;TZID=Europe/Madrid:20240828T190000
DTEND;TZID=Europe/Madrid:20240828T210000
DTSTAMP:20260424T061953
CREATED:20231115T115842Z
LAST-MODIFIED:20231115T115843Z
UID:10008318-1724871600-1724878800@disfruta-denia.com
SUMMARY:Tardeo en Basta
DESCRIPTION:
URL:https://disfruta-denia.com/evento/tardeo-en-basta-3-3/2024-08-28/
LOCATION:Basta Lounge Bar\, Marina de Dénia\, Local C2\, Denia\, Valencian Community\, 03700\, España
CATEGORIES:Concierto,Música,Tardeo
ATTACH;FMTTYPE=image/jpeg:https://disfruta-denia.com/wp-content/uploads/2022/12/IMG_3678.jpeg
END:VEVENT
BEGIN:VEVENT
DTSTART;TZID=Europe/Madrid:20240827T190000
DTEND;TZID=Europe/Madrid:20240827T190000
DTSTAMP:20260424T061953
CREATED:20240723T073345Z
LAST-MODIFIED:20240723T073345Z
UID:10019125-1724785200-1724785200@disfruta-denia.com
SUMMARY:Tardeos de verano en Casa Mena
DESCRIPTION:
URL:https://disfruta-denia.com/evento/tardeos-de-verano-en-casa-mena/2024-08-27/
LOCATION:Restaurante Mena\, Km 5 Carretera Las Rotas\, Denia\, 03700\, España
CATEGORIES:Concierto,Música,Tardeo
ATTACH;FMTTYPE=image/jpeg:https://disfruta-denia.com/wp-content/uploads/2024/07/449616078_10230380516634195_705857145489822784_n.jpg
END:VEVENT
BEGIN:VEVENT
DTSTART;TZID=Europe/Madrid:20240827T083000
DTEND;TZID=Europe/Madrid:20240827T083000
DTSTAMP:20260424T061953
CREATED:20231005T092619Z
LAST-MODIFIED:20231005T092702Z
UID:10014129-1724747400-1724747400@disfruta-denia.com
SUMMARY:Clase de Yoga en Códigos del Arte
DESCRIPTION:Clase de Yoga en Códigos del Arte
URL:https://disfruta-denia.com/evento/clase-de-yoga-en-codigos-del-arte/2024-08-27/
LOCATION:Códigos del Arte\, Carreró de Morant\, 8\, Dénia\, 03700\, España
CATEGORIES:Deporte,Yoga
ATTACH;FMTTYPE=image/jpeg:https://disfruta-denia.com/wp-content/uploads/2023/10/image_6487327.jpg
END:VEVENT
BEGIN:VEVENT
DTSTART;TZID=Europe/Madrid:20240826T203000
DTEND;TZID=Europe/Madrid:20240826T203000
DTSTAMP:20260424T061953
CREATED:20230912T174836Z
LAST-MODIFIED:20230912T174838Z
UID:10011460-1724704200-1724704200@disfruta-denia.com
SUMMARY:Tardeo con Marce Pesoa
DESCRIPTION:Esta noche. Tonight. \nLive music 20.30h. \nMarce Pesoa en The Speak Dénia. \nTacos\, Cocktails\, Parrilla \n& la mejor musica 🔥🤘 \nReservas: 675753879 \nLet’s #funmonday today!
URL:https://disfruta-denia.com/evento/tardeo-con-marce-pesoa-2/2024-08-26/
LOCATION:The Speak Denia\, Carrer del Pont\, 19\, Denia\, Alicante\, 03700\, España
CATEGORIES:Concierto,Música,Tardeo
ATTACH;FMTTYPE=image/jpeg:https://disfruta-denia.com/wp-content/uploads/2023/06/IMG-20230619-WA0000.jpg
END:VEVENT
BEGIN:VEVENT
DTSTART;TZID=Europe/Madrid:20240826T080000
DTEND;TZID=Europe/Madrid:20240826T170000
DTSTAMP:20260424T061953
CREATED:20240826T113243Z
LAST-MODIFIED:20240826T113243Z
UID:10019256-1724659200-1724691600@disfruta-denia.com
SUMMARY:INA MARTÍ canta a  MARÍA IBARS
DESCRIPTION:Presentació de les Unitats Didàctiques sobre Maria Ibars realitzades per Acció Cultural del País Valencià.  \n  \n\nTaula redona amb la participació de: Tomàs Llopis\, escriptor\, Pepa Guardiola\, escriptora\, Maria José Gálvez\, directora general del Llibre del govern d’Espanya\, JoanBa Martí i Escobar\, director de l’IES Maria Ibars de Dénia\, Àngels Gregori\, de l’Acadèmia Valenciana de la Llengua i Raúl García de la Reina\, regidor de Cultura.\n\n \n\nActuació musical. INA MARTÍ canta a  MARÍA IBARS.\n\n  \nOrganitza: ACPV. Ajuntament de Dénia. Cultura.
URL:https://disfruta-denia.com/evento/ina-marti-canta-a-maria-ibars/
LOCATION:Alicante
CATEGORIES:Cultura
ATTACH;FMTTYPE=image/png:https://disfruta-denia.com/wp-content/uploads/2024/08/5-Maria-Ibars.-INA-MARTI.png
ORGANIZER;CN="Denia Cultura":MAILTO:cultura@ayto-denia.es
END:VEVENT
END:VCALENDAR