BEGIN:VCALENDAR
VERSION:2.0
PRODID:-//Disfruta Denia - ECPv6.15.20//NONSGML v1.0//EN
CALSCALE:GREGORIAN
METHOD:PUBLISH
X-ORIGINAL-URL:https://disfruta-denia.com
X-WR-CALDESC:Eventos para Disfruta Denia
REFRESH-INTERVAL;VALUE=DURATION:PT1H
X-Robots-Tag:noindex
X-PUBLISHED-TTL:PT1H
BEGIN:VTIMEZONE
TZID:Europe/Madrid
BEGIN:DAYLIGHT
TZOFFSETFROM:+0100
TZOFFSETTO:+0200
TZNAME:CEST
DTSTART:20230326T010000
END:DAYLIGHT
BEGIN:STANDARD
TZOFFSETFROM:+0200
TZOFFSETTO:+0100
TZNAME:CET
DTSTART:20231029T010000
END:STANDARD
BEGIN:DAYLIGHT
TZOFFSETFROM:+0100
TZOFFSETTO:+0200
TZNAME:CEST
DTSTART:20240331T010000
END:DAYLIGHT
BEGIN:STANDARD
TZOFFSETFROM:+0200
TZOFFSETTO:+0100
TZNAME:CET
DTSTART:20241027T010000
END:STANDARD
BEGIN:DAYLIGHT
TZOFFSETFROM:+0100
TZOFFSETTO:+0200
TZNAME:CEST
DTSTART:20250330T010000
END:DAYLIGHT
BEGIN:STANDARD
TZOFFSETFROM:+0200
TZOFFSETTO:+0100
TZNAME:CET
DTSTART:20251026T010000
END:STANDARD
END:VTIMEZONE
BEGIN:VEVENT
DTSTART;TZID=Europe/Madrid:20240828T200000
DTEND;TZID=Europe/Madrid:20240828T233000
DTSTAMP:20260424T095803
CREATED:20240826T091026Z
LAST-MODIFIED:20240826T091027Z
UID:10009001-1724875200-1724887800@disfruta-denia.com
SUMMARY:Autocine: día del espectador
DESCRIPTION:
URL:https://disfruta-denia.com/evento/autocine-dia-del-espectador-3-34/
LOCATION:Autociné Denia\, Partida Deveses D\, 27\, Denia\, Alicante\, 03700\, España
CATEGORIES:Ciné,Cultura
ATTACH;FMTTYPE=image/png:https://disfruta-denia.com/wp-content/uploads/2023/06/Autocine-Drive-In-autocine_drivein-•-Instagram-photos-and-videos-5.png
END:VEVENT
BEGIN:VEVENT
DTSTART;TZID=Europe/Madrid:20240828T190000
DTEND;TZID=Europe/Madrid:20240828T210000
DTSTAMP:20260424T095803
CREATED:20231115T115842Z
LAST-MODIFIED:20231115T115843Z
UID:10008318-1724871600-1724878800@disfruta-denia.com
SUMMARY:Tardeo en Basta
DESCRIPTION:
URL:https://disfruta-denia.com/evento/tardeo-en-basta-3-3/2024-08-28/
LOCATION:Basta Lounge Bar\, Marina de Dénia\, Local C2\, Denia\, Valencian Community\, 03700\, España
CATEGORIES:Concierto,Música,Tardeo
ATTACH;FMTTYPE=image/jpeg:https://disfruta-denia.com/wp-content/uploads/2022/12/IMG_3678.jpeg
END:VEVENT
BEGIN:VEVENT
DTSTART;TZID=Europe/Madrid:20240827T190000
DTEND;TZID=Europe/Madrid:20240827T190000
DTSTAMP:20260424T095803
CREATED:20240723T073345Z
LAST-MODIFIED:20240723T073345Z
UID:10019125-1724785200-1724785200@disfruta-denia.com
SUMMARY:Tardeos de verano en Casa Mena
DESCRIPTION:
URL:https://disfruta-denia.com/evento/tardeos-de-verano-en-casa-mena/2024-08-27/
LOCATION:Restaurante Mena\, Km 5 Carretera Las Rotas\, Denia\, 03700\, España
CATEGORIES:Concierto,Música,Tardeo
ATTACH;FMTTYPE=image/jpeg:https://disfruta-denia.com/wp-content/uploads/2024/07/449616078_10230380516634195_705857145489822784_n.jpg
END:VEVENT
BEGIN:VEVENT
DTSTART;TZID=Europe/Madrid:20240827T083000
DTEND;TZID=Europe/Madrid:20240827T083000
DTSTAMP:20260424T095803
CREATED:20231005T092619Z
LAST-MODIFIED:20231005T092702Z
UID:10014129-1724747400-1724747400@disfruta-denia.com
SUMMARY:Clase de Yoga en Códigos del Arte
DESCRIPTION:Clase de Yoga en Códigos del Arte
URL:https://disfruta-denia.com/evento/clase-de-yoga-en-codigos-del-arte/2024-08-27/
LOCATION:Códigos del Arte\, Carreró de Morant\, 8\, Dénia\, 03700\, España
CATEGORIES:Deporte,Yoga
ATTACH;FMTTYPE=image/jpeg:https://disfruta-denia.com/wp-content/uploads/2023/10/image_6487327.jpg
END:VEVENT
BEGIN:VEVENT
DTSTART;TZID=Europe/Madrid:20240826T203000
DTEND;TZID=Europe/Madrid:20240826T203000
DTSTAMP:20260424T095803
CREATED:20230912T174836Z
LAST-MODIFIED:20230912T174838Z
UID:10011460-1724704200-1724704200@disfruta-denia.com
SUMMARY:Tardeo con Marce Pesoa
DESCRIPTION:Esta noche. Tonight. \nLive music 20.30h. \nMarce Pesoa en The Speak Dénia. \nTacos\, Cocktails\, Parrilla \n& la mejor musica 🔥🤘 \nReservas: 675753879 \nLet’s #funmonday today!
URL:https://disfruta-denia.com/evento/tardeo-con-marce-pesoa-2/2024-08-26/
LOCATION:The Speak Denia\, Carrer del Pont\, 19\, Denia\, Alicante\, 03700\, España
CATEGORIES:Concierto,Música,Tardeo
ATTACH;FMTTYPE=image/jpeg:https://disfruta-denia.com/wp-content/uploads/2023/06/IMG-20230619-WA0000.jpg
END:VEVENT
BEGIN:VEVENT
DTSTART;TZID=Europe/Madrid:20240826T080000
DTEND;TZID=Europe/Madrid:20240826T170000
DTSTAMP:20260424T095803
CREATED:20240826T113243Z
LAST-MODIFIED:20240826T113243Z
UID:10019256-1724659200-1724691600@disfruta-denia.com
SUMMARY:INA MARTÍ canta a  MARÍA IBARS
DESCRIPTION:Presentació de les Unitats Didàctiques sobre Maria Ibars realitzades per Acció Cultural del País Valencià.  \n  \n\nTaula redona amb la participació de: Tomàs Llopis\, escriptor\, Pepa Guardiola\, escriptora\, Maria José Gálvez\, directora general del Llibre del govern d’Espanya\, JoanBa Martí i Escobar\, director de l’IES Maria Ibars de Dénia\, Àngels Gregori\, de l’Acadèmia Valenciana de la Llengua i Raúl García de la Reina\, regidor de Cultura.\n\n \n\nActuació musical. INA MARTÍ canta a  MARÍA IBARS.\n\n  \nOrganitza: ACPV. Ajuntament de Dénia. Cultura.
URL:https://disfruta-denia.com/evento/ina-marti-canta-a-maria-ibars/
LOCATION:Alicante
CATEGORIES:Cultura
ATTACH;FMTTYPE=image/png:https://disfruta-denia.com/wp-content/uploads/2024/08/5-Maria-Ibars.-INA-MARTI.png
ORGANIZER;CN="Denia Cultura":MAILTO:cultura@ayto-denia.es
END:VEVENT
BEGIN:VEVENT
DTSTART;VALUE=DATE:20240826
DTEND;VALUE=DATE:20240831
DTSTAMP:20260424T095803
CREATED:20240805T103726Z
LAST-MODIFIED:20240805T103948Z
UID:10019199-1724644800-1724990399@disfruta-denia.com
SUMMARY:Portal de la Marina Cup
DESCRIPTION:Portal de la Marina Cup se celebrará del 26 al 29 de septiembre dentro de las instalaciones del centro comercial. Los ganadores y ganadoras de cada categoría recibirán una plaza para el campus Gayá de Navidad.  \nEl campeonato Portal de la Marina Cup contará con 3 categorías infantiles: querubín (4-5 años)\, prebenjamín (6-7 años) y benjamín (8 -9 años). Todos los niños y niñas interesados en participar pueden inscribirse a través del siguiente enlace https://www.portaldelamarina.org/futbol-league-3×3/. El precio por jugador es de 10€ para los socios del Club de los Disfrutones o de 15€ para los que no pertenecen al club. Para premiar a los equipos ganadores de cada categoría\, recibirán una plaza para el campus Gayá de Navidad. \nAdemás\, para animar al público a participar\, Portal de la Marina acompañará el evento con numerosos sorteos y premios. Del 19 al 31 de agosto activarán el sorteo de una entrada doble para ver un partido de la temporada del Valencia CF en el Mestalla. Para participar tendrán que entrar en la sección sorteos de la App y hacer click en el botón de participar. \nDesde Portal de la Marina ya están preparando todo lo necesario para que esta acción se convierta en inolvidable para los niños y niñas de la comarca\, según palabras de Virginia Carrasco\, directora del centro comercial: “Esta iniciativa nos permitirá transmitir los valores del deporte a todos los participantes de la comarca. Valores como el compañerismo\, la superación y el esfuerzo que son muy importantes inculcar desde bien pequeños. Por esta razón\, hemos puesto en marcha esta iniciativa por segundo año consecutivo\, coincidiendo además con un año destacado por la celebración de los Juegos Olímpicos”.
URL:https://disfruta-denia.com/evento/portal-de-la-marina-cup/
LOCATION:Portal de la Marina\, Av. Costa Blanca\, 2\, Ondara\, Alicante\, 03760\, España
CATEGORIES:Deporte
ATTACH;FMTTYPE=image/jpeg:https://disfruta-denia.com/wp-content/uploads/2024/08/Post_1_Futbol-e1722854379846.jpg
END:VEVENT
BEGIN:VEVENT
DTSTART;TZID=Europe/Madrid:20240825T220000
DTEND;TZID=Europe/Madrid:20240825T220000
DTSTAMP:20260424T095803
CREATED:20240719T080236Z
LAST-MODIFIED:20240719T080250Z
UID:10019109-1724623200-1724623200@disfruta-denia.com
SUMMARY:Cine Vora Mar - Dragones y Mazmorras: Honor entre ladrones
DESCRIPTION:Dir. John Francis Daley\, Jonathan M. Goldstein.  EEUU. 2023. 128 min. \nRecomendada  + 12 años.  Fantástico. Aventuras.
URL:https://disfruta-denia.com/evento/cine-vora-mar-dragones-y-mazmorras-honor-entre-ladrones/
LOCATION:Playa Punta del Raset\, Punta del Raset\, Denia\, Alicante\, 03700\, España
CATEGORIES:Ciné,Cultura
ATTACH;FMTTYPE=image/jpeg:https://disfruta-denia.com/wp-content/uploads/2024/07/CARTELLLADRONESYMAZMORRAS_Vertical-1.jpg
END:VEVENT
BEGIN:VEVENT
DTSTART;TZID=Europe/Madrid:20240825T213000
DTEND;TZID=Europe/Madrid:20240825T213000
DTSTAMP:20260424T095803
CREATED:20240825T193000Z
LAST-MODIFIED:20240719T075956Z
UID:10019108-1724621400-1724621400@disfruta-denia.com
SUMMARY:XIII Edició Riurau Film Festival - Projecció Curtmetratges
DESCRIPTION:Jardins de Torrecremada\, entrada per / por passeig de Ricardo Ortega. \nDia 24     \n21.30 h  Jardins de Torrecremada  \nProjecció Curtmetratges / proyección de cortometrajes: \n\nFICCIÓ SOCIAL: dirigits per dones/ Ficción social:dirigidos por mujeres.\nFICCIÓ GENERAL / Ficción general.\nFILM DE DANSA / Film de danza\n\n  \nDia 25     \n10.30 h. Teatre Auditori\, c/ Calderón\, 4. \n2on Encontre del nostre cinema/ 2. Encuentro de nuestro cinema \n– Projecció de curts d’autors comarcals/proyección de cortos de autores comarcales. \n– Taula redona/mesa redonda: La indústria cinematogràfica a la Comarca \nAmb la col·laboració de / Con la colaboración de la Fundació Salom Sabar \n  \n21.30 h. Jardins de Torrecremada  \n Projecció Curtmetratges / proyección de cortometrajes: \n∙   FICCIÓ GENERAL / Ficción general. \n  \nGRAN GALA DE LLIURAMENT DE PREMIS // GRAN GALA DE ENTREGA DE PREMIOS \nEntada lliure fins a completar aforament/ Entrada libre hasta completar aforo.   \n Organitza/organiza: ESCOLA DE CINEMA RIURAU
URL:https://disfruta-denia.com/evento/xiii-edicio-riurau-film-festival-projeccio-curtmetratges/2024-08-25/2/
LOCATION:Parque de Torrecremada\, Carrer Germans Maristes\, Denia\, Alicante\, 03700\, España
CATEGORIES:Ciné,Cultura
ATTACH;FMTTYPE=image/png:https://disfruta-denia.com/wp-content/uploads/2024/08/5-Riuraufilm-festival.png
END:VEVENT
BEGIN:VEVENT
DTSTART;TZID=Europe/Madrid:20240825T210000
DTEND;TZID=Europe/Madrid:20240825T210000
DTSTAMP:20260424T095803
CREATED:20240219T102543Z
LAST-MODIFIED:20240219T102546Z
UID:10016346-1724619600-1724619600@disfruta-denia.com
SUMMARY:Concierto: Rebeldía Blues Band
DESCRIPTION:Concierto: Rebeldía Blues Band
URL:https://disfruta-denia.com/evento/concierto-rebeldia-blues-band-5-2-2-2/2024-08-25/
LOCATION:Rebeldia Blues\, Carr. de Dénia A Xábia\, 3G\, Denia\, Alicante\, 03700\, España
CATEGORIES:Concierto,Música
ATTACH;FMTTYPE=image/jpeg:https://disfruta-denia.com/wp-content/uploads/2024/02/428298315_17910192284911738_2883817046859909485_n.jpg
END:VEVENT
BEGIN:VEVENT
DTSTART;TZID=Europe/Madrid:20240825T180000
DTEND;TZID=Europe/Madrid:20240825T230000
DTSTAMP:20260424T095803
CREATED:20240823T094443Z
LAST-MODIFIED:20240823T094443Z
UID:10018839-1724608800-1724626800@disfruta-denia.com
SUMMARY:Mercat del Riurau Jesus Pobre
DESCRIPTION:¡Este domingo 25 de agosto\, disfruta de un día completo en Jesús Pobre! Por la mañana\, te invitamos a celebrar «l’Escaldà» en el Riurau\, una tradición que no te puedes perder.Luego\, por la tarde\, el Mercat del Riurau abre de 18:00 a 23:00\, con la actuación en directo de «Verasimil» a partir de las 20:00 para amenizar el mercado con su música. ¿Dónde? En Jesús Pobre ¿Cuándo? El domingo 25 de agosto¡Te esperamos para disfrutar juntos de esta jornada tan especial! 
URL:https://disfruta-denia.com/evento/mercat-del-riurau-jesus-pobre-2-25-3-2-2-5/
LOCATION:Mercado Riurau Jesus Pobre\, Jesus Pobre\, Alicante\, 03749\, España
CATEGORIES:Concierto,Gastronomía,Mercado
ATTACH;FMTTYPE=image/jpeg:https://disfruta-denia.com/wp-content/uploads/2024/07/456669536_886062603557105_8118886141550809235_n.jpg
END:VEVENT
BEGIN:VEVENT
DTSTART;TZID=Europe/Madrid:20240825T103000
DTEND;TZID=Europe/Madrid:20240825T103000
DTSTAMP:20260424T095803
CREATED:20240825T193000Z
LAST-MODIFIED:20240719T075956Z
UID:10019107-1724581800-1724581800@disfruta-denia.com
SUMMARY:XIII Edició Riurau Film Festival - Projecció Curtmetratges
DESCRIPTION:Jardins de Torrecremada\, entrada per / por passeig de Ricardo Ortega. \nDia 24     \n21.30 h  Jardins de Torrecremada  \nProjecció Curtmetratges / proyección de cortometrajes: \n\nFICCIÓ SOCIAL: dirigits per dones/ Ficción social:dirigidos por mujeres.\nFICCIÓ GENERAL / Ficción general.\nFILM DE DANSA / Film de danza\n\n  \nDia 25     \n10.30 h. Teatre Auditori\, c/ Calderón\, 4. \n2on Encontre del nostre cinema/ 2. Encuentro de nuestro cinema \n– Projecció de curts d’autors comarcals/proyección de cortos de autores comarcales. \n– Taula redona/mesa redonda: La indústria cinematogràfica a la Comarca \nAmb la col·laboració de / Con la colaboración de la Fundació Salom Sabar \n  \n21.30 h. Jardins de Torrecremada  \n Projecció Curtmetratges / proyección de cortometrajes: \n∙   FICCIÓ GENERAL / Ficción general. \n  \nGRAN GALA DE LLIURAMENT DE PREMIS // GRAN GALA DE ENTREGA DE PREMIOS \nEntada lliure fins a completar aforament/ Entrada libre hasta completar aforo.   \n Organitza/organiza: ESCOLA DE CINEMA RIURAU
URL:https://disfruta-denia.com/evento/xiii-edicio-riurau-film-festival-projeccio-curtmetratges/2024-08-25/1/
LOCATION:Parque de Torrecremada\, Carrer Germans Maristes\, Denia\, Alicante\, 03700\, España
CATEGORIES:Ciné,Cultura
ATTACH;FMTTYPE=image/png:https://disfruta-denia.com/wp-content/uploads/2024/08/5-Riuraufilm-festival.png
END:VEVENT
BEGIN:VEVENT
DTSTART;TZID=Europe/Madrid:20240824T235900
DTEND;TZID=Europe/Madrid:20240824T235900
DTSTAMP:20260424T095803
CREATED:20240821T160433Z
LAST-MODIFIED:20240821T160434Z
UID:10004122-1724543940-1724543940@disfruta-denia.com
SUMMARY:Sábado de Dorian Gray
DESCRIPTION:SEGUIMOS DE AGOSTO! \n🔸 MIÉRCOLES • 00’00h • NOCHE\nBORJA CONESA 🎧 en cabina #urbanmusic \n🔹 JUEVES • 00’00h • NOCHE\nRUMBADOS 💃🏼 en directo #rumbaflamenca \n🔸 VIERNES • 00’00h • NOCHE\n•Sala Dorian LA MOCHA 🎸 en directo #poprocknacional\n•Sala Gray BORJA CONESA 🎧 en cabina #urbanmusic \n🔹 SÁBADO • 00’00h • NOCHE\nBORJA CONESA 🎧 en cabina #urbanmusic \n🔸 DOMINGO • 00’00h • NOCHE\nJUNTOS Y REVUELTOS 🎸 en directo #poprockindieespañol \nREFRÉSCATE DE BUENA MÚSICA EN DORIAN GRAY!
URL:https://disfruta-denia.com/evento/sabado-de-dorian-gray-4-2-2-2-2-2-2-2-2/
LOCATION:Dorian Gray Denia\, Carrer de la Mar\, 14\, Denia\, Alicante\, 03700\, España
CATEGORIES:DJ,Música,Ocio nocturno
ATTACH;FMTTYPE=image/png:https://disfruta-denia.com/wp-content/uploads/2024/08/Dorian-Gray-Denia-doriangray_denia-•-Instagram-photos-and-videos-5.png
END:VEVENT
BEGIN:VEVENT
DTSTART;TZID=Europe/Madrid:20240824T235900
DTEND;TZID=Europe/Madrid:20240824T235900
DTSTAMP:20260424T095803
CREATED:20221128T194020Z
LAST-MODIFIED:20221128T194021Z
UID:10006574-1724543940-1724543940@disfruta-denia.com
SUMMARY:Concierto en LCDA
DESCRIPTION:
URL:https://disfruta-denia.com/evento/concierto-en-lcda-4/2024-08-24/
LOCATION:La Chica de ayer\, Calle la mar 30\, Denia\, Alicante\, 03700\, España
CATEGORIES:Concierto,Música,Ocio nocturno
ATTACH;FMTTYPE=image/jpeg:https://disfruta-denia.com/wp-content/uploads/2022/11/317545016_592127712917488_4859295703944293873_n.jpg
END:VEVENT
BEGIN:VEVENT
DTSTART;TZID=Europe/Madrid:20240824T213000
DTEND;TZID=Europe/Madrid:20240824T213000
DTSTAMP:20260424T095803
CREATED:20240825T193000Z
LAST-MODIFIED:20240719T075956Z
UID:10019106-1724535000-1724535000@disfruta-denia.com
SUMMARY:XIII Edició Riurau Film Festival - Projecció Curtmetratges
DESCRIPTION:Jardins de Torrecremada\, entrada per / por passeig de Ricardo Ortega. \nDia 24     \n21.30 h  Jardins de Torrecremada  \nProjecció Curtmetratges / proyección de cortometrajes: \n\nFICCIÓ SOCIAL: dirigits per dones/ Ficción social:dirigidos por mujeres.\nFICCIÓ GENERAL / Ficción general.\nFILM DE DANSA / Film de danza\n\n  \nDia 25     \n10.30 h. Teatre Auditori\, c/ Calderón\, 4. \n2on Encontre del nostre cinema/ 2. Encuentro de nuestro cinema \n– Projecció de curts d’autors comarcals/proyección de cortos de autores comarcales. \n– Taula redona/mesa redonda: La indústria cinematogràfica a la Comarca \nAmb la col·laboració de / Con la colaboración de la Fundació Salom Sabar \n  \n21.30 h. Jardins de Torrecremada  \n Projecció Curtmetratges / proyección de cortometrajes: \n∙   FICCIÓ GENERAL / Ficción general. \n  \nGRAN GALA DE LLIURAMENT DE PREMIS // GRAN GALA DE ENTREGA DE PREMIOS \nEntada lliure fins a completar aforament/ Entrada libre hasta completar aforo.   \n Organitza/organiza: ESCOLA DE CINEMA RIURAU
URL:https://disfruta-denia.com/evento/xiii-edicio-riurau-film-festival-projeccio-curtmetratges/2024-08-24/
LOCATION:Parque de Torrecremada\, Carrer Germans Maristes\, Denia\, Alicante\, 03700\, España
CATEGORIES:Ciné,Cultura
ATTACH;FMTTYPE=image/png:https://disfruta-denia.com/wp-content/uploads/2024/08/5-Riuraufilm-festival.png
END:VEVENT
BEGIN:VEVENT
DTSTART;TZID=Europe/Madrid:20240824T210000
DTEND;TZID=Europe/Madrid:20240824T210000
DTSTAMP:20260424T095803
CREATED:20240820T113046Z
LAST-MODIFIED:20240820T113047Z
UID:10016884-1724533200-1724533200@disfruta-denia.com
SUMMARY:Sábado concierto en Rebeldía Blues
DESCRIPTION:Sábado concierto en Rebledía Blues
URL:https://disfruta-denia.com/evento/sabado-concierto-en-rebeldia-blues-3-2-5/
LOCATION:Rebeldia Blues\, Carr. de Dénia A Xábia\, 3G\, Denia\, Alicante\, 03700\, España
CATEGORIES:Concierto,Música
ATTACH;FMTTYPE=image/jpeg:https://disfruta-denia.com/wp-content/uploads/2024/06/PHOTO-2024-08-20-13-23-13.jpg
END:VEVENT
BEGIN:VEVENT
DTSTART;TZID=Europe/Madrid:20240823T235900
DTEND;TZID=Europe/Madrid:20240823T235900
DTSTAMP:20260424T095803
CREATED:20240821T160422Z
LAST-MODIFIED:20240821T160422Z
UID:10003861-1724457540-1724457540@disfruta-denia.com
SUMMARY:Viernes de Dorian Gray
DESCRIPTION:SEGUIMOS DE AGOSTO! \n🔸 MIÉRCOLES • 00’00h • NOCHE\nBORJA CONESA 🎧 en cabina #urbanmusic \n🔹 JUEVES • 00’00h • NOCHE\nRUMBADOS 💃🏼 en directo #rumbaflamenca \n🔸 VIERNES • 00’00h • NOCHE\n•Sala Dorian LA MOCHA 🎸 en directo #poprocknacional\n•Sala Gray BORJA CONESA 🎧 en cabina #urbanmusic \n🔹 SÁBADO • 00’00h • NOCHE\nBORJA CONESA 🎧 en cabina #urbanmusic \n🔸 DOMINGO • 00’00h • NOCHE\nJUNTOS Y REVUELTOS 🎸 en directo #poprockindieespañol \nREFRÉSCATE DE BUENA MÚSICA EN DORIAN GRAY!
URL:https://disfruta-denia.com/evento/viernes-de-dorian-gray-4-2-2-2-2-2-2/
LOCATION:Dorian Gray Denia\, Carrer de la Mar\, 14\, Denia\, Alicante\, 03700\, España
CATEGORIES:Concierto,DJ,Música,Ocio nocturno
ATTACH;FMTTYPE=image/png:https://disfruta-denia.com/wp-content/uploads/2024/08/Dorian-Gray-Denia-doriangray_denia-•-Instagram-photos-and-videos-5.png
END:VEVENT
BEGIN:VEVENT
DTSTART;TZID=Europe/Madrid:20240823T223000
DTEND;TZID=Europe/Madrid:20240823T223000
DTSTAMP:20260424T095803
CREATED:20240612T185534Z
LAST-MODIFIED:20240718T080205Z
UID:10018754-1724452200-1724452200@disfruta-denia.com
SUMMARY:X FESTIVAL JAZZ DENIA - RACALMUTO
DESCRIPTION:Entrada por paseo de Ricardo Ortega.           \n– Entrada anticipada 15 € (en línea) en:  www.notikumi.com \nALE –HOP (Marqués de Campo\,42 i CC La Marina). Llibreria Públics Dénia (C/ Patricio Ferrándiz\, 16) \n– Entrada en taquilla: 17 €
URL:https://disfruta-denia.com/evento/x-festival-jazz-denia-racalmuto/
LOCATION:Parque de Torrecremada\, Carrer Germans Maristes\, Denia\, Alicante\, 03700\, España
CATEGORIES:Concierto,Festival,Jazz,Música
ATTACH;FMTTYPE=image/jpeg:https://disfruta-denia.com/wp-content/uploads/2024/06/1718191362RACALMUTOweb_Grande.jpg
END:VEVENT
BEGIN:VEVENT
DTSTART;TZID=Europe/Madrid:20240823T210000
DTEND;TZID=Europe/Madrid:20240823T210000
DTSTAMP:20260424T095803
CREATED:20240820T113102Z
LAST-MODIFIED:20240820T113102Z
UID:10016084-1724446800-1724446800@disfruta-denia.com
SUMMARY:Concierto de Viernes en Rebeldía Blues
DESCRIPTION:Concierto de Viernes en Rebeldía Blues
URL:https://disfruta-denia.com/evento/concierto-de-viernes-en-rebeldia-blues-3-3-6/
LOCATION:Rebeldia Blues\, Carr. de Dénia A Xábia\, 3G\, Denia\, Alicante\, 03700\, España
CATEGORIES:Concierto,Música
ATTACH;FMTTYPE=image/jpeg:https://disfruta-denia.com/wp-content/uploads/2024/06/PHOTO-2024-08-20-13-25-23.jpg
END:VEVENT
BEGIN:VEVENT
DTSTART;TZID=Europe/Madrid:20240823T173000
DTEND;TZID=Europe/Madrid:20240823T173000
DTSTAMP:20260424T095803
CREATED:20240530T130548Z
LAST-MODIFIED:20240530T130550Z
UID:10018615-1724434200-1724434200@disfruta-denia.com
SUMMARY:Tardeo en La Mar Serena
DESCRIPTION:No estáis listos para el show de este Viernes ❤️‍🔥\n@miguellemadj & @raquelcardonamusic vienen cargados de hits 🪩 ¡Nos vemos en la pista!
URL:https://disfruta-denia.com/evento/tardeo-en-la-mar-serena-2-2/2024-08-23/
LOCATION:La Mar Serena\, Moll de la Pansa s/n Edificio Marina el Portet\, Denia\, Alicante\, 03700\, España
CATEGORIES:DJ,Música,Tardeo
ATTACH;FMTTYPE=image/jpeg:https://disfruta-denia.com/wp-content/uploads/2024/05/IMG-20240530-WA0011.jpg
END:VEVENT
BEGIN:VEVENT
DTSTART;TZID=Europe/Madrid:20240822T210000
DTEND;TZID=Europe/Madrid:20240822T210000
DTSTAMP:20260424T095803
CREATED:20240307T094627Z
LAST-MODIFIED:20240307T094631Z
UID:10016622-1724360400-1724360400@disfruta-denia.com
SUMMARY:Karaoké en Rebeldía Blues
DESCRIPTION:Karaoké en Rebeldía Blues
URL:https://disfruta-denia.com/evento/karaoke-en-rebeldia-blues-4-2-2-2-2-2/2024-08-22/
LOCATION:Rebeldia Blues\, Carr. de Dénia A Xábia\, 3G\, Denia\, Alicante\, 03700\, España
CATEGORIES:Karaoké,Música
ATTACH;FMTTYPE=image/jpeg:https://disfruta-denia.com/wp-content/uploads/2024/02/429768881_17912348297911738_3047273990901060399_n.jpg
END:VEVENT
BEGIN:VEVENT
DTSTART;TZID=Europe/Madrid:20240822T083000
DTEND;TZID=Europe/Madrid:20240822T083000
DTSTAMP:20260424T095803
CREATED:20231005T092619Z
LAST-MODIFIED:20231005T092702Z
UID:10014128-1724315400-1724315400@disfruta-denia.com
SUMMARY:Clase de Yoga en Códigos del Arte
DESCRIPTION:Clase de Yoga en Códigos del Arte
URL:https://disfruta-denia.com/evento/clase-de-yoga-en-codigos-del-arte/2024-08-22/
LOCATION:Códigos del Arte\, Carreró de Morant\, 8\, Dénia\, 03700\, España
CATEGORIES:Deporte,Yoga
ATTACH;FMTTYPE=image/jpeg:https://disfruta-denia.com/wp-content/uploads/2023/10/image_6487327.jpg
END:VEVENT
BEGIN:VEVENT
DTSTART;TZID=Europe/Madrid:20240821T223000
DTEND;TZID=Europe/Madrid:20240821T223000
DTSTAMP:20260424T095803
CREATED:20240716T164635Z
LAST-MODIFIED:20240716T164635Z
UID:10018828-1724279400-1724279400@disfruta-denia.com
SUMMARY:CINE A LA FRESCA: GRAN TURISMO
DESCRIPTION:Dir.: Neill Blomkamp. EEUU. 2023. 134 min. \nRecomendada   + 7 años.  Acción. \nTráiler: 
URL:https://disfruta-denia.com/evento/cine-a-la-fresca-gran-turismo/
LOCATION:Parc de Les Bassetes\, Carr. de les Marines\, 53\, Denia\, Alicante\, 03700\, España
CATEGORIES:Ciné,Cultura
ATTACH;FMTTYPE=image/png:https://disfruta-denia.com/wp-content/uploads/2024/07/4-BASSETES.png
END:VEVENT
BEGIN:VEVENT
DTSTART;TZID=Europe/Madrid:20240821T203000
DTEND;TZID=Europe/Madrid:20240821T203000
DTSTAMP:20260424T095803
CREATED:20240414T124150Z
LAST-MODIFIED:20240414T124150Z
UID:10017930-1724272200-1724272200@disfruta-denia.com
SUMMARY:Miércoles latinos\, miércoles clandestinos
DESCRIPTION:Miércoles latinos\, miércoles clandestinos  Cada miércoles a las 20.30h tenemos una cita con Madelyn Torroella a ritmo cubano!! Voz\, percusión y versiones de salsa clásica\, cada miércoles\, en el Speak. Parrillada\, tacos\, tapas\, cocktails & música. Reserva tu mesa
URL:https://disfruta-denia.com/evento/miercoles-latinos-miercoles-clandestinos/2024-08-21/
LOCATION:The Speak Denia\, Carrer del Pont\, 19\, Denia\, Alicante\, 03700\, España
CATEGORIES:Concierto,Música
ATTACH;FMTTYPE=image/jpeg:https://disfruta-denia.com/wp-content/uploads/2024/04/434468313_1159701198651630_4992165217264460198_n.jpg
END:VEVENT
BEGIN:VEVENT
DTSTART;TZID=Europe/Madrid:20240821T200000
DTEND;TZID=Europe/Madrid:20240821T233000
DTSTAMP:20260424T095803
CREATED:20230612T102803Z
LAST-MODIFIED:20230612T102804Z
UID:10009000-1724270400-1724283000@disfruta-denia.com
SUMMARY:Autocine: día del espectador
DESCRIPTION:
URL:https://disfruta-denia.com/evento/autocine-dia-del-espectador-3/2024-08-21/
LOCATION:Autociné Denia\, Partida Deveses D\, 27\, Denia\, Alicante\, 03700\, España
CATEGORIES:Ciné,Cultura
ATTACH;FMTTYPE=image/jpeg:https://disfruta-denia.com/wp-content/uploads/2022/11/Autocine-Drive-In-Denia-1.jpg
END:VEVENT
BEGIN:VEVENT
DTSTART;TZID=Europe/Madrid:20240821T190000
DTEND;TZID=Europe/Madrid:20240821T210000
DTSTAMP:20260424T095803
CREATED:20231115T115842Z
LAST-MODIFIED:20231115T115843Z
UID:10008317-1724266800-1724274000@disfruta-denia.com
SUMMARY:Tardeo en Basta
DESCRIPTION:
URL:https://disfruta-denia.com/evento/tardeo-en-basta-3-3/2024-08-21/
LOCATION:Basta Lounge Bar\, Marina de Dénia\, Local C2\, Denia\, Valencian Community\, 03700\, España
CATEGORIES:Concierto,Música,Tardeo
ATTACH;FMTTYPE=image/jpeg:https://disfruta-denia.com/wp-content/uploads/2022/12/IMG_3678.jpeg
END:VEVENT
BEGIN:VEVENT
DTSTART;TZID=Europe/Madrid:20240820T190000
DTEND;TZID=Europe/Madrid:20240820T190000
DTSTAMP:20260424T095803
CREATED:20240723T073345Z
LAST-MODIFIED:20240723T073345Z
UID:10019124-1724180400-1724180400@disfruta-denia.com
SUMMARY:Tardeos de verano en Casa Mena
DESCRIPTION:
URL:https://disfruta-denia.com/evento/tardeos-de-verano-en-casa-mena/2024-08-20/
LOCATION:Restaurante Mena\, Km 5 Carretera Las Rotas\, Denia\, 03700\, España
CATEGORIES:Concierto,Música,Tardeo
ATTACH;FMTTYPE=image/jpeg:https://disfruta-denia.com/wp-content/uploads/2024/07/449616078_10230380516634195_705857145489822784_n.jpg
END:VEVENT
BEGIN:VEVENT
DTSTART;TZID=Europe/Madrid:20240820T083000
DTEND;TZID=Europe/Madrid:20240820T083000
DTSTAMP:20260424T095803
CREATED:20231005T092619Z
LAST-MODIFIED:20231005T092702Z
UID:10014127-1724142600-1724142600@disfruta-denia.com
SUMMARY:Clase de Yoga en Códigos del Arte
DESCRIPTION:Clase de Yoga en Códigos del Arte
URL:https://disfruta-denia.com/evento/clase-de-yoga-en-codigos-del-arte/2024-08-20/
LOCATION:Códigos del Arte\, Carreró de Morant\, 8\, Dénia\, 03700\, España
CATEGORIES:Deporte,Yoga
ATTACH;FMTTYPE=image/jpeg:https://disfruta-denia.com/wp-content/uploads/2023/10/image_6487327.jpg
END:VEVENT
BEGIN:VEVENT
DTSTART;TZID=Europe/Madrid:20240819T203000
DTEND;TZID=Europe/Madrid:20240819T203000
DTSTAMP:20260424T095803
CREATED:20240708T134753Z
LAST-MODIFIED:20240708T134836Z
UID:10018824-1724099400-1724099400@disfruta-denia.com
SUMMARY:Tablao Flamenco
DESCRIPTION:𝗝𝗨𝗟𝗜𝗢 𝘆 𝗔𝗚𝗢𝗦𝗧𝗢 𝘀𝗼𝗻 𝗱𝗲 𝗧𝗔𝗕𝗟𝗔𝗢 𝗙𝗟𝗔𝗠𝗘𝗡𝗖𝗢 💃 𝗲𝗻 𝗟𝗲𝘀 𝘁𝗿𝗮𝗺𝗼𝗶𝗲𝘀.⁣\n⁣\nVive un auténtico tablao flamenco con una puesta en escena única y espectacular. Baile\, cante\, percusión y guitarra.⁣\n⁣\n****⁣\n⁣\nExperience an authentic flamenco tablao with a unique and spectacular staging. Dance\, singing\, percussion and guitar.⁣\n⁣\n📆𝘍𝘦𝘤𝘩𝘢𝘴/ Dates:⁣\n⁣\n𝟭𝟱 𝗱𝗲 𝗷𝘂𝗹𝗶𝗼⁣\n𝟮𝟵 𝗱𝗲 𝗷𝘂𝗹𝗶𝗼⁣\n𝟱 𝗱𝗲 𝗮𝗴𝗼𝘀to\n𝟭𝟵 𝗱𝗲 𝗮𝗴𝗼𝘀𝘁𝗼⁣\n⁣\n🕣Todas las 𝘀𝗲𝘀𝗶𝗼𝗻𝗲𝘀 𝘀𝗼𝗻 𝗮 𝗹𝗮𝘀 𝟮𝟬:𝟯𝟬. Apertura de puertas 30 minutos antes.⁣\n⁣\n⁣\n𝗜𝗻𝗳𝗼𝗿𝗺𝗮𝗰𝗶𝗼́𝗻 𝘆 𝗿𝗲𝘀𝗲𝗿𝘃𝗮𝘀🎟️/ 𝗧𝗶𝗰𝗸𝗲𝘁𝘀:⁣\n☎️605 28 23 28⁣\n\n\nhttps://www.notikumi.com/2024/7/15/tablao-flamenco
URL:https://disfruta-denia.com/evento/tablao-flamenco/2024-08-19/
LOCATION:Les Tramoies\, C/ de Patricio Ferrándiz\, 88\, Denia\, Alicante\, 03700\, España
CATEGORIES:Baile,Cultura,Danza,Música
ATTACH;FMTTYPE=image/jpeg:https://disfruta-denia.com/wp-content/uploads/2024/07/image0.jpeg
END:VEVENT
BEGIN:VEVENT
DTSTART;TZID=Europe/Madrid:20240819T203000
DTEND;TZID=Europe/Madrid:20240819T203000
DTSTAMP:20260424T095803
CREATED:20230912T174836Z
LAST-MODIFIED:20230912T174838Z
UID:10011459-1724099400-1724099400@disfruta-denia.com
SUMMARY:Tardeo con Marce Pesoa
DESCRIPTION:Esta noche. Tonight. \nLive music 20.30h. \nMarce Pesoa en The Speak Dénia. \nTacos\, Cocktails\, Parrilla \n& la mejor musica 🔥🤘 \nReservas: 675753879 \nLet’s #funmonday today!
URL:https://disfruta-denia.com/evento/tardeo-con-marce-pesoa-2/2024-08-19/
LOCATION:The Speak Denia\, Carrer del Pont\, 19\, Denia\, Alicante\, 03700\, España
CATEGORIES:Concierto,Música,Tardeo
ATTACH;FMTTYPE=image/jpeg:https://disfruta-denia.com/wp-content/uploads/2023/06/IMG-20230619-WA0000.jpg
END:VEVENT
END:VCALENDAR