BEGIN:VCALENDAR
VERSION:2.0
PRODID:-//Disfruta Denia - ECPv6.15.20//NONSGML v1.0//EN
CALSCALE:GREGORIAN
METHOD:PUBLISH
X-WR-CALNAME:Disfruta Denia
X-ORIGINAL-URL:https://disfruta-denia.com
X-WR-CALDESC:Eventos para Disfruta Denia
REFRESH-INTERVAL;VALUE=DURATION:PT1H
X-Robots-Tag:noindex
X-PUBLISHED-TTL:PT1H
BEGIN:VTIMEZONE
TZID:Europe/Madrid
BEGIN:DAYLIGHT
TZOFFSETFROM:+0100
TZOFFSETTO:+0200
TZNAME:CEST
DTSTART:20230326T010000
END:DAYLIGHT
BEGIN:STANDARD
TZOFFSETFROM:+0200
TZOFFSETTO:+0100
TZNAME:CET
DTSTART:20231029T010000
END:STANDARD
BEGIN:DAYLIGHT
TZOFFSETFROM:+0100
TZOFFSETTO:+0200
TZNAME:CEST
DTSTART:20240331T010000
END:DAYLIGHT
BEGIN:STANDARD
TZOFFSETFROM:+0200
TZOFFSETTO:+0100
TZNAME:CET
DTSTART:20241027T010000
END:STANDARD
BEGIN:DAYLIGHT
TZOFFSETFROM:+0100
TZOFFSETTO:+0200
TZNAME:CEST
DTSTART:20250330T010000
END:DAYLIGHT
BEGIN:STANDARD
TZOFFSETFROM:+0200
TZOFFSETTO:+0100
TZNAME:CET
DTSTART:20251026T010000
END:STANDARD
END:VTIMEZONE
BEGIN:VEVENT
DTSTART;TZID=Europe/Madrid:20240821T200000
DTEND;TZID=Europe/Madrid:20240821T233000
DTSTAMP:20260424T132711
CREATED:20230612T102803Z
LAST-MODIFIED:20230612T102804Z
UID:10009000-1724270400-1724283000@disfruta-denia.com
SUMMARY:Autocine: día del espectador
DESCRIPTION:
URL:https://disfruta-denia.com/evento/autocine-dia-del-espectador-3/2024-08-21/
LOCATION:Autociné Denia\, Partida Deveses D\, 27\, Denia\, Alicante\, 03700\, España
CATEGORIES:Ciné,Cultura
ATTACH;FMTTYPE=image/jpeg:https://disfruta-denia.com/wp-content/uploads/2022/11/Autocine-Drive-In-Denia-1.jpg
END:VEVENT
BEGIN:VEVENT
DTSTART;TZID=Europe/Madrid:20240821T190000
DTEND;TZID=Europe/Madrid:20240821T210000
DTSTAMP:20260424T132711
CREATED:20231115T115842Z
LAST-MODIFIED:20231115T115843Z
UID:10008317-1724266800-1724274000@disfruta-denia.com
SUMMARY:Tardeo en Basta
DESCRIPTION:
URL:https://disfruta-denia.com/evento/tardeo-en-basta-3-3/2024-08-21/
LOCATION:Basta Lounge Bar\, Marina de Dénia\, Local C2\, Denia\, Valencian Community\, 03700\, España
CATEGORIES:Concierto,Música,Tardeo
ATTACH;FMTTYPE=image/jpeg:https://disfruta-denia.com/wp-content/uploads/2022/12/IMG_3678.jpeg
END:VEVENT
BEGIN:VEVENT
DTSTART;TZID=Europe/Madrid:20240820T190000
DTEND;TZID=Europe/Madrid:20240820T190000
DTSTAMP:20260424T132711
CREATED:20240723T073345Z
LAST-MODIFIED:20240723T073345Z
UID:10019124-1724180400-1724180400@disfruta-denia.com
SUMMARY:Tardeos de verano en Casa Mena
DESCRIPTION:
URL:https://disfruta-denia.com/evento/tardeos-de-verano-en-casa-mena/2024-08-20/
LOCATION:Restaurante Mena\, Km 5 Carretera Las Rotas\, Denia\, 03700\, España
CATEGORIES:Concierto,Música,Tardeo
ATTACH;FMTTYPE=image/jpeg:https://disfruta-denia.com/wp-content/uploads/2024/07/449616078_10230380516634195_705857145489822784_n.jpg
END:VEVENT
BEGIN:VEVENT
DTSTART;TZID=Europe/Madrid:20240820T083000
DTEND;TZID=Europe/Madrid:20240820T083000
DTSTAMP:20260424T132711
CREATED:20231005T092619Z
LAST-MODIFIED:20231005T092702Z
UID:10014127-1724142600-1724142600@disfruta-denia.com
SUMMARY:Clase de Yoga en Códigos del Arte
DESCRIPTION:Clase de Yoga en Códigos del Arte
URL:https://disfruta-denia.com/evento/clase-de-yoga-en-codigos-del-arte/2024-08-20/
LOCATION:Códigos del Arte\, Carreró de Morant\, 8\, Dénia\, 03700\, España
CATEGORIES:Deporte,Yoga
ATTACH;FMTTYPE=image/jpeg:https://disfruta-denia.com/wp-content/uploads/2023/10/image_6487327.jpg
END:VEVENT
BEGIN:VEVENT
DTSTART;TZID=Europe/Madrid:20240819T203000
DTEND;TZID=Europe/Madrid:20240819T203000
DTSTAMP:20260424T132711
CREATED:20240708T134753Z
LAST-MODIFIED:20240708T134836Z
UID:10018824-1724099400-1724099400@disfruta-denia.com
SUMMARY:Tablao Flamenco
DESCRIPTION:𝗝𝗨𝗟𝗜𝗢 𝘆 𝗔𝗚𝗢𝗦𝗧𝗢 𝘀𝗼𝗻 𝗱𝗲 𝗧𝗔𝗕𝗟𝗔𝗢 𝗙𝗟𝗔𝗠𝗘𝗡𝗖𝗢 💃 𝗲𝗻 𝗟𝗲𝘀 𝘁𝗿𝗮𝗺𝗼𝗶𝗲𝘀.⁣\n⁣\nVive un auténtico tablao flamenco con una puesta en escena única y espectacular. Baile\, cante\, percusión y guitarra.⁣\n⁣\n****⁣\n⁣\nExperience an authentic flamenco tablao with a unique and spectacular staging. Dance\, singing\, percussion and guitar.⁣\n⁣\n📆𝘍𝘦𝘤𝘩𝘢𝘴/ Dates:⁣\n⁣\n𝟭𝟱 𝗱𝗲 𝗷𝘂𝗹𝗶𝗼⁣\n𝟮𝟵 𝗱𝗲 𝗷𝘂𝗹𝗶𝗼⁣\n𝟱 𝗱𝗲 𝗮𝗴𝗼𝘀to\n𝟭𝟵 𝗱𝗲 𝗮𝗴𝗼𝘀𝘁𝗼⁣\n⁣\n🕣Todas las 𝘀𝗲𝘀𝗶𝗼𝗻𝗲𝘀 𝘀𝗼𝗻 𝗮 𝗹𝗮𝘀 𝟮𝟬:𝟯𝟬. Apertura de puertas 30 minutos antes.⁣\n⁣\n⁣\n𝗜𝗻𝗳𝗼𝗿𝗺𝗮𝗰𝗶𝗼́𝗻 𝘆 𝗿𝗲𝘀𝗲𝗿𝘃𝗮𝘀🎟️/ 𝗧𝗶𝗰𝗸𝗲𝘁𝘀:⁣\n☎️605 28 23 28⁣\n\n\nhttps://www.notikumi.com/2024/7/15/tablao-flamenco
URL:https://disfruta-denia.com/evento/tablao-flamenco/2024-08-19/
LOCATION:Les Tramoies\, C/ de Patricio Ferrándiz\, 88\, Denia\, Alicante\, 03700\, España
CATEGORIES:Baile,Cultura,Danza,Música
ATTACH;FMTTYPE=image/jpeg:https://disfruta-denia.com/wp-content/uploads/2024/07/image0.jpeg
END:VEVENT
BEGIN:VEVENT
DTSTART;TZID=Europe/Madrid:20240819T203000
DTEND;TZID=Europe/Madrid:20240819T203000
DTSTAMP:20260424T132711
CREATED:20230912T174836Z
LAST-MODIFIED:20230912T174838Z
UID:10011459-1724099400-1724099400@disfruta-denia.com
SUMMARY:Tardeo con Marce Pesoa
DESCRIPTION:Esta noche. Tonight. \nLive music 20.30h. \nMarce Pesoa en The Speak Dénia. \nTacos\, Cocktails\, Parrilla \n& la mejor musica 🔥🤘 \nReservas: 675753879 \nLet’s #funmonday today!
URL:https://disfruta-denia.com/evento/tardeo-con-marce-pesoa-2/2024-08-19/
LOCATION:The Speak Denia\, Carrer del Pont\, 19\, Denia\, Alicante\, 03700\, España
CATEGORIES:Concierto,Música,Tardeo
ATTACH;FMTTYPE=image/jpeg:https://disfruta-denia.com/wp-content/uploads/2023/06/IMG-20230619-WA0000.jpg
END:VEVENT
BEGIN:VEVENT
DTSTART;TZID=Europe/Madrid:20240818T220000
DTEND;TZID=Europe/Madrid:20240818T220000
DTSTAMP:20260424T132711
CREATED:20240718T071537Z
LAST-MODIFIED:20240718T071537Z
UID:10019100-1724018400-1724018400@disfruta-denia.com
SUMMARY:Cine Vora Mar: CAMPEONEX
DESCRIPTION:Dir.: Javier Fesser. Espanya/ España. 2023. 124 min. \nRecomanada / recomendada TP. Comèdia / Comedia \n 
URL:https://disfruta-denia.com/evento/cine-vora-mar-campeonex/
LOCATION:Playa Punta del Raset\, Punta del Raset\, Denia\, Alicante\, 03700\, España
CATEGORIES:Ciné,Cultura
ATTACH;FMTTYPE=image/jpeg:https://disfruta-denia.com/wp-content/uploads/2024/07/CAMPEONEX.jpg
END:VEVENT
BEGIN:VEVENT
DTSTART;TZID=Europe/Madrid:20240818T210000
DTEND;TZID=Europe/Madrid:20240818T210000
DTSTAMP:20260424T132711
CREATED:20240219T102543Z
LAST-MODIFIED:20240219T102546Z
UID:10016345-1724014800-1724014800@disfruta-denia.com
SUMMARY:Concierto: Rebeldía Blues Band
DESCRIPTION:Concierto: Rebeldía Blues Band
URL:https://disfruta-denia.com/evento/concierto-rebeldia-blues-band-5-2-2-2/2024-08-18/
LOCATION:Rebeldia Blues\, Carr. de Dénia A Xábia\, 3G\, Denia\, Alicante\, 03700\, España
CATEGORIES:Concierto,Música
ATTACH;FMTTYPE=image/jpeg:https://disfruta-denia.com/wp-content/uploads/2024/02/428298315_17910192284911738_2883817046859909485_n.jpg
END:VEVENT
BEGIN:VEVENT
DTSTART;TZID=Europe/Madrid:20240818T180000
DTEND;TZID=Europe/Madrid:20240818T230000
DTSTAMP:20260424T132711
CREATED:20240718T160926Z
LAST-MODIFIED:20240718T160927Z
UID:10018838-1724004000-1724022000@disfruta-denia.com
SUMMARY:Mercat del Riurau Jesus Pobre
DESCRIPTION:¡Este domingo 21 de julio\, ven al Mercat del Riurau y disfruta de música en directo! \n\n\nAbrimos de 18:00 a 23:00\, y a partir de las 20:00\, tendremos la actuación de Pixiestix\, que nos deleitarán con su increíble talento y energéticas melodías.\n\n\nÚnete a nosotros para una tarde llena de buena música\, productos locales\, artesanía y delicias frescas.\n\n\n ¿Dónde? En Jesús Pobre\n\n\n ¿Cuándo? El domingo 21 de julio\, de 18:00 a 23:00\n\n\n¡Te esperamos este domingo en el Mercat del Riurau!
URL:https://disfruta-denia.com/evento/mercat-del-riurau-jesus-pobre-2-25-3-2-2/2024-08-18/
LOCATION:Mercado Riurau Jesus Pobre\, Jesus Pobre\, Alicante\, 03749\, España
CATEGORIES:Concierto,Gastronomía,Mercado
ATTACH;FMTTYPE=image/jpeg:https://disfruta-denia.com/wp-content/uploads/2024/06/451546111_864034015759964_3923602328096875256_n.jpg
END:VEVENT
BEGIN:VEVENT
DTSTART;TZID=Europe/Madrid:20240817T235900
DTEND;TZID=Europe/Madrid:20240817T235900
DTSTAMP:20260424T132711
CREATED:20240815T093758Z
LAST-MODIFIED:20240815T093759Z
UID:10004121-1723939140-1723939140@disfruta-denia.com
SUMMARY:Sábado de Dorian Gray
DESCRIPTION:MOROS I CRISTIANS DE DÉNIA 🌙➕ \n🔸 MIÉRCOLES • 00’00h • NOCHE\nRUMBADOS 💃🏼 en directo #rumbaflamenca \n🔹 JUEVES • 00’00h • NOCHE\nDION DOBBE 🎧 en cabina #urbanmusic \n🔸 VIERNES • 00’00h • NOCHE\nBORJA CONESA 🎧 en cabina #urbanmusic \n🔹 SÁBADO • 00’00h • NOCHE\nBORJA CONESA 🎧 en cabina #urbanmusic \n🔸 DOMINGO • 00’00h • NOCHE\nJUNTOS Y REVUELTOS 🎸 en directo #poprockindieespañol \nESTE FIN DE SEMANA GANAMOS LA BATALLA!!!
URL:https://disfruta-denia.com/evento/sabado-de-dorian-gray-4-2-2-2-2-2-2-2/
LOCATION:Dorian Gray Denia\, Carrer de la Mar\, 14\, Denia\, Alicante\, 03700\, España
CATEGORIES:DJ,Música,Ocio nocturno
ATTACH;FMTTYPE=image/png:https://disfruta-denia.com/wp-content/uploads/2024/07/Dorian-Gray-Denia-doriangray_denia-•-Instagram-photos-and-videos-4.png
END:VEVENT
BEGIN:VEVENT
DTSTART;TZID=Europe/Madrid:20240817T235900
DTEND;TZID=Europe/Madrid:20240817T235900
DTSTAMP:20260424T132711
CREATED:20221128T194020Z
LAST-MODIFIED:20221128T194021Z
UID:10006573-1723939140-1723939140@disfruta-denia.com
SUMMARY:Concierto en LCDA
DESCRIPTION:
URL:https://disfruta-denia.com/evento/concierto-en-lcda-4/2024-08-17/
LOCATION:La Chica de ayer\, Calle la mar 30\, Denia\, Alicante\, 03700\, España
CATEGORIES:Concierto,Música,Ocio nocturno
ATTACH;FMTTYPE=image/jpeg:https://disfruta-denia.com/wp-content/uploads/2022/11/317545016_592127712917488_4859295703944293873_n.jpg
END:VEVENT
BEGIN:VEVENT
DTSTART;TZID=Europe/Madrid:20240817T233000
DTEND;TZID=Europe/Madrid:20240817T233000
DTSTAMP:20260424T132711
CREATED:20240314T094342Z
LAST-MODIFIED:20241212T112919Z
UID:10019211-1723937400-1723937400@disfruta-denia.com
SUMMARY:Concierto: Payback en el Paddy
DESCRIPTION:disfruta de PAYBACK en Paddy\nNo te lo pierdas 
URL:https://disfruta-denia.com/evento/concierto-payback-en-el-paddy/2024-08-17/
LOCATION:Paddy O’Connell Denia\, Calle de la Mar\, 20\, Denia\, Alicante\, 03700\, España
CATEGORIES:Concierto,Música,Ocio nocturno
ATTACH;FMTTYPE=image/png:https://disfruta-denia.com/wp-content/uploads/2024/03/Rebeldia-Blues-rebeldiablues-•-Instagram-photos-and-videos-12-12-2024_12_28_PM.png
END:VEVENT
BEGIN:VEVENT
DTSTART;TZID=Europe/Madrid:20240817T223000
DTEND;TZID=Europe/Madrid:20240817T223000
DTSTAMP:20260424T132711
CREATED:20240612T190105Z
LAST-MODIFIED:20240809T072344Z
UID:10018757-1723933800-1723933800@disfruta-denia.com
SUMMARY:X FESTIVAL JAZZ DENIA - ENRIC PEIDRO INTERNATIONAL JAZZ QUARTET
DESCRIPTION:
URL:https://disfruta-denia.com/evento/x-festival-jazz-denia-enric-peidro-international-jazz-quartet/
LOCATION:Parque de Torrecremada\, Carrer Germans Maristes\, Denia\, Alicante\, 03700\, España
CATEGORIES:Concierto,Festival,Jazz,Música
ATTACH;FMTTYPE=image/png:https://disfruta-denia.com/wp-content/uploads/2024/06/unnamed-1.png
END:VEVENT
BEGIN:VEVENT
DTSTART;TZID=Europe/Madrid:20240817T210000
DTEND;TZID=Europe/Madrid:20240817T210000
DTSTAMP:20260424T132711
CREATED:20240619T084652Z
LAST-MODIFIED:20240619T084653Z
UID:10016883-1723928400-1723928400@disfruta-denia.com
SUMMARY:Sábado concierto en Rebeldía Blues
DESCRIPTION:Sábado concierto en Rebledía Blues
URL:https://disfruta-denia.com/evento/sabado-concierto-en-rebeldia-blues-3-2/2024-08-17/
LOCATION:Rebeldia Blues\, Carr. de Dénia A Xábia\, 3G\, Denia\, Alicante\, 03700\, España
CATEGORIES:Concierto,Música
ATTACH;FMTTYPE=image/jpeg:https://disfruta-denia.com/wp-content/uploads/2024/06/448796304_17925144977911738_2236760507238444997_n.jpg
END:VEVENT
BEGIN:VEVENT
DTSTART;TZID=Europe/Madrid:20240817T160000
DTEND;TZID=Europe/Madrid:20240817T233000
DTSTAMP:20260424T132711
CREATED:20240722T184036Z
LAST-MODIFIED:20240722T184054Z
UID:10019119-1723910400-1723937400@disfruta-denia.com
SUMMARY:Sarao Beach Party
DESCRIPTION:Ya sabías la fecha pero no olvides el lugar finabeachdenia (anteriormente Cielo)\n\n\nNuestra casa de verano siempre a sido el conocido chiringuito de la playa punta del Raset\, y como sabemos que esa ubicación os gusta para que vamos a cambiar!\n\n\nNos vemos el sábado 17 de agosto desde las 16:00h para vivir la fiesta del verano!\n\n\nPronto + info.
URL:https://disfruta-denia.com/evento/sarao-beach-party/
LOCATION:Cielo Beachclub\, Carr. de les Marines a Dénia\, Km. 0\, 5\, Denia\, Alicante\, 03700\, España
CATEGORIES:DJ,Música,Ocio nocturno,Tardeo
ATTACH;FMTTYPE=image/jpeg:https://disfruta-denia.com/wp-content/uploads/2024/07/451999652_18218607937304462_153137456323034141_n.jpg
END:VEVENT
BEGIN:VEVENT
DTSTART;TZID=Europe/Madrid:20240816T235900
DTEND;TZID=Europe/Madrid:20240816T235900
DTSTAMP:20260424T132711
CREATED:20240815T093638Z
LAST-MODIFIED:20240815T093753Z
UID:10003860-1723852740-1723852740@disfruta-denia.com
SUMMARY:Viernes de Dorian Gray
DESCRIPTION:MOROS I CRISTIANS DE DÉNIA 🌙➕\n🔸 MIÉRCOLES • 00’00h • NOCHE\nRUMBADOS 💃🏼 en directo #rumbaflamenca \n🔹 JUEVES • 00’00h • NOCHE\nDION DOBBE 🎧 en cabina #urbanmusic \n🔸 VIERNES • 00’00h • NOCHE\nBORJA CONESA 🎧 en cabina #urbanmusic \n🔹 SÁBADO • 00’00h • NOCHE\nBORJA CONESA 🎧 en cabina #urbanmusic \n🔸 DOMINGO • 00’00h • NOCHE\nJUNTOS Y REVUELTOS 🎸 en directo #poprockindieespañol \nESTE FIN DE SEMANA GANAMOS LA BATALLA!!!
URL:https://disfruta-denia.com/evento/viernes-de-dorian-gray-4-2-2-2-2-2/
LOCATION:Dorian Gray Denia\, Carrer de la Mar\, 14\, Denia\, Alicante\, 03700\, España
CATEGORIES:Concierto,DJ,Música,Ocio nocturno
ATTACH;FMTTYPE=image/png:https://disfruta-denia.com/wp-content/uploads/2024/07/Dorian-Gray-Denia-doriangray_denia-•-Instagram-photos-and-videos-4.png
END:VEVENT
BEGIN:VEVENT
DTSTART;TZID=Europe/Madrid:20240816T233000
DTEND;TZID=Europe/Madrid:20240816T233000
DTSTAMP:20260424T132711
CREATED:20231201T115755Z
LAST-MODIFIED:20241024T084555Z
UID:10019212-1723851000-1723851000@disfruta-denia.com
SUMMARY:Concierto: Spicy Cherries
DESCRIPTION:vuelve @spicycherriesband
URL:https://disfruta-denia.com/evento/concierto-spicy-cherries-2/2024-08-16/
LOCATION:Paddy O’Connell Denia\, Calle de la Mar\, 20\, Denia\, Alicante\, 03700\, España
CATEGORIES:Concierto,Música,Ocio nocturno
ATTACH;FMTTYPE=image/png:https://disfruta-denia.com/wp-content/uploads/2023/12/Paddy-O-Connell-Denia-paddyoconnelldenia-•-Instagram-photos-and-videos-10-24-2024_10_32_AM.png
END:VEVENT
BEGIN:VEVENT
DTSTART;TZID=Europe/Madrid:20240816T210000
DTEND;TZID=Europe/Madrid:20240816T210000
DTSTAMP:20260424T132711
CREATED:20240619T084701Z
LAST-MODIFIED:20240619T084702Z
UID:10016083-1723842000-1723842000@disfruta-denia.com
SUMMARY:Concierto de Viernes en Rebeldía Blues
DESCRIPTION:Concierto de Viernes en Rebeldía Blues
URL:https://disfruta-denia.com/evento/concierto-de-viernes-en-rebeldia-blues-3-3/2024-08-16/
LOCATION:Rebeldia Blues\, Carr. de Dénia A Xábia\, 3G\, Denia\, Alicante\, 03700\, España
CATEGORIES:Concierto,Música
ATTACH;FMTTYPE=image/jpeg:https://disfruta-denia.com/wp-content/uploads/2024/06/448796304_17925144977911738_2236760507238444997_n.jpg
END:VEVENT
BEGIN:VEVENT
DTSTART;TZID=Europe/Madrid:20240816T173000
DTEND;TZID=Europe/Madrid:20240816T173000
DTSTAMP:20260424T132711
CREATED:20240530T130548Z
LAST-MODIFIED:20240530T130550Z
UID:10018614-1723829400-1723829400@disfruta-denia.com
SUMMARY:Tardeo en La Mar Serena
DESCRIPTION:No estáis listos para el show de este Viernes ❤️‍🔥\n@miguellemadj & @raquelcardonamusic vienen cargados de hits 🪩 ¡Nos vemos en la pista!
URL:https://disfruta-denia.com/evento/tardeo-en-la-mar-serena-2-2/2024-08-16/
LOCATION:La Mar Serena\, Moll de la Pansa s/n Edificio Marina el Portet\, Denia\, Alicante\, 03700\, España
CATEGORIES:DJ,Música,Tardeo
ATTACH;FMTTYPE=image/jpeg:https://disfruta-denia.com/wp-content/uploads/2024/05/IMG-20240530-WA0011.jpg
END:VEVENT
BEGIN:VEVENT
DTSTART;TZID=Europe/Madrid:20240815T235500
DTEND;TZID=Europe/Madrid:20240815T235500
DTSTAMP:20260424T132711
CREATED:20240724T135050Z
LAST-MODIFIED:20240724T135050Z
UID:10019133-1723766100-1723766100@disfruta-denia.com
SUMMARY:Castillo de fuegos artificiales
DESCRIPTION:
URL:https://disfruta-denia.com/evento/castillo-de-fuegos-artificiales/
LOCATION:Puerto de Denia  Portet\, carrer moll de la pansa\, s n\,\, Denia\, 03700
CATEGORIES:Cultura,Espectáculo
ATTACH;FMTTYPE=image/jpeg:https://disfruta-denia.com/wp-content/uploads/2024/07/cartel-de-las-fiestas-de-moros-y-cristianos-2024-1449x2048-1.jpg
ORGANIZER;CN="Femmicc":MAILTO:SECRETARIA@FEMMICCDENIA.COM
END:VEVENT
BEGIN:VEVENT
DTSTART;TZID=Europe/Madrid:20240815T233000
DTEND;TZID=Europe/Madrid:20240815T233000
DTSTAMP:20260424T132711
CREATED:20240731T125730Z
LAST-MODIFIED:20240731T125917Z
UID:10019142-1723764600-1723764600@disfruta-denia.com
SUMMARY:Fuegos artificiales en Denia desde un catamarán
DESCRIPTION:Vive los fuegos artificiales desde un catamarán\n\nReserve su plaza ya en nuestro catamarán para la salida especial de los fuegos artificiales de Denia de las Fiestas en honor a Sant Roc\, presenciando el acto desde un punto de vista privilegiado. Con un DJ para pasar una noche perfecta navegando por la costa de Denia. \n¡El 15 de agosto de 2024 Denia va a brillar desde el mar! \n\n\n\n\n\n\n\n\n\n\n\n\n\n\nDURACIÓN\n\n1.5 horas. Recorrido en catamarán para ver los fuegos artificiales. \n\n\n\n\n\n\n\n\n\n\nPRECIO *\n\n22 € de 13-64 años\n18 € +65 años\n14 € de 4-12 años\nGratis de 0-3 años \n\n\n\n\n\n\n\n\n\n\nHORARIO\n\nSalida: 23.30h\nLlegada: 01.00h \n15 de agosto de 2024 \n\n\n\n\n\n\n¿QUÉ INCLUYE?\n\nCopa de cava \nPaseo a en catamarán para ver el los fuegos artificiales. \nDJ durante el paseo
URL:https://disfruta-denia.com/evento/fuegos-artificiales-en-denia-desde-un-catamaran/
LOCATION:Muelle Mundo Marino\, Esplanada Cervantes\, 23\, Denia\, Alicante\, 03700\, España
CATEGORIES:Excursión
ATTACH;FMTTYPE=image/jpeg:https://disfruta-denia.com/wp-content/uploads/2024/07/Altea_CastellDeLaOlla_1.jpg
END:VEVENT
BEGIN:VEVENT
DTSTART;TZID=Europe/Madrid:20240815T210000
DTEND;TZID=Europe/Madrid:20240815T210000
DTSTAMP:20260424T132711
CREATED:20240307T094627Z
LAST-MODIFIED:20240307T094631Z
UID:10016621-1723755600-1723755600@disfruta-denia.com
SUMMARY:Karaoké en Rebeldía Blues
DESCRIPTION:Karaoké en Rebeldía Blues
URL:https://disfruta-denia.com/evento/karaoke-en-rebeldia-blues-4-2-2-2-2-2/2024-08-15/
LOCATION:Rebeldia Blues\, Carr. de Dénia A Xábia\, 3G\, Denia\, Alicante\, 03700\, España
CATEGORIES:Karaoké,Música
ATTACH;FMTTYPE=image/jpeg:https://disfruta-denia.com/wp-content/uploads/2024/02/429768881_17912348297911738_3047273990901060399_n.jpg
END:VEVENT
BEGIN:VEVENT
DTSTART;TZID=Europe/Madrid:20240815T180000
DTEND;TZID=Europe/Madrid:20240815T180000
DTSTAMP:20260424T132711
CREATED:20240724T134940Z
LAST-MODIFIED:20240724T134940Z
UID:10019132-1723744800-1723744800@disfruta-denia.com
SUMMARY:Gran desfile de gala Moros y Cristianos Dénia 2024
DESCRIPTION:18:00 horas Gran desfile de gala\, con las capitanías cerrando su respectivo bando. Itinerario: salida de Calle La Via\, Diana y hasta el final de Marqués de Campo
URL:https://disfruta-denia.com/evento/gran-desfile-de-gala-moros-y-cristianos-denia-2024/
LOCATION:Carrer del Marqués de Campo\, Carrer del Marqués de Campo\, Denia\, Alicante\, 03700\, España
CATEGORIES:Cultura,Desfile,Espectáculo
ATTACH;FMTTYPE=image/jpeg:https://disfruta-denia.com/wp-content/uploads/2024/07/cartel-de-las-fiestas-de-moros-y-cristianos-2024-1449x2048-1.jpg
ORGANIZER;CN="Femmicc":MAILTO:SECRETARIA@FEMMICCDENIA.COM
END:VEVENT
BEGIN:VEVENT
DTSTART;TZID=Europe/Madrid:20240815T100000
DTEND;TZID=Europe/Madrid:20240815T100000
DTSTAMP:20260424T132711
CREATED:20240630T095944Z
LAST-MODIFIED:20240630T100116Z
UID:10018795-1723716000-1723716000@disfruta-denia.com
SUMMARY:Visita guíada en catamarán
DESCRIPTION:El día 4 de julio empiezan las salidas en barco a la Reserva del Cabo de San Antonio!\nNo te pierdas esta oportunidad de conocer esta zona natural de incalculable valor ecológico y medioambiental-\nOrganizado por el centro de interpretación del Parque Natural del Montgó.
URL:https://disfruta-denia.com/evento/visita-guiada-en-catamaran/2024-08-15/
LOCATION:Puerto de Denia  Portet\, carrer moll de la pansa\, s n\,\, Denia\, 03700
CATEGORIES:Cultura,Visita
ATTACH;FMTTYPE=image/jpeg:https://disfruta-denia.com/wp-content/uploads/2024/06/448546120_872208904946891_6057863289591207933_n.jpg
END:VEVENT
BEGIN:VEVENT
DTSTART;TZID=Europe/Madrid:20240815T083000
DTEND;TZID=Europe/Madrid:20240815T083000
DTSTAMP:20260424T132711
CREATED:20231005T092619Z
LAST-MODIFIED:20231005T092702Z
UID:10014126-1723710600-1723710600@disfruta-denia.com
SUMMARY:Clase de Yoga en Códigos del Arte
DESCRIPTION:Clase de Yoga en Códigos del Arte
URL:https://disfruta-denia.com/evento/clase-de-yoga-en-codigos-del-arte/2024-08-15/
LOCATION:Códigos del Arte\, Carreró de Morant\, 8\, Dénia\, 03700\, España
CATEGORIES:Deporte,Yoga
ATTACH;FMTTYPE=image/jpeg:https://disfruta-denia.com/wp-content/uploads/2023/10/image_6487327.jpg
END:VEVENT
BEGIN:VEVENT
DTSTART;TZID=Europe/Madrid:20240814T223000
DTEND;TZID=Europe/Madrid:20240814T223000
DTSTAMP:20260424T132711
CREATED:20240716T164129Z
LAST-MODIFIED:20240809T072237Z
UID:10018827-1723674600-1723674600@disfruta-denia.com
SUMMARY:CONNECTA PERCUSSIÓ QUARTET
DESCRIPTION:Conecta Quartet proponen un concierto dinámico y potente con los distintos instrumentos de percusión\, creando de este modo diferentes atmósferas que no dejen indiferente al público.\nConcierto enfocado a público de todas las edades. \nEntrada libre
URL:https://disfruta-denia.com/evento/connecta-percussio-quartet/
LOCATION:Parc de Les Bassetes\, Carr. de les Marines\, 53\, Denia\, Alicante\, 03700\, España
CATEGORIES:Concierto,Música
ATTACH;FMTTYPE=image/png:https://disfruta-denia.com/wp-content/uploads/2024/07/unnamed.png
END:VEVENT
BEGIN:VEVENT
DTSTART;TZID=Europe/Madrid:20240814T203000
DTEND;TZID=Europe/Madrid:20240814T203000
DTSTAMP:20260424T132711
CREATED:20240414T124150Z
LAST-MODIFIED:20240414T124150Z
UID:10017929-1723667400-1723667400@disfruta-denia.com
SUMMARY:Miércoles latinos\, miércoles clandestinos
DESCRIPTION:Miércoles latinos\, miércoles clandestinos  Cada miércoles a las 20.30h tenemos una cita con Madelyn Torroella a ritmo cubano!! Voz\, percusión y versiones de salsa clásica\, cada miércoles\, en el Speak. Parrillada\, tacos\, tapas\, cocktails & música. Reserva tu mesa
URL:https://disfruta-denia.com/evento/miercoles-latinos-miercoles-clandestinos/2024-08-14/
LOCATION:The Speak Denia\, Carrer del Pont\, 19\, Denia\, Alicante\, 03700\, España
CATEGORIES:Concierto,Música
ATTACH;FMTTYPE=image/jpeg:https://disfruta-denia.com/wp-content/uploads/2024/04/434468313_1159701198651630_4992165217264460198_n.jpg
END:VEVENT
BEGIN:VEVENT
DTSTART;TZID=Europe/Madrid:20240814T190000
DTEND;TZID=Europe/Madrid:20240814T210000
DTSTAMP:20260424T132711
CREATED:20231115T115842Z
LAST-MODIFIED:20231115T115843Z
UID:10008316-1723662000-1723669200@disfruta-denia.com
SUMMARY:Tardeo en Basta
DESCRIPTION:
URL:https://disfruta-denia.com/evento/tardeo-en-basta-3-3/2024-08-14/
LOCATION:Basta Lounge Bar\, Marina de Dénia\, Local C2\, Denia\, Valencian Community\, 03700\, España
CATEGORIES:Concierto,Música,Tardeo
ATTACH;FMTTYPE=image/jpeg:https://disfruta-denia.com/wp-content/uploads/2022/12/IMG_3678.jpeg
END:VEVENT
BEGIN:VEVENT
DTSTART;TZID=Europe/Madrid:20240814T190000
DTEND;TZID=Europe/Madrid:20240814T190000
DTSTAMP:20260424T132711
CREATED:20240501T071519Z
LAST-MODIFIED:20240501T071519Z
UID:10018247-1723662000-1723662000@disfruta-denia.com
SUMMARY:Clases de Salsa y bachata
DESCRIPTION:clase gratuita
URL:https://disfruta-denia.com/evento/clases-de-salsa-y-bachata/2024-08-14/
LOCATION:Rebeldia Blues\, Carr. de Dénia A Xábia\, 3G\, Denia\, Alicante\, 03700\, España
CATEGORIES:Baile,Música
ATTACH;FMTTYPE=image/jpeg:https://disfruta-denia.com/wp-content/uploads/2024/05/440743591_17919109514911738_7379047312868127315_n.jpg
END:VEVENT
BEGIN:VEVENT
DTSTART;TZID=Europe/Madrid:20240813T200000
DTEND;TZID=Europe/Madrid:20240813T233000
DTSTAMP:20260424T132711
CREATED:20240813T101834Z
LAST-MODIFIED:20240813T101835Z
UID:10008999-1723579200-1723591800@disfruta-denia.com
SUMMARY:Autocine: día del espectador
DESCRIPTION:
URL:https://disfruta-denia.com/evento/autocine-dia-del-espectador-3-33/
LOCATION:Autociné Denia\, Partida Deveses D\, 27\, Denia\, Alicante\, 03700\, España
CATEGORIES:Ciné,Cultura
ATTACH;FMTTYPE=image/png:https://disfruta-denia.com/wp-content/uploads/2023/06/Autocine-Drive-In-autocine_drivein-•-Instagram-photos-and-videos-4.png
END:VEVENT
END:VCALENDAR