BEGIN:VCALENDAR
VERSION:2.0
PRODID:-//Disfruta Denia - ECPv6.15.20//NONSGML v1.0//EN
CALSCALE:GREGORIAN
METHOD:PUBLISH
X-ORIGINAL-URL:https://disfruta-denia.com
X-WR-CALDESC:Eventos para Disfruta Denia
REFRESH-INTERVAL;VALUE=DURATION:PT1H
X-Robots-Tag:noindex
X-PUBLISHED-TTL:PT1H
BEGIN:VTIMEZONE
TZID:Europe/Madrid
BEGIN:DAYLIGHT
TZOFFSETFROM:+0100
TZOFFSETTO:+0200
TZNAME:CEST
DTSTART:20230326T010000
END:DAYLIGHT
BEGIN:STANDARD
TZOFFSETFROM:+0200
TZOFFSETTO:+0100
TZNAME:CET
DTSTART:20231029T010000
END:STANDARD
BEGIN:DAYLIGHT
TZOFFSETFROM:+0100
TZOFFSETTO:+0200
TZNAME:CEST
DTSTART:20240331T010000
END:DAYLIGHT
BEGIN:STANDARD
TZOFFSETFROM:+0200
TZOFFSETTO:+0100
TZNAME:CET
DTSTART:20241027T010000
END:STANDARD
BEGIN:DAYLIGHT
TZOFFSETFROM:+0100
TZOFFSETTO:+0200
TZNAME:CEST
DTSTART:20250330T010000
END:DAYLIGHT
BEGIN:STANDARD
TZOFFSETFROM:+0200
TZOFFSETTO:+0100
TZNAME:CET
DTSTART:20251026T010000
END:STANDARD
END:VTIMEZONE
BEGIN:VEVENT
DTSTART;TZID=Europe/Madrid:20240805T203000
DTEND;TZID=Europe/Madrid:20240805T203000
DTSTAMP:20260424T215846
CREATED:20240708T134753Z
LAST-MODIFIED:20240708T134836Z
UID:10018823-1722889800-1722889800@disfruta-denia.com
SUMMARY:Tablao Flamenco
DESCRIPTION:𝗝𝗨𝗟𝗜𝗢 𝘆 𝗔𝗚𝗢𝗦𝗧𝗢 𝘀𝗼𝗻 𝗱𝗲 𝗧𝗔𝗕𝗟𝗔𝗢 𝗙𝗟𝗔𝗠𝗘𝗡𝗖𝗢 💃 𝗲𝗻 𝗟𝗲𝘀 𝘁𝗿𝗮𝗺𝗼𝗶𝗲𝘀.⁣\n⁣\nVive un auténtico tablao flamenco con una puesta en escena única y espectacular. Baile\, cante\, percusión y guitarra.⁣\n⁣\n****⁣\n⁣\nExperience an authentic flamenco tablao with a unique and spectacular staging. Dance\, singing\, percussion and guitar.⁣\n⁣\n📆𝘍𝘦𝘤𝘩𝘢𝘴/ Dates:⁣\n⁣\n𝟭𝟱 𝗱𝗲 𝗷𝘂𝗹𝗶𝗼⁣\n𝟮𝟵 𝗱𝗲 𝗷𝘂𝗹𝗶𝗼⁣\n𝟱 𝗱𝗲 𝗮𝗴𝗼𝘀to\n𝟭𝟵 𝗱𝗲 𝗮𝗴𝗼𝘀𝘁𝗼⁣\n⁣\n🕣Todas las 𝘀𝗲𝘀𝗶𝗼𝗻𝗲𝘀 𝘀𝗼𝗻 𝗮 𝗹𝗮𝘀 𝟮𝟬:𝟯𝟬. Apertura de puertas 30 minutos antes.⁣\n⁣\n⁣\n𝗜𝗻𝗳𝗼𝗿𝗺𝗮𝗰𝗶𝗼́𝗻 𝘆 𝗿𝗲𝘀𝗲𝗿𝘃𝗮𝘀🎟️/ 𝗧𝗶𝗰𝗸𝗲𝘁𝘀:⁣\n☎️605 28 23 28⁣\n\n\nhttps://www.notikumi.com/2024/7/15/tablao-flamenco
URL:https://disfruta-denia.com/evento/tablao-flamenco/2024-08-05/
LOCATION:Les Tramoies\, C/ de Patricio Ferrándiz\, 88\, Denia\, Alicante\, 03700\, España
CATEGORIES:Baile,Cultura,Danza,Música
ATTACH;FMTTYPE=image/jpeg:https://disfruta-denia.com/wp-content/uploads/2024/07/image0.jpeg
END:VEVENT
BEGIN:VEVENT
DTSTART;TZID=Europe/Madrid:20240805T203000
DTEND;TZID=Europe/Madrid:20240805T203000
DTSTAMP:20260424T215846
CREATED:20230912T174836Z
LAST-MODIFIED:20230912T174838Z
UID:10011457-1722889800-1722889800@disfruta-denia.com
SUMMARY:Tardeo con Marce Pesoa
DESCRIPTION:Esta noche. Tonight. \nLive music 20.30h. \nMarce Pesoa en The Speak Dénia. \nTacos\, Cocktails\, Parrilla \n& la mejor musica 🔥🤘 \nReservas: 675753879 \nLet’s #funmonday today!
URL:https://disfruta-denia.com/evento/tardeo-con-marce-pesoa-2/2024-08-05/
LOCATION:The Speak Denia\, Carrer del Pont\, 19\, Denia\, Alicante\, 03700\, España
CATEGORIES:Concierto,Música,Tardeo
ATTACH;FMTTYPE=image/jpeg:https://disfruta-denia.com/wp-content/uploads/2023/06/IMG-20230619-WA0000.jpg
END:VEVENT
BEGIN:VEVENT
DTSTART;TZID=Europe/Madrid:20240804T220000
DTEND;TZID=Europe/Madrid:20240804T220000
DTSTAMP:20260424T215846
CREATED:20240716T172725Z
LAST-MODIFIED:20240716T172946Z
UID:10018830-1722808800-1722808800@disfruta-denia.com
SUMMARY:Cine Vora Mar: THABO Y EL CASO DEL RINOCERONTE
DESCRIPTION:Dir.: Mara Eibl-Eibesfeldt. Alemanya / Alemania. 2023. 93 min. \nRecomanada / Recomendada  TP. Cine familiar. \nTràiler/ tráiler: https://www.youtube.com/watch?v=Ulm73R9ueMw
URL:https://disfruta-denia.com/evento/cine-vora-mar-thabo-y-el-caso-del-rinoceronte/
LOCATION:Playa Punta del Raset\, Punta del Raset\, Denia\, Alicante\, 03700\, España
CATEGORIES:Ciné,Cultura
ATTACH;FMTTYPE=image/png:https://disfruta-denia.com/wp-content/uploads/2024/07/6-Cine-voramar.png
END:VEVENT
BEGIN:VEVENT
DTSTART;TZID=Europe/Madrid:20240804T210000
DTEND;TZID=Europe/Madrid:20240804T210000
DTSTAMP:20260424T215846
CREATED:20240219T102543Z
LAST-MODIFIED:20240219T102546Z
UID:10016343-1722805200-1722805200@disfruta-denia.com
SUMMARY:Concierto: Rebeldía Blues Band
DESCRIPTION:Concierto: Rebeldía Blues Band
URL:https://disfruta-denia.com/evento/concierto-rebeldia-blues-band-5-2-2-2/2024-08-04/
LOCATION:Rebeldia Blues\, Carr. de Dénia A Xábia\, 3G\, Denia\, Alicante\, 03700\, España
CATEGORIES:Concierto,Música
ATTACH;FMTTYPE=image/jpeg:https://disfruta-denia.com/wp-content/uploads/2024/02/428298315_17910192284911738_2883817046859909485_n.jpg
END:VEVENT
BEGIN:VEVENT
DTSTART;TZID=Europe/Madrid:20240804T203000
DTEND;TZID=Europe/Madrid:20240804T203000
DTSTAMP:20260424T215846
CREATED:20240724T134125Z
LAST-MODIFIED:20240724T134125Z
UID:10019128-1722803400-1722803400@disfruta-denia.com
SUMMARY:Concierto a cargo de la Agrupación artística musical de Dénia
DESCRIPTION:
URL:https://disfruta-denia.com/evento/concierto-a-cargo-de-la-agrupacion-artistica-musical-de-denia/
LOCATION:Plaza del Consell\, Carrer de la Mar\, Denia\, 03700
CATEGORIES:Concierto,Música
ATTACH;FMTTYPE=image/jpeg:https://disfruta-denia.com/wp-content/uploads/2024/07/cartel-de-las-fiestas-de-moros-y-cristianos-2024-1449x2048-1.jpg
END:VEVENT
BEGIN:VEVENT
DTSTART;TZID=Europe/Madrid:20240804T180000
DTEND;TZID=Europe/Madrid:20240804T230000
DTSTAMP:20260424T215846
CREATED:20240802T101620Z
LAST-MODIFIED:20240802T101620Z
UID:10018836-1722794400-1722812400@disfruta-denia.com
SUMMARY:Mercat del Riurau Jesus Pobre
DESCRIPTION:¡Este domingo 4 de agosto\, ven al Mercat del Riurau y disfruta de música en directo! Abrimos de 18:00 a 23:00\, y a partir de las 20:00\, tendremos la actuación de No Som de Seattle\, que nos deleitarán con su increíble música en vivo. ¡No te lo pierdas!Únete a nosotros para una tarde llena de buena música\, productos locales\, artesanía y delicias frescas. ¿Dónde? En Jesús Pobre ¿Cuándo? El domingo 4 de agosto\, de 18:00 a 23:00¡Te esperamos este domingo en el Mercat del Riurau! 
URL:https://disfruta-denia.com/evento/mercat-del-riurau-jesus-pobre-2-25-3-2-2-3/
LOCATION:Mercado Riurau Jesus Pobre\, Jesus Pobre\, Alicante\, 03749\, España
CATEGORIES:Concierto,Gastronomía,Mercado
ATTACH;FMTTYPE=image/jpeg:https://disfruta-denia.com/wp-content/uploads/2024/07/453883848_872643044899061_8028900422467990466_n.jpg
END:VEVENT
BEGIN:VEVENT
DTSTART;TZID=Europe/Madrid:20240803T235900
DTEND;TZID=Europe/Madrid:20240803T235900
DTSTAMP:20260424T215846
CREATED:20240725T073550Z
LAST-MODIFIED:20240725T073551Z
UID:10004119-1722729540-1722729540@disfruta-denia.com
SUMMARY:Sábado de Dorian Gray
DESCRIPTION: ÚLTIMO FIN DE SEMANA DE HULIO! \n🔸 JUEVES • 00’00h • NOCHE\nJUNTOS Y REVUELTOS 🎸 en directo #poprockindieespañol \n🔹VIERNES • 00’00h • NOCHE\n🔅FIESTA JAMESON 🔅\n•Sala Dorian CAPITAL 90 🎸 en directo #poprockindieespañol\n•Sala Gray BORJA CONESA 🎧 en cabina #urbanmusic \n🔸SÁBADO • 00’00h • NOCHE\n•BORJA CONESA 🎧 en cabina #urbanmusic
URL:https://disfruta-denia.com/evento/sabado-de-dorian-gray-4-2-2-2-2-2-2/2024-08-03/
LOCATION:Dorian Gray Denia\, Carrer de la Mar\, 14\, Denia\, Alicante\, 03700\, España
CATEGORIES:DJ,Música,Ocio nocturno
ATTACH;FMTTYPE=image/png:https://disfruta-denia.com/wp-content/uploads/2024/07/Dorian-Gray-Denia-doriangray_denia-•-Instagram-photos-and-videos-7.png
END:VEVENT
BEGIN:VEVENT
DTSTART;TZID=Europe/Madrid:20240803T235900
DTEND;TZID=Europe/Madrid:20240803T235900
DTSTAMP:20260424T215846
CREATED:20221128T194020Z
LAST-MODIFIED:20221128T194021Z
UID:10006571-1722729540-1722729540@disfruta-denia.com
SUMMARY:Concierto en LCDA
DESCRIPTION:
URL:https://disfruta-denia.com/evento/concierto-en-lcda-4/2024-08-03/
LOCATION:La Chica de ayer\, Calle la mar 30\, Denia\, Alicante\, 03700\, España
CATEGORIES:Concierto,Música,Ocio nocturno
ATTACH;FMTTYPE=image/jpeg:https://disfruta-denia.com/wp-content/uploads/2022/11/317545016_592127712917488_4859295703944293873_n.jpg
END:VEVENT
BEGIN:VEVENT
DTSTART;TZID=Europe/Madrid:20240803T210000
DTEND;TZID=Europe/Madrid:20240803T210000
DTSTAMP:20260424T215846
CREATED:20240801T165418Z
LAST-MODIFIED:20240801T165419Z
UID:10016881-1722718800-1722718800@disfruta-denia.com
SUMMARY:Sábado concierto en Rebeldía Blues
DESCRIPTION:Sábado concierto en Rebledía Blues
URL:https://disfruta-denia.com/evento/sabado-concierto-en-rebeldia-blues-3-2-3/
LOCATION:Rebeldia Blues\, Carr. de Dénia A Xábia\, 3G\, Denia\, Alicante\, 03700\, España
CATEGORIES:Concierto,Música
ATTACH;FMTTYPE=image/jpeg:https://disfruta-denia.com/wp-content/uploads/2024/06/B81E704F-0915-4B12-81DE-1CBDE5BE46CB.jpg
END:VEVENT
BEGIN:VEVENT
DTSTART;TZID=Europe/Madrid:20240803T203000
DTEND;TZID=Europe/Madrid:20240803T203000
DTSTAMP:20260424T215846
CREATED:20240429T085216Z
LAST-MODIFIED:20240429T085218Z
UID:10014836-1722717000-1722717000@disfruta-denia.com
SUMMARY:Concierto: MC LUCAS BAND
DESCRIPTION:Tras el éxito y las ganas de más…. tendremos a MC LUCAS BAND cada primer sábado del mes!!! \, con ellos te lo pasarás en grande. ¡¡ NO TE LO PIERDAS Y RESERVA TU MESA!! ROCK N’ ROLL OH YEAH  ****************************************Since the last time went to well and you all begged for more we will have MC LUCAS BAND with us every first Saturday of the month!!! \, with them you will have a great time. DON’T MISS IT AND BOOK YOUR TABLE!! ROCK N’ ROLL OH YEAH 
URL:https://disfruta-denia.com/evento/concierto-mc-lucas-band-2/2024-08-03/
LOCATION:Bohemia Xalo\, Colonia lliber 21\, Jalón\, España
CATEGORIES:Concierto,Música
ATTACH;FMTTYPE=image/jpeg:https://disfruta-denia.com/wp-content/uploads/2023/11/440583764_17877569739065820_5475036873752478293_n.jpg
END:VEVENT
BEGIN:VEVENT
DTSTART;TZID=Europe/Madrid:20240802T235900
DTEND;TZID=Europe/Madrid:20240802T235900
DTSTAMP:20260424T215846
CREATED:20240719T170449Z
LAST-MODIFIED:20240719T170450Z
UID:10003858-1722643140-1722643140@disfruta-denia.com
SUMMARY:Viernes de Dorian Gray
DESCRIPTION:COMO SALIR DE FIESTA EN DÉNIA EN 3 PASOS: \nPASO 1 -🔸 JUEVES • 00’00h • NOCHE\nJUNTOS Y REVUELTOS 🎸 en directo #poprockindieespañol \nPASO 2 -🔹VIERNES • 00’00h • NOCHE\n🔅FIESTA JAMESON 🔅\n•Sala Dorian MENPHIS 🎸 en directo #poprockindieespañol\n•Sala Gray TARON 🎧 en cabina #urbanmusic \nPASO 3 -🔸SÁBADO • 00’00h • NOCHE\n•Sala Dorian LA MOCHA 🎸 en directo #poprockindieespañol\n•Sala Gray BORJA CONESA 🎧 en cabina #urbanmusic \nSENCILLO VERDAD?
URL:https://disfruta-denia.com/evento/viernes-de-dorian-gray-4-2-2-2-2/2024-08-02/
LOCATION:Dorian Gray Denia\, Carrer de la Mar\, 14\, Denia\, Alicante\, 03700\, España
CATEGORIES:Concierto,DJ,Música,Ocio nocturno
ATTACH;FMTTYPE=image/png:https://disfruta-denia.com/wp-content/uploads/2024/07/Dorian-Gray-Denia-doriangray_denia-•-Instagram-photos-and-videos-6.png
END:VEVENT
BEGIN:VEVENT
DTSTART;TZID=Europe/Madrid:20240802T210000
DTEND;TZID=Europe/Madrid:20240802T210000
DTSTAMP:20260424T215846
CREATED:20240801T165408Z
LAST-MODIFIED:20240801T165409Z
UID:10016081-1722632400-1722632400@disfruta-denia.com
SUMMARY:Concierto de Viernes en Rebeldía Blues
DESCRIPTION:Concierto de Viernes en Rebeldía Blues
URL:https://disfruta-denia.com/evento/concierto-de-viernes-en-rebeldia-blues-3-3-4/
LOCATION:Rebeldia Blues\, Carr. de Dénia A Xábia\, 3G\, Denia\, Alicante\, 03700\, España
CATEGORIES:Concierto,Música
ATTACH;FMTTYPE=image/jpeg:https://disfruta-denia.com/wp-content/uploads/2024/06/220F63D1-40CA-451F-90BC-BE78C6CEFC96.jpg
END:VEVENT
BEGIN:VEVENT
DTSTART;TZID=Europe/Madrid:20240802T173000
DTEND;TZID=Europe/Madrid:20240802T173000
DTSTAMP:20260424T215846
CREATED:20240530T130548Z
LAST-MODIFIED:20240530T130550Z
UID:10018612-1722619800-1722619800@disfruta-denia.com
SUMMARY:Tardeo en La Mar Serena
DESCRIPTION:No estáis listos para el show de este Viernes ❤️‍🔥\n@miguellemadj & @raquelcardonamusic vienen cargados de hits 🪩 ¡Nos vemos en la pista!
URL:https://disfruta-denia.com/evento/tardeo-en-la-mar-serena-2-2/2024-08-02/
LOCATION:La Mar Serena\, Moll de la Pansa s/n Edificio Marina el Portet\, Denia\, Alicante\, 03700\, España
CATEGORIES:DJ,Música,Tardeo
ATTACH;FMTTYPE=image/jpeg:https://disfruta-denia.com/wp-content/uploads/2024/05/IMG-20240530-WA0011.jpg
END:VEVENT
BEGIN:VEVENT
DTSTART;TZID=Europe/Madrid:20240801T223000
DTEND;TZID=Europe/Madrid:20240801T223000
DTSTAMP:20260424T215846
CREATED:20240612T185647Z
LAST-MODIFIED:20240612T185720Z
UID:10018755-1722551400-1722551400@disfruta-denia.com
SUMMARY:X FESTIVAL JAZZ DENIA - BERND LHOTZKY & LUCA FILASTRO
DESCRIPTION:
URL:https://disfruta-denia.com/evento/x-festival-jazz-denia-bernd-lhotzky-luca-filastro/
LOCATION:Parque de Torrecremada\, Carrer Germans Maristes\, Denia\, Alicante\, 03700\, España
CATEGORIES:Concierto,Festival,Jazz,Música
ATTACH;FMTTYPE=image/png:https://disfruta-denia.com/wp-content/uploads/2024/06/2024-8-1-x-festival-jazz-denia-bernd-lhotzky-luca-filastro-1.png
END:VEVENT
BEGIN:VEVENT
DTSTART;TZID=Europe/Madrid:20240801T210000
DTEND;TZID=Europe/Madrid:20240801T210000
DTSTAMP:20260424T215846
CREATED:20240307T094627Z
LAST-MODIFIED:20240307T094631Z
UID:10016619-1722546000-1722546000@disfruta-denia.com
SUMMARY:Karaoké en Rebeldía Blues
DESCRIPTION:Karaoké en Rebeldía Blues
URL:https://disfruta-denia.com/evento/karaoke-en-rebeldia-blues-4-2-2-2-2-2/2024-08-01/
LOCATION:Rebeldia Blues\, Carr. de Dénia A Xábia\, 3G\, Denia\, Alicante\, 03700\, España
CATEGORIES:Karaoké,Música
ATTACH;FMTTYPE=image/jpeg:https://disfruta-denia.com/wp-content/uploads/2024/02/429768881_17912348297911738_3047273990901060399_n.jpg
END:VEVENT
BEGIN:VEVENT
DTSTART;TZID=Europe/Madrid:20240801T200000
DTEND;TZID=Europe/Madrid:20240801T200000
DTSTAMP:20260424T215846
CREATED:20240730T074422Z
LAST-MODIFIED:20240730T074422Z
UID:10019141-1722542400-1722542400@disfruta-denia.com
SUMMARY:Concierto en la playa: Juntos y revueltos
DESCRIPTION:ATENCIÓN  Resérvate este jueves 1 de agosto porque os traemos el PLANAZO de la semana. Llegan a Fina Beach Club Denia @juntosyrevueltosduo para hacernos cantar y bailar los mejores temazos pop/rock españoles ¿Vas a perdértelo? Jueves 01/08 a las 20h Playa Punta del Raset
URL:https://disfruta-denia.com/evento/concierto-en-la-playa-juntos-y-revueltos/
LOCATION:Playa Punta del Raset\, Punta del Raset\, Denia\, Alicante\, 03700\, España
CATEGORIES:Concierto,Música,Tardeo
ATTACH;FMTTYPE=image/jpeg:https://disfruta-denia.com/wp-content/uploads/2024/07/453601391_480879251357781_5170571094128057587_n.jpg
END:VEVENT
BEGIN:VEVENT
DTSTART;TZID=Europe/Madrid:20240801T100000
DTEND;TZID=Europe/Madrid:20240801T100000
DTSTAMP:20260424T215846
CREATED:20240630T095944Z
LAST-MODIFIED:20240630T100116Z
UID:10018794-1722506400-1722506400@disfruta-denia.com
SUMMARY:Visita guíada en catamarán
DESCRIPTION:El día 4 de julio empiezan las salidas en barco a la Reserva del Cabo de San Antonio!\nNo te pierdas esta oportunidad de conocer esta zona natural de incalculable valor ecológico y medioambiental-\nOrganizado por el centro de interpretación del Parque Natural del Montgó.
URL:https://disfruta-denia.com/evento/visita-guiada-en-catamaran/2024-08-01/
LOCATION:Puerto de Denia  Portet\, carrer moll de la pansa\, s n\,\, Denia\, 03700
CATEGORIES:Cultura,Visita
ATTACH;FMTTYPE=image/jpeg:https://disfruta-denia.com/wp-content/uploads/2024/06/448546120_872208904946891_6057863289591207933_n.jpg
END:VEVENT
BEGIN:VEVENT
DTSTART;TZID=Europe/Madrid:20240801T083000
DTEND;TZID=Europe/Madrid:20240801T083000
DTSTAMP:20260424T215846
CREATED:20231005T092619Z
LAST-MODIFIED:20231005T092702Z
UID:10014122-1722501000-1722501000@disfruta-denia.com
SUMMARY:Clase de Yoga en Códigos del Arte
DESCRIPTION:Clase de Yoga en Códigos del Arte
URL:https://disfruta-denia.com/evento/clase-de-yoga-en-codigos-del-arte/2024-08-01/
LOCATION:Códigos del Arte\, Carreró de Morant\, 8\, Dénia\, 03700\, España
CATEGORIES:Deporte,Yoga
ATTACH;FMTTYPE=image/jpeg:https://disfruta-denia.com/wp-content/uploads/2023/10/image_6487327.jpg
END:VEVENT
BEGIN:VEVENT
DTSTART;TZID=Europe/Madrid:20240731T223000
DTEND;TZID=Europe/Madrid:20240731T223000
DTSTAMP:20260424T215846
CREATED:20240706T071636Z
LAST-MODIFIED:20240730T175845Z
UID:10018820-1722465000-1722465000@disfruta-denia.com
SUMMARY:CINE A LA FRESCA: BARBIE
DESCRIPTION: El próximo miércoles\, 31 de julio\, tenemos una nueva cita con la «Cultura al parc de les Bassetes» .Disfruta del cine a la fresca con la película Barbie.
URL:https://disfruta-denia.com/evento/cine-a-la-fresca-barbie/
LOCATION:Parc de Les Bassetes\, Carr. de les Marines\, 53\, Denia\, Alicante\, 03700\, España
CATEGORIES:Ciné,Cultura
ATTACH;FMTTYPE=image/jpeg:https://disfruta-denia.com/wp-content/uploads/2024/07/452665189_887706763400167_5276731444491801481_n.jpg
END:VEVENT
BEGIN:VEVENT
DTSTART;TZID=Europe/Madrid:20240731T203000
DTEND;TZID=Europe/Madrid:20240731T203000
DTSTAMP:20260424T215846
CREATED:20240414T124150Z
LAST-MODIFIED:20240414T124150Z
UID:10017927-1722457800-1722457800@disfruta-denia.com
SUMMARY:Miércoles latinos\, miércoles clandestinos
DESCRIPTION:Miércoles latinos\, miércoles clandestinos  Cada miércoles a las 20.30h tenemos una cita con Madelyn Torroella a ritmo cubano!! Voz\, percusión y versiones de salsa clásica\, cada miércoles\, en el Speak. Parrillada\, tacos\, tapas\, cocktails & música. Reserva tu mesa
URL:https://disfruta-denia.com/evento/miercoles-latinos-miercoles-clandestinos/2024-07-31/
LOCATION:The Speak Denia\, Carrer del Pont\, 19\, Denia\, Alicante\, 03700\, España
CATEGORIES:Concierto,Música
ATTACH;FMTTYPE=image/jpeg:https://disfruta-denia.com/wp-content/uploads/2024/04/434468313_1159701198651630_4992165217264460198_n.jpg
END:VEVENT
BEGIN:VEVENT
DTSTART;TZID=Europe/Madrid:20240731T200000
DTEND;TZID=Europe/Madrid:20240731T233000
DTSTAMP:20260424T215846
CREATED:20230612T102803Z
LAST-MODIFIED:20230612T102804Z
UID:10008997-1722456000-1722468600@disfruta-denia.com
SUMMARY:Autocine: día del espectador
DESCRIPTION:
URL:https://disfruta-denia.com/evento/autocine-dia-del-espectador-3/2024-07-31/
LOCATION:Autociné Denia\, Partida Deveses D\, 27\, Denia\, Alicante\, 03700\, España
CATEGORIES:Ciné,Cultura
ATTACH;FMTTYPE=image/jpeg:https://disfruta-denia.com/wp-content/uploads/2022/11/Autocine-Drive-In-Denia-1.jpg
END:VEVENT
BEGIN:VEVENT
DTSTART;TZID=Europe/Madrid:20240731T190000
DTEND;TZID=Europe/Madrid:20240731T210000
DTSTAMP:20260424T215846
CREATED:20231115T115842Z
LAST-MODIFIED:20231115T115843Z
UID:10008314-1722452400-1722459600@disfruta-denia.com
SUMMARY:Tardeo en Basta
DESCRIPTION:
URL:https://disfruta-denia.com/evento/tardeo-en-basta-3-3/2024-07-31/
LOCATION:Basta Lounge Bar\, Marina de Dénia\, Local C2\, Denia\, Valencian Community\, 03700\, España
CATEGORIES:Concierto,Música,Tardeo
ATTACH;FMTTYPE=image/jpeg:https://disfruta-denia.com/wp-content/uploads/2022/12/IMG_3678.jpeg
END:VEVENT
BEGIN:VEVENT
DTSTART;TZID=Europe/Madrid:20240731T190000
DTEND;TZID=Europe/Madrid:20240731T190000
DTSTAMP:20260424T215846
CREATED:20240501T071519Z
LAST-MODIFIED:20240501T071519Z
UID:10018245-1722452400-1722452400@disfruta-denia.com
SUMMARY:Clases de Salsa y bachata
DESCRIPTION:clase gratuita
URL:https://disfruta-denia.com/evento/clases-de-salsa-y-bachata/2024-07-31/
LOCATION:Rebeldia Blues\, Carr. de Dénia A Xábia\, 3G\, Denia\, Alicante\, 03700\, España
CATEGORIES:Baile,Música
ATTACH;FMTTYPE=image/jpeg:https://disfruta-denia.com/wp-content/uploads/2024/05/440743591_17919109514911738_7379047312868127315_n.jpg
END:VEVENT
BEGIN:VEVENT
DTSTART;TZID=Europe/Madrid:20240731T170000
DTEND;TZID=Europe/Madrid:20240731T203000
DTSTAMP:20260424T215846
CREATED:20240719T152242Z
LAST-MODIFIED:20240719T152242Z
UID:10019116-1722445200-1722457800@disfruta-denia.com
SUMMARY:Donación de Sangre Festera
DESCRIPTION:Un año más\, la FEMMIC (Federación de Moros y Cristianos de Dénia) y el Ajuntament de Dénia se dan la mano para celebrar una jornada de donación de sangre festera. Tal como ha destacado el concejal de Salud Pública\, Rafa Carrió\, “volvemos a unirnos en esta donación con el objetivo de hacer más visible la iniciativa para incorporar nuevos donantes\, vitales para la sostenibilidad del sistema de salud”. \nAsí lo representa el cartel de la donación\, realizado por la diseñadora artística Adela Marzá\, quien ha señalado que “la unión es la fuerza y si de esta manera salvamos y colaboramos en la mejora de vidas\, mejor. Está en nuestras manos”. \nLa cita solidaria será el miércoles\, 31 de julio\, de 17 horas a 20.30 horas\, en el Centro Social de Dénia. En la colecta intervendrán sanitarios del Centro de Transfusiones de la Comunidad Valenciana con el que colaboran el Ayuntamiento y la entidad festiva. \nLos requisitos para donar sangre son tener entre 18 y 65 años\, pesar más de 50 kilos y no estar en ayunas. \nLa campaña\, enmarcada dentro de la programación de Moros y Cristianos\, “pretende hacer un llamamiento de solidaridad a toda la ciudadanía y a un gran colectivo festivo comprometido y generoso” ha dicho Carrió.
URL:https://disfruta-denia.com/evento/donacion-de-sangre-festera/
LOCATION:Teatro Auditorio Centro Social\, 4 Carrer Calderón\, Dénia\, VC\, 03700\, Spain
ATTACH;FMTTYPE=image/jpeg:https://disfruta-denia.com/wp-content/uploads/2024/07/7069f1.jpg
ORGANIZER;CN="Femmicc":MAILTO:SECRETARIA@FEMMICCDENIA.COM
END:VEVENT
BEGIN:VEVENT
DTSTART;TZID=Europe/Madrid:20240730T190000
DTEND;TZID=Europe/Madrid:20240730T190000
DTSTAMP:20260424T215846
CREATED:20240723T073345Z
LAST-MODIFIED:20240723T073345Z
UID:10019121-1722366000-1722366000@disfruta-denia.com
SUMMARY:Tardeos de verano en Casa Mena
DESCRIPTION:
URL:https://disfruta-denia.com/evento/tardeos-de-verano-en-casa-mena/2024-07-30/
LOCATION:Restaurante Mena\, Km 5 Carretera Las Rotas\, Denia\, 03700\, España
CATEGORIES:Concierto,Música,Tardeo
ATTACH;FMTTYPE=image/jpeg:https://disfruta-denia.com/wp-content/uploads/2024/07/449616078_10230380516634195_705857145489822784_n.jpg
END:VEVENT
BEGIN:VEVENT
DTSTART;TZID=Europe/Madrid:20240730T083000
DTEND;TZID=Europe/Madrid:20240730T083000
DTSTAMP:20260424T215846
CREATED:20231005T092619Z
LAST-MODIFIED:20231005T092702Z
UID:10014121-1722328200-1722328200@disfruta-denia.com
SUMMARY:Clase de Yoga en Códigos del Arte
DESCRIPTION:Clase de Yoga en Códigos del Arte
URL:https://disfruta-denia.com/evento/clase-de-yoga-en-codigos-del-arte/2024-07-30/
LOCATION:Códigos del Arte\, Carreró de Morant\, 8\, Dénia\, 03700\, España
CATEGORIES:Deporte,Yoga
ATTACH;FMTTYPE=image/jpeg:https://disfruta-denia.com/wp-content/uploads/2023/10/image_6487327.jpg
END:VEVENT
BEGIN:VEVENT
DTSTART;TZID=Europe/Madrid:20240729T203000
DTEND;TZID=Europe/Madrid:20240729T203000
DTSTAMP:20260424T215846
CREATED:20240708T134753Z
LAST-MODIFIED:20240708T134836Z
UID:10018822-1722285000-1722285000@disfruta-denia.com
SUMMARY:Tablao Flamenco
DESCRIPTION:𝗝𝗨𝗟𝗜𝗢 𝘆 𝗔𝗚𝗢𝗦𝗧𝗢 𝘀𝗼𝗻 𝗱𝗲 𝗧𝗔𝗕𝗟𝗔𝗢 𝗙𝗟𝗔𝗠𝗘𝗡𝗖𝗢 💃 𝗲𝗻 𝗟𝗲𝘀 𝘁𝗿𝗮𝗺𝗼𝗶𝗲𝘀.⁣\n⁣\nVive un auténtico tablao flamenco con una puesta en escena única y espectacular. Baile\, cante\, percusión y guitarra.⁣\n⁣\n****⁣\n⁣\nExperience an authentic flamenco tablao with a unique and spectacular staging. Dance\, singing\, percussion and guitar.⁣\n⁣\n📆𝘍𝘦𝘤𝘩𝘢𝘴/ Dates:⁣\n⁣\n𝟭𝟱 𝗱𝗲 𝗷𝘂𝗹𝗶𝗼⁣\n𝟮𝟵 𝗱𝗲 𝗷𝘂𝗹𝗶𝗼⁣\n𝟱 𝗱𝗲 𝗮𝗴𝗼𝘀to\n𝟭𝟵 𝗱𝗲 𝗮𝗴𝗼𝘀𝘁𝗼⁣\n⁣\n🕣Todas las 𝘀𝗲𝘀𝗶𝗼𝗻𝗲𝘀 𝘀𝗼𝗻 𝗮 𝗹𝗮𝘀 𝟮𝟬:𝟯𝟬. Apertura de puertas 30 minutos antes.⁣\n⁣\n⁣\n𝗜𝗻𝗳𝗼𝗿𝗺𝗮𝗰𝗶𝗼́𝗻 𝘆 𝗿𝗲𝘀𝗲𝗿𝘃𝗮𝘀🎟️/ 𝗧𝗶𝗰𝗸𝗲𝘁𝘀:⁣\n☎️605 28 23 28⁣\n\n\nhttps://www.notikumi.com/2024/7/15/tablao-flamenco
URL:https://disfruta-denia.com/evento/tablao-flamenco/2024-07-29/
LOCATION:Les Tramoies\, C/ de Patricio Ferrándiz\, 88\, Denia\, Alicante\, 03700\, España
CATEGORIES:Baile,Cultura,Danza,Música
ATTACH;FMTTYPE=image/jpeg:https://disfruta-denia.com/wp-content/uploads/2024/07/image0.jpeg
END:VEVENT
BEGIN:VEVENT
DTSTART;TZID=Europe/Madrid:20240729T203000
DTEND;TZID=Europe/Madrid:20240729T203000
DTSTAMP:20260424T215846
CREATED:20230912T174836Z
LAST-MODIFIED:20230912T174838Z
UID:10011456-1722285000-1722285000@disfruta-denia.com
SUMMARY:Tardeo con Marce Pesoa
DESCRIPTION:Esta noche. Tonight. \nLive music 20.30h. \nMarce Pesoa en The Speak Dénia. \nTacos\, Cocktails\, Parrilla \n& la mejor musica 🔥🤘 \nReservas: 675753879 \nLet’s #funmonday today!
URL:https://disfruta-denia.com/evento/tardeo-con-marce-pesoa-2/2024-07-29/
LOCATION:The Speak Denia\, Carrer del Pont\, 19\, Denia\, Alicante\, 03700\, España
CATEGORIES:Concierto,Música,Tardeo
ATTACH;FMTTYPE=image/jpeg:https://disfruta-denia.com/wp-content/uploads/2023/06/IMG-20230619-WA0000.jpg
END:VEVENT
BEGIN:VEVENT
DTSTART;TZID=Europe/Madrid:20240728T220000
DTEND;TZID=Europe/Madrid:20240728T220000
DTSTAMP:20260424T215846
CREATED:20240703T095729Z
LAST-MODIFIED:20240703T153002Z
UID:10018816-1722204000-1722204000@disfruta-denia.com
SUMMARY:Cine Vora Mar
DESCRIPTION:Dia 21: \nMISIÓN IMPOSIBLE. SENTENCIA MORTAL PARTE 1. \nDir.: Christopher McQuarrie. EEUU. 2023. 163 min. \nRecomanada / recomendada + 12 anys/años. Acció. Aventura. Espionatge / Acción. Aventura. Espionaje \nTràiler/tráiler:  <iframe width=»560″ height=»315″ src=»https://www.youtube.com/embed/XoDmKCZBeeI?si=BVgrXRhYiKkCa6z-» title=»YouTube video player» frameborder=»0″ allow=»accelerometer; autoplay; clipboard-write; encrypted-media; gyroscope; picture-in-picture; web-share» referrerpolicy=»strict-origin-when-cross-origin» allowfullscreen></iframe> \n  \nDía 28: \nSUPER MARIO BROS. La película. Dir.: Aaron Horvath\, Michael Jelenic. EEUU. 2023. 92 min. \nRecomanada / recomendada + TP.  Cine familiar.
URL:https://disfruta-denia.com/evento/cine-vora-mar-2/2024-07-28/
LOCATION:Playa Punta del Raset\, Punta del Raset\, Denia\, Alicante\, 03700\, España
CATEGORIES:Ciné,Cultura
ATTACH;FMTTYPE=image/png:https://disfruta-denia.com/wp-content/uploads/2024/07/Cine-Voramar-e1720000634362.png
END:VEVENT
BEGIN:VEVENT
DTSTART;TZID=Europe/Madrid:20240728T210000
DTEND;TZID=Europe/Madrid:20240728T210000
DTSTAMP:20260424T215846
CREATED:20240219T102543Z
LAST-MODIFIED:20240219T102546Z
UID:10016342-1722200400-1722200400@disfruta-denia.com
SUMMARY:Concierto: Rebeldía Blues Band
DESCRIPTION:Concierto: Rebeldía Blues Band
URL:https://disfruta-denia.com/evento/concierto-rebeldia-blues-band-5-2-2-2/2024-07-28/
LOCATION:Rebeldia Blues\, Carr. de Dénia A Xábia\, 3G\, Denia\, Alicante\, 03700\, España
CATEGORIES:Concierto,Música
ATTACH;FMTTYPE=image/jpeg:https://disfruta-denia.com/wp-content/uploads/2024/02/428298315_17910192284911738_2883817046859909485_n.jpg
END:VEVENT
END:VCALENDAR