BEGIN:VCALENDAR
VERSION:2.0
PRODID:-//Disfruta Denia - ECPv6.15.20//NONSGML v1.0//EN
CALSCALE:GREGORIAN
METHOD:PUBLISH
X-ORIGINAL-URL:https://disfruta-denia.com
X-WR-CALDESC:Eventos para Disfruta Denia
REFRESH-INTERVAL;VALUE=DURATION:PT1H
X-Robots-Tag:noindex
X-PUBLISHED-TTL:PT1H
BEGIN:VTIMEZONE
TZID:Europe/Madrid
BEGIN:DAYLIGHT
TZOFFSETFROM:+0100
TZOFFSETTO:+0200
TZNAME:CEST
DTSTART:20230326T010000
END:DAYLIGHT
BEGIN:STANDARD
TZOFFSETFROM:+0200
TZOFFSETTO:+0100
TZNAME:CET
DTSTART:20231029T010000
END:STANDARD
BEGIN:DAYLIGHT
TZOFFSETFROM:+0100
TZOFFSETTO:+0200
TZNAME:CEST
DTSTART:20240331T010000
END:DAYLIGHT
BEGIN:STANDARD
TZOFFSETFROM:+0200
TZOFFSETTO:+0100
TZNAME:CET
DTSTART:20241027T010000
END:STANDARD
BEGIN:DAYLIGHT
TZOFFSETFROM:+0100
TZOFFSETTO:+0200
TZNAME:CEST
DTSTART:20250330T010000
END:DAYLIGHT
BEGIN:STANDARD
TZOFFSETFROM:+0200
TZOFFSETTO:+0100
TZNAME:CET
DTSTART:20251026T010000
END:STANDARD
END:VTIMEZONE
BEGIN:VEVENT
DTSTART;TZID=Europe/Madrid:20240725T230000
DTEND;TZID=Europe/Madrid:20240725T230000
DTSTAMP:20260425T045809
CREATED:20240605T160117Z
LAST-MODIFIED:20240723T080337Z
UID:10018724-1721948400-1721948400@disfruta-denia.com
SUMMARY:FETÉN FETÉN - Música al Castell Denia 2024
DESCRIPTION:‘Tradicional.’ Músicas de raíz\nEl reconocido dúo castellano formado por Jorge Arribas y Diego Galaz nos propone un espectáculo en directo conectado a las músicas de raíz\, a nuestra esencia como pueblo y cultura. \nUn recorrido por los ritmos populares de la Península Ibérica en un directo vital y enérgico\, con el que podremos disfrutar escuchando y bailando melodías tradicionales y de este dúo a ritmo valses\, jotas\, pasodobles\, charros\, ruedas o seguidillas. \nSuena nuestra tradición desde su acordeón y su violín\, desde instrumentos insólitos como el serrucho y la silla de camping. Una gaita con materiales reutilizados nos trae melodías de nuestra tierra y replican unas cucharas y una sartén recordando que en nuestros pueblos siempre hemos tenido imaginación y creatividad para convertir cualquier cosa en un objeto musical\, sobre todo en tiempos de pobreza\, crisis y desesperanza \nFetén Fetén es mucho más que el proyecto musical de Jorge Arribas y Diego Galaz\, es el lenguaje del alma y hecho armonía. \nLos más de mil conciertos ofrecidos por todo el mundo avalan la trayectoria de Diego y Jorge\, que con este espectáculo nos muestran un recorrido por nuestra esencia de una forma dinámica y divertida para disfrute de todo tipo de público.
URL:https://disfruta-denia.com/evento/feten-feten-musica-al-castell-denia-2024/
LOCATION:Castillo de Denia\, Carrer Sant Francesc\, S/n\, Denia\, Alicante\, 03700\, España
CATEGORIES:Concierto,Música
ATTACH;FMTTYPE=image/jpeg:https://disfruta-denia.com/wp-content/uploads/2024/06/452359300_885809290256581_2318690648813287643_n.jpg
ORGANIZER;CN="Denia Cultura":MAILTO:cultura@ayto-denia.es
END:VEVENT
BEGIN:VEVENT
DTSTART;TZID=Europe/Madrid:20240725T210000
DTEND;TZID=Europe/Madrid:20240725T210000
DTSTAMP:20260425T045809
CREATED:20240307T094627Z
LAST-MODIFIED:20240307T094631Z
UID:10016618-1721941200-1721941200@disfruta-denia.com
SUMMARY:Karaoké en Rebeldía Blues
DESCRIPTION:Karaoké en Rebeldía Blues
URL:https://disfruta-denia.com/evento/karaoke-en-rebeldia-blues-4-2-2-2-2-2/2024-07-25/
LOCATION:Rebeldia Blues\, Carr. de Dénia A Xábia\, 3G\, Denia\, Alicante\, 03700\, España
CATEGORIES:Karaoké,Música
ATTACH;FMTTYPE=image/jpeg:https://disfruta-denia.com/wp-content/uploads/2024/02/429768881_17912348297911738_3047273990901060399_n.jpg
END:VEVENT
BEGIN:VEVENT
DTSTART;TZID=Europe/Madrid:20240725T083000
DTEND;TZID=Europe/Madrid:20240725T083000
DTSTAMP:20260425T045809
CREATED:20231005T092619Z
LAST-MODIFIED:20231005T092702Z
UID:10014120-1721896200-1721896200@disfruta-denia.com
SUMMARY:Clase de Yoga en Códigos del Arte
DESCRIPTION:Clase de Yoga en Códigos del Arte
URL:https://disfruta-denia.com/evento/clase-de-yoga-en-codigos-del-arte/2024-07-25/
LOCATION:Códigos del Arte\, Carreró de Morant\, 8\, Dénia\, 03700\, España
CATEGORIES:Deporte,Yoga
ATTACH;FMTTYPE=image/jpeg:https://disfruta-denia.com/wp-content/uploads/2023/10/image_6487327.jpg
END:VEVENT
BEGIN:VEVENT
DTSTART;TZID=Europe/Madrid:20240724T230000
DTEND;TZID=Europe/Madrid:20240724T230000
DTSTAMP:20260425T045809
CREATED:20240605T155652Z
LAST-MODIFIED:20240605T155805Z
UID:10018723-1721862000-1721862000@disfruta-denia.com
SUMMARY:Dolç tab jazz project - Música al Castell Denia 2024
DESCRIPTION:Fusión de música valenciana\nEn quinteto jazzístico DOLÇ TAB JAZZ se dio a conocer en 2002. La calidad que lo hace único en su ámbito es el instrumento solista; la dulzaina. De hecho\, uno de los grandes méritos de esta formación radica en haber dado un paso adelante en la modernización\, conceptualización e interpretación del instrumento más genuino y popular de los valencianos\, estrenando la dulzaina como instrumento de jazz con un lenguaje bien trabajado y compenetrado con el resto de instrumentos. \nA nivel artístico\, la crítica ha destacado de DOLÇ TAB JAZZ\, sobre todo\, el gran trabajo de grupo y la elaboración de los solos. Han actuado en festivales tan prestigiosos como la Feria de Raíz tradicional de Manresa\, Festival Internacional de Jazz de Getxo\, la Mostra de Jazz d’Eivissa\, Café España en Valladolid\, Mollina (Málaga)\, Gijón\, A Coruña y un largo etc. \nEl nuevo proyecto de la agrupación encabezada por Josep Alemany en la dulzaina\, apuesta ahora por un maridaje más intemporal\, si es necesario. Una nueva hoja de ruta focalizada en recuperar piezas populares y actualizarlas desde el bagaje adquirido.\nEste recorrido\, empezado ya hace muchos años\, se refuerza ahora de la mano de himnos populares como «la Manta al coll i el cabasset»\, «Ramonet si vas a l’hort»\, «No em volem cap»\, «El tio Pep se’n va a Muro»\, «la Muixeranga»\, «Mareta»\, queridísimas tonadas que pasan ahora a engrosar el repertorio de un grupo que suma también nuevas y bien reseñables incorporaciones artísticas. \nDe hecho los intérpretes que aportan en esta etapa su talento al conjunto saben muy bien cuál es el sentido de los nuevos senderos experimentales\, la verdadera cata de la vanguardia; Lolo García (Saxo)\, Enrique Pedrón (Piano)\, Isaac Martin (Guitarra eléctrica)\, Miguel Serna (Bajo eléctrico)\, Mariano Steinberg (Batería). Artífices todos ellos de una reconstrucción musical tan rica en matices como referencias que supone un gran paso adelante para la agrupación. \nUna herencia re-visitada\, pues: un nuevo horizonte para trazar melodías\, para redescubrirlas. Prometedoras\, alentadoras directrices\, que se abrevan de la esencia de nuestras composiciones más arraigadas para homenajearlas mediante un nuevo formato más allá del Jazz\, más allá del Folk\, ¡pero más cerca que nunca de Dolç Tab!
URL:https://disfruta-denia.com/evento/dolc-tab-jazz-project-musica-al-castell-denia-2024/
LOCATION:Castillo de Denia\, Carrer Sant Francesc\, S/n\, Denia\, Alicante\, 03700\, España
CATEGORIES:Concierto,Jazz,Música
ATTACH;FMTTYPE=image/jpeg:https://disfruta-denia.com/wp-content/uploads/2024/06/447051258_855339946636849_3231412644398514566_n.jpg
ORGANIZER;CN="Denia Cultura":MAILTO:cultura@ayto-denia.es
END:VEVENT
BEGIN:VEVENT
DTSTART;TZID=Europe/Madrid:20240724T203000
DTEND;TZID=Europe/Madrid:20240724T203000
DTSTAMP:20260425T045809
CREATED:20240414T124150Z
LAST-MODIFIED:20240414T124150Z
UID:10017926-1721853000-1721853000@disfruta-denia.com
SUMMARY:Miércoles latinos\, miércoles clandestinos
DESCRIPTION:Miércoles latinos\, miércoles clandestinos  Cada miércoles a las 20.30h tenemos una cita con Madelyn Torroella a ritmo cubano!! Voz\, percusión y versiones de salsa clásica\, cada miércoles\, en el Speak. Parrillada\, tacos\, tapas\, cocktails & música. Reserva tu mesa
URL:https://disfruta-denia.com/evento/miercoles-latinos-miercoles-clandestinos/2024-07-24/
LOCATION:The Speak Denia\, Carrer del Pont\, 19\, Denia\, Alicante\, 03700\, España
CATEGORIES:Concierto,Música
ATTACH;FMTTYPE=image/jpeg:https://disfruta-denia.com/wp-content/uploads/2024/04/434468313_1159701198651630_4992165217264460198_n.jpg
END:VEVENT
BEGIN:VEVENT
DTSTART;TZID=Europe/Madrid:20240724T200000
DTEND;TZID=Europe/Madrid:20240724T233000
DTSTAMP:20260425T045809
CREATED:20230612T102803Z
LAST-MODIFIED:20230612T102804Z
UID:10008996-1721851200-1721863800@disfruta-denia.com
SUMMARY:Autocine: día del espectador
DESCRIPTION:
URL:https://disfruta-denia.com/evento/autocine-dia-del-espectador-3/2024-07-24/
LOCATION:Autociné Denia\, Partida Deveses D\, 27\, Denia\, Alicante\, 03700\, España
CATEGORIES:Ciné,Cultura
ATTACH;FMTTYPE=image/jpeg:https://disfruta-denia.com/wp-content/uploads/2022/11/Autocine-Drive-In-Denia-1.jpg
END:VEVENT
BEGIN:VEVENT
DTSTART;TZID=Europe/Madrid:20240724T190000
DTEND;TZID=Europe/Madrid:20240724T210000
DTSTAMP:20260425T045809
CREATED:20231115T115842Z
LAST-MODIFIED:20231115T115843Z
UID:10008313-1721847600-1721854800@disfruta-denia.com
SUMMARY:Tardeo en Basta
DESCRIPTION:
URL:https://disfruta-denia.com/evento/tardeo-en-basta-3-3/2024-07-24/
LOCATION:Basta Lounge Bar\, Marina de Dénia\, Local C2\, Denia\, Valencian Community\, 03700\, España
CATEGORIES:Concierto,Música,Tardeo
ATTACH;FMTTYPE=image/jpeg:https://disfruta-denia.com/wp-content/uploads/2022/12/IMG_3678.jpeg
END:VEVENT
BEGIN:VEVENT
DTSTART;TZID=Europe/Madrid:20240724T190000
DTEND;TZID=Europe/Madrid:20240724T190000
DTSTAMP:20260425T045809
CREATED:20240501T071519Z
LAST-MODIFIED:20240501T071519Z
UID:10018244-1721847600-1721847600@disfruta-denia.com
SUMMARY:Clases de Salsa y bachata
DESCRIPTION:clase gratuita
URL:https://disfruta-denia.com/evento/clases-de-salsa-y-bachata/2024-07-24/
LOCATION:Rebeldia Blues\, Carr. de Dénia A Xábia\, 3G\, Denia\, Alicante\, 03700\, España
CATEGORIES:Baile,Música
ATTACH;FMTTYPE=image/jpeg:https://disfruta-denia.com/wp-content/uploads/2024/05/440743591_17919109514911738_7379047312868127315_n.jpg
END:VEVENT
BEGIN:VEVENT
DTSTART;TZID=Europe/Madrid:20240723T190000
DTEND;TZID=Europe/Madrid:20240723T190000
DTSTAMP:20260425T045809
CREATED:20240723T073345Z
LAST-MODIFIED:20240723T073345Z
UID:10019120-1721761200-1721761200@disfruta-denia.com
SUMMARY:Tardeos de verano en Casa Mena
DESCRIPTION:
URL:https://disfruta-denia.com/evento/tardeos-de-verano-en-casa-mena/2024-07-23/
LOCATION:Restaurante Mena\, Km 5 Carretera Las Rotas\, Denia\, 03700\, España
CATEGORIES:Concierto,Música,Tardeo
ATTACH;FMTTYPE=image/jpeg:https://disfruta-denia.com/wp-content/uploads/2024/07/449616078_10230380516634195_705857145489822784_n.jpg
END:VEVENT
BEGIN:VEVENT
DTSTART;TZID=Europe/Madrid:20240723T083000
DTEND;TZID=Europe/Madrid:20240723T083000
DTSTAMP:20260425T045809
CREATED:20231005T092619Z
LAST-MODIFIED:20231005T092702Z
UID:10014119-1721723400-1721723400@disfruta-denia.com
SUMMARY:Clase de Yoga en Códigos del Arte
DESCRIPTION:Clase de Yoga en Códigos del Arte
URL:https://disfruta-denia.com/evento/clase-de-yoga-en-codigos-del-arte/2024-07-23/
LOCATION:Códigos del Arte\, Carreró de Morant\, 8\, Dénia\, 03700\, España
CATEGORIES:Deporte,Yoga
ATTACH;FMTTYPE=image/jpeg:https://disfruta-denia.com/wp-content/uploads/2023/10/image_6487327.jpg
END:VEVENT
BEGIN:VEVENT
DTSTART;TZID=Europe/Madrid:20240722T203000
DTEND;TZID=Europe/Madrid:20240722T203000
DTSTAMP:20260425T045809
CREATED:20230912T174836Z
LAST-MODIFIED:20230912T174838Z
UID:10011455-1721680200-1721680200@disfruta-denia.com
SUMMARY:Tardeo con Marce Pesoa
DESCRIPTION:Esta noche. Tonight. \nLive music 20.30h. \nMarce Pesoa en The Speak Dénia. \nTacos\, Cocktails\, Parrilla \n& la mejor musica 🔥🤘 \nReservas: 675753879 \nLet’s #funmonday today!
URL:https://disfruta-denia.com/evento/tardeo-con-marce-pesoa-2/2024-07-22/
LOCATION:The Speak Denia\, Carrer del Pont\, 19\, Denia\, Alicante\, 03700\, España
CATEGORIES:Concierto,Música,Tardeo
ATTACH;FMTTYPE=image/jpeg:https://disfruta-denia.com/wp-content/uploads/2023/06/IMG-20230619-WA0000.jpg
END:VEVENT
BEGIN:VEVENT
DTSTART;TZID=Europe/Madrid:20240721T220000
DTEND;TZID=Europe/Madrid:20240721T220000
DTSTAMP:20260425T045809
CREATED:20240703T095729Z
LAST-MODIFIED:20240703T153002Z
UID:10018815-1721599200-1721599200@disfruta-denia.com
SUMMARY:Cine Vora Mar
DESCRIPTION:Dia 21: \nMISIÓN IMPOSIBLE. SENTENCIA MORTAL PARTE 1. \nDir.: Christopher McQuarrie. EEUU. 2023. 163 min. \nRecomanada / recomendada + 12 anys/años. Acció. Aventura. Espionatge / Acción. Aventura. Espionaje \nTràiler/tráiler:  <iframe width=»560″ height=»315″ src=»https://www.youtube.com/embed/XoDmKCZBeeI?si=BVgrXRhYiKkCa6z-» title=»YouTube video player» frameborder=»0″ allow=»accelerometer; autoplay; clipboard-write; encrypted-media; gyroscope; picture-in-picture; web-share» referrerpolicy=»strict-origin-when-cross-origin» allowfullscreen></iframe> \n  \nDía 28: \nSUPER MARIO BROS. La película. Dir.: Aaron Horvath\, Michael Jelenic. EEUU. 2023. 92 min. \nRecomanada / recomendada + TP.  Cine familiar.
URL:https://disfruta-denia.com/evento/cine-vora-mar-2/2024-07-21/
LOCATION:Playa Punta del Raset\, Punta del Raset\, Denia\, Alicante\, 03700\, España
CATEGORIES:Ciné,Cultura
ATTACH;FMTTYPE=image/png:https://disfruta-denia.com/wp-content/uploads/2024/07/Cine-Voramar-e1720000634362.png
END:VEVENT
BEGIN:VEVENT
DTSTART;TZID=Europe/Madrid:20240721T210000
DTEND;TZID=Europe/Madrid:20240721T210000
DTSTAMP:20260425T045809
CREATED:20240219T102543Z
LAST-MODIFIED:20240219T102546Z
UID:10016341-1721595600-1721595600@disfruta-denia.com
SUMMARY:Concierto: Rebeldía Blues Band
DESCRIPTION:Concierto: Rebeldía Blues Band
URL:https://disfruta-denia.com/evento/concierto-rebeldia-blues-band-5-2-2-2/2024-07-21/
LOCATION:Rebeldia Blues\, Carr. de Dénia A Xábia\, 3G\, Denia\, Alicante\, 03700\, España
CATEGORIES:Concierto,Música
ATTACH;FMTTYPE=image/jpeg:https://disfruta-denia.com/wp-content/uploads/2024/02/428298315_17910192284911738_2883817046859909485_n.jpg
END:VEVENT
BEGIN:VEVENT
DTSTART;TZID=Europe/Madrid:20240721T200000
DTEND;TZID=Europe/Madrid:20240721T200000
DTSTAMP:20260425T045809
CREATED:20240702T195703Z
LAST-MODIFIED:20240702T195703Z
UID:10018805-1721592000-1721592000@disfruta-denia.com
SUMMARY:Música en vivo en The Cut - Julio
DESCRIPTION:Música en vivo para Julio en nuestro restaurante 
URL:https://disfruta-denia.com/evento/musica-en-vivo-en-the-cut-julio/2024-07-21/
LOCATION:The Cut Steackhouse\, Deportivo de la marina Ed. D1\, Dénia\, 03700\, España
CATEGORIES:Concierto,Música
ATTACH;FMTTYPE=image/jpeg:https://disfruta-denia.com/wp-content/uploads/2024/07/449527092_17914955465954390_6087945200244976677_n-1.jpg
END:VEVENT
BEGIN:VEVENT
DTSTART;TZID=Europe/Madrid:20240721T180000
DTEND;TZID=Europe/Madrid:20240721T230000
DTSTAMP:20260425T045809
CREATED:20240718T160926Z
LAST-MODIFIED:20240718T160927Z
UID:10018834-1721584800-1721602800@disfruta-denia.com
SUMMARY:Mercat del Riurau Jesus Pobre
DESCRIPTION:¡Este domingo 21 de julio\, ven al Mercat del Riurau y disfruta de música en directo! \n\n\nAbrimos de 18:00 a 23:00\, y a partir de las 20:00\, tendremos la actuación de Pixiestix\, que nos deleitarán con su increíble talento y energéticas melodías.\n\n\nÚnete a nosotros para una tarde llena de buena música\, productos locales\, artesanía y delicias frescas.\n\n\n ¿Dónde? En Jesús Pobre\n\n\n ¿Cuándo? El domingo 21 de julio\, de 18:00 a 23:00\n\n\n¡Te esperamos este domingo en el Mercat del Riurau!
URL:https://disfruta-denia.com/evento/mercat-del-riurau-jesus-pobre-2-25-3-2-2/2024-07-21/
LOCATION:Mercado Riurau Jesus Pobre\, Jesus Pobre\, Alicante\, 03749\, España
CATEGORIES:Concierto,Gastronomía,Mercado
ATTACH;FMTTYPE=image/jpeg:https://disfruta-denia.com/wp-content/uploads/2024/06/451546111_864034015759964_3923602328096875256_n.jpg
END:VEVENT
BEGIN:VEVENT
DTSTART;TZID=Europe/Madrid:20240721T160000
DTEND;TZID=Europe/Madrid:20240721T180000
DTSTAMP:20260425T045809
CREATED:20240607T082431Z
LAST-MODIFIED:20240607T082432Z
UID:10017900-1721577600-1721584800@disfruta-denia.com
SUMMARY:Tardeo concierto en Mr Fisher
DESCRIPTION:
URL:https://disfruta-denia.com/evento/tardeo-concierto-en-mr-fisher-2-2-2-2/2024-07-21/
LOCATION:Mr Fisher\, Moll de La Pansa s/n. Marina El Portet\, Denia\, Alicante\, 03700\, España
CATEGORIES:Concierto,Música,Tardeo
ATTACH;FMTTYPE=image/jpeg:https://disfruta-denia.com/wp-content/uploads/2024/05/D27304FC-6AFA-44C9-95D7-6F1D74187DDA.jpeg
END:VEVENT
BEGIN:VEVENT
DTSTART;TZID=Europe/Madrid:20240720T235900
DTEND;TZID=Europe/Madrid:20240720T235900
DTSTAMP:20260425T045809
CREATED:20240719T170514Z
LAST-MODIFIED:20240719T170515Z
UID:10004117-1721519940-1721519940@disfruta-denia.com
SUMMARY:Sábado de Dorian Gray
DESCRIPTION:COMO SALIR DE FIESTA EN DÉNIA EN 3 PASOS: \nPASO 1 -🔸 JUEVES • 00’00h • NOCHE\nJUNTOS Y REVUELTOS 🎸 en directo #poprockindieespañol \nPASO 2 -🔹VIERNES • 00’00h • NOCHE\n🔅FIESTA JAMESON 🔅\n•Sala Dorian MENPHIS 🎸 en directo #poprockindieespañol\n•Sala Gray TARON 🎧 en cabina #urbanmusic \nPASO 3 -🔸SÁBADO • 00’00h • NOCHE\n•Sala Dorian LA MOCHA 🎸 en directo #poprockindieespañol\n•Sala Gray BORJA CONESA 🎧 en cabina #urbanmusic \nSENCILLO VERDAD?
URL:https://disfruta-denia.com/evento/sabado-de-dorian-gray-4-2-2-2-2-2/
LOCATION:Dorian Gray Denia\, Carrer de la Mar\, 14\, Denia\, Alicante\, 03700\, España
CATEGORIES:DJ,Música,Ocio nocturno
ATTACH;FMTTYPE=image/png:https://disfruta-denia.com/wp-content/uploads/2024/07/Dorian-Gray-Denia-doriangray_denia-•-Instagram-photos-and-videos-6.png
END:VEVENT
BEGIN:VEVENT
DTSTART;TZID=Europe/Madrid:20240720T235900
DTEND;TZID=Europe/Madrid:20240720T235900
DTSTAMP:20260425T045809
CREATED:20221128T194020Z
LAST-MODIFIED:20221128T194021Z
UID:10006569-1721519940-1721519940@disfruta-denia.com
SUMMARY:Concierto en LCDA
DESCRIPTION:
URL:https://disfruta-denia.com/evento/concierto-en-lcda-4/2024-07-20/
LOCATION:La Chica de ayer\, Calle la mar 30\, Denia\, Alicante\, 03700\, España
CATEGORIES:Concierto,Música,Ocio nocturno
ATTACH;FMTTYPE=image/jpeg:https://disfruta-denia.com/wp-content/uploads/2022/11/317545016_592127712917488_4859295703944293873_n.jpg
END:VEVENT
BEGIN:VEVENT
DTSTART;TZID=Europe/Madrid:20240720T233000
DTEND;TZID=Europe/Madrid:20240720T233000
DTSTAMP:20260425T045809
CREATED:20240326T110916Z
LAST-MODIFIED:20241205T103144Z
UID:10019102-1721518200-1721518200@disfruta-denia.com
SUMMARY:Concierto: Histeriia
DESCRIPTION:No te pierdas el directazo de @histeriiaband en Paddy O’Connell \nTe esperamos!
URL:https://disfruta-denia.com/evento/concierto-histeriia-2/2024-07-20/
LOCATION:Paddy O’Connell Denia\, Calle de la Mar\, 20\, Denia\, Alicante\, 03700\, España
CATEGORIES:Concierto,Música,Ocio nocturno
ATTACH;FMTTYPE=image/png:https://disfruta-denia.com/wp-content/uploads/2024/03/Instagram-12-05-2024_11_30_AM.png
END:VEVENT
BEGIN:VEVENT
DTSTART;TZID=Europe/Madrid:20240720T220000
DTEND;TZID=Europe/Madrid:20240720T220000
DTSTAMP:20260425T045809
CREATED:20240719T110843Z
LAST-MODIFIED:20240719T110844Z
UID:10016879-1721512800-1721512800@disfruta-denia.com
SUMMARY:Sábado concierto en Rebeldía Blues
DESCRIPTION:¡Este sábado 20 de julio tenemos una cita imperdible en Rebeldía Blues Bar!  A partir de las 22:00h\, ven a disfrutar de la energía de Super Tónica con su Rock & Pop. ¡La entrada es gratuita! Dirección: Carr. de Dénia A Xàbia\, 3G\, 03700 Dénia Hora: 22:00h Entrada: Gratuita¡No te pierdas esta increíble noche de buena música y diversión! 
URL:https://disfruta-denia.com/evento/sabado-concierto-en-rebeldia-blues-3-2-2/
LOCATION:Rebeldia Blues\, Carr. de Dénia A Xábia\, 3G\, Denia\, Alicante\, 03700\, España
CATEGORIES:Concierto,Música
ATTACH;FMTTYPE=image/jpeg:https://disfruta-denia.com/wp-content/uploads/2024/06/452170950_17929066400911738_6829062269790267273_n.jpg
END:VEVENT
BEGIN:VEVENT
DTSTART;TZID=Europe/Madrid:20240720T210000
DTEND;TZID=Europe/Madrid:20240720T230000
DTSTAMP:20260425T045809
CREATED:20240621T075405Z
LAST-MODIFIED:20240621T075405Z
UID:10018788-1721509200-1721516400@disfruta-denia.com
SUMMARY:Concierto
DESCRIPTION:
URL:https://disfruta-denia.com/evento/concierto/
LOCATION:Jardín de l’Albarda\, Urb.Muntanya de La sella\, Carrer Baix Vinalopò\, 8\, Pedreguer\, Alicante\, 03750\, España
CATEGORIES:Concierto
ORGANIZER;CN="FUNDEM":MAILTO:fundem@fundem.org
END:VEVENT
BEGIN:VEVENT
DTSTART;TZID=Europe/Madrid:20240720T183000
DTEND;TZID=Europe/Madrid:20240720T183000
DTSTAMP:20260425T045809
CREATED:20240719T170501Z
LAST-MODIFIED:20240719T170502Z
UID:10013461-1721500200-1721500200@disfruta-denia.com
SUMMARY:Tardeo en Dorian
DESCRIPTION:COMO SALIR DE FIESTA EN DÉNIA EN 3 PASOS: \nPASO 1 -🔸 JUEVES • 00’00h • NOCHE\nJUNTOS Y REVUELTOS 🎸 en directo #poprockindieespañol \nPASO 2 -🔹VIERNES • 00’00h • NOCHE\n🔅FIESTA JAMESON 🔅\n•Sala Dorian MENPHIS 🎸 en directo #poprockindieespañol\n•Sala Gray TARON 🎧 en cabina #urbanmusic \nPASO 3 -🔸SÁBADO • 00’00h • NOCHE\n•Sala Dorian LA MOCHA 🎸 en directo #poprockindieespañol\n•Sala Gray BORJA CONESA 🎧 en cabina #urbanmusic \nSENCILLO VERDAD?
URL:https://disfruta-denia.com/evento/tardeo-en-dorian-3-2-2-2-2-2/
LOCATION:Dorian Gray Denia\, Carrer de la Mar\, 14\, Denia\, Alicante\, 03700\, España
CATEGORIES:Concierto,Música,Tardeo
ATTACH;FMTTYPE=image/png:https://disfruta-denia.com/wp-content/uploads/2024/07/Dorian-Gray-Denia-doriangray_denia-•-Instagram-photos-and-videos-6.png
END:VEVENT
BEGIN:VEVENT
DTSTART;TZID=Europe/Madrid:20240719T235900
DTEND;TZID=Europe/Madrid:20240719T235900
DTSTAMP:20260425T045809
CREATED:20240719T170449Z
LAST-MODIFIED:20240719T170450Z
UID:10003856-1721433540-1721433540@disfruta-denia.com
SUMMARY:Viernes de Dorian Gray
DESCRIPTION:COMO SALIR DE FIESTA EN DÉNIA EN 3 PASOS: \nPASO 1 -🔸 JUEVES • 00’00h • NOCHE\nJUNTOS Y REVUELTOS 🎸 en directo #poprockindieespañol \nPASO 2 -🔹VIERNES • 00’00h • NOCHE\n🔅FIESTA JAMESON 🔅\n•Sala Dorian MENPHIS 🎸 en directo #poprockindieespañol\n•Sala Gray TARON 🎧 en cabina #urbanmusic \nPASO 3 -🔸SÁBADO • 00’00h • NOCHE\n•Sala Dorian LA MOCHA 🎸 en directo #poprockindieespañol\n•Sala Gray BORJA CONESA 🎧 en cabina #urbanmusic \nSENCILLO VERDAD?
URL:https://disfruta-denia.com/evento/viernes-de-dorian-gray-4-2-2-2-2/2024-07-19/
LOCATION:Dorian Gray Denia\, Carrer de la Mar\, 14\, Denia\, Alicante\, 03700\, España
CATEGORIES:Concierto,DJ,Música,Ocio nocturno
ATTACH;FMTTYPE=image/png:https://disfruta-denia.com/wp-content/uploads/2024/07/Dorian-Gray-Denia-doriangray_denia-•-Instagram-photos-and-videos-6.png
END:VEVENT
BEGIN:VEVENT
DTSTART;TZID=Europe/Madrid:20240719T235500
DTEND;TZID=Europe/Madrid:20240719T235500
DTSTAMP:20260425T045809
CREATED:20240314T094342Z
LAST-MODIFIED:20241212T112919Z
UID:10018825-1721433300-1721433300@disfruta-denia.com
SUMMARY:Concierto: Payback en el Paddy
DESCRIPTION:disfruta de PAYBACK en Paddy\nNo te lo pierdas 
URL:https://disfruta-denia.com/evento/concierto-payback-en-el-paddy/2024-07-19/
LOCATION:Paddy O’Connell Denia\, Calle de la Mar\, 20\, Denia\, Alicante\, 03700\, España
CATEGORIES:Concierto,Música,Ocio nocturno
ATTACH;FMTTYPE=image/png:https://disfruta-denia.com/wp-content/uploads/2024/03/Rebeldia-Blues-rebeldiablues-•-Instagram-photos-and-videos-12-12-2024_12_28_PM.png
END:VEVENT
BEGIN:VEVENT
DTSTART;TZID=Europe/Madrid:20240719T210000
DTEND;TZID=Europe/Madrid:20240719T210000
DTSTAMP:20260425T045809
CREATED:20240717T182323Z
LAST-MODIFIED:20240717T182324Z
UID:10016079-1721422800-1721422800@disfruta-denia.com
SUMMARY:Concierto de Viernes en Rebeldía Blues
DESCRIPTION:🎶 ¡No te pierdas el increíble evento de Vince Tracy con sus covers clásicos en el bar Rebeldia Blues! 🎶 \n🗓️ Fecha: Viernes 19\n🕙 Hora: 22:00h\n📍 Ubicación: Carr. de Dénia A Xàbia\, 3G\, 03700 Dénia (Bar Rebeldia Blues)\n💥 Entrada gratuita \n¡Ven a disfrutar de una noche llena de buena música! 🎤🎸 \n#VinceTracyLive #ClassicCovers #LiveMusic #FreeEntry #DeniaEvents #MusicLovers #LivePerformance #ConcertNight #DeniaLive #MusicInDenia
URL:https://disfruta-denia.com/evento/concierto-de-viernes-en-rebeldia-blues-3-3-2/
LOCATION:Rebeldia Blues\, Carr. de Dénia A Xábia\, 3G\, Denia\, Alicante\, 03700\, España
CATEGORIES:Concierto,Música
ATTACH;FMTTYPE=image/jpeg:https://disfruta-denia.com/wp-content/uploads/2024/06/IMG_0603.jpeg
END:VEVENT
BEGIN:VEVENT
DTSTART;TZID=Europe/Madrid:20240719T200000
DTEND;TZID=Europe/Madrid:20240719T200000
DTSTAMP:20260425T045809
CREATED:20240702T195703Z
LAST-MODIFIED:20240702T195703Z
UID:10018804-1721419200-1721419200@disfruta-denia.com
SUMMARY:Música en vivo en The Cut - Julio
DESCRIPTION:Música en vivo para Julio en nuestro restaurante 
URL:https://disfruta-denia.com/evento/musica-en-vivo-en-the-cut-julio/2024-07-19/
LOCATION:The Cut Steackhouse\, Deportivo de la marina Ed. D1\, Dénia\, 03700\, España
CATEGORIES:Concierto,Música
ATTACH;FMTTYPE=image/jpeg:https://disfruta-denia.com/wp-content/uploads/2024/07/449527092_17914955465954390_6087945200244976677_n-1.jpg
END:VEVENT
BEGIN:VEVENT
DTSTART;TZID=Europe/Madrid:20240719T200000
DTEND;TZID=Europe/Madrid:20240719T200000
DTSTAMP:20260425T045809
CREATED:20240301T085356Z
LAST-MODIFIED:20240301T085356Z
UID:10017538-1721419200-1721419200@disfruta-denia.com
SUMMARY:Magia en vivo con Santi Marcilla
DESCRIPTION:
URL:https://disfruta-denia.com/evento/magia-en-vivo-con-santi-marcilla/2024-07-19/
LOCATION:Babilonia Restaurante\, Calle Cavallers 11\, Denia\, Alicante\, 03700\, España
CATEGORIES:Cultura,Espectáculo
ATTACH;FMTTYPE=image/jpeg:https://disfruta-denia.com/wp-content/uploads/2024/03/423541791_1736385443554964_981225945373241253_n.jpg
END:VEVENT
BEGIN:VEVENT
DTSTART;TZID=Europe/Madrid:20240719T183000
DTEND;TZID=Europe/Madrid:20240719T210000
DTSTAMP:20260425T045809
CREATED:20240621T075405Z
LAST-MODIFIED:20240621T075405Z
UID:10018787-1721413800-1721422800@disfruta-denia.com
SUMMARY:atardecer musical en l’albarda
DESCRIPTION:Disfruta del atardecer en el Jardín de l’Albarda con la guitarra de fondo de Thierry Fouet. \nTodos los viernes y sábados de julio y agosto exceptuando el 6  y 20 de julio y 17 de agosto a partir de las 18.30. \nEntrada no socios 10€ – Entrada socios 5€
URL:https://disfruta-denia.com/evento/atardecer-musical-en-lalbarda-4/
LOCATION:Alicante
CATEGORIES:Concierto
ATTACH;FMTTYPE=image/jpeg:https://disfruta-denia.com/wp-content/uploads/2024/06/atardeceres-2024-aF6Vnu.tmp_.jpg
END:VEVENT
BEGIN:VEVENT
DTSTART;TZID=Europe/Madrid:20240719T173000
DTEND;TZID=Europe/Madrid:20240719T173000
DTSTAMP:20260425T045809
CREATED:20240530T130548Z
LAST-MODIFIED:20240530T130550Z
UID:10018610-1721410200-1721410200@disfruta-denia.com
SUMMARY:Tardeo en La Mar Serena
DESCRIPTION:No estáis listos para el show de este Viernes ❤️‍🔥\n@miguellemadj & @raquelcardonamusic vienen cargados de hits 🪩 ¡Nos vemos en la pista!
URL:https://disfruta-denia.com/evento/tardeo-en-la-mar-serena-2-2/2024-07-19/
LOCATION:La Mar Serena\, Moll de la Pansa s/n Edificio Marina el Portet\, Denia\, Alicante\, 03700\, España
CATEGORIES:DJ,Música,Tardeo
ATTACH;FMTTYPE=image/jpeg:https://disfruta-denia.com/wp-content/uploads/2024/05/IMG-20240530-WA0011.jpg
END:VEVENT
BEGIN:VEVENT
DTSTART;TZID=Europe/Madrid:20240718T210000
DTEND;TZID=Europe/Madrid:20240718T210000
DTSTAMP:20260425T045809
CREATED:20240307T094627Z
LAST-MODIFIED:20240307T094631Z
UID:10016617-1721336400-1721336400@disfruta-denia.com
SUMMARY:Karaoké en Rebeldía Blues
DESCRIPTION:Karaoké en Rebeldía Blues
URL:https://disfruta-denia.com/evento/karaoke-en-rebeldia-blues-4-2-2-2-2-2/2024-07-18/
LOCATION:Rebeldia Blues\, Carr. de Dénia A Xábia\, 3G\, Denia\, Alicante\, 03700\, España
CATEGORIES:Karaoké,Música
ATTACH;FMTTYPE=image/jpeg:https://disfruta-denia.com/wp-content/uploads/2024/02/429768881_17912348297911738_3047273990901060399_n.jpg
END:VEVENT
END:VCALENDAR