BEGIN:VCALENDAR
VERSION:2.0
PRODID:-//Disfruta Denia - ECPv6.15.20//NONSGML v1.0//EN
CALSCALE:GREGORIAN
METHOD:PUBLISH
X-ORIGINAL-URL:https://disfruta-denia.com
X-WR-CALDESC:Eventos para Disfruta Denia
REFRESH-INTERVAL;VALUE=DURATION:PT1H
X-Robots-Tag:noindex
X-PUBLISHED-TTL:PT1H
BEGIN:VTIMEZONE
TZID:Europe/Madrid
BEGIN:DAYLIGHT
TZOFFSETFROM:+0100
TZOFFSETTO:+0200
TZNAME:CEST
DTSTART:20250330T010000
END:DAYLIGHT
BEGIN:STANDARD
TZOFFSETFROM:+0200
TZOFFSETTO:+0100
TZNAME:CET
DTSTART:20251026T010000
END:STANDARD
BEGIN:DAYLIGHT
TZOFFSETFROM:+0100
TZOFFSETTO:+0200
TZNAME:CEST
DTSTART:20260329T010000
END:DAYLIGHT
BEGIN:STANDARD
TZOFFSETFROM:+0200
TZOFFSETTO:+0100
TZNAME:CET
DTSTART:20261025T010000
END:STANDARD
BEGIN:DAYLIGHT
TZOFFSETFROM:+0100
TZOFFSETTO:+0200
TZNAME:CEST
DTSTART:20270328T010000
END:DAYLIGHT
BEGIN:STANDARD
TZOFFSETFROM:+0200
TZOFFSETTO:+0100
TZNAME:CET
DTSTART:20271031T010000
END:STANDARD
END:VTIMEZONE
BEGIN:VEVENT
DTSTART;TZID=Europe/Madrid:20260201T203000
DTEND;TZID=Europe/Madrid:20260201T203000
DTSTAMP:20260423T125116
CREATED:20260127T081618Z
LAST-MODIFIED:20260127T082024Z
UID:10026378-1769977800-1769977800@disfruta-denia.com
SUMMARY:Concierto: Inti Cardoso
DESCRIPTION:🎸🌍 INTI CARDOSO en Rebeldía Blues 🌍🎸\n\nEste domingo 1 de febrero te esperamos para disfrutar del directo de Inti Cardoso\, con un repertorio lleno de música cubana\, latina\, española e internacional 🎶✨\n\nUna propuesta perfecta para terminar el fin de semana con buena música\, ritmo y mucho buen rollo en directo 😍🔥\n\n🗓 Domingo 1 de febrero\n🕣 Desde las 20:30 h\n🎟 Entrada libre\n\n📍 Rebeldía Blues – Dénia\n\nPlanazo de domingo con música en vivo 💥\n\n#Denia #DeniaEvents #MusicaEnDenia #PlanEnDenia #DeniaNight #CostaBlanca
URL:https://disfruta-denia.com/evento/concierto-inti-cardoso/
LOCATION:Rebeldia Blues\, Carr. de Dénia A Xábia\, 3G\, Denia\, Alicante\, 03700\, España
CATEGORIES:Concierto,Música
ATTACH;FMTTYPE=image/jpeg:https://disfruta-denia.com/wp-content/uploads/2026/01/PHOTO-2026-01-26-20-16-02-2.jpg
END:VEVENT
BEGIN:VEVENT
DTSTART;TZID=Europe/Madrid:20260201T190000
DTEND;TZID=Europe/Madrid:20260201T190000
DTSTAMP:20260423T125116
CREATED:20260120T094457Z
LAST-MODIFIED:20260120T095212Z
UID:10026075-1769972400-1769972400@disfruta-denia.com
SUMMARY:Cineclub: La gran ambición
DESCRIPTION:LA GRAN AMBICIÓN. Dir.: Andrea Segre.  2024\, Itàlia / Italia\, 123 min. V.O. en italià / italiano. Subtitulada al castellà / castellano.  Recomanada / recomendada  +   7 anys / años. \nEntrada: 3 € en  www.notikumi.com. En taquilla: el mateix dia una hora abans/el mismo día una hora antes.
URL:https://disfruta-denia.com/evento/cineclub-la-gran-ambicion/
LOCATION:Teatro Auditorio Centro Social\, 4 Carrer Calderón\, Dénia\, VC\, 03700\, Spain
CATEGORIES:Ciné,Cultura
ATTACH;FMTTYPE=image/png:https://disfruta-denia.com/wp-content/uploads/2026/01/2-cine-dia-1.png
END:VEVENT
BEGIN:VEVENT
DTSTART;TZID=Europe/Madrid:20260201T180000
DTEND;TZID=Europe/Madrid:20260201T180000
DTSTAMP:20260423T125116
CREATED:20260122T080648Z
LAST-MODIFIED:20260122T080651Z
UID:10025092-1769968800-1769968800@disfruta-denia.com
SUMMARY:Domingos acústicos en La Chica de Ayer
DESCRIPTION:
URL:https://disfruta-denia.com/evento/domingos-acusticos-en-la-chica-de-ayer-5-2/2026-02-01/
LOCATION:La Chica de ayer\, Calle la mar 30\, Denia\, Alicante\, 03700\, España
CATEGORIES:Concierto,Música,Tardeo
ATTACH;FMTTYPE=image/jpeg:https://disfruta-denia.com/wp-content/uploads/2026/01/abe9e7e7-7500-4c51-ba82-d082d038f66e.jpg
END:VEVENT
BEGIN:VEVENT
DTSTART;TZID=Europe/Madrid:20260201T160000
DTEND;TZID=Europe/Madrid:20260201T160000
DTSTAMP:20260423T125116
CREATED:20260119T111214Z
LAST-MODIFIED:20260119T111215Z
UID:10022795-1769961600-1769961600@disfruta-denia.com
SUMMARY:Tardeos live Mr Fisher
DESCRIPTION:Cerramos los domingos de enero por todo lo alto!  Recibimos a Lol i Pop para disfrutar de esos temazos que todos conocemos. El plan perfecto para exprimir el fin de semana con amigos y buena música.  Domingo 25/01 A partir de las 16:00h
URL:https://disfruta-denia.com/evento/tardeos-live-mr-fisher-2-2-2-2-4/2026-02-01/
LOCATION:Mr Fisher\, Moll de La Pansa s/n. Marina El Portet\, Denia\, Alicante\, 03700\, España
CATEGORIES:Concierto,Música,Tardeo
ATTACH;FMTTYPE=image/jpeg:https://disfruta-denia.com/wp-content/uploads/2023/06/615943286_1303821891551522_5578235973991414730_n.jpg
END:VEVENT
BEGIN:VEVENT
DTSTART;TZID=Europe/Madrid:20260201T120000
DTEND;TZID=Europe/Madrid:20260201T120000
DTSTAMP:20260423T125116
CREATED:20260120T092834Z
LAST-MODIFIED:20260120T092834Z
UID:10026074-1769947200-1769947200@disfruta-denia.com
SUMMARY:Diverti-jocs en Torrecremada
DESCRIPTION:Cuidar de las zonas verdes\, de los animales que allí habitan\, los árboles\, etc.\, es el trabajo de Joanet superhéroe valenciano\, que está formando un equipo para que lo ayuden en esta tarea\, pero antes se tendrá que superar unas divertidas pruebas. \nRecomendado de 5 a 8 años. En valenciano
URL:https://disfruta-denia.com/evento/diverti-jocs-en-torrecremada/
LOCATION:Parque de Torrecremada\, Carrer Germans Maristes\, Denia\, Alicante\, 03700\, España
ATTACH;FMTTYPE=image/png:https://disfruta-denia.com/wp-content/uploads/2026/01/1-Diverti-jocs.png
END:VEVENT
BEGIN:VEVENT
DTSTART;TZID=Europe/Madrid:20260201T093000
DTEND;TZID=Europe/Madrid:20260201T140000
DTSTAMP:20260423T125116
CREATED:20260123T121555Z
LAST-MODIFIED:20260123T121555Z
UID:10023099-1769938200-1769954400@disfruta-denia.com
SUMMARY:Mercat del Autocine
DESCRIPTION:¡ La mejor música blues estará este domingo 25 en el Autocine Drive In de Dénia con la actuación en directo de BIG HOLLERS! Si eres amante de la buena música\, el buen ambiente y los planes diferentes\, no te puedes perder el Mercat de l’Autocine. Descubre un pequeño Mercado con artesanos y productores selectos\, una amplia oferta de artículos de rastro y un ambiente genial y apto para toda la familia. Zona infantil para que los más pequeños también se lo pasen en grande! Autocine Drive In Dénia – Final de la Carretera de Les Marines Abierto desde las 9:30 h Música en directo a partir de las 11:30 h Acceso libre y aparcamiento disponible ¡Ven a vivir un domingo diferente y disfruta de la vida! 
URL:https://disfruta-denia.com/evento/mercat-del-autocine-2-2-2-3/2026-02-01/
LOCATION:Autociné Denia\, Partida Deveses D\, 27\, Denia\, Alicante\, 03700\, España
CATEGORIES:Concierto,Gastronomía,Mercado,Música
ATTACH;FMTTYPE=image/jpeg:https://disfruta-denia.com/wp-content/uploads/2025/11/619185631_1400783535172886_178185546401561331_n.jpg
END:VEVENT
BEGIN:VEVENT
DTSTART;TZID=Europe/Madrid:20260201T090000
DTEND;TZID=Europe/Madrid:20260201T140000
DTSTAMP:20260423T125116
CREATED:20260124T092004Z
LAST-MODIFIED:20260124T092011Z
UID:10022534-1769936400-1769954400@disfruta-denia.com
SUMMARY:Mercat del Riurau Jesus Pobre
DESCRIPTION: ¡Momentos únicos en el Mercat del Riurau!  Ven a disfrutar de un buen desayuno al solecito\, música y la autenticidad de los productos locales. A partir de las 12:00 h nos acompañará “Ona Nua”\, para dar un toque alegre a la mañana.Jesús Pobre te recibe con ganas y buen ambiente… ¡nos vemos en el mercado! 
URL:https://disfruta-denia.com/evento/mercat-del-riurau-jesus-pobre-26-2-2-2-3-2/2026-02-01/
LOCATION:Mercado Riurau Jesus Pobre\, Jesus Pobre\, Alicante\, 03749\, España
CATEGORIES:Concierto,Gastronomía,Mercado
ATTACH;FMTTYPE=image/jpeg:https://disfruta-denia.com/wp-content/uploads/2026/01/621765009_18081335942242809_239610987833764730_n.jpg
END:VEVENT
BEGIN:VEVENT
DTSTART;TZID=Europe/Madrid:20260131T235900
DTEND;TZID=Europe/Madrid:20260131T235900
DTSTAMP:20260423T125116
CREATED:20260122T080719Z
LAST-MODIFIED:20260122T080721Z
UID:10025695-1769903940-1769903940@disfruta-denia.com
SUMMARY:Concierto lo mejor del Pop en LCDA
DESCRIPTION:El concierto comienza a las 00h30
URL:https://disfruta-denia.com/evento/concierto-covers-en-lcda-2-2-2/2026-01-31/
LOCATION:La Chica de ayer\, Calle la mar 30\, Denia\, Alicante\, 03700\, España
CATEGORIES:Concierto,Música,Ocio nocturno
ATTACH;FMTTYPE=image/jpeg:https://disfruta-denia.com/wp-content/uploads/2026/01/b3aa761b-485a-4144-8ecd-4ffc5c158feb.jpg
END:VEVENT
BEGIN:VEVENT
DTSTART;TZID=Europe/Madrid:20260131T213000
DTEND;TZID=Europe/Madrid:20260131T213000
DTSTAMP:20260423T125116
CREATED:20260127T081151Z
LAST-MODIFIED:20260127T081152Z
UID:10019994-1769895000-1769895000@disfruta-denia.com
SUMMARY:Sábado concierto en Rebeldía Blues
DESCRIPTION:💃🔥 VEREA FLAMENCA en Rebeldía Blues 🔥💃\n\nEste sábado 31 de enero te espera una noche llena de arte\, pasión y duende con Verea Flamenca y su espectacular espectáculo de flamenco\, sevillanas y bulerías 💃🎶\n\nUn directo lleno de fuerza\, ritmo y emoción para vivir el flamenco como se merece\, en uno de los escenarios con más ambiente de Dénia 😍🔥\n\n🗓 Sábado 31 de enero\n🕤 Desde las 21:30 h\n🎟 Entrada: 5€\n🎧 Después del concierto: DJ Ismael Monsonis\n\n📍 Rebeldía Blues – Dénia\n\nUna noche para sentir el flamenco en estado puro 💥\n\n#Denia #DeniaEvents #MusicaEnDenia #PlanEnDenia #DeniaNight #CostaBlanca
URL:https://disfruta-denia.com/evento/sabado-concierto-en-rebeldia-blues-3-2-10-3-3-2-8-3-2-2-2-2-2-2-2-2-2-2-2-2-2-2-2-2-2-2-3-2-3/
LOCATION:Rebeldia Blues\, Carr. de Dénia A Xábia\, 3G\, Denia\, Alicante\, 03700\, España
CATEGORIES:Jazz,Música
ATTACH;FMTTYPE=image/jpeg:https://disfruta-denia.com/wp-content/uploads/2026/01/PHOTO-2026-01-26-20-16-02.jpg
END:VEVENT
BEGIN:VEVENT
DTSTART;TZID=Europe/Madrid:20260131T200000
DTEND;TZID=Europe/Madrid:20260131T200000
DTSTAMP:20260423T125117
CREATED:20251215T104825Z
LAST-MODIFIED:20251215T104825Z
UID:10023508-1769889600-1769889600@disfruta-denia.com
SUMMARY:Teatro: WAR BABY
DESCRIPTION:Cía. YLLANA. \nDir.: YLLANA  \nIntèrprets / Intérpretes: Fidel Fernández\, Juanfran Dorado\, Luis Cao\, Jony Elías\, Raül Cano Cano  \nGestual. 80’. \nSinopsi: WAR BABY ens trasllada a un centre de reclutament militar\, en el qual un grup de despistats reclutes són entrenats per a una absurda guerra que ha originat el nou líder del país\, que resulta ser un bebé consentit i bel·licós. Un espectacle divertit\, ple d’humor\, gags visuals i bogeria còmica\, però que també sap caminar sobre la corda fluixa i utilitzar la comèdia com a arma llancívola davant el contrasentit de la guerra. \n  \nSinopsis: WAR BABY nos traslada a un centro de reclutamiento militar\, en el que un grupo de despistados reclutas son entrenados para una disparatada guerra que ha originado el nuevo líder del país\, que resulta ser un bebé  \nconsentido y belicoso. Un espectáculo divertido\, lleno de humor\, gags visuales y locura cómica\, pero que también sabe caminar sobre la cuerda floja y utilizar la comedia como arma arrojadiza ante el sinsentido de la guerra. \n  \nEntrada 12 € en  www.notikumi.com   Taquilla: el mateix dia una hora abans/ el mismo día una hora antes
URL:https://disfruta-denia.com/evento/teatro-war-baby/
LOCATION:Teatro Auditorio Centro Social\, 4 Carrer Calderón\, Dénia\, VC\, 03700\, Spain
CATEGORIES:Cultura,Teatro
ATTACH;FMTTYPE=image/png:https://disfruta-denia.com/wp-content/uploads/2025/12/16-War-baby.png
END:VEVENT
BEGIN:VEVENT
DTSTART;TZID=Europe/Madrid:20260131T193000
DTEND;TZID=Europe/Madrid:20260131T193000
DTSTAMP:20260423T125117
CREATED:20260122T080915Z
LAST-MODIFIED:20260122T080917Z
UID:10024570-1769887800-1769887800@disfruta-denia.com
SUMMARY:Concierto tardeo en La Chica de Ayer
DESCRIPTION:
URL:https://disfruta-denia.com/evento/concierto-tardeo-en-la-chica-de-ayer-4-3-2-2-2/2026-01-31/
LOCATION:La Chica de ayer\, Calle la mar 30\, Denia\, Alicante\, 03700\, España
CATEGORIES:Concierto,Música,Tardeo
ATTACH;FMTTYPE=image/jpeg:https://disfruta-denia.com/wp-content/uploads/2026/01/b3aa761b-485a-4144-8ecd-4ffc5c158feb.jpg
END:VEVENT
BEGIN:VEVENT
DTSTART;TZID=Europe/Madrid:20260131T100000
DTEND;TZID=Europe/Madrid:20260131T100000
DTSTAMP:20260423T125117
CREATED:20260127T104515Z
LAST-MODIFIED:20260127T104636Z
UID:10026382-1769853600-1769853600@disfruta-denia.com
SUMMARY:Juegos Deportivos Valencianos de las comarcas de Alicante
DESCRIPTION:Este sábado 31 de enero\, #Dénia acogerá por primera vez la celebración de los Juegos Deportivos Valencianos de las comarcas de Alicante para continuar promocionando el remo entre los clubs y centros educativos. Modalidad remergómetro Benjamín Relieve Mixto\, Alevín individual y relieves\, Infantil individual y relieves\, y Cadete individual y relieve Pabellón Polideportivo de #Dénia Sábado 31/01/26Organiza: Federació Rem de la Comunitat Valenciana i Club de Rem Marina Dénia
URL:https://disfruta-denia.com/evento/juegos-deportivos-valencianos-de-las-comarcas-de-alicante/
LOCATION:Pabellón Joan Fuster\, Partida Capsades\, 2B\, Denia\, Alicante\, 03700\, España
CATEGORIES:Deporte
ATTACH;FMTTYPE=image/jpeg:https://disfruta-denia.com/wp-content/uploads/2026/01/619996060_771027626039875_5576743921684602884_n.jpg
END:VEVENT
BEGIN:VEVENT
DTSTART;TZID=Europe/Madrid:20260130T235900
DTEND;TZID=Europe/Madrid:20260130T235900
DTSTAMP:20260423T125117
CREATED:20260114T084505Z
LAST-MODIFIED:20260114T084507Z
UID:10025358-1769817540-1769817540@disfruta-denia.com
SUMMARY:Concierto de noche en LCDA
DESCRIPTION:El concierto empieza las 00h30
URL:https://disfruta-denia.com/evento/concierto-pop-rock-indy-en-lcda-4-2/2026-01-30/
LOCATION:La Chica de ayer\, Calle la mar 30\, Denia\, Alicante\, 03700\, España
CATEGORIES:Concierto,Música,Ocio nocturno
ATTACH;FMTTYPE=image/jpeg:https://disfruta-denia.com/wp-content/uploads/2026/01/PHOTO-2026-01-13-20-10-38-2.jpg
END:VEVENT
BEGIN:VEVENT
DTSTART;TZID=Europe/Madrid:20260130T213000
DTEND;TZID=Europe/Madrid:20260130T213000
DTSTAMP:20260423T125117
CREATED:20260127T081133Z
LAST-MODIFIED:20260127T081136Z
UID:10019734-1769808600-1769808600@disfruta-denia.com
SUMMARY:Concierto de Viernes en Rebeldía Blues
DESCRIPTION:💃🎶 LOS ASTROLABIOS en Rebeldía Blues 🎶💃\n\nEste viernes 30 de enero llega a Rebeldía Blues una noche llena de ritmo\, alegría y buen rollo con Los Astrolabios y su espectacular directo de swing\, pop y música latina 🔥\n\nPrepárate para bailar\, cantar y disfrutar de una propuesta fresca y llena de energía en uno de los mejores ambientes musicales de Dénia 😎🎤\n\n🗓 Viernes 30 de enero\n🕤 Desde las 21:30 h\n🎟 Entrada libre\n\n🎧 Después del concierto: DJ Ismael Monsonis\n\n📍 Rebeldía Blues – Dénia\n\nUna noche perfecta para empezar el fin de semana con ritmo 💥\n\n#Denia #DeniaEvents #MusicaEnDenia #PlanEnDenia #DeniaNight #CostaBlanca
URL:https://disfruta-denia.com/evento/concierto-de-viernes-en-rebeldia-blues-3-3-10-3-3-3-2-9-2-2-3-2-2-2-2-2-2-2-2-2-2-3-2-2-2-2-2-2-2-2/
LOCATION:Rebeldia Blues\, Carr. de Dénia A Xábia\, 3G\, Denia\, Alicante\, 03700\, España
CATEGORIES:Jazz,Música
ATTACH;FMTTYPE=image/jpeg:https://disfruta-denia.com/wp-content/uploads/2026/01/PHOTO-2026-01-26-20-16-01.jpg
END:VEVENT
BEGIN:VEVENT
DTSTART;TZID=Europe/Madrid:20260130T200000
DTEND;TZID=Europe/Madrid:20260130T200000
DTSTAMP:20260423T125117
CREATED:20260120T120822Z
LAST-MODIFIED:20260122T080757Z
UID:10026087-1769803200-1769803200@disfruta-denia.com
SUMMARY:Concierto Afterwork en La Chica de Ayer
DESCRIPTION:
URL:https://disfruta-denia.com/evento/concierto-afterwork-en-la-chica-de-ayer-3-2-2-2/2026-01-30/
LOCATION:La Chica de ayer\, Calle la mar 30\, Denia\, Alicante\, 03700\, España
CATEGORIES:Concierto,Música
ATTACH;FMTTYPE=image/jpeg:https://disfruta-denia.com/wp-content/uploads/2026/01/cca4a8ee-d732-4c90-b562-e9a04f222581.jpg
END:VEVENT
BEGIN:VEVENT
DTSTART;TZID=Europe/Madrid:20260129T210000
DTEND;TZID=Europe/Madrid:20260129T210000
DTSTAMP:20260423T125117
CREATED:20251126T080051Z
LAST-MODIFIED:20251126T080052Z
UID:10016697-1769720400-1769720400@disfruta-denia.com
SUMMARY:Karaoké en Rebeldía Blues
DESCRIPTION:Karaoké en Rebeldía Blues
URL:https://disfruta-denia.com/evento/karaoke-en-rebeldia-blues-4-2-2-2-2-2-4-2-2/2026-01-29/
LOCATION:Rebeldia Blues\, Carr. de Dénia A Xábia\, 3G\, Denia\, Alicante\, 03700\, España
CATEGORIES:Karaoké,Música
ATTACH;FMTTYPE=image/jpeg:https://disfruta-denia.com/wp-content/uploads/2025/11/8d230c5f-3bf9-49cf-abc3-d73a7ed23d68.jpg
END:VEVENT
BEGIN:VEVENT
DTSTART;TZID=Europe/Madrid:20260129T193000
DTEND;TZID=Europe/Madrid:20260129T193000
DTSTAMP:20260423T125117
CREATED:20251215T104717Z
LAST-MODIFIED:20251215T104717Z
UID:10023507-1769715000-1769715000@disfruta-denia.com
SUMMARY:Concierto
DESCRIPTION:ÁLVARO LOZANO CAMES\, violoncel. \nMIGUEL ÀNGEL ORTEGA CHAVALDAS\, piano. \nPrograma per determinar \nPremi grau superior INTERCENTROS-MELOMANO 2024 \nEntrada 15 € en  www.notikumi.com   Taquilla: el mateix dia una hora abans/ el mismo día una hora antes. \nOrganitza/organiza: l’Esperança Coronada. Col·labora / colabora: Ajuntament de Dénia.  \n 
URL:https://disfruta-denia.com/evento/concierto-2/
LOCATION:Teatro Auditorio Centro Social\, 4 Carrer Calderón\, Dénia\, VC\, 03700\, Spain
CATEGORIES:Concierto,Música
END:VEVENT
BEGIN:VEVENT
DTSTART;TZID=Europe/Madrid:20260129T093000
DTEND;TZID=Europe/Madrid:20260129T093000
DTSTAMP:20260423T125117
CREATED:20251218T163752Z
LAST-MODIFIED:20260227T104533Z
UID:10022087-1769679000-1769679000@disfruta-denia.com
SUMMARY:Denia camina
DESCRIPTION:🚶‍♀️ ¡Dénia Camina vuelve a caminar!\n¿Y tú\, te animas?\nMartes y jueves a las 9:30 h desde el Centro de Salud Joan Fuster\, con nuevas salidas temáticas y culturales para disfrutar caminando. \nℹ️ + info en el 618 945 344 o en esports.denia.es \nTambién:\n➡️La Xara Camina (dos viernes al mes).\n➡️Jesús Pobre Camina (los otros dos viernes). \nActividad gratuita y abierta a todas y todos
URL:https://disfruta-denia.com/evento/denia-camina-2/2026-01-29/
LOCATION:Denia\, Denia\, Alicante\, 03700\, España
CATEGORIES:Deporte
ATTACH;FMTTYPE=image/png:https://disfruta-denia.com/wp-content/uploads/2025/09/Instagram-09-05-2025_11_31_AM.png
END:VEVENT
BEGIN:VEVENT
DTSTART;TZID=Europe/Madrid:20260128T203000
DTEND;TZID=Europe/Madrid:20260128T203000
DTSTAMP:20260423T125117
CREATED:20240414T124150Z
LAST-MODIFIED:20240414T124150Z
UID:10018005-1769632200-1769632200@disfruta-denia.com
SUMMARY:Miércoles latinos\, miércoles clandestinos
DESCRIPTION:Miércoles latinos\, miércoles clandestinos  Cada miércoles a las 20.30h tenemos una cita con Madelyn Torroella a ritmo cubano!! Voz\, percusión y versiones de salsa clásica\, cada miércoles\, en el Speak. Parrillada\, tacos\, tapas\, cocktails & música. Reserva tu mesa
URL:https://disfruta-denia.com/evento/miercoles-latinos-miercoles-clandestinos/2026-01-28/
LOCATION:The Speak Denia\, Carrer del Pont\, 19\, Denia\, Alicante\, 03700\, España
CATEGORIES:Concierto,Música
ATTACH;FMTTYPE=image/jpeg:https://disfruta-denia.com/wp-content/uploads/2024/04/434468313_1159701198651630_4992165217264460198_n.jpg
END:VEVENT
BEGIN:VEVENT
DTSTART;TZID=Europe/Madrid:20260128T200000
DTEND;TZID=Europe/Madrid:20260128T233000
DTSTAMP:20260423T125117
CREATED:20260127T102311Z
LAST-MODIFIED:20260127T102312Z
UID:10009075-1769630400-1769643000@disfruta-denia.com
SUMMARY:Autocine: día del espectador
DESCRIPTION:
URL:https://disfruta-denia.com/evento/autocine-dia-del-espectador-3-56/
LOCATION:Autociné Denia\, Partida Deveses D\, 27\, Denia\, Alicante\, 03700\, España
CATEGORIES:Ciné,Cultura
ATTACH;FMTTYPE=image/png:https://disfruta-denia.com/wp-content/uploads/2023/06/Instagram-01-27-2026_11_19_AM.png
END:VEVENT
BEGIN:VEVENT
DTSTART;TZID=Europe/Madrid:20260128T193000
DTEND;TZID=Europe/Madrid:20260128T193000
DTSTAMP:20260423T125117
CREATED:20250603T094354Z
LAST-MODIFIED:20250603T094354Z
UID:10021345-1769628600-1769628600@disfruta-denia.com
SUMMARY:Encuentros en Códigos
DESCRIPTION:​¡Bienvenidos a Encuentros en Códigos\, el Meetup internacional semanal en Códigos del Arte!\nNos reunimos todos los miércoles a partir de las 19:30 — toma algo\, relájate\, y disfruta de una buena conversación.\nTodos los miércoles – 19:30\nEntrada: Gratuita
URL:https://disfruta-denia.com/evento/encuentros-en-codigos/2026-01-28/
LOCATION:Códigos del Arte\, Carreró de Morant\, 8\, Dénia\, 03700\, España
CATEGORIES:Tardeo
ATTACH;FMTTYPE=image/png:https://disfruta-denia.com/wp-content/uploads/2025/06/Codigos-del-Arte-20.png
END:VEVENT
BEGIN:VEVENT
DTSTART;TZID=Europe/Madrid:20260128T190000
DTEND;TZID=Europe/Madrid:20260128T210000
DTSTAMP:20260423T125117
CREATED:20260128T085100Z
LAST-MODIFIED:20260128T085100Z
UID:10008392-1769626800-1769634000@disfruta-denia.com
SUMMARY:Tardeo en Basta
DESCRIPTION:
URL:https://disfruta-denia.com/evento/tardeo-en-basta-3-3-2/2026-01-28/
LOCATION:Basta Lounge Bar\, Marina de Dénia\, Local C2\, Denia\, Valencian Community\, 03700\, España
CATEGORIES:Concierto,Música,Tardeo
ATTACH;FMTTYPE=image/jpeg:https://disfruta-denia.com/wp-content/uploads/2023/11/622742350_1496613362465887_1711052853307817582_n.jpg
END:VEVENT
BEGIN:VEVENT
DTSTART;TZID=Europe/Madrid:20260128T190000
DTEND;TZID=Europe/Madrid:20260128T210000
DTSTAMP:20260423T125117
CREATED:20260106T091208Z
LAST-MODIFIED:20260106T091208Z
UID:10025970-1769626800-1769634000@disfruta-denia.com
SUMMARY:XXVI Escuela de Familias Educando para prevenir
DESCRIPTION:Esta XXVI edición pone el foco en las necesidades actuales de niños\, adolescentes y jóvenes\, ofreciendo herramientas prácticas y reflexiones útiles para el día a día familiar. Todo el ciclo está conducido por profesionales del ámbito de la psicología\, trabajo social y prevención\, con experiencia directa en centros educativos y recursos especializados del territorio. \nUn recorrido en cinco sesiones \nLa Escuela de Familias se desarrollará en cinco encuentros que tendrán lugar los miércoles 14\, 21 y 28 de enero y 4 y 11 de febrero de 2026\, de 19 a 21 horas\, en el IES Historiador Chabàs de Dénia. \nA lo largo de estas sesiones se trabajarán los siguientes contenidos: \n\nEl crecimiento y desarrollo de las hijas e hijos en las distintas etapas evolutivas.\nLa importancia de comunicarse mejor en familia y de construir relaciones de confianza.\nLos límites y estilos parentales que favorecen una sana convivencia.\nLa salud mental y las estrategias para promover el bienestar socioemocional.\nLos riesgos asociados a las adicciones desde una perspectiva preventiva y educativa.\nUna apuesta por la prevención desde casa\n\nDesde la UPCCA de Denia se recuerda que la familia es un pilar fundamental en la prevención. Contar con información\, soporte y espacios de formación reflexivos para reforzar vínculos\, anticipar riesgos\, y acompañar mejor los procesos de crecimiento. \nLa actividad es gratuita y está abierta a todas las familias interesadas\, tengan hijos pequeños\, adolescentes o jóvenes ya que el vínculo y el acompañamiento están ahí desde el momento del nacimiento. \nInscripciones abiertas \nPara participar es necesario facilitar nombre y apellidos\, teléfono y correo electrónico a través de: \n\nTeléfono o WhatsApp: 628 076 449\nCorreo electrónico: upccadenia@ayto-denia.es\nRedes sociales: @UPCCAdenia\nFormulario de inscripción mediante QR del cartel
URL:https://disfruta-denia.com/evento/xxvi-escuela-de-familias-educando-para-prevenir/2026-01-28/
LOCATION:IES Historiador Chabàs\, Carrer Metge Manuel Vallalta\, 3\, Denia\, 03700\, España
ATTACH;FMTTYPE=image/png:https://disfruta-denia.com/wp-content/uploads/2026/01/7564f1.png
END:VEVENT
BEGIN:VEVENT
DTSTART;TZID=Europe/Madrid:20260127T093000
DTEND;TZID=Europe/Madrid:20260127T093000
DTSTAMP:20260423T125117
CREATED:20251218T163752Z
LAST-MODIFIED:20260227T104533Z
UID:10022086-1769506200-1769506200@disfruta-denia.com
SUMMARY:Denia camina
DESCRIPTION:🚶‍♀️ ¡Dénia Camina vuelve a caminar!\n¿Y tú\, te animas?\nMartes y jueves a las 9:30 h desde el Centro de Salud Joan Fuster\, con nuevas salidas temáticas y culturales para disfrutar caminando. \nℹ️ + info en el 618 945 344 o en esports.denia.es \nTambién:\n➡️La Xara Camina (dos viernes al mes).\n➡️Jesús Pobre Camina (los otros dos viernes). \nActividad gratuita y abierta a todas y todos
URL:https://disfruta-denia.com/evento/denia-camina-2/2026-01-27/
LOCATION:Denia\, Denia\, Alicante\, 03700\, España
CATEGORIES:Deporte
ATTACH;FMTTYPE=image/png:https://disfruta-denia.com/wp-content/uploads/2025/09/Instagram-09-05-2025_11_31_AM.png
END:VEVENT
BEGIN:VEVENT
DTSTART;TZID=Europe/Madrid:20260126T203000
DTEND;TZID=Europe/Madrid:20260126T203000
DTSTAMP:20260423T125117
CREATED:20230912T174836Z
LAST-MODIFIED:20230912T174838Z
UID:10011534-1769459400-1769459400@disfruta-denia.com
SUMMARY:Tardeo con Marce Pesoa
DESCRIPTION:Esta noche. Tonight. \nLive music 20.30h. \nMarce Pesoa en The Speak Dénia. \nTacos\, Cocktails\, Parrilla \n& la mejor musica 🔥🤘 \nReservas: 675753879 \nLet’s #funmonday today!
URL:https://disfruta-denia.com/evento/tardeo-con-marce-pesoa-2/2026-01-26/
LOCATION:The Speak Denia\, Carrer del Pont\, 19\, Denia\, Alicante\, 03700\, España
CATEGORIES:Concierto,Música,Tardeo
ATTACH;FMTTYPE=image/jpeg:https://disfruta-denia.com/wp-content/uploads/2023/06/IMG-20230619-WA0000.jpg
END:VEVENT
BEGIN:VEVENT
DTSTART;TZID=Europe/Madrid:20260126T100000
DTEND;TZID=Europe/Madrid:20260126T110000
DTSTAMP:20260423T125117
CREATED:20250603T093855Z
LAST-MODIFIED:20250603T093912Z
UID:10021083-1769421600-1769425200@disfruta-denia.com
SUMMARY:Monday Stretch with Marianna
DESCRIPTION:Empieza la semana con una sesión de Pilates guiada por la instructora Marianna.\nDespués\, date un capricho con un café o una kombucha refrescante.\nTodos los lunes – 10:00
URL:https://disfruta-denia.com/evento/monday-stretch-with-marianna/2026-01-26/
LOCATION:Códigos del Arte\, Carreró de Morant\, 8\, Dénia\, 03700\, España
CATEGORIES:Deporte
ATTACH;FMTTYPE=image/png:https://disfruta-denia.com/wp-content/uploads/2025/06/Codigos-del-Arte-5.png
END:VEVENT
BEGIN:VEVENT
DTSTART;TZID=Europe/Madrid:20260125T203000
DTEND;TZID=Europe/Madrid:20260125T203000
DTSTAMP:20260423T125117
CREATED:20260120T084852Z
LAST-MODIFIED:20260120T084852Z
UID:10026072-1769373000-1769373000@disfruta-denia.com
SUMMARY:JAM SESSION en Rebeldía Blues
DESCRIPTION:🎶🔥 JAM SESSION en Rebeldía Blues 🔥🎶\n\nEste domingo 25 de enero te esperamos en la Jam de Rebeldía Blues.\n\nUna noche abierta a músicos y amantes de la música para compartir escenario\, talento y buen rollo 🎤🎸\n🥁\n\nPop\, rock\, soul\, funky\, blues y country en una jam donde todo puede pasar.\n\nTrae tu instrumento o tu voz y ven a disfrutar 🎶✨\n\n🗓 Domingo 25 de enero\n🕣 A las 20:30 h\n🎟 Entrada libre\n📍 Rebeldía Blues – Dénia\n\n¡Ven y deslúmbranos con tu talento! 😎🎵
URL:https://disfruta-denia.com/evento/jam-session-en-rebeldia-blues-2/
LOCATION:Rebeldia Blues\, Carr. de Dénia A Xábia\, 3G\, Denia\, Alicante\, 03700\, España
CATEGORIES:Concierto,Música
ATTACH;FMTTYPE=image/jpeg:https://disfruta-denia.com/wp-content/uploads/2026/01/PHOTO-2026-01-19-16-13-06.jpg
END:VEVENT
BEGIN:VEVENT
DTSTART;TZID=Europe/Madrid:20260125T190000
DTEND;TZID=Europe/Madrid:20260125T190000
DTSTAMP:20260423T125117
CREATED:20251215T104422Z
LAST-MODIFIED:20251215T104422Z
UID:10023506-1769367600-1769367600@disfruta-denia.com
SUMMARY:Cineclub: FLOW\, UN MUNDO QUE SALVAR
DESCRIPTION:Dir.: Gints Zilbalodis\, 2024\,   Letònia / Letonia\, 83 min.  \nAnimació\, música i imatges / Animación\, música e imágenes.  \nApta per a tots els públics / para todos los públicos. \nEntrada 3 € en  www.notikumi.com. En taquilla: el mateix dia una hora abans/ el mismo día una hora antes.
URL:https://disfruta-denia.com/evento/cineclub-flow-un-mundo-que-salvar/
LOCATION:Teatro Auditorio Centro Social\, 4 Carrer Calderón\, Dénia\, VC\, 03700\, Spain
CATEGORIES:Ciné,Cultura
ATTACH;FMTTYPE=image/png:https://disfruta-denia.com/wp-content/uploads/2025/12/CARTELL-CINECLUB-GENER.png
END:VEVENT
BEGIN:VEVENT
DTSTART;TZID=Europe/Madrid:20260125T180000
DTEND;TZID=Europe/Madrid:20260125T180000
DTSTAMP:20260423T125117
CREATED:20260122T080648Z
LAST-MODIFIED:20260122T080651Z
UID:10025091-1769364000-1769364000@disfruta-denia.com
SUMMARY:Domingos acústicos en La Chica de Ayer
DESCRIPTION:
URL:https://disfruta-denia.com/evento/domingos-acusticos-en-la-chica-de-ayer-5-2/2026-01-25/
LOCATION:La Chica de ayer\, Calle la mar 30\, Denia\, Alicante\, 03700\, España
CATEGORIES:Concierto,Música,Tardeo
ATTACH;FMTTYPE=image/jpeg:https://disfruta-denia.com/wp-content/uploads/2026/01/abe9e7e7-7500-4c51-ba82-d082d038f66e.jpg
END:VEVENT
BEGIN:VEVENT
DTSTART;TZID=Europe/Madrid:20260125T160000
DTEND;TZID=Europe/Madrid:20260125T160000
DTSTAMP:20260423T125117
CREATED:20260119T111214Z
LAST-MODIFIED:20260119T111215Z
UID:10022794-1769356800-1769356800@disfruta-denia.com
SUMMARY:Tardeos live Mr Fisher
DESCRIPTION:Cerramos los domingos de enero por todo lo alto!  Recibimos a Lol i Pop para disfrutar de esos temazos que todos conocemos. El plan perfecto para exprimir el fin de semana con amigos y buena música.  Domingo 25/01 A partir de las 16:00h
URL:https://disfruta-denia.com/evento/tardeos-live-mr-fisher-2-2-2-2-4/2026-01-25/
LOCATION:Mr Fisher\, Moll de La Pansa s/n. Marina El Portet\, Denia\, Alicante\, 03700\, España
CATEGORIES:Concierto,Música,Tardeo
ATTACH;FMTTYPE=image/jpeg:https://disfruta-denia.com/wp-content/uploads/2023/06/615943286_1303821891551522_5578235973991414730_n.jpg
END:VEVENT
END:VCALENDAR