BEGIN:VCALENDAR
VERSION:2.0
PRODID:-//Disfruta Denia - ECPv6.15.20//NONSGML v1.0//EN
CALSCALE:GREGORIAN
METHOD:PUBLISH
X-WR-CALNAME:Disfruta Denia
X-ORIGINAL-URL:https://disfruta-denia.com
X-WR-CALDESC:Eventos para Disfruta Denia
REFRESH-INTERVAL;VALUE=DURATION:PT1H
X-Robots-Tag:noindex
X-PUBLISHED-TTL:PT1H
BEGIN:VTIMEZONE
TZID:Europe/Madrid
BEGIN:DAYLIGHT
TZOFFSETFROM:+0100
TZOFFSETTO:+0200
TZNAME:CEST
DTSTART:20250330T010000
END:DAYLIGHT
BEGIN:STANDARD
TZOFFSETFROM:+0200
TZOFFSETTO:+0100
TZNAME:CET
DTSTART:20251026T010000
END:STANDARD
BEGIN:DAYLIGHT
TZOFFSETFROM:+0100
TZOFFSETTO:+0200
TZNAME:CEST
DTSTART:20260329T010000
END:DAYLIGHT
BEGIN:STANDARD
TZOFFSETFROM:+0200
TZOFFSETTO:+0100
TZNAME:CET
DTSTART:20261025T010000
END:STANDARD
BEGIN:DAYLIGHT
TZOFFSETFROM:+0100
TZOFFSETTO:+0200
TZNAME:CEST
DTSTART:20270328T010000
END:DAYLIGHT
BEGIN:STANDARD
TZOFFSETFROM:+0200
TZOFFSETTO:+0100
TZNAME:CET
DTSTART:20271031T010000
END:STANDARD
END:VTIMEZONE
BEGIN:VEVENT
DTSTART;TZID=Europe/Madrid:20260124T213000
DTEND;TZID=Europe/Madrid:20260124T213000
DTSTAMP:20260423T175635
CREATED:20251230T084218Z
LAST-MODIFIED:20260120T084515Z
UID:10019993-1769290200-1769290200@disfruta-denia.com
SUMMARY:Sábado concierto en Rebeldía Blues
DESCRIPTION:🔥🎸 BOOM BOOM en directo 🎸🔥\n\nEste sábado 24 de enero\, prepárate para una noche de rock potente en Rebeldía Blues con BOOM BOOM\, un trío explosivo que no deja indiferente a nadie 🤘🔥\n\nEnergía\, actitud y puro rock para disfrutar a lo grande.\n\n🗓 Sábado 24 de enero\n🕤 Desde las 21:30 h\n🎟 Entrada: 5 €\n\n🎧 Después del concierto: DJ Ismael Monsonis\nSeguimos la fiesta con la mejor música para cerrar la noche como se merece 💃🕺\n\n📍 Rebeldía Blues – Dénia\nRock\, copas y el mejor ambiente rebelde.\n\n¡No faltes! 😎🎶
URL:https://disfruta-denia.com/evento/sabado-concierto-en-rebeldia-blues-3-2-10-3-3-2-8-3-2-2-2-2-2-2-2-2-2-2-2-2-2-2-2-2-2-2-3-2/2026-01-24/
LOCATION:Rebeldia Blues\, Carr. de Dénia A Xábia\, 3G\, Denia\, Alicante\, 03700\, España
CATEGORIES:Jazz,Música
ATTACH;FMTTYPE=image/jpeg:https://disfruta-denia.com/wp-content/uploads/2026/01/PHOTO-2026-01-19-16-13-06-2.jpg
END:VEVENT
BEGIN:VEVENT
DTSTART;TZID=Europe/Madrid:20260124T193000
DTEND;TZID=Europe/Madrid:20260124T193000
DTSTAMP:20260423T175635
CREATED:20260122T080915Z
LAST-MODIFIED:20260122T080917Z
UID:10024569-1769283000-1769283000@disfruta-denia.com
SUMMARY:Concierto tardeo en La Chica de Ayer
DESCRIPTION:
URL:https://disfruta-denia.com/evento/concierto-tardeo-en-la-chica-de-ayer-4-3-2-2-2/2026-01-24/
LOCATION:La Chica de ayer\, Calle la mar 30\, Denia\, Alicante\, 03700\, España
CATEGORIES:Concierto,Música,Tardeo
ATTACH;FMTTYPE=image/jpeg:https://disfruta-denia.com/wp-content/uploads/2026/01/b3aa761b-485a-4144-8ecd-4ffc5c158feb.jpg
END:VEVENT
BEGIN:VEVENT
DTSTART;TZID=Europe/Madrid:20260124T183000
DTEND;TZID=Europe/Madrid:20260124T183000
DTSTAMP:20260423T175635
CREATED:20260123T081356Z
LAST-MODIFIED:20260123T081357Z
UID:10026359-1769279400-1769279400@disfruta-denia.com
SUMMARY:Dorian vuelve al lío
DESCRIPTION:📣 VOLVEMOS AL LÍO! \n🔹 VIERNES • 00’00h • NOCHE\n•Sala Dorian TARON 🎧 en cabina #urbanmusic \n🔸 SÁBADO • 18’30h • TARDEO\n•Sala Dorian JUAN GIMENO & IVAN REIG 🎧 #onlyhits \n🔹 SÁBADO • 00’00h • NOCHE\n•Sala Dorian MENPHIS 🎸 en directo #poprocknacional\n•Sala Gray BORJA CONESA 🎧 #superhits \nNI BLUE MONDAY\, NI BLACK FRIDAY\, NI JABULLIN…. \nFINDE DE DORIAN! y punch!
URL:https://disfruta-denia.com/evento/dorian-vuelve-al-lio-3/
LOCATION:Dorian Gray Denia\, Carrer de la Mar\, 14\, Denia\, Alicante\, 03700\, España
CATEGORIES:Tardeo
ATTACH;FMTTYPE=image/png:https://disfruta-denia.com/wp-content/uploads/2026/01/Instagram-01-23-2026_08_50_AM.png
END:VEVENT
BEGIN:VEVENT
DTSTART;TZID=Europe/Madrid:20260124T170000
DTEND;TZID=Europe/Madrid:20260124T170000
DTSTAMP:20260423T175635
CREATED:20251215T104326Z
LAST-MODIFIED:20251215T104326Z
UID:10023505-1769274000-1769274000@disfruta-denia.com
SUMMARY:Concierto extraordinario de Año Nuevo
DESCRIPTION:Residance Orchester de Cassel  \nAmb enginy i encant.  Grans èxits dels anys 1920 \nMit Witz\, Charme und Zylinder \nEntrada: 35 € en Proakustik: Avinguda Joan Fuster 28 C\, Dénia. De dilluns a divendres / de lunes a viernes de 9.30 a 14.h.  \nInformació/ información y reserva en el Konzertfreunde\, Tel. nou/nuevo:  639 655 897   info@konzertfreunde.com  // www.konzertfreunde.com \nOrganitza/organiza: Konzertfreunde Costa Blanca.
URL:https://disfruta-denia.com/evento/concierto-extraordinario-de-ano-nuevo-3/
LOCATION:Teatro Auditorio Centro Social\, 4 Carrer Calderón\, Dénia\, VC\, 03700\, Spain
CATEGORIES:Concierto,Música
ATTACH;FMTTYPE=image/png:https://disfruta-denia.com/wp-content/uploads/2025/12/11-Concierto-extraordinario-ano-nuevo.png
END:VEVENT
BEGIN:VEVENT
DTSTART;TZID=Europe/Madrid:20260124T114500
DTEND;TZID=Europe/Madrid:20260124T114500
DTSTAMP:20260423T175635
CREATED:20251215T103938Z
LAST-MODIFIED:20251215T103938Z
UID:10023504-1769255100-1769255100@disfruta-denia.com
SUMMARY:Presentación de libro Incierto Perfume
DESCRIPTION:INCIERTO PERFUME\, poemari  de / poemario de  JUAN LUIS BEDINS  \nEntrada: lliure fins a completar aforament / libre hasta completar aforo. \nOrganitza/organiza: Poetes per la Cultura. Col·labora / colabora: Ajuntament de Dénia. Cultura
URL:https://disfruta-denia.com/evento/presentacion-de-libro-incierto-perfume/
LOCATION:Casa de la Cultura Denia\, Plaça Jaume I\, Denia\, Alicante\, 03700\, España
CATEGORIES:Cultura,Presentación
ATTACH;FMTTYPE=image/png:https://disfruta-denia.com/wp-content/uploads/2025/12/10-Presentacio-llibre-dia-24.png
END:VEVENT
BEGIN:VEVENT
DTSTART;TZID=Europe/Madrid:20260124T110000
DTEND;TZID=Europe/Madrid:20260124T110000
DTSTAMP:20260423T175635
CREATED:20250924T103623Z
LAST-MODIFIED:20250924T103623Z
UID:10022437-1769252400-1769252400@disfruta-denia.com
SUMMARY:Deporte en los Barrios
DESCRIPTION:La Concejalía de Deportes del Ayuntamiento de Dénia retoma en octubre el programa “Deporte en los Barrios”\, una iniciativa que lleva actividades físicas gratuitas a los espacios públicos de la ciudad con el objetivo de fomentar el deporte como un hábito saludable y cercano. \nEl concejal de Deportes\, Valen Alcalà\, ha destacado que “este programa es una manera de hacer llegar la actividad física a todos y todas\, sin barreras y muy cerca de casa. Deporte en los Barrios nos recuerda que cualquier plaza o parque puede ser un espacio donde cuidarse y compartir buenos momentos con los vecinos”. \nSiguiendo la buena acogida que cada verano recibe “Deporte en la Playa”\, el consistorio apuesta por esta versión que recorre diferentes barrios de la ciudad durante el año. Las sesiones\, abiertas a todas las edades y sin necesidad de inscripción\, combinan ejercicio físico con música y gimnasia de mantenimiento. Tendrán lugar dos sábados al mes\, a las 11 de la mañana\, con una duración aproximada de una hora. \nEl calendario comenzará el sábado 4 de octubre de 2025 en la plaza del Consell\, y continuará el 18 de octubre en la plaza Maria Hervás. En noviembre\, las sesiones se realizarán el día 8 en la plaza Jaume I y el día 22 en la plaza Oeste. El mes de diciembre llevará la actividad a la calle La Vía\, coincidiendo con el Mercado de Navidad\, el día 13\, y a la plaza Mariana Pineda el día 27. \nYa en 2026\, el programa visitará la plaza del Convento el 10 de enero y el parque de la Marineta Cassiana el 24 de enero. En febrero\, las citas serán el día 7 en la Glorieta del País Valencià y el día 21 en el parque Chabàs. En marzo\, las sesiones tendrán lugar el día 7 en la plaza del Ayuntamiento y el día 28 en el Skate Park del parque Corona Boreal. En abril\, la actividad llegará a la plaza Maria Hervás el día 11 y a la plaza Oeste el 25. Finalmente\, en el mes de mayo tendrán lugar las últimas sesiones del curso: el día 9 en la plaza Jaume I y el día 23 en la plaza del Consell. \nSe recomienda acudir con ropa cómoda\, calzado deportivo y agua. La actividad es totalmente gratuita y abierta a la participación de todos y todas. Para más información se puede contactar con la oficina de Deportes del Ayuntamiento de Dénia en el 96 578 69 68 o consultar la web esports.denia.es.
URL:https://disfruta-denia.com/evento/deporte-en-los-barrios/2026-01-24/
LOCATION:Denia\, Denia\, Alicante\, 03700\, España
CATEGORIES:Deporte
ATTACH;FMTTYPE=image/png:https://disfruta-denia.com/wp-content/uploads/2025/09/7465f1.png
END:VEVENT
BEGIN:VEVENT
DTSTART;TZID=Europe/Madrid:20260124T100000
DTEND;TZID=Europe/Madrid:20260124T100000
DTSTAMP:20260423T175635
CREATED:20260109T102248Z
LAST-MODIFIED:20260109T102905Z
UID:10026034-1769248800-1769248800@disfruta-denia.com
SUMMARY:Taller de aceites esenciales\, Pilates\, brunch
DESCRIPTION:
URL:https://disfruta-denia.com/evento/taller-de-aceites-esenciales-pilates-brunch/
LOCATION:Allgood House\, Dirección: la Muralla per les Tropes de Felip V\, Carrer de la Bretxa Oberta a la Muralla per les Tropes de Felip V\, 2\, Oberta a\, Denia\, 03700\, España
CATEGORIES:Brunch,Deporte,Gastronomía
ATTACH;FMTTYPE=image/png:https://disfruta-denia.com/wp-content/uploads/2026/01/Post-de-Instagram-Negocio-Sobre-Mi-Minimalista-Neutro-9.png
END:VEVENT
BEGIN:VEVENT
DTSTART;TZID=Europe/Madrid:20260123T235900
DTEND;TZID=Europe/Madrid:20260123T235900
DTSTAMP:20260423T175635
CREATED:20260123T083800Z
LAST-MODIFIED:20260123T084217Z
UID:10026363-1769212740-1769212740@disfruta-denia.com
SUMMARY:Concierto: Histeriia
DESCRIPTION:
URL:https://disfruta-denia.com/evento/concierto-histeriia-5/
LOCATION:Paddy O’Connell Denia\, Calle de la Mar\, 20\, Denia\, Alicante\, 03700\, España
ATTACH;FMTTYPE=image/png:https://disfruta-denia.com/wp-content/uploads/2026/01/Instagram-01-23-2026_09_10_AM.png
END:VEVENT
BEGIN:VEVENT
DTSTART;TZID=Europe/Madrid:20260123T235900
DTEND;TZID=Europe/Madrid:20260123T235900
DTSTAMP:20260423T175635
CREATED:20260123T081350Z
LAST-MODIFIED:20260123T081350Z
UID:10026358-1769212740-1769212740@disfruta-denia.com
SUMMARY:Dorian vuelve al lío
DESCRIPTION:📣 VOLVEMOS AL LÍO! \n🔹 VIERNES • 00’00h • NOCHE\n•Sala Dorian TARON 🎧 en cabina #urbanmusic \n🔸 SÁBADO • 18’30h • TARDEO\n•Sala Dorian JUAN GIMENO & IVAN REIG 🎧 #onlyhits \n🔹 SÁBADO • 00’00h • NOCHE\n•Sala Dorian MENPHIS 🎸 en directo #poprocknacional\n•Sala Gray BORJA CONESA 🎧 #superhits \nNI BLUE MONDAY\, NI BLACK FRIDAY\, NI JABULLIN…. \nFINDE DE DORIAN! y punch!
URL:https://disfruta-denia.com/evento/dorian-vuelve-al-lio-2/
LOCATION:Dorian Gray Denia\, Carrer de la Mar\, 14\, Denia\, Alicante\, 03700\, España
CATEGORIES:Ocio nocturno
ATTACH;FMTTYPE=image/png:https://disfruta-denia.com/wp-content/uploads/2026/01/Instagram-01-23-2026_08_50_AM.png
END:VEVENT
BEGIN:VEVENT
DTSTART;TZID=Europe/Madrid:20260123T235900
DTEND;TZID=Europe/Madrid:20260123T235900
DTSTAMP:20260423T175635
CREATED:20260122T080844Z
LAST-MODIFIED:20260122T080844Z
UID:10025357-1769212740-1769212740@disfruta-denia.com
SUMMARY:Concierto tributo 80/90 Best Of
DESCRIPTION:El concierto empieza las 00h30
URL:https://disfruta-denia.com/evento/concierto-pop-rock-indy-en-lcda-4-2-2/
LOCATION:La Chica de ayer\, Calle la mar 30\, Denia\, Alicante\, 03700\, España
CATEGORIES:Concierto,Música,Ocio nocturno
ATTACH;FMTTYPE=image/jpeg:https://disfruta-denia.com/wp-content/uploads/2026/01/cca4a8ee-d732-4c90-b562-e9a04f222581.jpg
END:VEVENT
BEGIN:VEVENT
DTSTART;TZID=Europe/Madrid:20260123T213000
DTEND;TZID=Europe/Madrid:20260123T213000
DTSTAMP:20260423T175635
CREATED:20260120T084432Z
LAST-MODIFIED:20260120T084434Z
UID:10019733-1769203800-1769203800@disfruta-denia.com
SUMMARY:Concierto de Viernes en Rebeldía Blues
DESCRIPTION:🎸🔥 SANTANETA ROCK en directo 🔥🎸\n\nEste viernes 23 de enero\, vuelve el mejor blues rock a Rebeldía Blues con Santaneta Rock 🎶\n\nUna noche cargada de ritmo\, guitarras y mucho feeling en uno de los conciertos más esperados del mes 😎🔥\n\n🗓 Viernes 23 de enero\n🕤 Desde las 21:30 h\n🎟 Entrada FREE\n\n🎧 Después del concierto: DJ Ismael Monsonis\nSeguimos la fiesta con la mejor música para alargar la noche 💃🕺\n\n📍 Rebeldía Blues – Dénia\n\nBuen ambiente\, copas\, música en vivo y energía rebelde.\n\n¡No te lo pierdas! 🤘🎶\n\n#Denia #DeniaEvents #DeniaNight #PlanEnDenia #MusicaEnDenia CostaBlanca
URL:https://disfruta-denia.com/evento/concierto-de-viernes-en-rebeldia-blues-3-3-10-3-3-3-2-9-2-2-3-2-2-2-2-2-2-2-2-2-2-3-2-2-2-2-2-2-2/
LOCATION:Rebeldia Blues\, Carr. de Dénia A Xábia\, 3G\, Denia\, Alicante\, 03700\, España
CATEGORIES:Jazz,Música
ATTACH;FMTTYPE=image/jpeg:https://disfruta-denia.com/wp-content/uploads/2026/01/PHOTO-2026-01-20-08-52-14.jpg
END:VEVENT
BEGIN:VEVENT
DTSTART;TZID=Europe/Madrid:20260123T200000
DTEND;TZID=Europe/Madrid:20260123T200000
DTSTAMP:20260423T175635
CREATED:20260120T120822Z
LAST-MODIFIED:20260122T080757Z
UID:10023786-1769198400-1769198400@disfruta-denia.com
SUMMARY:Concierto Afterwork en La Chica de Ayer
DESCRIPTION:
URL:https://disfruta-denia.com/evento/concierto-afterwork-en-la-chica-de-ayer-3-2-2-2/2026-01-23/
LOCATION:La Chica de ayer\, Calle la mar 30\, Denia\, Alicante\, 03700\, España
CATEGORIES:Concierto,Música
ATTACH;FMTTYPE=image/jpeg:https://disfruta-denia.com/wp-content/uploads/2026/01/cca4a8ee-d732-4c90-b562-e9a04f222581.jpg
END:VEVENT
BEGIN:VEVENT
DTSTART;TZID=Europe/Madrid:20260122T210000
DTEND;TZID=Europe/Madrid:20260122T210000
DTSTAMP:20260423T175635
CREATED:20251126T080051Z
LAST-MODIFIED:20251126T080052Z
UID:10016696-1769115600-1769115600@disfruta-denia.com
SUMMARY:Karaoké en Rebeldía Blues
DESCRIPTION:Karaoké en Rebeldía Blues
URL:https://disfruta-denia.com/evento/karaoke-en-rebeldia-blues-4-2-2-2-2-2-4-2-2/2026-01-22/
LOCATION:Rebeldia Blues\, Carr. de Dénia A Xábia\, 3G\, Denia\, Alicante\, 03700\, España
CATEGORIES:Karaoké,Música
ATTACH;FMTTYPE=image/jpeg:https://disfruta-denia.com/wp-content/uploads/2025/11/8d230c5f-3bf9-49cf-abc3-d73a7ed23d68.jpg
END:VEVENT
BEGIN:VEVENT
DTSTART;TZID=Europe/Madrid:20260122T190000
DTEND;TZID=Europe/Madrid:20260122T190000
DTSTAMP:20260423T175635
CREATED:20260109T101726Z
LAST-MODIFIED:20260109T101726Z
UID:10026033-1769108400-1769108400@disfruta-denia.com
SUMMARY:Evento de networking AllGood House
DESCRIPTION:
URL:https://disfruta-denia.com/evento/evento-de-networking-allgood-house/
LOCATION:Allgood House\, Dirección: la Muralla per les Tropes de Felip V\, Carrer de la Bretxa Oberta a la Muralla per les Tropes de Felip V\, 2\, Oberta a\, Denia\, 03700\, España
ATTACH;FMTTYPE=image/png:https://disfruta-denia.com/wp-content/uploads/2026/01/Post-de-Instagram-Negocio-Sobre-Mi-Minimalista-Neutro-8.png
END:VEVENT
BEGIN:VEVENT
DTSTART;TZID=Europe/Madrid:20260122T093000
DTEND;TZID=Europe/Madrid:20260122T093000
DTSTAMP:20260423T175635
CREATED:20251218T163752Z
LAST-MODIFIED:20260227T104533Z
UID:10022085-1769074200-1769074200@disfruta-denia.com
SUMMARY:Denia camina
DESCRIPTION:🚶‍♀️ ¡Dénia Camina vuelve a caminar!\n¿Y tú\, te animas?\nMartes y jueves a las 9:30 h desde el Centro de Salud Joan Fuster\, con nuevas salidas temáticas y culturales para disfrutar caminando. \nℹ️ + info en el 618 945 344 o en esports.denia.es \nTambién:\n➡️La Xara Camina (dos viernes al mes).\n➡️Jesús Pobre Camina (los otros dos viernes). \nActividad gratuita y abierta a todas y todos
URL:https://disfruta-denia.com/evento/denia-camina-2/2026-01-22/
LOCATION:Denia\, Denia\, Alicante\, 03700\, España
CATEGORIES:Deporte
ATTACH;FMTTYPE=image/png:https://disfruta-denia.com/wp-content/uploads/2025/09/Instagram-09-05-2025_11_31_AM.png
END:VEVENT
BEGIN:VEVENT
DTSTART;TZID=Europe/Madrid:20260121T203000
DTEND;TZID=Europe/Madrid:20260121T203000
DTSTAMP:20260423T175635
CREATED:20240414T124150Z
LAST-MODIFIED:20240414T124150Z
UID:10018004-1769027400-1769027400@disfruta-denia.com
SUMMARY:Miércoles latinos\, miércoles clandestinos
DESCRIPTION:Miércoles latinos\, miércoles clandestinos  Cada miércoles a las 20.30h tenemos una cita con Madelyn Torroella a ritmo cubano!! Voz\, percusión y versiones de salsa clásica\, cada miércoles\, en el Speak. Parrillada\, tacos\, tapas\, cocktails & música. Reserva tu mesa
URL:https://disfruta-denia.com/evento/miercoles-latinos-miercoles-clandestinos/2026-01-21/
LOCATION:The Speak Denia\, Carrer del Pont\, 19\, Denia\, Alicante\, 03700\, España
CATEGORIES:Concierto,Música
ATTACH;FMTTYPE=image/jpeg:https://disfruta-denia.com/wp-content/uploads/2024/04/434468313_1159701198651630_4992165217264460198_n.jpg
END:VEVENT
BEGIN:VEVENT
DTSTART;TZID=Europe/Madrid:20260121T200000
DTEND;TZID=Europe/Madrid:20260121T233000
DTSTAMP:20260423T175635
CREATED:20260119T111053Z
LAST-MODIFIED:20260119T111054Z
UID:10009074-1769025600-1769038200@disfruta-denia.com
SUMMARY:Autocine: día del espectador
DESCRIPTION:
URL:https://disfruta-denia.com/evento/autocine-dia-del-espectador-3-55/
LOCATION:Autociné Denia\, Partida Deveses D\, 27\, Denia\, Alicante\, 03700\, España
CATEGORIES:Ciné,Cultura
ATTACH;FMTTYPE=image/png:https://disfruta-denia.com/wp-content/uploads/2023/06/Instagram-01-19-2026_11_56_AM.png
END:VEVENT
BEGIN:VEVENT
DTSTART;TZID=Europe/Madrid:20260121T193000
DTEND;TZID=Europe/Madrid:20260121T193000
DTSTAMP:20260423T175635
CREATED:20250603T094354Z
LAST-MODIFIED:20250603T094354Z
UID:10021344-1769023800-1769023800@disfruta-denia.com
SUMMARY:Encuentros en Códigos
DESCRIPTION:​¡Bienvenidos a Encuentros en Códigos\, el Meetup internacional semanal en Códigos del Arte!\nNos reunimos todos los miércoles a partir de las 19:30 — toma algo\, relájate\, y disfruta de una buena conversación.\nTodos los miércoles – 19:30\nEntrada: Gratuita
URL:https://disfruta-denia.com/evento/encuentros-en-codigos/2026-01-21/
LOCATION:Códigos del Arte\, Carreró de Morant\, 8\, Dénia\, 03700\, España
CATEGORIES:Tardeo
ATTACH;FMTTYPE=image/png:https://disfruta-denia.com/wp-content/uploads/2025/06/Codigos-del-Arte-20.png
END:VEVENT
BEGIN:VEVENT
DTSTART;TZID=Europe/Madrid:20260121T190000
DTEND;TZID=Europe/Madrid:20260121T210000
DTSTAMP:20260423T175635
CREATED:20260106T091208Z
LAST-MODIFIED:20260106T091208Z
UID:10025969-1769022000-1769029200@disfruta-denia.com
SUMMARY:XXVI Escuela de Familias Educando para prevenir
DESCRIPTION:Esta XXVI edición pone el foco en las necesidades actuales de niños\, adolescentes y jóvenes\, ofreciendo herramientas prácticas y reflexiones útiles para el día a día familiar. Todo el ciclo está conducido por profesionales del ámbito de la psicología\, trabajo social y prevención\, con experiencia directa en centros educativos y recursos especializados del territorio. \nUn recorrido en cinco sesiones \nLa Escuela de Familias se desarrollará en cinco encuentros que tendrán lugar los miércoles 14\, 21 y 28 de enero y 4 y 11 de febrero de 2026\, de 19 a 21 horas\, en el IES Historiador Chabàs de Dénia. \nA lo largo de estas sesiones se trabajarán los siguientes contenidos: \n\nEl crecimiento y desarrollo de las hijas e hijos en las distintas etapas evolutivas.\nLa importancia de comunicarse mejor en familia y de construir relaciones de confianza.\nLos límites y estilos parentales que favorecen una sana convivencia.\nLa salud mental y las estrategias para promover el bienestar socioemocional.\nLos riesgos asociados a las adicciones desde una perspectiva preventiva y educativa.\nUna apuesta por la prevención desde casa\n\nDesde la UPCCA de Denia se recuerda que la familia es un pilar fundamental en la prevención. Contar con información\, soporte y espacios de formación reflexivos para reforzar vínculos\, anticipar riesgos\, y acompañar mejor los procesos de crecimiento. \nLa actividad es gratuita y está abierta a todas las familias interesadas\, tengan hijos pequeños\, adolescentes o jóvenes ya que el vínculo y el acompañamiento están ahí desde el momento del nacimiento. \nInscripciones abiertas \nPara participar es necesario facilitar nombre y apellidos\, teléfono y correo electrónico a través de: \n\nTeléfono o WhatsApp: 628 076 449\nCorreo electrónico: upccadenia@ayto-denia.es\nRedes sociales: @UPCCAdenia\nFormulario de inscripción mediante QR del cartel
URL:https://disfruta-denia.com/evento/xxvi-escuela-de-familias-educando-para-prevenir/2026-01-21/
LOCATION:IES Historiador Chabàs\, Carrer Metge Manuel Vallalta\, 3\, Denia\, 03700\, España
ATTACH;FMTTYPE=image/png:https://disfruta-denia.com/wp-content/uploads/2026/01/7564f1.png
END:VEVENT
BEGIN:VEVENT
DTSTART;TZID=Europe/Madrid:20260121T190000
DTEND;TZID=Europe/Madrid:20260121T210000
DTSTAMP:20260423T175635
CREATED:20231115T115842Z
LAST-MODIFIED:20231115T115843Z
UID:10008391-1769022000-1769029200@disfruta-denia.com
SUMMARY:Tardeo en Basta
DESCRIPTION:
URL:https://disfruta-denia.com/evento/tardeo-en-basta-3-3/2026-01-21/
LOCATION:Basta Lounge Bar\, Marina de Dénia\, Local C2\, Denia\, Valencian Community\, 03700\, España
CATEGORIES:Concierto,Música,Tardeo
ATTACH;FMTTYPE=image/jpeg:https://disfruta-denia.com/wp-content/uploads/2022/12/IMG_3678.jpeg
END:VEVENT
BEGIN:VEVENT
DTSTART;TZID=Europe/Madrid:20260120T093000
DTEND;TZID=Europe/Madrid:20260120T093000
DTSTAMP:20260423T175635
CREATED:20251218T163752Z
LAST-MODIFIED:20260227T104533Z
UID:10022084-1768901400-1768901400@disfruta-denia.com
SUMMARY:Denia camina
DESCRIPTION:🚶‍♀️ ¡Dénia Camina vuelve a caminar!\n¿Y tú\, te animas?\nMartes y jueves a las 9:30 h desde el Centro de Salud Joan Fuster\, con nuevas salidas temáticas y culturales para disfrutar caminando. \nℹ️ + info en el 618 945 344 o en esports.denia.es \nTambién:\n➡️La Xara Camina (dos viernes al mes).\n➡️Jesús Pobre Camina (los otros dos viernes). \nActividad gratuita y abierta a todas y todos
URL:https://disfruta-denia.com/evento/denia-camina-2/2026-01-20/
LOCATION:Denia\, Denia\, Alicante\, 03700\, España
CATEGORIES:Deporte
ATTACH;FMTTYPE=image/png:https://disfruta-denia.com/wp-content/uploads/2025/09/Instagram-09-05-2025_11_31_AM.png
END:VEVENT
BEGIN:VEVENT
DTSTART;TZID=Europe/Madrid:20260120T080000
DTEND;TZID=Europe/Madrid:20260120T170000
DTSTAMP:20260423T175635
CREATED:20260120T113806Z
LAST-MODIFIED:20260120T113806Z
UID:10026082-1768896000-1768928400@disfruta-denia.com
SUMMARY:Teatro en familia: Fabulant
DESCRIPTION:
URL:https://disfruta-denia.com/evento/teatro-en-familia-fabulant/
LOCATION:Alicante
CATEGORIES:Cultura,Teatro
ATTACH;FMTTYPE=image/png:https://disfruta-denia.com/wp-content/uploads/2026/01/13-TEATRE-EN-FAMILIA-fabulant.png
END:VEVENT
BEGIN:VEVENT
DTSTART;TZID=Europe/Madrid:20260119T203000
DTEND;TZID=Europe/Madrid:20260119T203000
DTSTAMP:20260423T175635
CREATED:20230912T174836Z
LAST-MODIFIED:20230912T174838Z
UID:10011533-1768854600-1768854600@disfruta-denia.com
SUMMARY:Tardeo con Marce Pesoa
DESCRIPTION:Esta noche. Tonight. \nLive music 20.30h. \nMarce Pesoa en The Speak Dénia. \nTacos\, Cocktails\, Parrilla \n& la mejor musica 🔥🤘 \nReservas: 675753879 \nLet’s #funmonday today!
URL:https://disfruta-denia.com/evento/tardeo-con-marce-pesoa-2/2026-01-19/
LOCATION:The Speak Denia\, Carrer del Pont\, 19\, Denia\, Alicante\, 03700\, España
CATEGORIES:Concierto,Música,Tardeo
ATTACH;FMTTYPE=image/jpeg:https://disfruta-denia.com/wp-content/uploads/2023/06/IMG-20230619-WA0000.jpg
END:VEVENT
BEGIN:VEVENT
DTSTART;TZID=Europe/Madrid:20260119T100000
DTEND;TZID=Europe/Madrid:20260119T110000
DTSTAMP:20260423T175635
CREATED:20250603T093855Z
LAST-MODIFIED:20250603T093912Z
UID:10021082-1768816800-1768820400@disfruta-denia.com
SUMMARY:Monday Stretch with Marianna
DESCRIPTION:Empieza la semana con una sesión de Pilates guiada por la instructora Marianna.\nDespués\, date un capricho con un café o una kombucha refrescante.\nTodos los lunes – 10:00
URL:https://disfruta-denia.com/evento/monday-stretch-with-marianna/2026-01-19/
LOCATION:Códigos del Arte\, Carreró de Morant\, 8\, Dénia\, 03700\, España
CATEGORIES:Deporte
ATTACH;FMTTYPE=image/png:https://disfruta-denia.com/wp-content/uploads/2025/06/Codigos-del-Arte-5.png
END:VEVENT
BEGIN:VEVENT
DTSTART;TZID=Europe/Madrid:20260118T190000
DTEND;TZID=Europe/Madrid:20260118T190000
DTSTAMP:20260423T175635
CREATED:20251215T103805Z
LAST-MODIFIED:20251215T103805Z
UID:10023503-1768762800-1768762800@disfruta-denia.com
SUMMARY:Cineclub: UNA QUINTA PORTUGUESA
DESCRIPTION:Dir. Avelina Prat.  2025\, Espanya\, 114 min. V.O. en castellà i portuguès  /castellano y portugués. Subtitulada al castellà. Apta per a tots els públics / Apta para todos los públicos. \nEntrada 3 € en   www.notikumi.com.Taquilla: el mateix dia una hora abans/ el mismo día una hora antes.
URL:https://disfruta-denia.com/evento/cineclub-una-quinta-portuguesa/
LOCATION:Teatro Auditorio Centro Social\, 4 Carrer Calderón\, Dénia\, VC\, 03700\, Spain
CATEGORIES:Ciné,Cultura
ATTACH;FMTTYPE=image/png:https://disfruta-denia.com/wp-content/uploads/2025/12/CARTELL-CINECLUB-GENER.png
END:VEVENT
BEGIN:VEVENT
DTSTART;TZID=Europe/Madrid:20260118T180000
DTEND;TZID=Europe/Madrid:20260118T180000
DTSTAMP:20260423T175635
CREATED:20260114T084607Z
LAST-MODIFIED:20260114T084610Z
UID:10025090-1768759200-1768759200@disfruta-denia.com
SUMMARY:Domingos acústicos en La Chica de Ayer
DESCRIPTION:
URL:https://disfruta-denia.com/evento/domingos-acusticos-en-la-chica-de-ayer-5/
LOCATION:La Chica de ayer\, Calle la mar 30\, Denia\, Alicante\, 03700\, España
CATEGORIES:Concierto,Música,Tardeo
ATTACH;FMTTYPE=image/jpeg:https://disfruta-denia.com/wp-content/uploads/2026/01/PHOTO-2026-01-13-20-10-39.jpg
END:VEVENT
BEGIN:VEVENT
DTSTART;TZID=Europe/Madrid:20260118T160000
DTEND;TZID=Europe/Madrid:20260118T160000
DTSTAMP:20260423T175635
CREATED:20251224T100414Z
LAST-MODIFIED:20251224T100415Z
UID:10022793-1768752000-1768752000@disfruta-denia.com
SUMMARY:Tardeos live Mr Fisher
DESCRIPTION:¿Plan de domingo? ¡Música y Juntos y Revueltos en directo! ⁣⁣Buenas vistas y temazos para cerrar el fin de semana y el año como se merece. ⁣⁣ Mr. Fisher (Marina El Portet\, Dénia).⁣
URL:https://disfruta-denia.com/evento/tardeos-live-mr-fisher-2-2-2-2/2026-01-18/
LOCATION:Mr Fisher\, Moll de La Pansa s/n. Marina El Portet\, Denia\, Alicante\, 03700\, España
CATEGORIES:Concierto,Música,Tardeo
ATTACH;FMTTYPE=image/jpeg:https://disfruta-denia.com/wp-content/uploads/2025/12/603828426_1285446610055717_1459905923228261401_n.jpg
END:VEVENT
BEGIN:VEVENT
DTSTART;TZID=Europe/Madrid:20260118T103000
DTEND;TZID=Europe/Madrid:20260118T103000
DTSTAMP:20260423T175635
CREATED:20251215T103703Z
LAST-MODIFIED:20251215T103703Z
UID:10023502-1768732200-1768732200@disfruta-denia.com
SUMMARY:Visita en familia: RUTA URBANA A TRAVÉS DELS EDIFICIS MÉS EMBLEMÀTICS DE LA CIUTAT
DESCRIPTION:Visita guiada. Punt d’Encontre: 10.30 h. Plaça de la Constitució.  \nInformació i reserves: Museu Etnològic de Dénia\, 966420260. De dimarts a diumenge\, de 10 h a 13 h. \nVisita amb guia expert. Dificultat baixa. \nInformación y reservas: Museo Etnológico de Dénia\, 966420260. De martes a domingo\, de 10 h a 13 h.  \nVisita con guía experto. Dificultad baja.
URL:https://disfruta-denia.com/evento/visita-en-familia-ruta-urbana-a-traves-dels-edificis-mes-emblematics-de-la-ciutat/
LOCATION:Denia\, Denia\, Alicante\, 03700\, España
CATEGORIES:Excursión
ATTACH;FMTTYPE=image/png:https://disfruta-denia.com/wp-content/uploads/2025/12/9-visita-en-familia-dia-18.png
END:VEVENT
BEGIN:VEVENT
DTSTART;TZID=Europe/Madrid:20260118T093000
DTEND;TZID=Europe/Madrid:20260118T140000
DTSTAMP:20260423T175635
CREATED:20251121T150724Z
LAST-MODIFIED:20251121T150725Z
UID:10023097-1768728600-1768744800@disfruta-denia.com
SUMMARY:Mercat del Autocine
DESCRIPTION:¡ La mejor música blues estará este domingo 23 en el Autocine Drive In de Dénia con la actuación en directo de BIG HOLLERS! Si eres amante de la buena música\, el buen ambiente y los planes diferentes\, no te puedes perder el Mercat de l’Autocine. Descubre un pequeño Mercado con artesanos y productores selectos y un ambiente genial y apto para toda la familia. Zona infantil para que los más pequeños también se lo pasen en grande! Autocine Drive In Dénia – Final de la Carretera de Les Marines Abierto desde las 9:30 h Música en directo a partir de las 11:30 h Acceso libre y aparcamiento disponible ¡Ven a vivir un domingo diferente y disfruta de la vida! 
URL:https://disfruta-denia.com/evento/mercat-del-autocine-2-2-2/2026-01-18/
LOCATION:Autociné Denia\, Partida Deveses D\, 27\, Denia\, Alicante\, 03700\, España
CATEGORIES:Concierto,Gastronomía,Mercado,Música
ATTACH;FMTTYPE=image/jpeg:https://disfruta-denia.com/wp-content/uploads/2025/11/586706623_1353701539881086_447670830255832971_n.jpg
END:VEVENT
BEGIN:VEVENT
DTSTART;TZID=Europe/Madrid:20260118T090000
DTEND;TZID=Europe/Madrid:20260118T140000
DTSTAMP:20260423T175635
CREATED:20260116T093321Z
LAST-MODIFIED:20260116T093321Z
UID:10022532-1768726800-1768744800@disfruta-denia.com
SUMMARY:Mercat del Riurau Jesus Pobre
DESCRIPTION:¡Momentos únicos en el Mercat del Riurau! \n\n\n Ven a disfrutar de un buen almuerzo al solecito\, música y la autenticidad de los productos locales.\n\n\n A partir de las 12:00 h nos acompañará “Esencia Flamenca”\, con un ritmo ideal para poner el broche final y alegre a la mañana.\n\n\nJesús Pobre te recibe con ganas y buen ambiente… ¡nos vemos en el mercado!
URL:https://disfruta-denia.com/evento/mercat-del-riurau-jesus-pobre-26-2-2-2-3/
LOCATION:Mercado Riurau Jesus Pobre\, Jesus Pobre\, Alicante\, 03749\, España
CATEGORIES:Concierto,Gastronomía,Mercado
ATTACH;FMTTYPE=image/jpeg:https://disfruta-denia.com/wp-content/uploads/2025/12/615929256_18080517524242809_6936067021921453178_n.jpg
END:VEVENT
END:VCALENDAR