BEGIN:VCALENDAR
VERSION:2.0
PRODID:-//Disfruta Denia - ECPv6.15.20//NONSGML v1.0//EN
CALSCALE:GREGORIAN
METHOD:PUBLISH
X-ORIGINAL-URL:https://disfruta-denia.com
X-WR-CALDESC:Eventos para Disfruta Denia
REFRESH-INTERVAL;VALUE=DURATION:PT1H
X-Robots-Tag:noindex
X-PUBLISHED-TTL:PT1H
BEGIN:VTIMEZONE
TZID:Europe/Madrid
BEGIN:DAYLIGHT
TZOFFSETFROM:+0100
TZOFFSETTO:+0200
TZNAME:CEST
DTSTART:20250330T010000
END:DAYLIGHT
BEGIN:STANDARD
TZOFFSETFROM:+0200
TZOFFSETTO:+0100
TZNAME:CET
DTSTART:20251026T010000
END:STANDARD
BEGIN:DAYLIGHT
TZOFFSETFROM:+0100
TZOFFSETTO:+0200
TZNAME:CEST
DTSTART:20260329T010000
END:DAYLIGHT
BEGIN:STANDARD
TZOFFSETFROM:+0200
TZOFFSETTO:+0100
TZNAME:CET
DTSTART:20261025T010000
END:STANDARD
BEGIN:DAYLIGHT
TZOFFSETFROM:+0100
TZOFFSETTO:+0200
TZNAME:CEST
DTSTART:20270328T010000
END:DAYLIGHT
BEGIN:STANDARD
TZOFFSETFROM:+0200
TZOFFSETTO:+0100
TZNAME:CET
DTSTART:20271031T010000
END:STANDARD
END:VTIMEZONE
BEGIN:VEVENT
DTSTART;TZID=Europe/Madrid:20260114T203000
DTEND;TZID=Europe/Madrid:20260114T203000
DTSTAMP:20260424T011909
CREATED:20240414T124150Z
LAST-MODIFIED:20240414T124150Z
UID:10018003-1768422600-1768422600@disfruta-denia.com
SUMMARY:Miércoles latinos\, miércoles clandestinos
DESCRIPTION:Miércoles latinos\, miércoles clandestinos  Cada miércoles a las 20.30h tenemos una cita con Madelyn Torroella a ritmo cubano!! Voz\, percusión y versiones de salsa clásica\, cada miércoles\, en el Speak. Parrillada\, tacos\, tapas\, cocktails & música. Reserva tu mesa
URL:https://disfruta-denia.com/evento/miercoles-latinos-miercoles-clandestinos/2026-01-14/
LOCATION:The Speak Denia\, Carrer del Pont\, 19\, Denia\, Alicante\, 03700\, España
CATEGORIES:Concierto,Música
ATTACH;FMTTYPE=image/jpeg:https://disfruta-denia.com/wp-content/uploads/2024/04/434468313_1159701198651630_4992165217264460198_n.jpg
END:VEVENT
BEGIN:VEVENT
DTSTART;TZID=Europe/Madrid:20260114T200000
DTEND;TZID=Europe/Madrid:20260114T233000
DTSTAMP:20260424T011909
CREATED:20230612T102803Z
LAST-MODIFIED:20230612T102804Z
UID:10009073-1768420800-1768433400@disfruta-denia.com
SUMMARY:Autocine: día del espectador
DESCRIPTION:
URL:https://disfruta-denia.com/evento/autocine-dia-del-espectador-3/2026-01-14/
LOCATION:Autociné Denia\, Partida Deveses D\, 27\, Denia\, Alicante\, 03700\, España
CATEGORIES:Ciné,Cultura
ATTACH;FMTTYPE=image/jpeg:https://disfruta-denia.com/wp-content/uploads/2022/11/Autocine-Drive-In-Denia-1.jpg
END:VEVENT
BEGIN:VEVENT
DTSTART;TZID=Europe/Madrid:20260114T193000
DTEND;TZID=Europe/Madrid:20260114T193000
DTSTAMP:20260424T011909
CREATED:20250603T094354Z
LAST-MODIFIED:20250603T094354Z
UID:10021343-1768419000-1768419000@disfruta-denia.com
SUMMARY:Encuentros en Códigos
DESCRIPTION:​¡Bienvenidos a Encuentros en Códigos\, el Meetup internacional semanal en Códigos del Arte!\nNos reunimos todos los miércoles a partir de las 19:30 — toma algo\, relájate\, y disfruta de una buena conversación.\nTodos los miércoles – 19:30\nEntrada: Gratuita
URL:https://disfruta-denia.com/evento/encuentros-en-codigos/2026-01-14/
LOCATION:Códigos del Arte\, Carreró de Morant\, 8\, Dénia\, 03700\, España
CATEGORIES:Tardeo
ATTACH;FMTTYPE=image/png:https://disfruta-denia.com/wp-content/uploads/2025/06/Codigos-del-Arte-20.png
END:VEVENT
BEGIN:VEVENT
DTSTART;TZID=Europe/Madrid:20260114T190000
DTEND;TZID=Europe/Madrid:20260114T210000
DTSTAMP:20260424T011909
CREATED:20260106T091208Z
LAST-MODIFIED:20260106T091208Z
UID:10025968-1768417200-1768424400@disfruta-denia.com
SUMMARY:XXVI Escuela de Familias Educando para prevenir
DESCRIPTION:Esta XXVI edición pone el foco en las necesidades actuales de niños\, adolescentes y jóvenes\, ofreciendo herramientas prácticas y reflexiones útiles para el día a día familiar. Todo el ciclo está conducido por profesionales del ámbito de la psicología\, trabajo social y prevención\, con experiencia directa en centros educativos y recursos especializados del territorio. \nUn recorrido en cinco sesiones \nLa Escuela de Familias se desarrollará en cinco encuentros que tendrán lugar los miércoles 14\, 21 y 28 de enero y 4 y 11 de febrero de 2026\, de 19 a 21 horas\, en el IES Historiador Chabàs de Dénia. \nA lo largo de estas sesiones se trabajarán los siguientes contenidos: \n\nEl crecimiento y desarrollo de las hijas e hijos en las distintas etapas evolutivas.\nLa importancia de comunicarse mejor en familia y de construir relaciones de confianza.\nLos límites y estilos parentales que favorecen una sana convivencia.\nLa salud mental y las estrategias para promover el bienestar socioemocional.\nLos riesgos asociados a las adicciones desde una perspectiva preventiva y educativa.\nUna apuesta por la prevención desde casa\n\nDesde la UPCCA de Denia se recuerda que la familia es un pilar fundamental en la prevención. Contar con información\, soporte y espacios de formación reflexivos para reforzar vínculos\, anticipar riesgos\, y acompañar mejor los procesos de crecimiento. \nLa actividad es gratuita y está abierta a todas las familias interesadas\, tengan hijos pequeños\, adolescentes o jóvenes ya que el vínculo y el acompañamiento están ahí desde el momento del nacimiento. \nInscripciones abiertas \nPara participar es necesario facilitar nombre y apellidos\, teléfono y correo electrónico a través de: \n\nTeléfono o WhatsApp: 628 076 449\nCorreo electrónico: upccadenia@ayto-denia.es\nRedes sociales: @UPCCAdenia\nFormulario de inscripción mediante QR del cartel
URL:https://disfruta-denia.com/evento/xxvi-escuela-de-familias-educando-para-prevenir/2026-01-14/
LOCATION:IES Historiador Chabàs\, Carrer Metge Manuel Vallalta\, 3\, Denia\, 03700\, España
ATTACH;FMTTYPE=image/png:https://disfruta-denia.com/wp-content/uploads/2026/01/7564f1.png
END:VEVENT
BEGIN:VEVENT
DTSTART;TZID=Europe/Madrid:20260114T190000
DTEND;TZID=Europe/Madrid:20260114T210000
DTSTAMP:20260424T011909
CREATED:20231115T115842Z
LAST-MODIFIED:20231115T115843Z
UID:10008390-1768417200-1768424400@disfruta-denia.com
SUMMARY:Tardeo en Basta
DESCRIPTION:
URL:https://disfruta-denia.com/evento/tardeo-en-basta-3-3/2026-01-14/
LOCATION:Basta Lounge Bar\, Marina de Dénia\, Local C2\, Denia\, Valencian Community\, 03700\, España
CATEGORIES:Concierto,Música,Tardeo
ATTACH;FMTTYPE=image/jpeg:https://disfruta-denia.com/wp-content/uploads/2022/12/IMG_3678.jpeg
END:VEVENT
BEGIN:VEVENT
DTSTART;TZID=Europe/Madrid:20260113T093000
DTEND;TZID=Europe/Madrid:20260113T093000
DTSTAMP:20260424T011909
CREATED:20251218T163752Z
LAST-MODIFIED:20260227T104533Z
UID:10022082-1768296600-1768296600@disfruta-denia.com
SUMMARY:Denia camina
DESCRIPTION:🚶‍♀️ ¡Dénia Camina vuelve a caminar!\n¿Y tú\, te animas?\nMartes y jueves a las 9:30 h desde el Centro de Salud Joan Fuster\, con nuevas salidas temáticas y culturales para disfrutar caminando. \nℹ️ + info en el 618 945 344 o en esports.denia.es \nTambién:\n➡️La Xara Camina (dos viernes al mes).\n➡️Jesús Pobre Camina (los otros dos viernes). \nActividad gratuita y abierta a todas y todos
URL:https://disfruta-denia.com/evento/denia-camina-2/2026-01-13/
LOCATION:Denia\, Denia\, Alicante\, 03700\, España
CATEGORIES:Deporte
ATTACH;FMTTYPE=image/png:https://disfruta-denia.com/wp-content/uploads/2025/09/Instagram-09-05-2025_11_31_AM.png
END:VEVENT
BEGIN:VEVENT
DTSTART;TZID=Europe/Madrid:20260112T203000
DTEND;TZID=Europe/Madrid:20260112T203000
DTSTAMP:20260424T011909
CREATED:20230912T174836Z
LAST-MODIFIED:20230912T174838Z
UID:10011532-1768249800-1768249800@disfruta-denia.com
SUMMARY:Tardeo con Marce Pesoa
DESCRIPTION:Esta noche. Tonight. \nLive music 20.30h. \nMarce Pesoa en The Speak Dénia. \nTacos\, Cocktails\, Parrilla \n& la mejor musica 🔥🤘 \nReservas: 675753879 \nLet’s #funmonday today!
URL:https://disfruta-denia.com/evento/tardeo-con-marce-pesoa-2/2026-01-12/
LOCATION:The Speak Denia\, Carrer del Pont\, 19\, Denia\, Alicante\, 03700\, España
CATEGORIES:Concierto,Música,Tardeo
ATTACH;FMTTYPE=image/jpeg:https://disfruta-denia.com/wp-content/uploads/2023/06/IMG-20230619-WA0000.jpg
END:VEVENT
BEGIN:VEVENT
DTSTART;TZID=Europe/Madrid:20260112T200000
DTEND;TZID=Europe/Madrid:20260112T200000
DTSTAMP:20260424T011909
CREATED:20251215T103534Z
LAST-MODIFIED:20260102T090115Z
UID:10023501-1768248000-1768248000@disfruta-denia.com
SUMMARY:DILLUNS AMB JAZZ
DESCRIPTION:3X1 SAXOPONE QUARTET – JAZZEJANT   \nDAVID CASTELLÓ\, saxo soprano. ELADIO SELLÉS\, saxo alt.  MOISÉS OLCINA\, saxo tenor.  RAÜL RICHART\, saxo baríton. \nFormació de cambra formada per quatre saxofonistes professionals amb una àmplia formació i experiència en la interpretació clàssica i jazz d’aquest polifacètic instrument. \nUn projecte cambrístic que compta amb el suport i la col·laboració de la Fundació Sanganxa. \n  \nFormación cámara formada por cuatro saxofonistas profesionales con una amplia formación y experiencia en la interpretación clásica y jazz de este polifacético instrumento. \nUn proyecto camerístico que cuenta con el apoyo y la colaboración de la Fundación “Sanganxa”. \n  \nEntrada 15 €  anticipada online en    www.notikumi.com   i en la Llibreria Públics.  \nEn taquilla el mateix dia una hora abans / el mismo día en taquilla una hora antes. \nOrganitza/Organiza: Snibor producciones
URL:https://disfruta-denia.com/evento/dilluns-amb-jazz-6/
LOCATION:Casa de la Cultura Denia\, Plaça Jaume I\, Denia\, Alicante\, 03700\, España
CATEGORIES:Concierto,Jazz,Música
ATTACH;FMTTYPE=image/png:https://disfruta-denia.com/wp-content/uploads/2025/12/unnamed-2.png
END:VEVENT
BEGIN:VEVENT
DTSTART;TZID=Europe/Madrid:20260112T100000
DTEND;TZID=Europe/Madrid:20260112T110000
DTSTAMP:20260424T011909
CREATED:20250603T093855Z
LAST-MODIFIED:20250603T093912Z
UID:10021081-1768212000-1768215600@disfruta-denia.com
SUMMARY:Monday Stretch with Marianna
DESCRIPTION:Empieza la semana con una sesión de Pilates guiada por la instructora Marianna.\nDespués\, date un capricho con un café o una kombucha refrescante.\nTodos los lunes – 10:00
URL:https://disfruta-denia.com/evento/monday-stretch-with-marianna/2026-01-12/
LOCATION:Códigos del Arte\, Carreró de Morant\, 8\, Dénia\, 03700\, España
CATEGORIES:Deporte
ATTACH;FMTTYPE=image/png:https://disfruta-denia.com/wp-content/uploads/2025/06/Codigos-del-Arte-5.png
END:VEVENT
BEGIN:VEVENT
DTSTART;TZID=Europe/Madrid:20260111T203000
DTEND;TZID=Europe/Madrid:20260111T203000
DTSTAMP:20260424T011909
CREATED:20260102T133737Z
LAST-MODIFIED:20260102T133737Z
UID:10025966-1768163400-1768163400@disfruta-denia.com
SUMMARY:Concierto en Café Marin
DESCRIPTION:
URL:https://disfruta-denia.com/evento/concierto-en-cafe-marin/2026-01-11/
LOCATION:Café Marin\, Centro Comercial El Poblet\, Carr. de les Marines a Dénia\, 71\, Denia\, 03700\, España
CATEGORIES:Concierto,Música
ATTACH;FMTTYPE=image/jpeg:https://disfruta-denia.com/wp-content/uploads/2026/01/23099959-C64B-4C71-A4DE-DD842B3706D1-scaled.jpg
END:VEVENT
BEGIN:VEVENT
DTSTART;TZID=Europe/Madrid:20260111T190000
DTEND;TZID=Europe/Madrid:20260111T190000
DTSTAMP:20260424T011909
CREATED:20251215T103014Z
LAST-MODIFIED:20260102T090125Z
UID:10023500-1768158000-1768158000@disfruta-denia.com
SUMMARY:Cineclub: SIRAT. TRANCE EN EL DESIERTO
DESCRIPTION:Dir.: Oliver Laxe.  2025\, Espanya / España\, 114 min. V.O. en castellà\, francès\, anglès i àrab / castellano\, francés\, inglés y árabe. Subtitulada al castellà / castellano.  \nRecomanada / Recomendada  + 16 anys/años. \nEntrada 3 €  en   www.notikumi.com. Taquilla: el mateix dia una hora abans / el mismo día una hora antes.
URL:https://disfruta-denia.com/evento/cineclub-sirat-trance-en-el-desierto/
LOCATION:Teatro Auditorio Centro Social\, 4 Carrer Calderón\, Dénia\, VC\, 03700\, Spain
CATEGORIES:Ciné,Cultura
ATTACH;FMTTYPE=image/png:https://disfruta-denia.com/wp-content/uploads/2025/12/unnamed-1.png
END:VEVENT
BEGIN:VEVENT
DTSTART;TZID=Europe/Madrid:20260111T180000
DTEND;TZID=Europe/Madrid:20260111T180000
DTSTAMP:20260424T011909
CREATED:20260109T095431Z
LAST-MODIFIED:20260109T095431Z
UID:10025089-1768154400-1768154400@disfruta-denia.com
SUMMARY:Domingos acústicos en La Chica de Ayer
DESCRIPTION:
URL:https://disfruta-denia.com/evento/domingos-acusticos-en-la-chica-de-ayer-4/
LOCATION:La Chica de ayer\, Calle la mar 30\, Denia\, Alicante\, 03700\, España
CATEGORIES:Concierto,Música,Tardeo
ATTACH;FMTTYPE=image/jpeg:https://disfruta-denia.com/wp-content/uploads/2025/12/IMG_2052.jpg
END:VEVENT
BEGIN:VEVENT
DTSTART;TZID=Europe/Madrid:20260111T160000
DTEND;TZID=Europe/Madrid:20260111T160000
DTSTAMP:20260424T011909
CREATED:20260109T110504Z
LAST-MODIFIED:20260109T110504Z
UID:10022792-1768147200-1768147200@disfruta-denia.com
SUMMARY:Tardeos live Mr Fisher
DESCRIPTION:¿Plan de domingo? ¡Música y Juntos y Revueltos en directo! ⁣⁣Buenas vistas y temazos para cerrar el fin de semana y el año como se merece. ⁣⁣ Mr. Fisher (Marina El Portet\, Dénia).⁣
URL:https://disfruta-denia.com/evento/tardeos-live-mr-fisher-2-2-2-2-3/
LOCATION:Mr Fisher\, Moll de La Pansa s/n. Marina El Portet\, Denia\, Alicante\, 03700\, España
CATEGORIES:Concierto,Música,Tardeo
ATTACH;FMTTYPE=image/jpeg:https://disfruta-denia.com/wp-content/uploads/2025/12/IMG_2053.jpg
END:VEVENT
BEGIN:VEVENT
DTSTART;TZID=Europe/Madrid:20260111T110000
DTEND;TZID=Europe/Madrid:20260111T110000
DTSTAMP:20260424T011909
CREATED:20260106T175225Z
LAST-MODIFIED:20260106T175311Z
UID:10026029-1768129200-1768129200@disfruta-denia.com
SUMMARY:XII Carrera Tortell de Reis 2026 en Dénia
DESCRIPTION:Nueva fecha: El domingo viviremos una iniciativa más para empezar el año con deporte y buen ambiente: la Cursa del Tortell de Reis 2026. \n\n\n Guardad la fecha: domingo 11 de enero\n Marina Dénia – salida frente a Capitanía Marítima\n 11:00 h (dorsales a las 10:00 h)\n A beneficio de #Cerebrum\n\n\n Inscripciones abiertas en https://www.conxip.com/eventos/detalle/3248
URL:https://disfruta-denia.com/evento/xii-carrera-tortell-de-reis-2026-en-denia/
LOCATION:Marina de Denia\, Puerto de Dénia\, Edificio Capitanía\, Dársena de Babor\, Denia\, Alicante\, 03700\, España
CATEGORIES:Deporte
ATTACH;FMTTYPE=image/jpeg:https://disfruta-denia.com/wp-content/uploads/2026/01/611744918_1519571723139572_7385061937584324472_n.jpg
END:VEVENT
BEGIN:VEVENT
DTSTART;TZID=Europe/Madrid:20260111T093000
DTEND;TZID=Europe/Madrid:20260111T140000
DTSTAMP:20260424T011909
CREATED:20251121T150724Z
LAST-MODIFIED:20251121T150725Z
UID:10023096-1768123800-1768140000@disfruta-denia.com
SUMMARY:Mercat del Autocine
DESCRIPTION:¡ La mejor música blues estará este domingo 23 en el Autocine Drive In de Dénia con la actuación en directo de BIG HOLLERS! Si eres amante de la buena música\, el buen ambiente y los planes diferentes\, no te puedes perder el Mercat de l’Autocine. Descubre un pequeño Mercado con artesanos y productores selectos y un ambiente genial y apto para toda la familia. Zona infantil para que los más pequeños también se lo pasen en grande! Autocine Drive In Dénia – Final de la Carretera de Les Marines Abierto desde las 9:30 h Música en directo a partir de las 11:30 h Acceso libre y aparcamiento disponible ¡Ven a vivir un domingo diferente y disfruta de la vida! 
URL:https://disfruta-denia.com/evento/mercat-del-autocine-2-2-2/2026-01-11/
LOCATION:Autociné Denia\, Partida Deveses D\, 27\, Denia\, Alicante\, 03700\, España
CATEGORIES:Concierto,Gastronomía,Mercado,Música
ATTACH;FMTTYPE=image/jpeg:https://disfruta-denia.com/wp-content/uploads/2025/11/586706623_1353701539881086_447670830255832971_n.jpg
END:VEVENT
BEGIN:VEVENT
DTSTART;TZID=Europe/Madrid:20260111T090000
DTEND;TZID=Europe/Madrid:20260111T140000
DTSTAMP:20260424T011909
CREATED:20251212T094422Z
LAST-MODIFIED:20251212T094422Z
UID:10022531-1768122000-1768140000@disfruta-denia.com
SUMMARY:Mercat del Riurau Jesus Pobre
DESCRIPTION:¡Momentos únicos en el Mercado del Riurau!  Ven a disfrutar de un buen almuerzo al solecito\, música y la autenticidad de los productos locales. A partir de las 12:00h nos acompañará “Ona Nua”\, con un ritmo ideal para poner el toque final y alegre a la mañana.Jesús Pobre te recibe con ganas y buen ambiente… ¡nos vemos en el mercado!
URL:https://disfruta-denia.com/evento/mercat-del-riurau-jesus-pobre-26-2-2-2/2026-01-11/
LOCATION:Mercado Riurau Jesus Pobre\, Jesus Pobre\, Alicante\, 03749\, España
CATEGORIES:Concierto,Gastronomía,Mercado
ATTACH;FMTTYPE=image/jpeg:https://disfruta-denia.com/wp-content/uploads/2025/11/598371131_18077219318242809_1928930933756785367_n.jpg
END:VEVENT
BEGIN:VEVENT
DTSTART;TZID=Europe/Madrid:20260110T235900
DTEND;TZID=Europe/Madrid:20260110T235900
DTSTAMP:20260424T011909
CREATED:20251230T214749Z
LAST-MODIFIED:20251230T214750Z
UID:10025692-1768089540-1768089540@disfruta-denia.com
SUMMARY:Concierto Covers en LCDA
DESCRIPTION:El concierto comienza a las 00h30
URL:https://disfruta-denia.com/evento/concierto-covers-en-lcda-2/
LOCATION:La Chica de ayer\, Calle la mar 30\, Denia\, Alicante\, 03700\, España
CATEGORIES:Concierto,Música,Ocio nocturno
ATTACH;FMTTYPE=image/jpeg:https://disfruta-denia.com/wp-content/uploads/2025/12/5dc98a52-b83f-401c-8fd8-42178b936dc4.jpg
END:VEVENT
BEGIN:VEVENT
DTSTART;TZID=Europe/Madrid:20260110T235900
DTEND;TZID=Europe/Madrid:20260110T235900
DTSTAMP:20260424T011909
CREATED:20251220T110325Z
LAST-MODIFIED:20260108T130545Z
UID:10025348-1768089540-1768089540@disfruta-denia.com
SUMMARY:Concierto: Histeriia
DESCRIPTION:
URL:https://disfruta-denia.com/evento/concierto-histeriia-4/
LOCATION:Paddy O’Connell Denia\, Calle de la Mar\, 20\, Denia\, Alicante\, 03700\, España
CATEGORIES:Concierto,Música,Ocio nocturno
ATTACH;FMTTYPE=image/jpeg:https://disfruta-denia.com/wp-content/uploads/2025/12/612327977_1527768349351746_970298173815411936_n.jpg
END:VEVENT
BEGIN:VEVENT
DTSTART;TZID=Europe/Madrid:20260110T193000
DTEND;TZID=Europe/Madrid:20260110T193000
DTSTAMP:20260424T011909
CREATED:20251230T214817Z
LAST-MODIFIED:20251230T214817Z
UID:10024567-1768073400-1768073400@disfruta-denia.com
SUMMARY:Tardeo de versiones en La Chica de ayer
DESCRIPTION:
URL:https://disfruta-denia.com/evento/concierto-tardeo-en-la-chica-de-ayer-4-3-2/
LOCATION:La Chica de ayer\, Calle la mar 30\, Denia\, Alicante\, 03700\, España
CATEGORIES:Concierto,Música,Tardeo
ATTACH;FMTTYPE=image/jpeg:https://disfruta-denia.com/wp-content/uploads/2025/12/5dc98a52-b83f-401c-8fd8-42178b936dc4.jpg
END:VEVENT
BEGIN:VEVENT
DTSTART;TZID=Europe/Madrid:20260110T110000
DTEND;TZID=Europe/Madrid:20260110T110000
DTSTAMP:20260424T011909
CREATED:20250924T103623Z
LAST-MODIFIED:20250924T103623Z
UID:10022436-1768042800-1768042800@disfruta-denia.com
SUMMARY:Deporte en los Barrios
DESCRIPTION:La Concejalía de Deportes del Ayuntamiento de Dénia retoma en octubre el programa “Deporte en los Barrios”\, una iniciativa que lleva actividades físicas gratuitas a los espacios públicos de la ciudad con el objetivo de fomentar el deporte como un hábito saludable y cercano. \nEl concejal de Deportes\, Valen Alcalà\, ha destacado que “este programa es una manera de hacer llegar la actividad física a todos y todas\, sin barreras y muy cerca de casa. Deporte en los Barrios nos recuerda que cualquier plaza o parque puede ser un espacio donde cuidarse y compartir buenos momentos con los vecinos”. \nSiguiendo la buena acogida que cada verano recibe “Deporte en la Playa”\, el consistorio apuesta por esta versión que recorre diferentes barrios de la ciudad durante el año. Las sesiones\, abiertas a todas las edades y sin necesidad de inscripción\, combinan ejercicio físico con música y gimnasia de mantenimiento. Tendrán lugar dos sábados al mes\, a las 11 de la mañana\, con una duración aproximada de una hora. \nEl calendario comenzará el sábado 4 de octubre de 2025 en la plaza del Consell\, y continuará el 18 de octubre en la plaza Maria Hervás. En noviembre\, las sesiones se realizarán el día 8 en la plaza Jaume I y el día 22 en la plaza Oeste. El mes de diciembre llevará la actividad a la calle La Vía\, coincidiendo con el Mercado de Navidad\, el día 13\, y a la plaza Mariana Pineda el día 27. \nYa en 2026\, el programa visitará la plaza del Convento el 10 de enero y el parque de la Marineta Cassiana el 24 de enero. En febrero\, las citas serán el día 7 en la Glorieta del País Valencià y el día 21 en el parque Chabàs. En marzo\, las sesiones tendrán lugar el día 7 en la plaza del Ayuntamiento y el día 28 en el Skate Park del parque Corona Boreal. En abril\, la actividad llegará a la plaza Maria Hervás el día 11 y a la plaza Oeste el 25. Finalmente\, en el mes de mayo tendrán lugar las últimas sesiones del curso: el día 9 en la plaza Jaume I y el día 23 en la plaza del Consell. \nSe recomienda acudir con ropa cómoda\, calzado deportivo y agua. La actividad es totalmente gratuita y abierta a la participación de todos y todas. Para más información se puede contactar con la oficina de Deportes del Ayuntamiento de Dénia en el 96 578 69 68 o consultar la web esports.denia.es.
URL:https://disfruta-denia.com/evento/deporte-en-los-barrios/2026-01-10/
LOCATION:Denia\, Denia\, Alicante\, 03700\, España
CATEGORIES:Deporte
ATTACH;FMTTYPE=image/png:https://disfruta-denia.com/wp-content/uploads/2025/09/7465f1.png
END:VEVENT
BEGIN:VEVENT
DTSTART;TZID=Europe/Madrid:20260109T235900
DTEND;TZID=Europe/Madrid:20260109T235900
DTSTAMP:20260424T011909
CREATED:20251230T214656Z
LAST-MODIFIED:20251230T214657Z
UID:10025355-1768003140-1768003140@disfruta-denia.com
SUMMARY:Concierto Pop Rock Indy en LCDA
DESCRIPTION:El concierto empieza las 00h30
URL:https://disfruta-denia.com/evento/concierto-pop-rock-indy-en-lcda-4/
LOCATION:La Chica de ayer\, Calle la mar 30\, Denia\, Alicante\, 03700\, España
CATEGORIES:Concierto,Música,Ocio nocturno
ATTACH;FMTTYPE=image/jpeg:https://disfruta-denia.com/wp-content/uploads/2025/12/0e249470-01ee-445b-85c0-277f512d4af0.jpg
END:VEVENT
BEGIN:VEVENT
DTSTART;TZID=Europe/Madrid:20260109T193000
DTEND;TZID=Europe/Madrid:20260109T193000
DTSTAMP:20260424T011909
CREATED:20251230T214646Z
LAST-MODIFIED:20251230T214647Z
UID:10023784-1767987000-1767987000@disfruta-denia.com
SUMMARY:Concierto Afterwork en La Chica de Ayer
DESCRIPTION:
URL:https://disfruta-denia.com/evento/concierto-afterwork-en-la-chica-de-ayer-3-2/
LOCATION:La Chica de ayer\, Calle la mar 30\, Denia\, Alicante\, 03700\, España
CATEGORIES:Concierto,Música
ATTACH;FMTTYPE=image/jpeg:https://disfruta-denia.com/wp-content/uploads/2025/12/0e249470-01ee-445b-85c0-277f512d4af0.jpg
END:VEVENT
BEGIN:VEVENT
DTSTART;TZID=Europe/Madrid:20260108T210000
DTEND;TZID=Europe/Madrid:20260108T210000
DTSTAMP:20260424T011909
CREATED:20251126T080051Z
LAST-MODIFIED:20251126T080052Z
UID:10016694-1767906000-1767906000@disfruta-denia.com
SUMMARY:Karaoké en Rebeldía Blues
DESCRIPTION:Karaoké en Rebeldía Blues
URL:https://disfruta-denia.com/evento/karaoke-en-rebeldia-blues-4-2-2-2-2-2-4-2-2/2026-01-08/
LOCATION:Rebeldia Blues\, Carr. de Dénia A Xábia\, 3G\, Denia\, Alicante\, 03700\, España
CATEGORIES:Karaoké,Música
ATTACH;FMTTYPE=image/jpeg:https://disfruta-denia.com/wp-content/uploads/2025/11/8d230c5f-3bf9-49cf-abc3-d73a7ed23d68.jpg
END:VEVENT
BEGIN:VEVENT
DTSTART;TZID=Europe/Madrid:20260108T203000
DTEND;TZID=Europe/Madrid:20260108T203000
DTSTAMP:20260424T011909
CREATED:20260102T133737Z
LAST-MODIFIED:20260102T133737Z
UID:10025965-1767904200-1767904200@disfruta-denia.com
SUMMARY:Concierto en Café Marin
DESCRIPTION:
URL:https://disfruta-denia.com/evento/concierto-en-cafe-marin/2026-01-08/
LOCATION:Café Marin\, Centro Comercial El Poblet\, Carr. de les Marines a Dénia\, 71\, Denia\, 03700\, España
CATEGORIES:Concierto,Música
ATTACH;FMTTYPE=image/jpeg:https://disfruta-denia.com/wp-content/uploads/2026/01/23099959-C64B-4C71-A4DE-DD842B3706D1-scaled.jpg
END:VEVENT
BEGIN:VEVENT
DTSTART;TZID=Europe/Madrid:20260108T093000
DTEND;TZID=Europe/Madrid:20260108T093000
DTSTAMP:20260424T011909
CREATED:20251218T163752Z
LAST-MODIFIED:20260227T104533Z
UID:10022081-1767864600-1767864600@disfruta-denia.com
SUMMARY:Denia camina
DESCRIPTION:🚶‍♀️ ¡Dénia Camina vuelve a caminar!\n¿Y tú\, te animas?\nMartes y jueves a las 9:30 h desde el Centro de Salud Joan Fuster\, con nuevas salidas temáticas y culturales para disfrutar caminando. \nℹ️ + info en el 618 945 344 o en esports.denia.es \nTambién:\n➡️La Xara Camina (dos viernes al mes).\n➡️Jesús Pobre Camina (los otros dos viernes). \nActividad gratuita y abierta a todas y todos
URL:https://disfruta-denia.com/evento/denia-camina-2/2026-01-08/
LOCATION:Denia\, Denia\, Alicante\, 03700\, España
CATEGORIES:Deporte
ATTACH;FMTTYPE=image/png:https://disfruta-denia.com/wp-content/uploads/2025/09/Instagram-09-05-2025_11_31_AM.png
END:VEVENT
BEGIN:VEVENT
DTSTART;TZID=Europe/Madrid:20260107T203000
DTEND;TZID=Europe/Madrid:20260107T203000
DTSTAMP:20260424T011909
CREATED:20240414T124150Z
LAST-MODIFIED:20240414T124150Z
UID:10018002-1767817800-1767817800@disfruta-denia.com
SUMMARY:Miércoles latinos\, miércoles clandestinos
DESCRIPTION:Miércoles latinos\, miércoles clandestinos  Cada miércoles a las 20.30h tenemos una cita con Madelyn Torroella a ritmo cubano!! Voz\, percusión y versiones de salsa clásica\, cada miércoles\, en el Speak. Parrillada\, tacos\, tapas\, cocktails & música. Reserva tu mesa
URL:https://disfruta-denia.com/evento/miercoles-latinos-miercoles-clandestinos/2026-01-07/
LOCATION:The Speak Denia\, Carrer del Pont\, 19\, Denia\, Alicante\, 03700\, España
CATEGORIES:Concierto,Música
ATTACH;FMTTYPE=image/jpeg:https://disfruta-denia.com/wp-content/uploads/2024/04/434468313_1159701198651630_4992165217264460198_n.jpg
END:VEVENT
BEGIN:VEVENT
DTSTART;TZID=Europe/Madrid:20260107T200000
DTEND;TZID=Europe/Madrid:20260107T233000
DTSTAMP:20260424T011909
CREATED:20230612T102803Z
LAST-MODIFIED:20230612T102804Z
UID:10009072-1767816000-1767828600@disfruta-denia.com
SUMMARY:Autocine: día del espectador
DESCRIPTION:
URL:https://disfruta-denia.com/evento/autocine-dia-del-espectador-3/2026-01-07/
LOCATION:Autociné Denia\, Partida Deveses D\, 27\, Denia\, Alicante\, 03700\, España
CATEGORIES:Ciné,Cultura
ATTACH;FMTTYPE=image/jpeg:https://disfruta-denia.com/wp-content/uploads/2022/11/Autocine-Drive-In-Denia-1.jpg
END:VEVENT
BEGIN:VEVENT
DTSTART;TZID=Europe/Madrid:20260107T193000
DTEND;TZID=Europe/Madrid:20260107T193000
DTSTAMP:20260424T011909
CREATED:20250603T094354Z
LAST-MODIFIED:20250603T094354Z
UID:10021342-1767814200-1767814200@disfruta-denia.com
SUMMARY:Encuentros en Códigos
DESCRIPTION:​¡Bienvenidos a Encuentros en Códigos\, el Meetup internacional semanal en Códigos del Arte!\nNos reunimos todos los miércoles a partir de las 19:30 — toma algo\, relájate\, y disfruta de una buena conversación.\nTodos los miércoles – 19:30\nEntrada: Gratuita
URL:https://disfruta-denia.com/evento/encuentros-en-codigos/2026-01-07/
LOCATION:Códigos del Arte\, Carreró de Morant\, 8\, Dénia\, 03700\, España
CATEGORIES:Tardeo
ATTACH;FMTTYPE=image/png:https://disfruta-denia.com/wp-content/uploads/2025/06/Codigos-del-Arte-20.png
END:VEVENT
BEGIN:VEVENT
DTSTART;TZID=Europe/Madrid:20260107T190000
DTEND;TZID=Europe/Madrid:20260107T210000
DTSTAMP:20260424T011909
CREATED:20231115T115842Z
LAST-MODIFIED:20231115T115843Z
UID:10008389-1767812400-1767819600@disfruta-denia.com
SUMMARY:Tardeo en Basta
DESCRIPTION:
URL:https://disfruta-denia.com/evento/tardeo-en-basta-3-3/2026-01-07/
LOCATION:Basta Lounge Bar\, Marina de Dénia\, Local C2\, Denia\, Valencian Community\, 03700\, España
CATEGORIES:Concierto,Música,Tardeo
ATTACH;FMTTYPE=image/jpeg:https://disfruta-denia.com/wp-content/uploads/2022/12/IMG_3678.jpeg
END:VEVENT
BEGIN:VEVENT
DTSTART;TZID=Europe/Madrid:20260106T093000
DTEND;TZID=Europe/Madrid:20260106T093000
DTSTAMP:20260424T011909
CREATED:20251218T163752Z
LAST-MODIFIED:20260227T104533Z
UID:10022080-1767691800-1767691800@disfruta-denia.com
SUMMARY:Denia camina
DESCRIPTION:🚶‍♀️ ¡Dénia Camina vuelve a caminar!\n¿Y tú\, te animas?\nMartes y jueves a las 9:30 h desde el Centro de Salud Joan Fuster\, con nuevas salidas temáticas y culturales para disfrutar caminando. \nℹ️ + info en el 618 945 344 o en esports.denia.es \nTambién:\n➡️La Xara Camina (dos viernes al mes).\n➡️Jesús Pobre Camina (los otros dos viernes). \nActividad gratuita y abierta a todas y todos
URL:https://disfruta-denia.com/evento/denia-camina-2/2026-01-06/
LOCATION:Denia\, Denia\, Alicante\, 03700\, España
CATEGORIES:Deporte
ATTACH;FMTTYPE=image/png:https://disfruta-denia.com/wp-content/uploads/2025/09/Instagram-09-05-2025_11_31_AM.png
END:VEVENT
END:VCALENDAR