BEGIN:VCALENDAR
VERSION:2.0
PRODID:-//Disfruta Denia - ECPv6.15.20//NONSGML v1.0//EN
CALSCALE:GREGORIAN
METHOD:PUBLISH
X-WR-CALNAME:Disfruta Denia
X-ORIGINAL-URL:https://disfruta-denia.com
X-WR-CALDESC:Eventos para Disfruta Denia
REFRESH-INTERVAL;VALUE=DURATION:PT1H
X-Robots-Tag:noindex
X-PUBLISHED-TTL:PT1H
BEGIN:VTIMEZONE
TZID:Europe/Madrid
BEGIN:DAYLIGHT
TZOFFSETFROM:+0100
TZOFFSETTO:+0200
TZNAME:CEST
DTSTART:20240331T010000
END:DAYLIGHT
BEGIN:STANDARD
TZOFFSETFROM:+0200
TZOFFSETTO:+0100
TZNAME:CET
DTSTART:20241027T010000
END:STANDARD
BEGIN:DAYLIGHT
TZOFFSETFROM:+0100
TZOFFSETTO:+0200
TZNAME:CEST
DTSTART:20250330T010000
END:DAYLIGHT
BEGIN:STANDARD
TZOFFSETFROM:+0200
TZOFFSETTO:+0100
TZNAME:CET
DTSTART:20251026T010000
END:STANDARD
BEGIN:DAYLIGHT
TZOFFSETFROM:+0100
TZOFFSETTO:+0200
TZNAME:CEST
DTSTART:20260329T010000
END:DAYLIGHT
BEGIN:STANDARD
TZOFFSETFROM:+0200
TZOFFSETTO:+0100
TZNAME:CET
DTSTART:20261025T010000
END:STANDARD
END:VTIMEZONE
BEGIN:VEVENT
DTSTART;TZID=Europe/Madrid:20251222T203000
DTEND;TZID=Europe/Madrid:20251222T203000
DTSTAMP:20260424T175418
CREATED:20230912T174836Z
LAST-MODIFIED:20230912T174838Z
UID:10011529-1766435400-1766435400@disfruta-denia.com
SUMMARY:Tardeo con Marce Pesoa
DESCRIPTION:Esta noche. Tonight. \nLive music 20.30h. \nMarce Pesoa en The Speak Dénia. \nTacos\, Cocktails\, Parrilla \n& la mejor musica 🔥🤘 \nReservas: 675753879 \nLet’s #funmonday today!
URL:https://disfruta-denia.com/evento/tardeo-con-marce-pesoa-2/2025-12-22/
LOCATION:The Speak Denia\, Carrer del Pont\, 19\, Denia\, Alicante\, 03700\, España
CATEGORIES:Concierto,Música,Tardeo
ATTACH;FMTTYPE=image/jpeg:https://disfruta-denia.com/wp-content/uploads/2023/06/IMG-20230619-WA0000.jpg
END:VEVENT
BEGIN:VEVENT
DTSTART;TZID=Europe/Madrid:20251222T183000
DTEND;TZID=Europe/Madrid:20251222T183000
DTSTAMP:20260424T175418
CREATED:20251222T155812Z
LAST-MODIFIED:20251222T155813Z
UID:10025614-1766428200-1766428200@disfruta-denia.com
SUMMARY:Mar Cristmas en Dorian parte I
DESCRIPTION: LUNES • 18’30h • TARDEO\n• Sala Dorian LA BANDA DE LA ABUELA 🎸 en directo \n🔹 LUNES • 23’30h • NOCHE\n• Sala Dorian BORJA CONESA 🎧 en cabina \n🔸MARTES • 18’30h • TARDEO\n• Sala Dorian JUNTOS Y REVUELTOS 🎸 en directo \n🔹 MARTES • 23’30h • NOCHE\n• Sala Dorian DEIA 🎧 en cabina \nSi has rascado algo en la lotería ven a celebrarlo\, y sino…. Pues también\, que la salud también se celebra! 😉
URL:https://disfruta-denia.com/evento/mar-cristmas-en-dorian-parte-i-2/
LOCATION:Dorian Gray Denia\, Carrer de la Mar\, 14\, Denia\, Alicante\, 03700\, España
CATEGORIES:Concierto,DJ,Tardeo
ATTACH;FMTTYPE=image/png:https://disfruta-denia.com/wp-content/uploads/2025/12/Instagram-12-22-2025_04_54_PM.png
END:VEVENT
BEGIN:VEVENT
DTSTART;TZID=Europe/Madrid:20251222T100000
DTEND;TZID=Europe/Madrid:20251222T110000
DTSTAMP:20260424T175418
CREATED:20250603T093855Z
LAST-MODIFIED:20250603T093912Z
UID:10021078-1766397600-1766401200@disfruta-denia.com
SUMMARY:Monday Stretch with Marianna
DESCRIPTION:Empieza la semana con una sesión de Pilates guiada por la instructora Marianna.\nDespués\, date un capricho con un café o una kombucha refrescante.\nTodos los lunes – 10:00
URL:https://disfruta-denia.com/evento/monday-stretch-with-marianna/2025-12-22/
LOCATION:Códigos del Arte\, Carreró de Morant\, 8\, Dénia\, 03700\, España
CATEGORIES:Deporte
ATTACH;FMTTYPE=image/png:https://disfruta-denia.com/wp-content/uploads/2025/06/Codigos-del-Arte-5.png
END:VEVENT
BEGIN:VEVENT
DTSTART;TZID=Europe/Madrid:20251221T203000
DTEND;TZID=Europe/Madrid:20251221T203000
DTSTAMP:20260424T175418
CREATED:20251214T165317Z
LAST-MODIFIED:20251214T165317Z
UID:10023495-1766349000-1766349000@disfruta-denia.com
SUMMARY:Jam Session en Rebeldía Blues
DESCRIPTION:🎤 Domingo 21 de diciembre – a las 20h30\n¡Vuelve una de las noches más especiales en Rebeldía Blues! ⭐🎶 \nEste domingo celebramos la Jam Session de Rebeldía Blues\, una cita abierta donde el escenario se llena de talento\, energía y buen rollo.\nPop\, rock\, soul\, funky\, blues y country se mezclan en una noche única donde tú también puedes ser protagonista. \n🔥 Ven\, súbete al escenario y desluḿbranos con tu talento\n🎟️ Entrada FREE \n📍 Rebeldía Blues – Dénia\n🕣 A partir de las 20h30
URL:https://disfruta-denia.com/evento/jam-session-en-rebeldia-blues/
LOCATION:Rebeldia Blues\, Carr. de Dénia A Xábia\, 3G\, Denia\, Alicante\, 03700\, España
CATEGORIES:Concierto,Música
ATTACH;FMTTYPE=image/jpeg:https://disfruta-denia.com/wp-content/uploads/2025/11/PHOTO-2025-12-14-17-46-36.jpg
END:VEVENT
BEGIN:VEVENT
DTSTART;TZID=Europe/Madrid:20251221T203000
DTEND;TZID=Europe/Madrid:20251221T203000
DTSTAMP:20260424T175418
CREATED:20251206T165834Z
LAST-MODIFIED:20251206T165928Z
UID:10023467-1766349000-1766349000@disfruta-denia.com
SUMMARY:Live music en Café Marin
DESCRIPTION:
URL:https://disfruta-denia.com/evento/live-music-en-cafe-marin-2/2025-12-21/
LOCATION:Café Marin\, Centro Comercial El Poblet\, Carr. de les Marines a Dénia\, 71\, Denia\, 03700\, España
CATEGORIES:Concierto,Música
ATTACH;FMTTYPE=image/jpeg:https://disfruta-denia.com/wp-content/uploads/2025/12/78DE79F0-851E-408A-8C3B-D0B7C62A85C4-scaled.jpg
END:VEVENT
BEGIN:VEVENT
DTSTART;TZID=Europe/Madrid:20251221T190000
DTEND;TZID=Europe/Madrid:20251221T190000
DTSTAMP:20260424T175418
CREATED:20251126T083245Z
LAST-MODIFIED:20251126T083245Z
UID:10023452-1766343600-1766343600@disfruta-denia.com
SUMMARY:Cineclub: NACIDO EN GAZA
DESCRIPTION:Dir.: Hernán ZIn (2014). Espanya / España\, 2014\, 78 min. V.O. en àrab i anglés / en árabe e inglés. Subtitulada en castellà / castellano.  Recomanada / recomendada + 16 anys / años. \nEntrada 3 €  en www.notikumi.com   Taquilla: el mateix dia una hora abans/ el mismo día una hora antes.
URL:https://disfruta-denia.com/evento/cineclub-nacido-en-gaza/
LOCATION:Teatro Auditorio Centro Social\, 4 Carrer Calderón\, Dénia\, VC\, 03700\, Spain
CATEGORIES:Ciné,Cultura
ATTACH;FMTTYPE=image/png:https://disfruta-denia.com/wp-content/uploads/2025/11/17-cine-dia-21.png
END:VEVENT
BEGIN:VEVENT
DTSTART;TZID=Europe/Madrid:20251221T180000
DTEND;TZID=Europe/Madrid:20251221T180000
DTSTAMP:20260424T175418
CREATED:20251218T164108Z
LAST-MODIFIED:20251218T164108Z
UID:10025086-1766340000-1766340000@disfruta-denia.com
SUMMARY:Domingos acústicos en La Chica de Ayer
DESCRIPTION:
URL:https://disfruta-denia.com/evento/domingos-acusticos-en-la-chica-de-ayer/
LOCATION:La Chica de ayer\, Calle la mar 30\, Denia\, Alicante\, 03700\, España
CATEGORIES:Concierto,Música,Tardeo
ATTACH;FMTTYPE=image/jpeg:https://disfruta-denia.com/wp-content/uploads/2025/12/Purple-Modern-Upcoming-Events-Calendar-5.jpg
END:VEVENT
BEGIN:VEVENT
DTSTART;TZID=Europe/Madrid:20251221T160000
DTEND;TZID=Europe/Madrid:20251221T160000
DTSTAMP:20260424T175418
CREATED:20251219T182803Z
LAST-MODIFIED:20251219T182804Z
UID:10022789-1766332800-1766332800@disfruta-denia.com
SUMMARY:Tardeos live Mr Fisher
DESCRIPTION:Este domingo el cuerpo pide música y buen ambiente!  Disfruta de Live Music con el grupo LA MOCHA en nuestros Tardeos Fisher. ⁣⁣No dejes que te lo cuenten y ven a vivir el mejor ambiente frente al mar.
URL:https://disfruta-denia.com/evento/tardeos-live-mr-fisher-2-2-2/
LOCATION:Mr Fisher\, Moll de La Pansa s/n. Marina El Portet\, Denia\, Alicante\, 03700\, España
CATEGORIES:Concierto,Música,Tardeo
ATTACH;FMTTYPE=image/jpeg:https://disfruta-denia.com/wp-content/uploads/2025/12/600195143_1281796433754068_2413279772867678233_n.jpg
END:VEVENT
BEGIN:VEVENT
DTSTART;TZID=Europe/Madrid:20251221T093000
DTEND;TZID=Europe/Madrid:20251221T140000
DTSTAMP:20260424T175418
CREATED:20251121T150724Z
LAST-MODIFIED:20251121T150725Z
UID:10023093-1766309400-1766325600@disfruta-denia.com
SUMMARY:Mercat del Autocine
DESCRIPTION:¡ La mejor música blues estará este domingo 23 en el Autocine Drive In de Dénia con la actuación en directo de BIG HOLLERS! Si eres amante de la buena música\, el buen ambiente y los planes diferentes\, no te puedes perder el Mercat de l’Autocine. Descubre un pequeño Mercado con artesanos y productores selectos y un ambiente genial y apto para toda la familia. Zona infantil para que los más pequeños también se lo pasen en grande! Autocine Drive In Dénia – Final de la Carretera de Les Marines Abierto desde las 9:30 h Música en directo a partir de las 11:30 h Acceso libre y aparcamiento disponible ¡Ven a vivir un domingo diferente y disfruta de la vida! 
URL:https://disfruta-denia.com/evento/mercat-del-autocine-2-2-2/2025-12-21/
LOCATION:Autociné Denia\, Partida Deveses D\, 27\, Denia\, Alicante\, 03700\, España
CATEGORIES:Concierto,Gastronomía,Mercado,Música
ATTACH;FMTTYPE=image/jpeg:https://disfruta-denia.com/wp-content/uploads/2025/11/586706623_1353701539881086_447670830255832971_n.jpg
END:VEVENT
BEGIN:VEVENT
DTSTART;TZID=Europe/Madrid:20251221T090000
DTEND;TZID=Europe/Madrid:20251221T140000
DTSTAMP:20260424T175418
CREATED:20251212T094422Z
LAST-MODIFIED:20251212T094422Z
UID:10022528-1766307600-1766325600@disfruta-denia.com
SUMMARY:Mercat del Riurau Jesus Pobre
DESCRIPTION:¡Momentos únicos en el Mercado del Riurau!  Ven a disfrutar de un buen almuerzo al solecito\, música y la autenticidad de los productos locales. A partir de las 12:00h nos acompañará “Ona Nua”\, con un ritmo ideal para poner el toque final y alegre a la mañana.Jesús Pobre te recibe con ganas y buen ambiente… ¡nos vemos en el mercado!
URL:https://disfruta-denia.com/evento/mercat-del-riurau-jesus-pobre-26-2-2-2/2025-12-21/
LOCATION:Mercado Riurau Jesus Pobre\, Jesus Pobre\, Alicante\, 03749\, España
CATEGORIES:Concierto,Gastronomía,Mercado
ATTACH;FMTTYPE=image/jpeg:https://disfruta-denia.com/wp-content/uploads/2025/11/598371131_18077219318242809_1928930933756785367_n.jpg
END:VEVENT
BEGIN:VEVENT
DTSTART;TZID=Europe/Madrid:20251220T235900
DTEND;TZID=Europe/Madrid:20251220T235900
DTSTAMP:20260424T175418
CREATED:20251218T155531Z
LAST-MODIFIED:20251218T155531Z
UID:10023519-1766275140-1766275140@disfruta-denia.com
SUMMARY:Empieza la Navidad en Dorian
DESCRIPTION:JUEVES • 00’00h • NOCHE\n•Sala Dorian JUNTOS Y REVUELTOS 🎸 en directo \n🔸 VIERNES • 18’00h • TARDEO\n•Sala Dorian XARANGA XE Q FORT! 🎷🎺 en directo\n•Sala Gray JUAN GIMENO & DEIA 🎧 en cabina \n🔹 VIERNES • 00’00h • NOCHE\n•Sala Dorian MENPHIS 🎸 en directo\n•Sala Gray BORJA CONESA 🎧 en cabina \n🔸 SÁBADO • 17’30h • TARDEO\n• Sala Dorian LA MOCHA 🎸 en directo\n• Sala Gray TARON & DION DOBBE 🎧 en cabina \n🔹 SÁBADO • 00’00h • NOCHE\n• Sala Dorian LA MOCHA 🎸 en directo\n• Sala Gray BORJA CONESA 🎧 en cabina \n🔸 DOMINGO • 18’30h • TARDEO\n• Sala Dorian RUMBADOS 💃🏼 en directo
URL:https://disfruta-denia.com/evento/empieza-la-navidad-en-dorian/2025-12-20/2/
LOCATION:Dorian Gray Denia\, Carrer de la Mar\, 14\, Denia\, Alicante\, 03700\, España
CATEGORIES:Concierto,DJ,Música,Ocio nocturno
ATTACH;FMTTYPE=image/png:https://disfruta-denia.com/wp-content/uploads/2025/12/Instagram-12-18-2025_04_49_PM.png
END:VEVENT
BEGIN:VEVENT
DTSTART;TZID=Europe/Madrid:20251220T213000
DTEND;TZID=Europe/Madrid:20251220T213000
DTSTAMP:20260424T175418
CREATED:20251214T165219Z
LAST-MODIFIED:20251214T165219Z
UID:10019988-1766266200-1766266200@disfruta-denia.com
SUMMARY:Sábado concierto en Rebeldía Blues
DESCRIPTION:💃 Sábado 20 de diciembre – desde las 21h30\nEl arte y la pasión llegan a Rebeldía Blues 🔥🕺 \nEste sábado disfrutaremos de Verea Flamenca\, un espectáculo lleno de fuerza y sentimiento con flamenco\, sevillanas y bulerías que te harán vibrar desde el primer compás. 🎶👏\nUna noche intensa\, auténtica y llena de duende… ¡y además es FREE! \n📍 Rebeldía Blues – Dénia\n🕤 Desde las 21h30\n🎧 Después del concierto: DJ Ismael Monsonis
URL:https://disfruta-denia.com/evento/sabado-concierto-en-rebeldia-blues-3-2-10-3-3-2-8-3-2-2-2-2-2-2-2-2-2-2-2-2-2-2-2-2-2-2-2/
LOCATION:Rebeldia Blues\, Carr. de Dénia A Xábia\, 3G\, Denia\, Alicante\, 03700\, España
CATEGORIES:Jazz,Música
ATTACH;FMTTYPE=image/jpeg:https://disfruta-denia.com/wp-content/uploads/2025/11/PHOTO-2025-12-14-17-46-35-2.jpg
END:VEVENT
BEGIN:VEVENT
DTSTART;TZID=Europe/Madrid:20251220T200000
DTEND;TZID=Europe/Madrid:20251220T200000
DTSTAMP:20260424T175418
CREATED:20251126T083047Z
LAST-MODIFIED:20251126T083047Z
UID:10023451-1766260800-1766260800@disfruta-denia.com
SUMMARY:CONCIERTO DE NAVIDAD
DESCRIPTION:X ANIVERSARIO / X ANIVERSARI GRUP POLIFÒNIC CADENZA. \nDirecció/n: SILVIA PEÑA. Piano: VICENT SENDRA \nEntrada:  lliure fins a completar aforament/ libre hasta completar aforo.
URL:https://disfruta-denia.com/evento/concierto-de-navidad-5/
LOCATION:Teatro Auditorio Centro Social\, 4 Carrer Calderón\, Dénia\, VC\, 03700\, Spain
CATEGORIES:Concierto,Música
ATTACH;FMTTYPE=image/png:https://disfruta-denia.com/wp-content/uploads/2025/11/16-Cadenza.png
END:VEVENT
BEGIN:VEVENT
DTSTART;TZID=Europe/Madrid:20251220T193000
DTEND;TZID=Europe/Madrid:20251220T193000
DTSTAMP:20260424T175418
CREATED:20251218T163148Z
LAST-MODIFIED:20251218T163227Z
UID:10024564-1766259000-1766259000@disfruta-denia.com
SUMMARY:Concierto tardeo en La Chica de ayer
DESCRIPTION:
URL:https://disfruta-denia.com/evento/concierto-tardeo-en-la-chica-de-ayer-4/
LOCATION:La Chica de ayer\, Calle la mar 30\, Denia\, Alicante\, 03700\, España
CATEGORIES:Concierto,Música,Tardeo
ATTACH;FMTTYPE=image/jpeg:https://disfruta-denia.com/wp-content/uploads/2025/12/Purple-Modern-Upcoming-Events-Calendar-4.jpg
END:VEVENT
BEGIN:VEVENT
DTSTART;TZID=Europe/Madrid:20251220T190000
DTEND;TZID=Europe/Madrid:20251220T230000
DTSTAMP:20260424T175418
CREATED:20251215T091354Z
LAST-MODIFIED:20251215T091354Z
UID:10023498-1766257200-1766271600@disfruta-denia.com
SUMMARY:Evento navideño en Rebeldía
DESCRIPTION:​🎄 Evento Navideño en Rebeldía Blues – Sábado 20 de Diciembre\n\n 🎅\n​¡Ven y disfruta de una jornada llena de magia\, arte y espíritu navideño en Rebeldía Blues!\n\n⭐🎶\n​Comenzamos la tarde con un show que encanta a grandes y pequeños:\n\n​🎩 Magic Jack Show – a las 19h\nUn espectáculo lleno de ilusión y sorpresas. 14€ adultos / 4€ niños (Precio especial familias\, consultar en la entrada).\n\n​A continuación\, el arte y la pasión llegan a Rebeldía Blues:\n\n​💃 Verea Flamenca – a las 21h30\nUn espectáculo lleno de fuerza y sentimiento con flamenco.\n\n​Además\, disfruta de nuestro Mercadillo navideño con elfos y Papá Noel\, y con tu entrada una tapa navideña\, una copa de cava y ¡chuches para los peques!\n\n\n​📍 Rebeldía Blues: CARR. DE DÉNIA A XÁBIA\, 3G\, 03700 DÉNIA\n\n📞 +34 645 90 72 50
URL:https://disfruta-denia.com/evento/evento-navideno-en-rebeldia/
LOCATION:Rebeldia Blues\, Carr. de Dénia A Xábia\, 3G\, Denia\, Alicante\, 03700\, España
CATEGORIES:Concierto,Espectáculo,Música
ATTACH;FMTTYPE=image/jpeg:https://disfruta-denia.com/wp-content/uploads/2025/12/PHOTO-2025-12-15-09-50-14.jpg
END:VEVENT
BEGIN:VEVENT
DTSTART;TZID=Europe/Madrid:20251220T183000
DTEND;TZID=Europe/Madrid:20251220T183000
DTSTAMP:20260424T175418
CREATED:20251218T155531Z
LAST-MODIFIED:20251218T155531Z
UID:10023518-1766255400-1766255400@disfruta-denia.com
SUMMARY:Empieza la Navidad en Dorian
DESCRIPTION:JUEVES • 00’00h • NOCHE\n•Sala Dorian JUNTOS Y REVUELTOS 🎸 en directo \n🔸 VIERNES • 18’00h • TARDEO\n•Sala Dorian XARANGA XE Q FORT! 🎷🎺 en directo\n•Sala Gray JUAN GIMENO & DEIA 🎧 en cabina \n🔹 VIERNES • 00’00h • NOCHE\n•Sala Dorian MENPHIS 🎸 en directo\n•Sala Gray BORJA CONESA 🎧 en cabina \n🔸 SÁBADO • 17’30h • TARDEO\n• Sala Dorian LA MOCHA 🎸 en directo\n• Sala Gray TARON & DION DOBBE 🎧 en cabina \n🔹 SÁBADO • 00’00h • NOCHE\n• Sala Dorian LA MOCHA 🎸 en directo\n• Sala Gray BORJA CONESA 🎧 en cabina \n🔸 DOMINGO • 18’30h • TARDEO\n• Sala Dorian RUMBADOS 💃🏼 en directo
URL:https://disfruta-denia.com/evento/empieza-la-navidad-en-dorian/2025-12-20/1/
LOCATION:Dorian Gray Denia\, Carrer de la Mar\, 14\, Denia\, Alicante\, 03700\, España
CATEGORIES:Concierto,DJ,Música,Ocio nocturno
ATTACH;FMTTYPE=image/png:https://disfruta-denia.com/wp-content/uploads/2025/12/Instagram-12-18-2025_04_49_PM.png
END:VEVENT
BEGIN:VEVENT
DTSTART;TZID=Europe/Madrid:20251220T104500
DTEND;TZID=Europe/Madrid:20251220T104500
DTSTAMP:20260424T175418
CREATED:20251211T120242Z
LAST-MODIFIED:20251211T120242Z
UID:10023470-1766227500-1766227500@disfruta-denia.com
SUMMARY:X aniversario Ciudad Creativa de la Gastronomía de la UNESCO
DESCRIPTION:Dénia conmemora el próximo 20 de diciembre su décimo aniversario como Ciudad Creativa de la\n#Gastronomía de la UNESCO.\nEl acto comenzará a las 10.45 h\, en la plaza del Consell\, con un homenaje a las personas\, entidades e instituciones que han contribuido al proyecto.\nA continuación\, la celebración se trasladará a Marqués de Campo\, con una degustación de ‘coques’ para toda la ciudadanía.
URL:https://disfruta-denia.com/evento/x-aniversario-ciudad-creativa-de-la-gastronomia-de-la-unesco/
LOCATION:Plaza del Consell\, Carrer de la Mar\, Denia\, 03700
CATEGORIES:Cultura,Gastronomía,Presentación
ATTACH;FMTTYPE=image/jpeg:https://disfruta-denia.com/wp-content/uploads/2025/12/IMG_1586.jpg
END:VEVENT
BEGIN:VEVENT
DTSTART;TZID=Europe/Madrid:20251220T003000
DTEND;TZID=Europe/Madrid:20251220T003000
DTSTAMP:20260424T175418
CREATED:20251218T162315Z
LAST-MODIFIED:20251218T164204Z
UID:10024303-1766190600-1766190600@disfruta-denia.com
SUMMARY:Concierto Pop Rock Indy en LCDA
DESCRIPTION:
URL:https://disfruta-denia.com/evento/concierto-pop-rock-indy-en-lcda-2/
LOCATION:La Chica de ayer\, Calle la mar 30\, Denia\, Alicante\, 03700\, España
CATEGORIES:Concierto,Música,Ocio nocturno
ATTACH;FMTTYPE=image/jpeg:https://disfruta-denia.com/wp-content/uploads/2025/12/Purple-Modern-Upcoming-Events-Calendar-3.jpg
END:VEVENT
BEGIN:VEVENT
DTSTART;TZID=Europe/Madrid:20251219T213000
DTEND;TZID=Europe/Madrid:20251219T213000
DTSTAMP:20260424T175418
CREATED:20251214T165155Z
LAST-MODIFIED:20251214T165155Z
UID:10019728-1766179800-1766179800@disfruta-denia.com
SUMMARY:Concierto de Viernes en Rebeldía Blues
DESCRIPTION:🎶 Viernes 19 de diciembre – desde las 21h30\nNoche de alto voltaje en Rebeldía Blues 🔥🎸 \nEste viernes llega una sesión muy especial con The Legends & Danny Boy\, una potente Blues Funk Session llena de groove\, talento y pura energía sobre el escenario. 🎤🎶\nUna cita imprescindible para los amantes del blues y el funk… ¡y además es FREE! \n📍 Rebeldía Blues – Dénia\n🕤 Desde las 21h30\n🎧 Después del concierto: DJ Ismael Monsonis
URL:https://disfruta-denia.com/evento/concierto-de-viernes-en-rebeldia-blues-3-3-10-3-3-3-2-9-2-2-3-2-2-2-2-2-2-2-2-2-2-3-2-2-2/
LOCATION:Rebeldia Blues\, Carr. de Dénia A Xábia\, 3G\, Denia\, Alicante\, 03700\, España
CATEGORIES:Jazz,Música
ATTACH;FMTTYPE=image/jpeg:https://disfruta-denia.com/wp-content/uploads/2025/11/PHOTO-2025-12-14-17-46-35.jpg
END:VEVENT
BEGIN:VEVENT
DTSTART;TZID=Europe/Madrid:20251219T200000
DTEND;TZID=Europe/Madrid:20251219T200000
DTSTAMP:20260424T175418
CREATED:20251126T082948Z
LAST-MODIFIED:20251126T082948Z
UID:10023450-1766174400-1766174400@disfruta-denia.com
SUMMARY:ZAMBOMBA FLAMENCA SOLIDARIA
DESCRIPTION:Actuació especial del cor / del coro “NO NI NA”  A benefici de/ a beneficio de AMADEM     \nDonatiu / donativo: 5 €. \nOrganitza / Organiza: Casa de Andalucía de Dénia. Col·labora/Colabora: Ajuntament de Dénia. Cultura.
URL:https://disfruta-denia.com/evento/zambomba-flamenca-solidaria/
LOCATION:Teatro Auditorio Centro Social\, 4 Carrer Calderón\, Dénia\, VC\, 03700\, Spain
CATEGORIES:Cultura,Danza
ATTACH;FMTTYPE=image/png:https://disfruta-denia.com/wp-content/uploads/2025/11/15-Zambomba-flamenca.png
END:VEVENT
BEGIN:VEVENT
DTSTART;TZID=Europe/Madrid:20251219T193000
DTEND;TZID=Europe/Madrid:20251219T193000
DTSTAMP:20260424T175418
CREATED:20251218T160753Z
LAST-MODIFIED:20251218T160811Z
UID:10023781-1766172600-1766172600@disfruta-denia.com
SUMMARY:Concierto Afterwork en La Chica de Ayer
DESCRIPTION:
URL:https://disfruta-denia.com/evento/concierto-afterwork-en-la-chica-de-ayer/
LOCATION:La Chica de ayer\, Calle la mar 30\, Denia\, Alicante\, 03700\, España
CATEGORIES:Concierto,Música
ATTACH;FMTTYPE=image/jpeg:https://disfruta-denia.com/wp-content/uploads/2025/12/Purple-Modern-Upcoming-Events-Calendar-3.jpg
END:VEVENT
BEGIN:VEVENT
DTSTART;TZID=Europe/Madrid:20251219T190000
DTEND;TZID=Europe/Madrid:20251219T190000
DTSTAMP:20260424T175418
CREATED:20251126T082857Z
LAST-MODIFIED:20251126T082857Z
UID:10023449-1766170800-1766170800@disfruta-denia.com
SUMMARY:PRESENTACIÓN LIBRO
DESCRIPTION:TU LUZ EN LA MATERNIDAD\, de MAITE PINGARRÓN MONTES \nUn camino de intuición\, fortaleza y amor incondicional \nEntrada: lliure fins a completar aforament /libre hasta completar aforo.
URL:https://disfruta-denia.com/evento/presentacion-libro-9/
LOCATION:Casa de la Cultura Denia\, Plaça Jaume I\, Denia\, Alicante\, 03700\, España
CATEGORIES:Cultura,Presentación
ATTACH;FMTTYPE=image/png:https://disfruta-denia.com/wp-content/uploads/2025/11/14-Presentacio-llibre-maternidad.png
END:VEVENT
BEGIN:VEVENT
DTSTART;TZID=Europe/Madrid:20251219T183000
DTEND;TZID=Europe/Madrid:20251219T183000
DTSTAMP:20260424T175418
CREATED:20251218T155531Z
LAST-MODIFIED:20251218T155531Z
UID:10023517-1766169000-1766169000@disfruta-denia.com
SUMMARY:Empieza la Navidad en Dorian
DESCRIPTION:JUEVES • 00’00h • NOCHE\n•Sala Dorian JUNTOS Y REVUELTOS 🎸 en directo \n🔸 VIERNES • 18’00h • TARDEO\n•Sala Dorian XARANGA XE Q FORT! 🎷🎺 en directo\n•Sala Gray JUAN GIMENO & DEIA 🎧 en cabina \n🔹 VIERNES • 00’00h • NOCHE\n•Sala Dorian MENPHIS 🎸 en directo\n•Sala Gray BORJA CONESA 🎧 en cabina \n🔸 SÁBADO • 17’30h • TARDEO\n• Sala Dorian LA MOCHA 🎸 en directo\n• Sala Gray TARON & DION DOBBE 🎧 en cabina \n🔹 SÁBADO • 00’00h • NOCHE\n• Sala Dorian LA MOCHA 🎸 en directo\n• Sala Gray BORJA CONESA 🎧 en cabina \n🔸 DOMINGO • 18’30h • TARDEO\n• Sala Dorian RUMBADOS 💃🏼 en directo
URL:https://disfruta-denia.com/evento/empieza-la-navidad-en-dorian/2025-12-19/
LOCATION:Dorian Gray Denia\, Carrer de la Mar\, 14\, Denia\, Alicante\, 03700\, España
CATEGORIES:Concierto,DJ,Música,Ocio nocturno
ATTACH;FMTTYPE=image/png:https://disfruta-denia.com/wp-content/uploads/2025/12/Instagram-12-18-2025_04_49_PM.png
END:VEVENT
BEGIN:VEVENT
DTSTART;TZID=Europe/Madrid:20251219T173000
DTEND;TZID=Europe/Madrid:20251219T173000
DTSTAMP:20260424T175418
CREATED:20251201T140613Z
LAST-MODIFIED:20251201T140613Z
UID:10023459-1766165400-1766165400@disfruta-denia.com
SUMMARY:Cata y taller de ilustración
DESCRIPTION:
URL:https://disfruta-denia.com/evento/cata-y-taller-de-ilustracion/
LOCATION:Allgood House\, Dirección: la Muralla per les Tropes de Felip V\, Carrer de la Bretxa Oberta a la Muralla per les Tropes de Felip V\, 2\, Oberta a\, Denia\, 03700\, España
CATEGORIES:Cata,Gastronomía,Taller
ATTACH;FMTTYPE=image/jpeg:https://disfruta-denia.com/wp-content/uploads/2025/12/4764C5DC-5D10-43BB-BB91-46F71893A4C0.jpg
END:VEVENT
BEGIN:VEVENT
DTSTART;TZID=Europe/Madrid:20251218T235900
DTEND;TZID=Europe/Madrid:20251218T235900
DTSTAMP:20260424T175418
CREATED:20251218T160023Z
LAST-MODIFIED:20251218T160428Z
UID:10023520-1766102340-1766102340@disfruta-denia.com
SUMMARY:Karaoké live en La Chica de Ayer
DESCRIPTION:
URL:https://disfruta-denia.com/evento/karaoke-live-en-la-chica-de-ayer/2025-12-18/
LOCATION:La Chica de ayer\, Calle la mar 30\, Denia\, Alicante\, 03700\, España
CATEGORIES:Karaoké,Música
ATTACH;FMTTYPE=image/jpeg:https://disfruta-denia.com/wp-content/uploads/2025/12/Purple-Modern-Upcoming-Events-Calendar-2.jpg
END:VEVENT
BEGIN:VEVENT
DTSTART;TZID=Europe/Madrid:20251218T235900
DTEND;TZID=Europe/Madrid:20251218T235900
DTSTAMP:20260424T175418
CREATED:20251218T155531Z
LAST-MODIFIED:20251218T155531Z
UID:10023516-1766102340-1766102340@disfruta-denia.com
SUMMARY:Empieza la Navidad en Dorian
DESCRIPTION:JUEVES • 00’00h • NOCHE\n•Sala Dorian JUNTOS Y REVUELTOS 🎸 en directo \n🔸 VIERNES • 18’00h • TARDEO\n•Sala Dorian XARANGA XE Q FORT! 🎷🎺 en directo\n•Sala Gray JUAN GIMENO & DEIA 🎧 en cabina \n🔹 VIERNES • 00’00h • NOCHE\n•Sala Dorian MENPHIS 🎸 en directo\n•Sala Gray BORJA CONESA 🎧 en cabina \n🔸 SÁBADO • 17’30h • TARDEO\n• Sala Dorian LA MOCHA 🎸 en directo\n• Sala Gray TARON & DION DOBBE 🎧 en cabina \n🔹 SÁBADO • 00’00h • NOCHE\n• Sala Dorian LA MOCHA 🎸 en directo\n• Sala Gray BORJA CONESA 🎧 en cabina \n🔸 DOMINGO • 18’30h • TARDEO\n• Sala Dorian RUMBADOS 💃🏼 en directo
URL:https://disfruta-denia.com/evento/empieza-la-navidad-en-dorian/2025-12-18/
LOCATION:Dorian Gray Denia\, Carrer de la Mar\, 14\, Denia\, Alicante\, 03700\, España
CATEGORIES:Concierto,DJ,Música,Ocio nocturno
ATTACH;FMTTYPE=image/png:https://disfruta-denia.com/wp-content/uploads/2025/12/Instagram-12-18-2025_04_49_PM.png
END:VEVENT
BEGIN:VEVENT
DTSTART;TZID=Europe/Madrid:20251218T203000
DTEND;TZID=Europe/Madrid:20251218T203000
DTSTAMP:20260424T175418
CREATED:20251206T165834Z
LAST-MODIFIED:20251206T165928Z
UID:10023466-1766089800-1766089800@disfruta-denia.com
SUMMARY:Live music en Café Marin
DESCRIPTION:
URL:https://disfruta-denia.com/evento/live-music-en-cafe-marin-2/2025-12-18/
LOCATION:Café Marin\, Centro Comercial El Poblet\, Carr. de les Marines a Dénia\, 71\, Denia\, 03700\, España
CATEGORIES:Concierto,Música
ATTACH;FMTTYPE=image/jpeg:https://disfruta-denia.com/wp-content/uploads/2025/12/78DE79F0-851E-408A-8C3B-D0B7C62A85C4-scaled.jpg
END:VEVENT
BEGIN:VEVENT
DTSTART;TZID=Europe/Madrid:20251218T190000
DTEND;TZID=Europe/Madrid:20251218T190000
DTSTAMP:20260424T175418
CREATED:20251201T140457Z
LAST-MODIFIED:20251201T140457Z
UID:10023458-1766084400-1766084400@disfruta-denia.com
SUMMARY:Evento navideño de networking para emprendedores
DESCRIPTION:
URL:https://disfruta-denia.com/evento/evento-navideno-de-networking-para-emprendedores/
LOCATION:Allgood House\, Dirección: la Muralla per les Tropes de Felip V\, Carrer de la Bretxa Oberta a la Muralla per les Tropes de Felip V\, 2\, Oberta a\, Denia\, 03700\, España
ATTACH;FMTTYPE=image/jpeg:https://disfruta-denia.com/wp-content/uploads/2025/12/1FFAE013-C27A-4D61-82F8-92CF7E168D4E.jpg
END:VEVENT
BEGIN:VEVENT
DTSTART;TZID=Europe/Madrid:20251218T093000
DTEND;TZID=Europe/Madrid:20251218T093000
DTSTAMP:20260424T175418
CREATED:20250905T093447Z
LAST-MODIFIED:20250905T093447Z
UID:10022075-1766050200-1766050200@disfruta-denia.com
SUMMARY:Denia camina
DESCRIPTION:🚶‍♀️ ¡Dénia Camina vuelve a caminar!\n¿Y tú\, te animas?\nMartes y jueves a las 9:30 h desde el Centro de Salud Joan Fuster\, con nuevas salidas temáticas y culturales para disfrutar caminando. \nℹ️ + info en el 618 945 344 o en esports.denia.es \nTambién:\n➡️La Xara Camina (dos viernes al mes).\n➡️Jesús Pobre Camina (los otros dos viernes). \nActividad gratuita y abierta a todas y todos
URL:https://disfruta-denia.com/evento/denia-camina/2025-12-18/
LOCATION:Alicante
CATEGORIES:Deporte
ATTACH;FMTTYPE=image/png:https://disfruta-denia.com/wp-content/uploads/2025/09/Instagram-09-05-2025_11_31_AM.png
END:VEVENT
BEGIN:VEVENT
DTSTART;TZID=Europe/Madrid:20251218T080000
DTEND;TZID=Europe/Madrid:20251218T170000
DTSTAMP:20260424T175418
CREATED:20251218T163642Z
LAST-MODIFIED:20251218T163643Z
UID:10024825-1766044800-1766077200@disfruta-denia.com
SUMMARY:Concierto covers en La Chica de Ayer
DESCRIPTION:EMPIEZA A LAS 00H30
URL:https://disfruta-denia.com/evento/concierto-covers-en-la-chica-de-ayer/
LOCATION:La Chica de ayer\, Calle la mar 30\, Denia\, Alicante\, 03700\, España
CATEGORIES:Concierto,Música,Ocio nocturno
ATTACH;FMTTYPE=image/jpeg:https://disfruta-denia.com/wp-content/uploads/2025/12/Purple-Modern-Upcoming-Events-Calendar-4.jpg
END:VEVENT
END:VCALENDAR