BEGIN:VCALENDAR
VERSION:2.0
PRODID:-//Disfruta Denia - ECPv6.15.20//NONSGML v1.0//EN
CALSCALE:GREGORIAN
METHOD:PUBLISH
X-WR-CALNAME:Disfruta Denia
X-ORIGINAL-URL:https://disfruta-denia.com
X-WR-CALDESC:Eventos para Disfruta Denia
REFRESH-INTERVAL;VALUE=DURATION:PT1H
X-Robots-Tag:noindex
X-PUBLISHED-TTL:PT1H
BEGIN:VTIMEZONE
TZID:Europe/Madrid
BEGIN:DAYLIGHT
TZOFFSETFROM:+0100
TZOFFSETTO:+0200
TZNAME:CEST
DTSTART:20240331T010000
END:DAYLIGHT
BEGIN:STANDARD
TZOFFSETFROM:+0200
TZOFFSETTO:+0100
TZNAME:CET
DTSTART:20241027T010000
END:STANDARD
BEGIN:DAYLIGHT
TZOFFSETFROM:+0100
TZOFFSETTO:+0200
TZNAME:CEST
DTSTART:20250330T010000
END:DAYLIGHT
BEGIN:STANDARD
TZOFFSETFROM:+0200
TZOFFSETTO:+0100
TZNAME:CET
DTSTART:20251026T010000
END:STANDARD
BEGIN:DAYLIGHT
TZOFFSETFROM:+0100
TZOFFSETTO:+0200
TZNAME:CEST
DTSTART:20260329T010000
END:DAYLIGHT
BEGIN:STANDARD
TZOFFSETFROM:+0200
TZOFFSETTO:+0100
TZNAME:CET
DTSTART:20261025T010000
END:STANDARD
END:VTIMEZONE
BEGIN:VEVENT
DTSTART;TZID=Europe/Madrid:20251211T210000
DTEND;TZID=Europe/Madrid:20251211T210000
DTSTAMP:20260425T044517
CREATED:20251126T080051Z
LAST-MODIFIED:20251126T080052Z
UID:10016690-1765486800-1765486800@disfruta-denia.com
SUMMARY:Karaoké en Rebeldía Blues
DESCRIPTION:Karaoké en Rebeldía Blues
URL:https://disfruta-denia.com/evento/karaoke-en-rebeldia-blues-4-2-2-2-2-2-4-2-2/2025-12-11/
LOCATION:Rebeldia Blues\, Carr. de Dénia A Xábia\, 3G\, Denia\, Alicante\, 03700\, España
CATEGORIES:Karaoké,Música
ATTACH;FMTTYPE=image/jpeg:https://disfruta-denia.com/wp-content/uploads/2025/11/8d230c5f-3bf9-49cf-abc3-d73a7ed23d68.jpg
END:VEVENT
BEGIN:VEVENT
DTSTART;TZID=Europe/Madrid:20251211T203000
DTEND;TZID=Europe/Madrid:20251211T203000
DTSTAMP:20260425T044517
CREATED:20251206T165834Z
LAST-MODIFIED:20251206T165928Z
UID:10023464-1765485000-1765485000@disfruta-denia.com
SUMMARY:Live music en Café Marin
DESCRIPTION:
URL:https://disfruta-denia.com/evento/live-music-en-cafe-marin-2/2025-12-11/
LOCATION:Café Marin\, Centro Comercial El Poblet\, Carr. de les Marines a Dénia\, 71\, Denia\, 03700\, España
CATEGORIES:Concierto,Música
ATTACH;FMTTYPE=image/jpeg:https://disfruta-denia.com/wp-content/uploads/2025/12/78DE79F0-851E-408A-8C3B-D0B7C62A85C4-scaled.jpg
END:VEVENT
BEGIN:VEVENT
DTSTART;TZID=Europe/Madrid:20251211T190000
DTEND;TZID=Europe/Madrid:20251211T190000
DTSTAMP:20260425T044517
CREATED:20251126T080828Z
LAST-MODIFIED:20251126T080828Z
UID:10023445-1765479600-1765479600@disfruta-denia.com
SUMMARY:Presentación libro: BUSCANDO EL VERDADERO IMPULSO
DESCRIPTION:Poemas:  Álex Bellmonde. Ilustraciones: Maica Ontiñano. \nEntrada: lliure fins a completar aforament /libre hasta completar aforo.
URL:https://disfruta-denia.com/evento/presentacion-libro-buscando-el-verdadero-impulso/
LOCATION:Casa de la Cultura Denia\, Plaça Jaume I\, Denia\, Alicante\, 03700\, España
CATEGORIES:Cultura,Presentación
ATTACH;FMTTYPE=image/png:https://disfruta-denia.com/wp-content/uploads/2025/11/9-Presentacio-llibre-dia-11.png
END:VEVENT
BEGIN:VEVENT
DTSTART;TZID=Europe/Madrid:20251211T190000
DTEND;TZID=Europe/Madrid:20251211T190000
DTSTAMP:20260425T044517
CREATED:20251126T080717Z
LAST-MODIFIED:20251126T080717Z
UID:10023444-1765479600-1765479600@disfruta-denia.com
SUMMARY:CELEBRACIÓ DIA DE LES MUNTANYES
DESCRIPTION:19 h      • Projecció del documental / Proyección del documental: Ta Bo – Abriendo Camino \nUna obra que relata una expedició d’escalada femenina a Angola amb un enfocament social\, inclusiu i    d’apoderament de la dona / Una obra que relata una expedición de escalada femenina en Angola con un  enfoque social\, inclusivo y de empoderamiento de la mujer. \n  \n19.45 h • Presentació i xarra-col·loqui amb algunes de les protagonistes del documental / Presentación y charla-        coloquio con algunas de las protagonistas del documental.   \n  \n20.30 h • Espai per a preguntes i interacció amb el públic\, especialment enfocat a joves\, dones esportistes i col·lectius culturals / Espacio para preguntas e interacción con el público\, especialmente enfocado a jóvenes\, mujeres deportistas y colectivos culturales. \n  \nDirector: Juan Miguel Ponce \nOrganitza / Organiza: Club de Escalada Dénia (CED). Presidente: Sergio Pastor Serra.  \nCol·labora / Colabora Ajuntament de Dénia. Cultura
URL:https://disfruta-denia.com/evento/celebracio-dia-de-les-muntanyes/
LOCATION:Alicante
CATEGORIES:Charlas y conferencias,Ciné,Cultura,Presentación
ATTACH;FMTTYPE=image/png:https://disfruta-denia.com/wp-content/uploads/2025/11/8-dia-de-les-muntanyes.png
END:VEVENT
BEGIN:VEVENT
DTSTART;TZID=Europe/Madrid:20251211T093000
DTEND;TZID=Europe/Madrid:20251211T093000
DTSTAMP:20260425T044517
CREATED:20250905T093447Z
LAST-MODIFIED:20250905T093447Z
UID:10022073-1765445400-1765445400@disfruta-denia.com
SUMMARY:Denia camina
DESCRIPTION:🚶‍♀️ ¡Dénia Camina vuelve a caminar!\n¿Y tú\, te animas?\nMartes y jueves a las 9:30 h desde el Centro de Salud Joan Fuster\, con nuevas salidas temáticas y culturales para disfrutar caminando. \nℹ️ + info en el 618 945 344 o en esports.denia.es \nTambién:\n➡️La Xara Camina (dos viernes al mes).\n➡️Jesús Pobre Camina (los otros dos viernes). \nActividad gratuita y abierta a todas y todos
URL:https://disfruta-denia.com/evento/denia-camina/2025-12-11/
LOCATION:Alicante
CATEGORIES:Deporte
ATTACH;FMTTYPE=image/png:https://disfruta-denia.com/wp-content/uploads/2025/09/Instagram-09-05-2025_11_31_AM.png
END:VEVENT
BEGIN:VEVENT
DTSTART;TZID=Europe/Madrid:20251210T203000
DTEND;TZID=Europe/Madrid:20251210T203000
DTSTAMP:20260425T044517
CREATED:20240414T124150Z
LAST-MODIFIED:20240414T124150Z
UID:10017998-1765398600-1765398600@disfruta-denia.com
SUMMARY:Miércoles latinos\, miércoles clandestinos
DESCRIPTION:Miércoles latinos\, miércoles clandestinos  Cada miércoles a las 20.30h tenemos una cita con Madelyn Torroella a ritmo cubano!! Voz\, percusión y versiones de salsa clásica\, cada miércoles\, en el Speak. Parrillada\, tacos\, tapas\, cocktails & música. Reserva tu mesa
URL:https://disfruta-denia.com/evento/miercoles-latinos-miercoles-clandestinos/2025-12-10/
LOCATION:The Speak Denia\, Carrer del Pont\, 19\, Denia\, Alicante\, 03700\, España
CATEGORIES:Concierto,Música
ATTACH;FMTTYPE=image/jpeg:https://disfruta-denia.com/wp-content/uploads/2024/04/434468313_1159701198651630_4992165217264460198_n.jpg
END:VEVENT
BEGIN:VEVENT
DTSTART;TZID=Europe/Madrid:20251210T200000
DTEND;TZID=Europe/Madrid:20251210T233000
DTSTAMP:20260425T044517
CREATED:20230612T102803Z
LAST-MODIFIED:20230612T102804Z
UID:10009068-1765396800-1765409400@disfruta-denia.com
SUMMARY:Autocine: día del espectador
DESCRIPTION:
URL:https://disfruta-denia.com/evento/autocine-dia-del-espectador-3/2025-12-10/
LOCATION:Autociné Denia\, Partida Deveses D\, 27\, Denia\, Alicante\, 03700\, España
CATEGORIES:Ciné,Cultura
ATTACH;FMTTYPE=image/jpeg:https://disfruta-denia.com/wp-content/uploads/2022/11/Autocine-Drive-In-Denia-1.jpg
END:VEVENT
BEGIN:VEVENT
DTSTART;TZID=Europe/Madrid:20251210T193000
DTEND;TZID=Europe/Madrid:20251210T193000
DTSTAMP:20260425T044517
CREATED:20250603T094354Z
LAST-MODIFIED:20250603T094354Z
UID:10021338-1765395000-1765395000@disfruta-denia.com
SUMMARY:Encuentros en Códigos
DESCRIPTION:​¡Bienvenidos a Encuentros en Códigos\, el Meetup internacional semanal en Códigos del Arte!\nNos reunimos todos los miércoles a partir de las 19:30 — toma algo\, relájate\, y disfruta de una buena conversación.\nTodos los miércoles – 19:30\nEntrada: Gratuita
URL:https://disfruta-denia.com/evento/encuentros-en-codigos/2025-12-10/
LOCATION:Códigos del Arte\, Carreró de Morant\, 8\, Dénia\, 03700\, España
CATEGORIES:Tardeo
ATTACH;FMTTYPE=image/png:https://disfruta-denia.com/wp-content/uploads/2025/06/Codigos-del-Arte-20.png
END:VEVENT
BEGIN:VEVENT
DTSTART;TZID=Europe/Madrid:20251210T190000
DTEND;TZID=Europe/Madrid:20251210T210000
DTSTAMP:20260425T044517
CREATED:20231115T115842Z
LAST-MODIFIED:20231115T115843Z
UID:10008385-1765393200-1765400400@disfruta-denia.com
SUMMARY:Tardeo en Basta
DESCRIPTION:
URL:https://disfruta-denia.com/evento/tardeo-en-basta-3-3/2025-12-10/
LOCATION:Basta Lounge Bar\, Marina de Dénia\, Local C2\, Denia\, Valencian Community\, 03700\, España
CATEGORIES:Concierto,Música,Tardeo
ATTACH;FMTTYPE=image/jpeg:https://disfruta-denia.com/wp-content/uploads/2022/12/IMG_3678.jpeg
END:VEVENT
BEGIN:VEVENT
DTSTART;TZID=Europe/Madrid:20251209T093000
DTEND;TZID=Europe/Madrid:20251209T093000
DTSTAMP:20260425T044517
CREATED:20250905T093447Z
LAST-MODIFIED:20250905T093447Z
UID:10022072-1765272600-1765272600@disfruta-denia.com
SUMMARY:Denia camina
DESCRIPTION:🚶‍♀️ ¡Dénia Camina vuelve a caminar!\n¿Y tú\, te animas?\nMartes y jueves a las 9:30 h desde el Centro de Salud Joan Fuster\, con nuevas salidas temáticas y culturales para disfrutar caminando. \nℹ️ + info en el 618 945 344 o en esports.denia.es \nTambién:\n➡️La Xara Camina (dos viernes al mes).\n➡️Jesús Pobre Camina (los otros dos viernes). \nActividad gratuita y abierta a todas y todos
URL:https://disfruta-denia.com/evento/denia-camina/2025-12-09/
LOCATION:Alicante
CATEGORIES:Deporte
ATTACH;FMTTYPE=image/png:https://disfruta-denia.com/wp-content/uploads/2025/09/Instagram-09-05-2025_11_31_AM.png
END:VEVENT
BEGIN:VEVENT
DTSTART;TZID=Europe/Madrid:20251208T203000
DTEND;TZID=Europe/Madrid:20251208T203000
DTSTAMP:20260425T044517
CREATED:20230912T174836Z
LAST-MODIFIED:20230912T174838Z
UID:10011527-1765225800-1765225800@disfruta-denia.com
SUMMARY:Tardeo con Marce Pesoa
DESCRIPTION:Esta noche. Tonight. \nLive music 20.30h. \nMarce Pesoa en The Speak Dénia. \nTacos\, Cocktails\, Parrilla \n& la mejor musica 🔥🤘 \nReservas: 675753879 \nLet’s #funmonday today!
URL:https://disfruta-denia.com/evento/tardeo-con-marce-pesoa-2/2025-12-08/
LOCATION:The Speak Denia\, Carrer del Pont\, 19\, Denia\, Alicante\, 03700\, España
CATEGORIES:Concierto,Música,Tardeo
ATTACH;FMTTYPE=image/jpeg:https://disfruta-denia.com/wp-content/uploads/2023/06/IMG-20230619-WA0000.jpg
END:VEVENT
BEGIN:VEVENT
DTSTART;TZID=Europe/Madrid:20251208T163000
DTEND;TZID=Europe/Madrid:20251208T163000
DTSTAMP:20260425T044517
CREATED:20251201T140255Z
LAST-MODIFIED:20251201T140255Z
UID:10023457-1765211400-1765211400@disfruta-denia.com
SUMMARY:Taller navideño\, adornos y merienda
DESCRIPTION:
URL:https://disfruta-denia.com/evento/taller-navideno-adornos-y-merienda/
LOCATION:Allgood House\, Dirección: la Muralla per les Tropes de Felip V\, Carrer de la Bretxa Oberta a la Muralla per les Tropes de Felip V\, 2\, Oberta a\, Denia\, 03700\, España
CATEGORIES:Taller
ATTACH;FMTTYPE=image/jpeg:https://disfruta-denia.com/wp-content/uploads/2025/12/F82EB1B8-56C1-4EB4-87F3-F647BD567865.jpg
END:VEVENT
BEGIN:VEVENT
DTSTART;TZID=Europe/Madrid:20251208T110000
DTEND;TZID=Europe/Madrid:20251208T150000
DTSTAMP:20260425T044517
CREATED:20251117T100106Z
LAST-MODIFIED:20251117T100120Z
UID:10023424-1765191600-1765206000@disfruta-denia.com
SUMMARY:Christmas Market en Les Freses
DESCRIPTION:Vuelve el tradicional Christmas Market de Les Freses los días 6\,7 y 8 de diciembre en la bodega
URL:https://disfruta-denia.com/evento/christmas-market-en-les-freses/2025-12-08/
LOCATION:Les Freses\, Parcela\, 1\, polígono 12\, Jesús Pobre\, 03749\, España
CATEGORIES:Market,Mercado
ATTACH;FMTTYPE=image/jpeg:https://disfruta-denia.com/wp-content/uploads/2025/11/IMG_1174.jpg
END:VEVENT
BEGIN:VEVENT
DTSTART;TZID=Europe/Madrid:20251208T100000
DTEND;TZID=Europe/Madrid:20251208T110000
DTSTAMP:20260425T044517
CREATED:20250603T093855Z
LAST-MODIFIED:20250603T093912Z
UID:10021076-1765188000-1765191600@disfruta-denia.com
SUMMARY:Monday Stretch with Marianna
DESCRIPTION:Empieza la semana con una sesión de Pilates guiada por la instructora Marianna.\nDespués\, date un capricho con un café o una kombucha refrescante.\nTodos los lunes – 10:00
URL:https://disfruta-denia.com/evento/monday-stretch-with-marianna/2025-12-08/
LOCATION:Códigos del Arte\, Carreró de Morant\, 8\, Dénia\, 03700\, España
CATEGORIES:Deporte
ATTACH;FMTTYPE=image/png:https://disfruta-denia.com/wp-content/uploads/2025/06/Codigos-del-Arte-5.png
END:VEVENT
BEGIN:VEVENT
DTSTART;TZID=Europe/Madrid:20251207T203000
DTEND;TZID=Europe/Madrid:20251207T203000
DTSTAMP:20260425T044517
CREATED:20251206T165834Z
LAST-MODIFIED:20251206T165928Z
UID:10023463-1765139400-1765139400@disfruta-denia.com
SUMMARY:Live music en Café Marin
DESCRIPTION:
URL:https://disfruta-denia.com/evento/live-music-en-cafe-marin-2/2025-12-07/
LOCATION:Café Marin\, Centro Comercial El Poblet\, Carr. de les Marines a Dénia\, 71\, Denia\, 03700\, España
CATEGORIES:Concierto,Música
ATTACH;FMTTYPE=image/jpeg:https://disfruta-denia.com/wp-content/uploads/2025/12/78DE79F0-851E-408A-8C3B-D0B7C62A85C4-scaled.jpg
END:VEVENT
BEGIN:VEVENT
DTSTART;TZID=Europe/Madrid:20251207T190000
DTEND;TZID=Europe/Madrid:20251207T190000
DTSTAMP:20260425T044517
CREATED:20251126T080508Z
LAST-MODIFIED:20251126T080508Z
UID:10023443-1765134000-1765134000@disfruta-denia.com
SUMMARY:Cineclub: GATO NEGRO\, GATO BLANCO
DESCRIPTION:GATO NEGRO\, GATO BLANCO.  Dir.: Emir Kusturika (1998) Iugoslàvia /Yugoslavia\, 1998\, 123 min. V.O. en romaní\, búlgar\, serbi\, serbocroat / rumano\, búlgaro\, serbio\, serbocroata. Subtitulada en castellà / castellano \nRecomanada / recomendada + de 13 anys / años. \nEntrada 3 €  En www.notikumi.com  Taquilla: el mateix dia una hora abans/ el mismo día una hora antes
URL:https://disfruta-denia.com/evento/cineclub-gato-negro-gato-blanco/
LOCATION:Teatro Auditorio Centro Social\, 4 Carrer Calderón\, Dénia\, VC\, 03700\, Spain
CATEGORIES:Ciné,Cultura
ATTACH;FMTTYPE=image/png:https://disfruta-denia.com/wp-content/uploads/2025/11/7-cine-dia-7.png
END:VEVENT
BEGIN:VEVENT
DTSTART;TZID=Europe/Madrid:20251207T160000
DTEND;TZID=Europe/Madrid:20251207T160000
DTSTAMP:20260425T044517
CREATED:20251109T093752Z
LAST-MODIFIED:20251109T093753Z
UID:10022787-1765123200-1765123200@disfruta-denia.com
SUMMARY:Tardeos live Mr Fisher
DESCRIPTION:
URL:https://disfruta-denia.com/evento/tardeos-live-mr-fisher-2/2025-12-07/
LOCATION:Mr Fisher\, Moll de La Pansa s/n. Marina El Portet\, Denia\, Alicante\, 03700\, España
CATEGORIES:Concierto,Música,Tardeo
ATTACH;FMTTYPE=image/jpeg:https://disfruta-denia.com/wp-content/uploads/2025/10/577835849_1251652683435110_2887637695401511676_n.jpg
END:VEVENT
BEGIN:VEVENT
DTSTART;TZID=Europe/Madrid:20251207T110000
DTEND;TZID=Europe/Madrid:20251207T150000
DTSTAMP:20260425T044517
CREATED:20251117T100106Z
LAST-MODIFIED:20251117T100120Z
UID:10023423-1765105200-1765119600@disfruta-denia.com
SUMMARY:Christmas Market en Les Freses
DESCRIPTION:Vuelve el tradicional Christmas Market de Les Freses los días 6\,7 y 8 de diciembre en la bodega
URL:https://disfruta-denia.com/evento/christmas-market-en-les-freses/2025-12-07/
LOCATION:Les Freses\, Parcela\, 1\, polígono 12\, Jesús Pobre\, 03749\, España
CATEGORIES:Market,Mercado
ATTACH;FMTTYPE=image/jpeg:https://disfruta-denia.com/wp-content/uploads/2025/11/IMG_1174.jpg
END:VEVENT
BEGIN:VEVENT
DTSTART;TZID=Europe/Madrid:20251207T103000
DTEND;TZID=Europe/Madrid:20251207T103000
DTSTAMP:20260425T044517
CREATED:20251201T140112Z
LAST-MODIFIED:20251201T140112Z
UID:10023456-1765103400-1765103400@disfruta-denia.com
SUMMARY:Ballet Fit especial Navidad
DESCRIPTION:
URL:https://disfruta-denia.com/evento/ballet-fit-especial-navidad/
LOCATION:Allgood House\, Dirección: la Muralla per les Tropes de Felip V\, Carrer de la Bretxa Oberta a la Muralla per les Tropes de Felip V\, 2\, Oberta a\, Denia\, 03700\, España
CATEGORIES:Brunch,Deporte,Gastronomía
ATTACH;FMTTYPE=image/jpeg:https://disfruta-denia.com/wp-content/uploads/2025/12/704812C0-02DD-4541-AF23-36D355B2AE4B.jpg
END:VEVENT
BEGIN:VEVENT
DTSTART;TZID=Europe/Madrid:20251207T103000
DTEND;TZID=Europe/Madrid:20251207T103000
DTSTAMP:20260425T044517
CREATED:20251126T080358Z
LAST-MODIFIED:20251126T080358Z
UID:10023442-1765103400-1765103400@disfruta-denia.com
SUMMARY:Visita en familia: LA RUTA DE LES ERMITES
DESCRIPTION:LA RUTA DE LES ERMITES: DE SANTA LLÚCIA A SANT JOAN. \nPunt d’Encontre / Punto de encuentro: Pàrquing Residència Santa Llúcia. 10.30 h. Dificultat baixa \nInformació i reserves/información y reservas: Museu Etnològic de Dénia\, 966420260.  \nDe dimarts a diumenge / martes a domingo\, de 10 a 13 h.  \nVisita amb guia expert / Visita con guía experto.
URL:https://disfruta-denia.com/evento/visita-en-familia-la-ruta-de-les-ermites/
LOCATION:Museo Etnológico de Dénia\, C/ Cavallers\, 1\, Denia\, Alicante\, 03700\, España
CATEGORIES:Deporte,Excursión
ATTACH;FMTTYPE=image/png:https://disfruta-denia.com/wp-content/uploads/2025/11/6-familia-dia-7.png
END:VEVENT
BEGIN:VEVENT
DTSTART;TZID=Europe/Madrid:20251207T093000
DTEND;TZID=Europe/Madrid:20251207T140000
DTSTAMP:20260425T044517
CREATED:20251121T150724Z
LAST-MODIFIED:20251121T150725Z
UID:10023091-1765099800-1765116000@disfruta-denia.com
SUMMARY:Mercat del Autocine
DESCRIPTION:¡ La mejor música blues estará este domingo 23 en el Autocine Drive In de Dénia con la actuación en directo de BIG HOLLERS! Si eres amante de la buena música\, el buen ambiente y los planes diferentes\, no te puedes perder el Mercat de l’Autocine. Descubre un pequeño Mercado con artesanos y productores selectos y un ambiente genial y apto para toda la familia. Zona infantil para que los más pequeños también se lo pasen en grande! Autocine Drive In Dénia – Final de la Carretera de Les Marines Abierto desde las 9:30 h Música en directo a partir de las 11:30 h Acceso libre y aparcamiento disponible ¡Ven a vivir un domingo diferente y disfruta de la vida! 
URL:https://disfruta-denia.com/evento/mercat-del-autocine-2-2-2/2025-12-07/
LOCATION:Autociné Denia\, Partida Deveses D\, 27\, Denia\, Alicante\, 03700\, España
CATEGORIES:Concierto,Gastronomía,Mercado,Música
ATTACH;FMTTYPE=image/jpeg:https://disfruta-denia.com/wp-content/uploads/2025/11/586706623_1353701539881086_447670830255832971_n.jpg
END:VEVENT
BEGIN:VEVENT
DTSTART;TZID=Europe/Madrid:20251207T090000
DTEND;TZID=Europe/Madrid:20251207T140000
DTSTAMP:20260425T044517
CREATED:20251122T165008Z
LAST-MODIFIED:20251122T165009Z
UID:10022526-1765098000-1765116000@disfruta-denia.com
SUMMARY:Mercat del Riurau Jesus Pobre
DESCRIPTION: ¡Momentos únicos en el Mercado del Riurau!  Ven a disfrutar de un buen almuerzo al solecito\, música y la autenticidad de los productos locales. A partir de las 12:00 h\, disfrutaremos de buena música para ambientar el día con “Els Kikos”.Jesús Pobre te acoge con ganas y buen ambiente… ¡nos vemos en el mercado
URL:https://disfruta-denia.com/evento/mercat-del-riurau-jesus-pobre-26-2-2/2025-12-07/
LOCATION:Mercado Riurau Jesus Pobre\, Jesus Pobre\, Alicante\, 03749\, España
CATEGORIES:Concierto,Gastronomía,Mercado
ATTACH;FMTTYPE=image/jpeg:https://disfruta-denia.com/wp-content/uploads/2025/11/584402203_18075574949242809_3473902751713740657_n.jpg
END:VEVENT
BEGIN:VEVENT
DTSTART;TZID=Europe/Madrid:20251206T235900
DTEND;TZID=Europe/Madrid:20251206T235900
DTSTAMP:20260425T044517
CREATED:20251030T085929Z
LAST-MODIFIED:20251030T085929Z
UID:10006641-1765065540-1765065540@disfruta-denia.com
SUMMARY:Concierto en LCDA
DESCRIPTION:
URL:https://disfruta-denia.com/evento/concierto-en-lcda-4-5/2025-12-06/
LOCATION:La Chica de ayer\, Calle la mar 30\, Denia\, Alicante\, 03700\, España
CATEGORIES:Concierto,Música,Ocio nocturno
ATTACH;FMTTYPE=image/jpeg:https://disfruta-denia.com/wp-content/uploads/2022/11/573042271_18291031720272948_2192054553218316671_n.jpg
END:VEVENT
BEGIN:VEVENT
DTSTART;TZID=Europe/Madrid:20251206T213000
DTEND;TZID=Europe/Madrid:20251206T213000
DTSTAMP:20260425T044517
CREATED:20251201T141103Z
LAST-MODIFIED:20251201T141104Z
UID:10019986-1765056600-1765056600@disfruta-denia.com
SUMMARY:Sábado concierto en Rebeldía Blues
DESCRIPTION:🎤 Sábado 6 de diciembre – 21h30\n¡Fin de semana a puro Blues en Rebeldía Blues! 😎🎶 \nVuelve el gran Danny Boy Blues Band\, una auténtica explosión de blues clásico con mucha personalidad\, armónica afilada y una banda que derrocha groove en cada tema 🎸🔥 \nY después del concierto…\n🎧 DJ Ismael Monsonis seguirá subiendo la temperatura musical para que la noche continúe a tope 🕺💥 \n🎟️ Entrada libre – Free!\n📍 Rebeldía Blues – Dénia\n🕤 21h30
URL:https://disfruta-denia.com/evento/sabado-concierto-en-rebeldia-blues-3-2-10-3-3-2-8-3-2-2-2-2-2-2-2-2-2-2-2-2-2-2-2-2-2-2/2025-12-06/
LOCATION:Rebeldia Blues\, Carr. de Dénia A Xábia\, 3G\, Denia\, Alicante\, 03700\, España
CATEGORIES:Jazz,Música
ATTACH;FMTTYPE=image/jpeg:https://disfruta-denia.com/wp-content/uploads/2025/11/PHOTO-2025-12-01-11-44-18.jpg
END:VEVENT
BEGIN:VEVENT
DTSTART;TZID=Europe/Madrid:20251206T203000
DTEND;TZID=Europe/Madrid:20251206T203000
DTSTAMP:20260425T044517
CREATED:20240429T085216Z
LAST-MODIFIED:20240429T085218Z
UID:10014852-1765053000-1765053000@disfruta-denia.com
SUMMARY:Concierto: MC LUCAS BAND
DESCRIPTION:Tras el éxito y las ganas de más…. tendremos a MC LUCAS BAND cada primer sábado del mes!!! \, con ellos te lo pasarás en grande. ¡¡ NO TE LO PIERDAS Y RESERVA TU MESA!! ROCK N’ ROLL OH YEAH  ****************************************Since the last time went to well and you all begged for more we will have MC LUCAS BAND with us every first Saturday of the month!!! \, with them you will have a great time. DON’T MISS IT AND BOOK YOUR TABLE!! ROCK N’ ROLL OH YEAH 
URL:https://disfruta-denia.com/evento/concierto-mc-lucas-band-2/2025-12-06/
LOCATION:Bohemia Xalo\, Colonia lliber 21\, Jalón\, España
CATEGORIES:Concierto,Música
ATTACH;FMTTYPE=image/jpeg:https://disfruta-denia.com/wp-content/uploads/2023/11/440583764_17877569739065820_5475036873752478293_n.jpg
END:VEVENT
BEGIN:VEVENT
DTSTART;TZID=Europe/Madrid:20251206T173000
DTEND;TZID=Europe/Madrid:20251206T213000
DTSTAMP:20260425T044517
CREATED:20251130T101152Z
LAST-MODIFIED:20251130T101200Z
UID:10023454-1765042200-1765056600@disfruta-denia.com
SUMMARY:Nit de la Llum Denia 2025
DESCRIPTION:Empieza diciembre y en #Dénia celebramos una cita imprescindible: la Nit de la Llum. \nApúntala: el sábado 6 de diciembre\, de 17:30 a 21:30 h\, el centro de la ciudad se iluminará con la magia de 10.000 velas. \nUna tarde llena de espectáculos acrobáticos\, música en directo\, coros navideños\, photocall\, exposiciones de vehículos y un ambiente único que llenará las calles de luz y alegría. \n🎁Los comercios se suman a la fiesta con detalles que harán la experiencia aún más especial. \n🕯️✨ Cuando el comercio se ilumina\, la ciudad se llena de magia.
URL:https://disfruta-denia.com/evento/nit-de-la-llum-denia-2025/
LOCATION:Denia\, Denia\, Alicante\, 03700\, España
CATEGORIES:Fiesta,Mercado
ATTACH;FMTTYPE=image/png:https://disfruta-denia.com/wp-content/uploads/2025/11/Instagram-11-30-2025_11_09_AM.png
END:VEVENT
BEGIN:VEVENT
DTSTART;TZID=Europe/Madrid:20251206T170000
DTEND;TZID=Europe/Madrid:20251206T170000
DTSTAMP:20260425T044517
CREATED:20251121T141930Z
LAST-MODIFIED:20251121T141930Z
UID:10023432-1765040400-1765040400@disfruta-denia.com
SUMMARY:Tour Mundo Marino
DESCRIPTION:
URL:https://disfruta-denia.com/evento/tour-mundo-marino/
LOCATION:Muelle Mundo Marino\, Esplanada Cervantes\, 23\, Denia\, Alicante\, 03700\, España
CATEGORIES:Concierto,Excursión,Música
ATTACH;FMTTYPE=image/jpeg:https://disfruta-denia.com/wp-content/uploads/2025/11/PHOTO-2025-11-21-14-59-58.jpg
END:VEVENT
BEGIN:VEVENT
DTSTART;TZID=Europe/Madrid:20251206T110000
DTEND;TZID=Europe/Madrid:20251206T150000
DTSTAMP:20260425T044517
CREATED:20251117T100106Z
LAST-MODIFIED:20251117T100120Z
UID:10023422-1765018800-1765033200@disfruta-denia.com
SUMMARY:Christmas Market en Les Freses
DESCRIPTION:Vuelve el tradicional Christmas Market de Les Freses los días 6\,7 y 8 de diciembre en la bodega
URL:https://disfruta-denia.com/evento/christmas-market-en-les-freses/2025-12-06/
LOCATION:Les Freses\, Parcela\, 1\, polígono 12\, Jesús Pobre\, 03749\, España
CATEGORIES:Market,Mercado
ATTACH;FMTTYPE=image/jpeg:https://disfruta-denia.com/wp-content/uploads/2025/11/IMG_1174.jpg
END:VEVENT
BEGIN:VEVENT
DTSTART;TZID=Europe/Madrid:20251206T103000
DTEND;TZID=Europe/Madrid:20251206T103000
DTSTAMP:20260425T044517
CREATED:20251201T135821Z
LAST-MODIFIED:20251201T135942Z
UID:10023455-1765017000-1765017000@disfruta-denia.com
SUMMARY:Brunch y taller de coronas navideñas
DESCRIPTION:
URL:https://disfruta-denia.com/evento/brunch-y-taller-de-coronas-navidenas/
LOCATION:Allgood House\, Dirección: la Muralla per les Tropes de Felip V\, Carrer de la Bretxa Oberta a la Muralla per les Tropes de Felip V\, 2\, Oberta a\, Denia\, 03700\, España
CATEGORIES:Brunch,Gastronomía,Taller
ATTACH;FMTTYPE=image/jpeg:https://disfruta-denia.com/wp-content/uploads/2025/12/04FAE065-0EBE-4120-94BF-424F56BB7FE2.jpg
END:VEVENT
BEGIN:VEVENT
DTSTART;TZID=Europe/Madrid:20251205T213000
DTEND;TZID=Europe/Madrid:20251205T213000
DTSTAMP:20260425T044517
CREATED:20251201T141159Z
LAST-MODIFIED:20251201T141200Z
UID:10019726-1764970200-1764970200@disfruta-denia.com
SUMMARY:Concierto de Viernes en Rebeldía Blues
DESCRIPTION:🎸 Viernes 5 de diciembre – 21h30\n¡Prepara una noche llena de energía en Rebeldía Blues! 😎🔥 \nNos visita FAKE NEWS\, una banda potente de Blues & Rock que hará vibrar cada rincón del local 🤘🎤\nClasicazos\, actitud y un directo que no te dejará indiferente 🎶⚡ \nY cuando termine el concierto…\n🎧 DJ Ismael Monsonis toma el control para seguir la fiesta hasta que el cuerpo aguante 🕺🔥 \n🎟️ Entrada libre – Free!\n📍 Rebeldía Blues – Dénia\n🕤 21h30
URL:https://disfruta-denia.com/evento/concierto-de-viernes-en-rebeldia-blues-3-3-10-3-3-3-2-9-2-2-3-2-2-2-2-2-2-2-2-2-2-3-2-2/2025-12-05/
LOCATION:Rebeldia Blues\, Carr. de Dénia A Xábia\, 3G\, Denia\, Alicante\, 03700\, España
CATEGORIES:Jazz,Música
ATTACH;FMTTYPE=image/jpeg:https://disfruta-denia.com/wp-content/uploads/2025/11/PHOTO-2025-12-01-11-44-18-2.jpg
END:VEVENT
END:VCALENDAR