BEGIN:VCALENDAR
VERSION:2.0
PRODID:-//Disfruta Denia - ECPv6.15.20//NONSGML v1.0//EN
CALSCALE:GREGORIAN
METHOD:PUBLISH
X-WR-CALNAME:Disfruta Denia
X-ORIGINAL-URL:https://disfruta-denia.com
X-WR-CALDESC:Eventos para Disfruta Denia
REFRESH-INTERVAL;VALUE=DURATION:PT1H
X-Robots-Tag:noindex
X-PUBLISHED-TTL:PT1H
BEGIN:VTIMEZONE
TZID:Europe/Madrid
BEGIN:DAYLIGHT
TZOFFSETFROM:+0100
TZOFFSETTO:+0200
TZNAME:CEST
DTSTART:20240331T010000
END:DAYLIGHT
BEGIN:STANDARD
TZOFFSETFROM:+0200
TZOFFSETTO:+0100
TZNAME:CET
DTSTART:20241027T010000
END:STANDARD
BEGIN:DAYLIGHT
TZOFFSETFROM:+0100
TZOFFSETTO:+0200
TZNAME:CEST
DTSTART:20250330T010000
END:DAYLIGHT
BEGIN:STANDARD
TZOFFSETFROM:+0200
TZOFFSETTO:+0100
TZNAME:CET
DTSTART:20251026T010000
END:STANDARD
BEGIN:DAYLIGHT
TZOFFSETFROM:+0100
TZOFFSETTO:+0200
TZNAME:CEST
DTSTART:20260329T010000
END:DAYLIGHT
BEGIN:STANDARD
TZOFFSETFROM:+0200
TZOFFSETTO:+0100
TZNAME:CET
DTSTART:20261025T010000
END:STANDARD
END:VTIMEZONE
BEGIN:VEVENT
DTSTART;TZID=Europe/Madrid:20251030T093000
DTEND;TZID=Europe/Madrid:20251030T093000
DTSTAMP:20260426T053129
CREATED:20250905T093447Z
LAST-MODIFIED:20250905T093447Z
UID:10022061-1761816600-1761816600@disfruta-denia.com
SUMMARY:Denia camina
DESCRIPTION:🚶‍♀️ ¡Dénia Camina vuelve a caminar!\n¿Y tú\, te animas?\nMartes y jueves a las 9:30 h desde el Centro de Salud Joan Fuster\, con nuevas salidas temáticas y culturales para disfrutar caminando. \nℹ️ + info en el 618 945 344 o en esports.denia.es \nTambién:\n➡️La Xara Camina (dos viernes al mes).\n➡️Jesús Pobre Camina (los otros dos viernes). \nActividad gratuita y abierta a todas y todos
URL:https://disfruta-denia.com/evento/denia-camina/2025-10-30/
LOCATION:Alicante
CATEGORIES:Deporte
ATTACH;FMTTYPE=image/png:https://disfruta-denia.com/wp-content/uploads/2025/09/Instagram-09-05-2025_11_31_AM.png
END:VEVENT
BEGIN:VEVENT
DTSTART;TZID=Europe/Madrid:20251029T203000
DTEND;TZID=Europe/Madrid:20251029T203000
DTSTAMP:20260426T053129
CREATED:20240414T124150Z
LAST-MODIFIED:20240414T124150Z
UID:10017992-1761769800-1761769800@disfruta-denia.com
SUMMARY:Miércoles latinos\, miércoles clandestinos
DESCRIPTION:Miércoles latinos\, miércoles clandestinos  Cada miércoles a las 20.30h tenemos una cita con Madelyn Torroella a ritmo cubano!! Voz\, percusión y versiones de salsa clásica\, cada miércoles\, en el Speak. Parrillada\, tacos\, tapas\, cocktails & música. Reserva tu mesa
URL:https://disfruta-denia.com/evento/miercoles-latinos-miercoles-clandestinos/2025-10-29/
LOCATION:The Speak Denia\, Carrer del Pont\, 19\, Denia\, Alicante\, 03700\, España
CATEGORIES:Concierto,Música
ATTACH;FMTTYPE=image/jpeg:https://disfruta-denia.com/wp-content/uploads/2024/04/434468313_1159701198651630_4992165217264460198_n.jpg
END:VEVENT
BEGIN:VEVENT
DTSTART;TZID=Europe/Madrid:20251029T200000
DTEND;TZID=Europe/Madrid:20251029T233000
DTSTAMP:20260426T053129
CREATED:20230612T102803Z
LAST-MODIFIED:20230612T102804Z
UID:10009062-1761768000-1761780600@disfruta-denia.com
SUMMARY:Autocine: día del espectador
DESCRIPTION:
URL:https://disfruta-denia.com/evento/autocine-dia-del-espectador-3/2025-10-29/
LOCATION:Autociné Denia\, Partida Deveses D\, 27\, Denia\, Alicante\, 03700\, España
CATEGORIES:Ciné,Cultura
ATTACH;FMTTYPE=image/jpeg:https://disfruta-denia.com/wp-content/uploads/2022/11/Autocine-Drive-In-Denia-1.jpg
END:VEVENT
BEGIN:VEVENT
DTSTART;TZID=Europe/Madrid:20251029T193000
DTEND;TZID=Europe/Madrid:20251029T193000
DTSTAMP:20260426T053129
CREATED:20251003T093345Z
LAST-MODIFIED:20251003T093345Z
UID:10022465-1761766200-1761766200@disfruta-denia.com
SUMMARY:Concierto  Pablo y Daniel Zapico
DESCRIPTION:PABLO ZAPICO\, Arxillaüt.\nDANIEL ZAPICO\, Tiorba\nObres de Filippo Dalla Casa\nEntrada:15 € en http://notikumi.com Taquilla: el mateix dia una hora abans/el mismo dia una hora antes.\n+ INFO.: Tel. 616 699 035 – 619825918\nCol·labora/colabora: L’Esperança Coronada.
URL:https://disfruta-denia.com/evento/concierto-pablo-y-daniel-zapico/
LOCATION:Teatro Auditorio Centro Social\, 4 Carrer Calderón\, Dénia\, VC\, 03700\, Spain
CATEGORIES:Concierto,Música
ATTACH;FMTTYPE=image/jpeg:https://disfruta-denia.com/wp-content/uploads/2025/09/12-Cocert-Zapico-scaled.jpg
END:VEVENT
BEGIN:VEVENT
DTSTART;TZID=Europe/Madrid:20251029T193000
DTEND;TZID=Europe/Madrid:20251029T193000
DTSTAMP:20260426T053129
CREATED:20250603T094354Z
LAST-MODIFIED:20250603T094354Z
UID:10021332-1761766200-1761766200@disfruta-denia.com
SUMMARY:Encuentros en Códigos
DESCRIPTION:​¡Bienvenidos a Encuentros en Códigos\, el Meetup internacional semanal en Códigos del Arte!\nNos reunimos todos los miércoles a partir de las 19:30 — toma algo\, relájate\, y disfruta de una buena conversación.\nTodos los miércoles – 19:30\nEntrada: Gratuita
URL:https://disfruta-denia.com/evento/encuentros-en-codigos/2025-10-29/
LOCATION:Códigos del Arte\, Carreró de Morant\, 8\, Dénia\, 03700\, España
CATEGORIES:Tardeo
ATTACH;FMTTYPE=image/png:https://disfruta-denia.com/wp-content/uploads/2025/06/Codigos-del-Arte-20.png
END:VEVENT
BEGIN:VEVENT
DTSTART;TZID=Europe/Madrid:20251029T190000
DTEND;TZID=Europe/Madrid:20251029T210000
DTSTAMP:20260426T053129
CREATED:20231115T115842Z
LAST-MODIFIED:20231115T115843Z
UID:10008379-1761764400-1761771600@disfruta-denia.com
SUMMARY:Tardeo en Basta
DESCRIPTION:
URL:https://disfruta-denia.com/evento/tardeo-en-basta-3-3/2025-10-29/
LOCATION:Basta Lounge Bar\, Marina de Dénia\, Local C2\, Denia\, Valencian Community\, 03700\, España
CATEGORIES:Concierto,Música,Tardeo
ATTACH;FMTTYPE=image/jpeg:https://disfruta-denia.com/wp-content/uploads/2022/12/IMG_3678.jpeg
END:VEVENT
BEGIN:VEVENT
DTSTART;TZID=Europe/Madrid:20251029T190000
DTEND;TZID=Europe/Madrid:20251029T190000
DTSTAMP:20260426T053129
CREATED:20251014T154115Z
LAST-MODIFIED:20251014T154115Z
UID:10022511-1761764400-1761764400@disfruta-denia.com
SUMMARY:Cine de terror jove
DESCRIPTION:Los días 28\, 29 y 30 de octubre\, a las 19 horas\, el mismo espacio acogerá el ciclo de cine de terror juvenil\, con la proyección de Parpadea dos veces si estoy en peligro\, Smile 2 y Abigail\, recomendadas a partir de 16 años.
URL:https://disfruta-denia.com/evento/cine-de-terror-jove/2025-10-29/
LOCATION:Casal Jove\, Ronda Muralles\, 42\, Denia\, 03700\, España
CATEGORIES:Ciné
ATTACH;FMTTYPE=image/jpeg:https://disfruta-denia.com/wp-content/uploads/2025/10/7486f1.jpg
END:VEVENT
BEGIN:VEVENT
DTSTART;TZID=Europe/Madrid:20251028T190000
DTEND;TZID=Europe/Madrid:20251028T190000
DTSTAMP:20260426T053129
CREATED:20251028T073031Z
LAST-MODIFIED:20251028T073031Z
UID:10022510-1761678000-1761678000@disfruta-denia.com
SUMMARY:Cine de terror jove
DESCRIPTION:Los días 28\, 29 y 30 de octubre\, a las 19 horas\, el mismo espacio acogerá el ciclo de cine de terror juvenil\, con la proyección de Parpadea dos veces si estoy en peligro\, Smile 2 y Abigail\, recomendadas a partir de 16 años.
URL:https://disfruta-denia.com/evento/cine-de-terror-jove-2/
LOCATION:Casal Jove\, Ronda Muralles\, 42\, Denia\, 03700\, España
CATEGORIES:Ciné
ATTACH;FMTTYPE=image/jpeg:https://disfruta-denia.com/wp-content/uploads/2025/10/7486f1.jpg
END:VEVENT
BEGIN:VEVENT
DTSTART;TZID=Europe/Madrid:20251028T093000
DTEND;TZID=Europe/Madrid:20251028T093000
DTSTAMP:20260426T053129
CREATED:20250905T093447Z
LAST-MODIFIED:20250905T093447Z
UID:10022060-1761643800-1761643800@disfruta-denia.com
SUMMARY:Denia camina
DESCRIPTION:🚶‍♀️ ¡Dénia Camina vuelve a caminar!\n¿Y tú\, te animas?\nMartes y jueves a las 9:30 h desde el Centro de Salud Joan Fuster\, con nuevas salidas temáticas y culturales para disfrutar caminando. \nℹ️ + info en el 618 945 344 o en esports.denia.es \nTambién:\n➡️La Xara Camina (dos viernes al mes).\n➡️Jesús Pobre Camina (los otros dos viernes). \nActividad gratuita y abierta a todas y todos
URL:https://disfruta-denia.com/evento/denia-camina/2025-10-28/
LOCATION:Alicante
CATEGORIES:Deporte
ATTACH;FMTTYPE=image/png:https://disfruta-denia.com/wp-content/uploads/2025/09/Instagram-09-05-2025_11_31_AM.png
END:VEVENT
BEGIN:VEVENT
DTSTART;TZID=Europe/Madrid:20251027T203000
DTEND;TZID=Europe/Madrid:20251027T203000
DTSTAMP:20260426T053129
CREATED:20230912T174836Z
LAST-MODIFIED:20230912T174838Z
UID:10011521-1761597000-1761597000@disfruta-denia.com
SUMMARY:Tardeo con Marce Pesoa
DESCRIPTION:Esta noche. Tonight. \nLive music 20.30h. \nMarce Pesoa en The Speak Dénia. \nTacos\, Cocktails\, Parrilla \n& la mejor musica 🔥🤘 \nReservas: 675753879 \nLet’s #funmonday today!
URL:https://disfruta-denia.com/evento/tardeo-con-marce-pesoa-2/2025-10-27/
LOCATION:The Speak Denia\, Carrer del Pont\, 19\, Denia\, Alicante\, 03700\, España
CATEGORIES:Concierto,Música,Tardeo
ATTACH;FMTTYPE=image/jpeg:https://disfruta-denia.com/wp-content/uploads/2023/06/IMG-20230619-WA0000.jpg
END:VEVENT
BEGIN:VEVENT
DTSTART;TZID=Europe/Madrid:20251027T100000
DTEND;TZID=Europe/Madrid:20251027T110000
DTSTAMP:20260426T053129
CREATED:20250603T093855Z
LAST-MODIFIED:20250603T093912Z
UID:10021070-1761559200-1761562800@disfruta-denia.com
SUMMARY:Monday Stretch with Marianna
DESCRIPTION:Empieza la semana con una sesión de Pilates guiada por la instructora Marianna.\nDespués\, date un capricho con un café o una kombucha refrescante.\nTodos los lunes – 10:00
URL:https://disfruta-denia.com/evento/monday-stretch-with-marianna/2025-10-27/
LOCATION:Códigos del Arte\, Carreró de Morant\, 8\, Dénia\, 03700\, España
CATEGORIES:Deporte
ATTACH;FMTTYPE=image/png:https://disfruta-denia.com/wp-content/uploads/2025/06/Codigos-del-Arte-5.png
END:VEVENT
BEGIN:VEVENT
DTSTART;TZID=Europe/Madrid:20251026T203000
DTEND;TZID=Europe/Madrid:20251026T203000
DTSTAMP:20260426T053129
CREATED:20250923T082736Z
LAST-MODIFIED:20251021T075618Z
UID:10023049-1761510600-1761510600@disfruta-denia.com
SUMMARY:La JAM session de Rebledía
DESCRIPTION:
URL:https://disfruta-denia.com/evento/la-jam-session-de-rebledia/2025-10-26/
LOCATION:Rebeldia Blues\, Carr. de Dénia A Xábia\, 3G\, Denia\, Alicante\, 03700\, España
CATEGORIES:Concierto,Música
ATTACH;FMTTYPE=image/jpeg:https://disfruta-denia.com/wp-content/uploads/2025/10/217af245-a661-41aa-b740-bf35a0a54917.jpg
END:VEVENT
BEGIN:VEVENT
DTSTART;TZID=Europe/Madrid:20251026T190000
DTEND;TZID=Europe/Madrid:20251026T190000
DTSTAMP:20260426T053129
CREATED:20251003T093206Z
LAST-MODIFIED:20251003T093206Z
UID:10022464-1761505200-1761505200@disfruta-denia.com
SUMMARY:Cineclub: Amal
DESCRIPTION:Dir.: Jawad Rhalib. Bèlgica/Bélgica\, 2023\, 112 min. V.O en francés i àrab / francés y árabe\, subtitulada en\ncastellà/castellano. Recomanada/recomendada + 16 anys/años.\nEntrada 3 € en https://notikumi.com En taquilla: el mateix dia una hora abans/el mismo dia una hora antes.
URL:https://disfruta-denia.com/evento/cineclub-amal/
LOCATION:Teatro Auditorio Centro Social\, 4 Carrer Calderón\, Dénia\, VC\, 03700\, Spain
CATEGORIES:Ciné,Cultura
ATTACH;FMTTYPE=image/png:https://disfruta-denia.com/wp-content/uploads/2025/09/4-CINECLUB.png
END:VEVENT
BEGIN:VEVENT
DTSTART;TZID=Europe/Madrid:20251026T160000
DTEND;TZID=Europe/Madrid:20251026T160000
DTSTAMP:20260426T053129
CREATED:20251019T105118Z
LAST-MODIFIED:20251019T105118Z
UID:10022781-1761494400-1761494400@disfruta-denia.com
SUMMARY:Tardeos live Mr Fisher
DESCRIPTION:
URL:https://disfruta-denia.com/evento/tardeos-live-mr-fisher/2025-10-26/
LOCATION:Mr Fisher\, Moll de La Pansa s/n. Marina El Portet\, Denia\, Alicante\, 03700\, España
CATEGORIES:Concierto,Música,Tardeo
ATTACH;FMTTYPE=image/jpeg:https://disfruta-denia.com/wp-content/uploads/2025/10/564101414_1234424965157882_5930768979987147959_n.jpg
END:VEVENT
BEGIN:VEVENT
DTSTART;TZID=Europe/Madrid:20251026T120000
DTEND;TZID=Europe/Madrid:20251026T120000
DTSTAMP:20260426T053129
CREATED:20251003T093108Z
LAST-MODIFIED:20251003T093108Z
UID:10022463-1761480000-1761480000@disfruta-denia.com
SUMMARY:Teatro en familia
DESCRIPTION:CLIC de JM Gestión Teatral\nUn espectacle que tracta del tema de la sostenibilitat i de la importància de cuidar els nostres pobles.\nUn espectáculo que trata del tema de la sostenibilidad y de la importancia de cuidar nuestros pueblos\nRecomanat / Recomendado a partir de 5 anys/años. En Valencià/valenciano. 40’.\nEntrada: lliure fins a completar aforament /libre hasta completar aforo.
URL:https://disfruta-denia.com/evento/teatro-en-familia-4/
LOCATION:Teatro Auditorio Centro Social\, 4 Carrer Calderón\, Dénia\, VC\, 03700\, Spain
CATEGORIES:Cultura,Teatro
ATTACH;FMTTYPE=image/png:https://disfruta-denia.com/wp-content/uploads/2025/09/7-FAMILIA-General.png
END:VEVENT
BEGIN:VEVENT
DTSTART;TZID=Europe/Madrid:20251026T090000
DTEND;TZID=Europe/Madrid:20251026T140000
DTSTAMP:20260426T053129
CREATED:20251018T085320Z
LAST-MODIFIED:20251018T103235Z
UID:10022520-1761469200-1761487200@disfruta-denia.com
SUMMARY:Mercat del Riurau Jesus Pobre
DESCRIPTION:🌿✨ Aquest diumenge ens espera un matí ple de gastronomia\, artesania\, música i bon rotllo! ✨🌿 \n🥁 A partir de les 11.00h podrem gaudir d’una batucada de l’escola Sambamanía\, amb qui podreu ballar i passar-ho d’allò més bé. \n🎸 I a partir de les 12.00 h\, Ulises Libre ens acompanyarà amb la seua guitarra per posar el toc final i alegre al matí. \nJesús Pobre t’acull amb ganes! Ens veiem al mercat! 🧺✨ \n—— \n🌿✨ ¡Este domingo nos espera una mañana llena de gastronomía\, artesanía\, música y buen ambiente! ✨🌿 \n🥁 A partir de las 11:00h podremos disfrutar de una batucada a cargo de la escuela Sambamanía\, con la que todos podréis bailar y pasarlo en grande. \n🎸 Y desde las 12:00 h\, Ulises Libre nos acompañará con su guitarra para poner el toque final y alegre a la mañana. \n¡Jesús Pobre te recibe con ganas! ¡Nos vemos en el mercado! 🧺✨
URL:https://disfruta-denia.com/evento/mercat-del-riurau-jesus-pobre-2-25-3-2-2-8-2-4-3-6-2-2-2-2/2025-10-26/
LOCATION:Mercado Riurau Jesus Pobre\, Jesus Pobre\, Alicante\, 03749\, España
CATEGORIES:Concierto,Gastronomía,Mercado
ATTACH;FMTTYPE=image/jpeg:https://disfruta-denia.com/wp-content/uploads/2025/09/IMG_0588.jpeg
END:VEVENT
BEGIN:VEVENT
DTSTART;TZID=Europe/Madrid:20251025T235900
DTEND;TZID=Europe/Madrid:20251025T235900
DTSTAMP:20260426T053129
CREATED:20221128T194020Z
LAST-MODIFIED:20221128T194021Z
UID:10006635-1761436740-1761436740@disfruta-denia.com
SUMMARY:Concierto en LCDA
DESCRIPTION:
URL:https://disfruta-denia.com/evento/concierto-en-lcda-4/2025-10-25/
LOCATION:La Chica de ayer\, Calle la mar 30\, Denia\, Alicante\, 03700\, España
CATEGORIES:Concierto,Música,Ocio nocturno
ATTACH;FMTTYPE=image/jpeg:https://disfruta-denia.com/wp-content/uploads/2022/11/317545016_592127712917488_4859295703944293873_n.jpg
END:VEVENT
BEGIN:VEVENT
DTSTART;TZID=Europe/Madrid:20251025T213000
DTEND;TZID=Europe/Madrid:20251025T213000
DTSTAMP:20260426T053129
CREATED:20251021T075448Z
LAST-MODIFIED:20251021T075448Z
UID:10019980-1761427800-1761427800@disfruta-denia.com
SUMMARY:Sábado concierto en Rebeldía Blues
DESCRIPTION:Sábado concierto en Rebledía Blues
URL:https://disfruta-denia.com/evento/sabado-concierto-en-rebeldia-blues-3-2-10-3-3-2-8-3-2-2-2-2-2-2-2-2-2-2-2-2-2-2/
LOCATION:Rebeldia Blues\, Carr. de Dénia A Xábia\, 3G\, Denia\, Alicante\, 03700\, España
CATEGORIES:Jazz,Música
ATTACH;FMTTYPE=image/jpeg:https://disfruta-denia.com/wp-content/uploads/2025/10/76b7119e-29d6-4003-9ac8-c44a3821718c.jpg
END:VEVENT
BEGIN:VEVENT
DTSTART;TZID=Europe/Madrid:20251025T190000
DTEND;TZID=Europe/Madrid:20251025T220000
DTSTAMP:20260426T053129
CREATED:20251014T153926Z
LAST-MODIFIED:20251014T153926Z
UID:10022509-1761418800-1761429600@disfruta-denia.com
SUMMARY:Escape Room
DESCRIPTION:El Ajuntament de Dénia\, a través de las concejalías de Juventud y Cultura\, ha preparado una completa programación de actividades para celebrar “La Noche de las Almas 2025”\, con propuestas lúdicas y culturales dirigidas a público familiar\, joven y adulto. Las actividades se extenderán del 25 al 31 de octubre y llenarán varios espacios de la ciudad de ambiente festivo y misterioso. \nLa programación empezará el 25 de octubre en el Casal Joven con la escape room “El último exorcismo”\, organizada por el grupo de corresponsales juveniles: una actividad pensada para jóvenes de más de 14 años que requiere de inscripción previa para participar.
URL:https://disfruta-denia.com/evento/escape-room/
LOCATION:Casal Jove\, Ronda Muralles\, 42\, Denia\, 03700\, España
ATTACH;FMTTYPE=image/jpeg:https://disfruta-denia.com/wp-content/uploads/2025/10/7486f1.jpg
END:VEVENT
BEGIN:VEVENT
DTSTART;TZID=Europe/Madrid:20251025T100000
DTEND;TZID=Europe/Madrid:20251025T100000
DTSTAMP:20260426T053129
CREATED:20251022T070728Z
LAST-MODIFIED:20251022T070728Z
UID:10023050-1761386400-1761386400@disfruta-denia.com
SUMMARY:Día de la Pilota de Dénia
DESCRIPTION:Dénia vivirá un fin de semana con una agenda deportiva destacada con la celebración del Día de la Pilota de Dénia\, sábado 25 de octubre\, y la presentación de las Escuelas Deportivas Municipales 2025/2026\, domingo 26 de octubre. \nEl Día de la Pilota\, que formaba parte de la programación deportiva del 9 d’Octubre pero se tuvo que aplazar a causa del alerta naranja\, se celebrará finalmente este sábado en la calle Pare Pere. \nLa jornada\, organizada por la Concejalía de Deportes del Ajuntament de Dénia y el Club Pilota Dénia\, empezará a las 10 horas con la partida de los veteranos del Club Pilota Dénia. A las 11 horas será el turno de los profesionales\, que disputarán una partida de largas con los equipos formados por Cardona\, Santi\, Juan y Flare (azul) y Feliu\, Sergi\, Óscar y Kiko (rojo). \nEl domingo 26 de octubre\, a las 10.30 horas\, el Polideportivo Municipal de Dénia acogerá la presentación de las Escuelas Deportivas Municipales correspondiente a la temporada 2025/2026. El acto reunirá centenares de alumnos\, familias\, monitores y representantes de las diferentes secciones deportivas de la ciudad\, “convirtiéndose en uno de los momentos más emotivos del calendario deportivo local\, que sirve también para reconocer el trabajo de los técnicos y monitores de los clubes que\, cada temporada\, acompañan los niños y niñas en su crecimiento deportivo y personal”\, ha explicado Valen Alcalà\, concejal de Deportes. \nEl desfile contará con la participación de la mayoría de las 18 escuelas deportivas municipales\, que son: multideporte\, atletismo\, baloncesto\, deportes adaptados\, fútbol\, fútbol sala\, gimnasia rítmica\, balonmano\, pelota valenciana\, bádminton\, ajedrez\, voleibol\, equitación\, deportes náuticos\, pádel\, golf\, escalada y rugby. \nLas fotografías oficiales se harán en el frontón municipal a lo largo de la mañana. Este año\, la presentación contará con la actuación de un grupo de baile de Llunàtics\, que pondrá el toque festivo y artístico a la jornada. \nEl edil ha destacado que “con la celebración del Día de la Pilota y la presentación de las Escuelas Deportivas tendremos un fin de semana que refleja muy bien lo que es Dénia: una ciudad viva\, que apuesta por el deporte\, la tradición y la formación de los más jóvenes. Dos días que ponen en valor nuestro deporte y\, sobre todo\, nuestro deporte base\, que es el futuro de la ciudad.”
URL:https://disfruta-denia.com/evento/dia-de-la-pilota-de-denia/
LOCATION:Carrer Pare Pere\, carrer Pare Pere\, Denia\, 03700\, España
CATEGORIES:Deporte
ATTACH;FMTTYPE=image/jpeg:https://disfruta-denia.com/wp-content/uploads/2025/10/7492f2.jpg
END:VEVENT
BEGIN:VEVENT
DTSTART;TZID=Europe/Madrid:20251024T213000
DTEND;TZID=Europe/Madrid:20251024T213000
DTSTAMP:20260426T053129
CREATED:20251021T075437Z
LAST-MODIFIED:20251021T075437Z
UID:10019720-1761341400-1761341400@disfruta-denia.com
SUMMARY:Concierto de Viernes en Rebeldía Blues
DESCRIPTION:¡Este viernes en Rebeldía Blues te espera una noche llena de música en vivo Prepárate para disfrutar de lo mejor del swing\, pop y música latina en un ambiente único. La entrada es totalmente gratuita\, así que trae a tus amigos y no te pierdas esta experiencia inolvidable.  Hora: 21:30h
URL:https://disfruta-denia.com/evento/concierto-de-viernes-en-rebeldia-blues-3-3-10-3-3-3-2-9-2-2-3-2-2-2-2-2-2-2-2-2-2/
LOCATION:Rebeldia Blues\, Carr. de Dénia A Xábia\, 3G\, Denia\, Alicante\, 03700\, España
CATEGORIES:Concierto,Jazz,Música
ATTACH;FMTTYPE=image/jpeg:https://disfruta-denia.com/wp-content/uploads/2025/10/d6c60348-34dc-4a11-83a5-e9f83e5e4e2d.jpg
END:VEVENT
BEGIN:VEVENT
DTSTART;TZID=Europe/Madrid:20251023T210000
DTEND;TZID=Europe/Madrid:20251023T210000
DTSTAMP:20260426T053129
CREATED:20250708T101854Z
LAST-MODIFIED:20250708T101855Z
UID:10016683-1761253200-1761253200@disfruta-denia.com
SUMMARY:Karaoké en Rebeldía Blues
DESCRIPTION:Karaoké en Rebeldía Blues
URL:https://disfruta-denia.com/evento/karaoke-en-rebeldia-blues-4-2-2-2-2-2-4-2/2025-10-23/
LOCATION:Rebeldia Blues\, Carr. de Dénia A Xábia\, 3G\, Denia\, Alicante\, 03700\, España
CATEGORIES:Karaoké,Música
ATTACH;FMTTYPE=image/jpeg:https://disfruta-denia.com/wp-content/uploads/2025/05/a5f3c9ac-03cc-4c6b-8317-4c9f2cd1e04b.jpg
END:VEVENT
BEGIN:VEVENT
DTSTART;TZID=Europe/Madrid:20251023T093000
DTEND;TZID=Europe/Madrid:20251023T093000
DTSTAMP:20260426T053129
CREATED:20250905T093447Z
LAST-MODIFIED:20250905T093447Z
UID:10022059-1761211800-1761211800@disfruta-denia.com
SUMMARY:Denia camina
DESCRIPTION:🚶‍♀️ ¡Dénia Camina vuelve a caminar!\n¿Y tú\, te animas?\nMartes y jueves a las 9:30 h desde el Centro de Salud Joan Fuster\, con nuevas salidas temáticas y culturales para disfrutar caminando. \nℹ️ + info en el 618 945 344 o en esports.denia.es \nTambién:\n➡️La Xara Camina (dos viernes al mes).\n➡️Jesús Pobre Camina (los otros dos viernes). \nActividad gratuita y abierta a todas y todos
URL:https://disfruta-denia.com/evento/denia-camina/2025-10-23/
LOCATION:Alicante
CATEGORIES:Deporte
ATTACH;FMTTYPE=image/png:https://disfruta-denia.com/wp-content/uploads/2025/09/Instagram-09-05-2025_11_31_AM.png
END:VEVENT
BEGIN:VEVENT
DTSTART;TZID=Europe/Madrid:20251022T203000
DTEND;TZID=Europe/Madrid:20251022T203000
DTSTAMP:20260426T053129
CREATED:20240414T124150Z
LAST-MODIFIED:20240414T124150Z
UID:10017991-1761165000-1761165000@disfruta-denia.com
SUMMARY:Miércoles latinos\, miércoles clandestinos
DESCRIPTION:Miércoles latinos\, miércoles clandestinos  Cada miércoles a las 20.30h tenemos una cita con Madelyn Torroella a ritmo cubano!! Voz\, percusión y versiones de salsa clásica\, cada miércoles\, en el Speak. Parrillada\, tacos\, tapas\, cocktails & música. Reserva tu mesa
URL:https://disfruta-denia.com/evento/miercoles-latinos-miercoles-clandestinos/2025-10-22/
LOCATION:The Speak Denia\, Carrer del Pont\, 19\, Denia\, Alicante\, 03700\, España
CATEGORIES:Concierto,Música
ATTACH;FMTTYPE=image/jpeg:https://disfruta-denia.com/wp-content/uploads/2024/04/434468313_1159701198651630_4992165217264460198_n.jpg
END:VEVENT
BEGIN:VEVENT
DTSTART;TZID=Europe/Madrid:20251022T200000
DTEND;TZID=Europe/Madrid:20251022T233000
DTSTAMP:20260426T053129
CREATED:20251021T075350Z
LAST-MODIFIED:20251021T075351Z
UID:10009061-1761163200-1761175800@disfruta-denia.com
SUMMARY:Autocine: día del espectador
DESCRIPTION:
URL:https://disfruta-denia.com/evento/autocine-dia-del-espectador-3-50/
LOCATION:Autociné Denia\, Partida Deveses D\, 27\, Denia\, Alicante\, 03700\, España
CATEGORIES:Ciné,Cultura
ATTACH;FMTTYPE=image/png:https://disfruta-denia.com/wp-content/uploads/2023/06/Instagram-10-21-2025_09_52_AM.png
END:VEVENT
BEGIN:VEVENT
DTSTART;TZID=Europe/Madrid:20251022T193000
DTEND;TZID=Europe/Madrid:20251022T193000
DTSTAMP:20260426T053129
CREATED:20250603T094354Z
LAST-MODIFIED:20250603T094354Z
UID:10021331-1761161400-1761161400@disfruta-denia.com
SUMMARY:Encuentros en Códigos
DESCRIPTION:​¡Bienvenidos a Encuentros en Códigos\, el Meetup internacional semanal en Códigos del Arte!\nNos reunimos todos los miércoles a partir de las 19:30 — toma algo\, relájate\, y disfruta de una buena conversación.\nTodos los miércoles – 19:30\nEntrada: Gratuita
URL:https://disfruta-denia.com/evento/encuentros-en-codigos/2025-10-22/
LOCATION:Códigos del Arte\, Carreró de Morant\, 8\, Dénia\, 03700\, España
CATEGORIES:Tardeo
ATTACH;FMTTYPE=image/png:https://disfruta-denia.com/wp-content/uploads/2025/06/Codigos-del-Arte-20.png
END:VEVENT
BEGIN:VEVENT
DTSTART;TZID=Europe/Madrid:20251022T190000
DTEND;TZID=Europe/Madrid:20251022T210000
DTSTAMP:20260426T053129
CREATED:20231115T115842Z
LAST-MODIFIED:20231115T115843Z
UID:10008378-1761159600-1761166800@disfruta-denia.com
SUMMARY:Tardeo en Basta
DESCRIPTION:
URL:https://disfruta-denia.com/evento/tardeo-en-basta-3-3/2025-10-22/
LOCATION:Basta Lounge Bar\, Marina de Dénia\, Local C2\, Denia\, Valencian Community\, 03700\, España
CATEGORIES:Concierto,Música,Tardeo
ATTACH;FMTTYPE=image/jpeg:https://disfruta-denia.com/wp-content/uploads/2022/12/IMG_3678.jpeg
END:VEVENT
BEGIN:VEVENT
DTSTART;TZID=Europe/Madrid:20251021T093000
DTEND;TZID=Europe/Madrid:20251021T093000
DTSTAMP:20260426T053129
CREATED:20250905T093447Z
LAST-MODIFIED:20250905T093447Z
UID:10022058-1761039000-1761039000@disfruta-denia.com
SUMMARY:Denia camina
DESCRIPTION:🚶‍♀️ ¡Dénia Camina vuelve a caminar!\n¿Y tú\, te animas?\nMartes y jueves a las 9:30 h desde el Centro de Salud Joan Fuster\, con nuevas salidas temáticas y culturales para disfrutar caminando. \nℹ️ + info en el 618 945 344 o en esports.denia.es \nTambién:\n➡️La Xara Camina (dos viernes al mes).\n➡️Jesús Pobre Camina (los otros dos viernes). \nActividad gratuita y abierta a todas y todos
URL:https://disfruta-denia.com/evento/denia-camina/2025-10-21/
LOCATION:Alicante
CATEGORIES:Deporte
ATTACH;FMTTYPE=image/png:https://disfruta-denia.com/wp-content/uploads/2025/09/Instagram-09-05-2025_11_31_AM.png
END:VEVENT
BEGIN:VEVENT
DTSTART;TZID=Europe/Madrid:20251020T203000
DTEND;TZID=Europe/Madrid:20251020T203000
DTSTAMP:20260426T053129
CREATED:20230912T174836Z
LAST-MODIFIED:20230912T174838Z
UID:10011520-1760992200-1760992200@disfruta-denia.com
SUMMARY:Tardeo con Marce Pesoa
DESCRIPTION:Esta noche. Tonight. \nLive music 20.30h. \nMarce Pesoa en The Speak Dénia. \nTacos\, Cocktails\, Parrilla \n& la mejor musica 🔥🤘 \nReservas: 675753879 \nLet’s #funmonday today!
URL:https://disfruta-denia.com/evento/tardeo-con-marce-pesoa-2/2025-10-20/
LOCATION:The Speak Denia\, Carrer del Pont\, 19\, Denia\, Alicante\, 03700\, España
CATEGORIES:Concierto,Música,Tardeo
ATTACH;FMTTYPE=image/jpeg:https://disfruta-denia.com/wp-content/uploads/2023/06/IMG-20230619-WA0000.jpg
END:VEVENT
BEGIN:VEVENT
DTSTART;TZID=Europe/Madrid:20251020T100000
DTEND;TZID=Europe/Madrid:20251020T110000
DTSTAMP:20260426T053129
CREATED:20250603T093855Z
LAST-MODIFIED:20250603T093912Z
UID:10021069-1760954400-1760958000@disfruta-denia.com
SUMMARY:Monday Stretch with Marianna
DESCRIPTION:Empieza la semana con una sesión de Pilates guiada por la instructora Marianna.\nDespués\, date un capricho con un café o una kombucha refrescante.\nTodos los lunes – 10:00
URL:https://disfruta-denia.com/evento/monday-stretch-with-marianna/2025-10-20/
LOCATION:Códigos del Arte\, Carreró de Morant\, 8\, Dénia\, 03700\, España
CATEGORIES:Deporte
ATTACH;FMTTYPE=image/png:https://disfruta-denia.com/wp-content/uploads/2025/06/Codigos-del-Arte-5.png
END:VEVENT
END:VCALENDAR