BEGIN:VCALENDAR
VERSION:2.0
PRODID:-//Disfruta Denia - ECPv6.15.20//NONSGML v1.0//EN
CALSCALE:GREGORIAN
METHOD:PUBLISH
X-WR-CALNAME:Disfruta Denia
X-ORIGINAL-URL:https://disfruta-denia.com
X-WR-CALDESC:Eventos para Disfruta Denia
REFRESH-INTERVAL;VALUE=DURATION:PT1H
X-Robots-Tag:noindex
X-PUBLISHED-TTL:PT1H
BEGIN:VTIMEZONE
TZID:Europe/Madrid
BEGIN:DAYLIGHT
TZOFFSETFROM:+0100
TZOFFSETTO:+0200
TZNAME:CEST
DTSTART:20240331T010000
END:DAYLIGHT
BEGIN:STANDARD
TZOFFSETFROM:+0200
TZOFFSETTO:+0100
TZNAME:CET
DTSTART:20241027T010000
END:STANDARD
BEGIN:DAYLIGHT
TZOFFSETFROM:+0100
TZOFFSETTO:+0200
TZNAME:CEST
DTSTART:20250330T010000
END:DAYLIGHT
BEGIN:STANDARD
TZOFFSETFROM:+0200
TZOFFSETTO:+0100
TZNAME:CET
DTSTART:20251026T010000
END:STANDARD
BEGIN:DAYLIGHT
TZOFFSETFROM:+0100
TZOFFSETTO:+0200
TZNAME:CEST
DTSTART:20260329T010000
END:DAYLIGHT
BEGIN:STANDARD
TZOFFSETFROM:+0200
TZOFFSETTO:+0100
TZNAME:CET
DTSTART:20261025T010000
END:STANDARD
END:VTIMEZONE
BEGIN:VEVENT
DTSTART;TZID=Europe/Madrid:20250913T113000
DTEND;TZID=Europe/Madrid:20250913T190000
DTSTAMP:20260426T061740
CREATED:20250905T102915Z
LAST-MODIFIED:20250905T102915Z
UID:10022137-1757763000-1757790000@disfruta-denia.com
SUMMARY:FISHTAIL SWING FEST. I Festival de Swing
DESCRIPTION:11.30 h – Taller obert clandestí. Classe oberta de swing en parella / en pareja\n12.30 h –Concert i ball clandestí // concierto y baile clandestino\nSENTIMENTAL GENTLEMAN\n14.00 h – Cercavila amb / Pasacalle con la MARCHING BAND\nItinerari / itinerario: carrer Diana\, carrer la Mar\, carrer Pont fins a Magazinos.\n18.00 h – Taller Classe oberta de swing individual\n19.00 h –Concert / concierto\nSOULOMONICS\nOrganitza / Organiza: Ajuntament de Dénia. Cultura. La Marina Lindy Hop
URL:https://disfruta-denia.com/evento/fishtail-swing-fest-i-festival-de-swing/
LOCATION:Carrer del Marqués de Campo\, Carrer del Marqués de Campo\, Denia\, Alicante\, 03700\, España
CATEGORIES:Baile,Concierto,Música,Taller
ATTACH;FMTTYPE=image/png:https://disfruta-denia.com/wp-content/uploads/2025/09/Instagram-09-05-2025_12_28_PM.png
END:VEVENT
BEGIN:VEVENT
DTSTART;TZID=Europe/Madrid:20250912T235900
DTEND;TZID=Europe/Madrid:20250912T235900
DTSTAMP:20260426T061740
CREATED:20250912T083255Z
LAST-MODIFIED:20250912T083255Z
UID:10022163-1757721540-1757721540@disfruta-denia.com
SUMMARY:Dorian Gray: vuelta al cole
DESCRIPTION:LA VUELTA AL COLE \n🔸 JUEVES • 00’00h • NOCHE\nJUNTOS Y REVUELTOS 🎸 en directo #poprockindieespañol \n🔹 VIERNES • 00’00h • NOCHE\n•Sala Dorian ZENITH 🎸 en directo #poprockindieespañol\n•Sala Gray BORJA CONESA 🎧 en cabina #urbanmusic \n🔸 SÁBADO • 18:30h • TARDEO\n•Sala Dorian BORJA CONESA 🎧 en cabina #urbanmusic \n🔸 SÁBADO • 00’00h • NOCHE\n•Sala Dorian LA MOCHA 🎸 en directo #poprockindieespañol\n•Sala Gray BORJA CONESA 🎧 en cabina #urbanmusic \nHAN VUELTO LOS TARDEOS Y DE QUE MANERA!\nLA VUELTA AL DORIAN YA ESTÁ AQUÍ…. 😎🎒\n\ndor
URL:https://disfruta-denia.com/evento/dorian-gray-vuelta-al-cole/2025-09-12/
LOCATION:Dorian Gray Denia\, Carrer de la Mar\, 14\, Denia\, Alicante\, 03700\, España
CATEGORIES:Concierto,DJ,Música,Ocio nocturno
ATTACH;FMTTYPE=image/png:https://disfruta-denia.com/wp-content/uploads/2025/09/Instagram-09-12-2025_10_29_AM.png
END:VEVENT
BEGIN:VEVENT
DTSTART;TZID=Europe/Madrid:20250912T213000
DTEND;TZID=Europe/Madrid:20250912T213000
DTSTAMP:20260426T061740
CREATED:20250909T094504Z
LAST-MODIFIED:20250909T094504Z
UID:10019714-1757712600-1757712600@disfruta-denia.com
SUMMARY:Concierto de Viernes en Rebeldía Blues
DESCRIPTION:¡Este viernes en Rebeldía Blues te espera una noche llena de música en vivo Prepárate para disfrutar de lo mejor del swing\, pop y música latina en un ambiente único. La entrada es totalmente gratuita\, así que trae a tus amigos y no te pierdas esta experiencia inolvidable.  Hora: 21:30h
URL:https://disfruta-denia.com/evento/concierto-de-viernes-en-rebeldia-blues-3-3-10-3-3-3-2-9-2-2-3-2-2-2-2/
LOCATION:Rebeldia Blues\, Carr. de Dénia A Xábia\, 3G\, Denia\, Alicante\, 03700\, España
CATEGORIES:Concierto,Jazz,Música
ATTACH;FMTTYPE=image/jpeg:https://disfruta-denia.com/wp-content/uploads/2025/08/PHOTO-2025-09-08-21-03-02.jpg
END:VEVENT
BEGIN:VEVENT
DTSTART;TZID=Europe/Madrid:20250911T210000
DTEND;TZID=Europe/Madrid:20250911T210000
DTSTAMP:20260426T061740
CREATED:20250708T101854Z
LAST-MODIFIED:20250708T101855Z
UID:10016677-1757624400-1757624400@disfruta-denia.com
SUMMARY:Karaoké en Rebeldía Blues
DESCRIPTION:Karaoké en Rebeldía Blues
URL:https://disfruta-denia.com/evento/karaoke-en-rebeldia-blues-4-2-2-2-2-2-4-2/2025-09-11/
LOCATION:Rebeldia Blues\, Carr. de Dénia A Xábia\, 3G\, Denia\, Alicante\, 03700\, España
CATEGORIES:Karaoké,Música
ATTACH;FMTTYPE=image/jpeg:https://disfruta-denia.com/wp-content/uploads/2025/05/a5f3c9ac-03cc-4c6b-8317-4c9f2cd1e04b.jpg
END:VEVENT
BEGIN:VEVENT
DTSTART;TZID=Europe/Madrid:20250911T093000
DTEND;TZID=Europe/Madrid:20250911T093000
DTSTAMP:20260426T061740
CREATED:20250905T093447Z
LAST-MODIFIED:20250905T093447Z
UID:10022047-1757583000-1757583000@disfruta-denia.com
SUMMARY:Denia camina
DESCRIPTION:🚶‍♀️ ¡Dénia Camina vuelve a caminar!\n¿Y tú\, te animas?\nMartes y jueves a las 9:30 h desde el Centro de Salud Joan Fuster\, con nuevas salidas temáticas y culturales para disfrutar caminando. \nℹ️ + info en el 618 945 344 o en esports.denia.es \nTambién:\n➡️La Xara Camina (dos viernes al mes).\n➡️Jesús Pobre Camina (los otros dos viernes). \nActividad gratuita y abierta a todas y todos
URL:https://disfruta-denia.com/evento/denia-camina/2025-09-11/
LOCATION:Alicante
CATEGORIES:Deporte
ATTACH;FMTTYPE=image/png:https://disfruta-denia.com/wp-content/uploads/2025/09/Instagram-09-05-2025_11_31_AM.png
END:VEVENT
BEGIN:VEVENT
DTSTART;TZID=Europe/Madrid:20250910T203000
DTEND;TZID=Europe/Madrid:20250910T203000
DTSTAMP:20260426T061740
CREATED:20240414T124150Z
LAST-MODIFIED:20240414T124150Z
UID:10017985-1757536200-1757536200@disfruta-denia.com
SUMMARY:Miércoles latinos\, miércoles clandestinos
DESCRIPTION:Miércoles latinos\, miércoles clandestinos  Cada miércoles a las 20.30h tenemos una cita con Madelyn Torroella a ritmo cubano!! Voz\, percusión y versiones de salsa clásica\, cada miércoles\, en el Speak. Parrillada\, tacos\, tapas\, cocktails & música. Reserva tu mesa
URL:https://disfruta-denia.com/evento/miercoles-latinos-miercoles-clandestinos/2025-09-10/
LOCATION:The Speak Denia\, Carrer del Pont\, 19\, Denia\, Alicante\, 03700\, España
CATEGORIES:Concierto,Música
ATTACH;FMTTYPE=image/jpeg:https://disfruta-denia.com/wp-content/uploads/2024/04/434468313_1159701198651630_4992165217264460198_n.jpg
END:VEVENT
BEGIN:VEVENT
DTSTART;TZID=Europe/Madrid:20250910T200000
DTEND;TZID=Europe/Madrid:20250910T233000
DTSTAMP:20260426T061740
CREATED:20250909T094528Z
LAST-MODIFIED:20250909T094529Z
UID:10009055-1757534400-1757547000@disfruta-denia.com
SUMMARY:Autocine: día del espectador
DESCRIPTION:
URL:https://disfruta-denia.com/evento/autocine-dia-del-espectador-3-49/
LOCATION:Autociné Denia\, Partida Deveses D\, 27\, Denia\, Alicante\, 03700\, España
CATEGORIES:Ciné,Cultura
ATTACH;FMTTYPE=image/jpeg:https://disfruta-denia.com/wp-content/uploads/2025/08/IMG_9796.jpg
END:VEVENT
BEGIN:VEVENT
DTSTART;TZID=Europe/Madrid:20250910T193000
DTEND;TZID=Europe/Madrid:20250910T193000
DTSTAMP:20260426T061740
CREATED:20250603T094354Z
LAST-MODIFIED:20250603T094354Z
UID:10021325-1757532600-1757532600@disfruta-denia.com
SUMMARY:Encuentros en Códigos
DESCRIPTION:​¡Bienvenidos a Encuentros en Códigos\, el Meetup internacional semanal en Códigos del Arte!\nNos reunimos todos los miércoles a partir de las 19:30 — toma algo\, relájate\, y disfruta de una buena conversación.\nTodos los miércoles – 19:30\nEntrada: Gratuita
URL:https://disfruta-denia.com/evento/encuentros-en-codigos/2025-09-10/
LOCATION:Códigos del Arte\, Carreró de Morant\, 8\, Dénia\, 03700\, España
CATEGORIES:Tardeo
ATTACH;FMTTYPE=image/png:https://disfruta-denia.com/wp-content/uploads/2025/06/Codigos-del-Arte-20.png
END:VEVENT
BEGIN:VEVENT
DTSTART;TZID=Europe/Madrid:20250910T190000
DTEND;TZID=Europe/Madrid:20250910T210000
DTSTAMP:20260426T061740
CREATED:20231115T115842Z
LAST-MODIFIED:20231115T115843Z
UID:10008372-1757530800-1757538000@disfruta-denia.com
SUMMARY:Tardeo en Basta
DESCRIPTION:
URL:https://disfruta-denia.com/evento/tardeo-en-basta-3-3/2025-09-10/
LOCATION:Basta Lounge Bar\, Marina de Dénia\, Local C2\, Denia\, Valencian Community\, 03700\, España
CATEGORIES:Concierto,Música,Tardeo
ATTACH;FMTTYPE=image/jpeg:https://disfruta-denia.com/wp-content/uploads/2022/12/IMG_3678.jpeg
END:VEVENT
BEGIN:VEVENT
DTSTART;TZID=Europe/Madrid:20250909T093000
DTEND;TZID=Europe/Madrid:20250909T093000
DTSTAMP:20260426T061740
CREATED:20250905T093447Z
LAST-MODIFIED:20250905T093447Z
UID:10022046-1757410200-1757410200@disfruta-denia.com
SUMMARY:Denia camina
DESCRIPTION:🚶‍♀️ ¡Dénia Camina vuelve a caminar!\n¿Y tú\, te animas?\nMartes y jueves a las 9:30 h desde el Centro de Salud Joan Fuster\, con nuevas salidas temáticas y culturales para disfrutar caminando. \nℹ️ + info en el 618 945 344 o en esports.denia.es \nTambién:\n➡️La Xara Camina (dos viernes al mes).\n➡️Jesús Pobre Camina (los otros dos viernes). \nActividad gratuita y abierta a todas y todos
URL:https://disfruta-denia.com/evento/denia-camina/2025-09-09/
LOCATION:Alicante
CATEGORIES:Deporte
ATTACH;FMTTYPE=image/png:https://disfruta-denia.com/wp-content/uploads/2025/09/Instagram-09-05-2025_11_31_AM.png
END:VEVENT
BEGIN:VEVENT
DTSTART;TZID=Europe/Madrid:20250908T203000
DTEND;TZID=Europe/Madrid:20250908T203000
DTSTAMP:20260426T061740
CREATED:20230912T174836Z
LAST-MODIFIED:20230912T174838Z
UID:10011514-1757363400-1757363400@disfruta-denia.com
SUMMARY:Tardeo con Marce Pesoa
DESCRIPTION:Esta noche. Tonight. \nLive music 20.30h. \nMarce Pesoa en The Speak Dénia. \nTacos\, Cocktails\, Parrilla \n& la mejor musica 🔥🤘 \nReservas: 675753879 \nLet’s #funmonday today!
URL:https://disfruta-denia.com/evento/tardeo-con-marce-pesoa-2/2025-09-08/
LOCATION:The Speak Denia\, Carrer del Pont\, 19\, Denia\, Alicante\, 03700\, España
CATEGORIES:Concierto,Música,Tardeo
ATTACH;FMTTYPE=image/jpeg:https://disfruta-denia.com/wp-content/uploads/2023/06/IMG-20230619-WA0000.jpg
END:VEVENT
BEGIN:VEVENT
DTSTART;TZID=Europe/Madrid:20250908T193000
DTEND;TZID=Europe/Madrid:20250908T193000
DTSTAMP:20260426T061740
CREATED:20250603T095046Z
LAST-MODIFIED:20250603T095046Z
UID:10021581-1757359800-1757359800@disfruta-denia.com
SUMMARY:Vinyl nights
DESCRIPTION:Bienvenido a Vinyl Nights!\nCada mes\, nos reunimos en Códigos del Arte para escuchar un álbum diferente en vinilo.\nComenzamos cada sesión con una introducción al álbum\, compartiendo información sobre los antecedentes del artista y su importancia histórica. A continuación\, pinchamos el disco y dejamos que la música se apodere de nosotros. Cada álbum dura entre 40 y 60 minutos (con una breve pausa a mitad de camino para darle la vuelta al disco).\nCuando termina la última canción\, empieza la conversación. Quédate para disfrutar de un animado debate\, más bebidas y una velada llena de buen rollo y buena compañía.\n\n\n​Programa para los próximos meses:\n14/06: El Mal Querer — Rosalía\n05/07: Kind of Blue — Miles Davis\n09/08: Nevermind — Nirvana\n06/09: Samba Esquema Novo — Jorge Ben Jor\n08/11: Miguel Hernández — Joan Manuel Serrat\n13/12: The Album — Blackpink\nEntrada: Gratuita
URL:https://disfruta-denia.com/evento/vinyl-nights-2-2/2025-09-08/
LOCATION:Códigos del Arte\, Carreró de Morant\, 8\, Dénia\, 03700\, España
CATEGORIES:Música,Tardeo
ATTACH;FMTTYPE=image/png:https://disfruta-denia.com/wp-content/uploads/2025/03/Codigos-del-Arte-20-1.png
END:VEVENT
BEGIN:VEVENT
DTSTART;TZID=Europe/Madrid:20250908T100000
DTEND;TZID=Europe/Madrid:20250908T110000
DTSTAMP:20260426T061740
CREATED:20250603T093855Z
LAST-MODIFIED:20250603T093912Z
UID:10021063-1757325600-1757329200@disfruta-denia.com
SUMMARY:Monday Stretch with Marianna
DESCRIPTION:Empieza la semana con una sesión de Pilates guiada por la instructora Marianna.\nDespués\, date un capricho con un café o una kombucha refrescante.\nTodos los lunes – 10:00
URL:https://disfruta-denia.com/evento/monday-stretch-with-marianna/2025-09-08/
LOCATION:Códigos del Arte\, Carreró de Morant\, 8\, Dénia\, 03700\, España
CATEGORIES:Deporte
ATTACH;FMTTYPE=image/png:https://disfruta-denia.com/wp-content/uploads/2025/06/Codigos-del-Arte-5.png
END:VEVENT
BEGIN:VEVENT
DTSTART;TZID=Europe/Madrid:20250907T180000
DTEND;TZID=Europe/Madrid:20250907T230000
DTSTAMP:20260426T061740
CREATED:20250906T074053Z
LAST-MODIFIED:20250906T074053Z
UID:10021644-1757268000-1757286000@disfruta-denia.com
SUMMARY:Mercat del Riurau Jesus Pobre
DESCRIPTION: NUEVO HORARIO DE VERANO: de 18:00 a 23:00 ¡Este domingo estrenamos el horario de tarde! Ven a disfrutar del fresquito del atardecer\, de la  gastronomía local\, artesanía\, dulces\, productos de la tierra y mucho más. Con cenas al aire libre\, puestos llenos de vida y música para cerrar el día de la mejor manera… A las 20:00 h concierto en directo con SANTI ENGUIXVersiones en clave de folk\, blues y rock que te van a flipar Jesús Pobre te espera con lucecitas\, buen rollo y mucho cariño por lo que hacemos
URL:https://disfruta-denia.com/evento/mercat-del-riurau-jesus-pobre-2-25-3-2-2-8-2-4-3-6-2-2/
LOCATION:Mercado Riurau Jesus Pobre\, Jesus Pobre\, Alicante\, 03749\, España
CATEGORIES:Concierto,Gastronomía,Mercado
ATTACH;FMTTYPE=image/jpeg:https://disfruta-denia.com/wp-content/uploads/2025/06/IMG_9748.jpg
END:VEVENT
BEGIN:VEVENT
DTSTART;TZID=Europe/Madrid:20250907T180000
DTEND;TZID=Europe/Madrid:20250907T180000
DTSTAMP:20260426T061740
CREATED:20250630T103218Z
LAST-MODIFIED:20250630T103218Z
UID:10021910-1757268000-1757268000@disfruta-denia.com
SUMMARY:The Black Rose
DESCRIPTION:
URL:https://disfruta-denia.com/evento/the-black-rose/2025-09-07/
LOCATION:La Mar Serena\, Moll de la Pansa s/n Edificio Marina el Portet\, Denia\, Alicante\, 03700\, España
CATEGORIES:DJ,Música,Tardeo
ATTACH;FMTTYPE=image/jpeg:https://disfruta-denia.com/wp-content/uploads/2025/06/52318A2A-2125-4D79-84EF-BDCC678B4F82.jpg
END:VEVENT
BEGIN:VEVENT
DTSTART;TZID=Europe/Madrid:20250906T235900
DTEND;TZID=Europe/Madrid:20250906T235900
DTSTAMP:20260426T061740
CREATED:20221128T194020Z
LAST-MODIFIED:20221128T194021Z
UID:10006628-1757203140-1757203140@disfruta-denia.com
SUMMARY:Concierto en LCDA
DESCRIPTION:
URL:https://disfruta-denia.com/evento/concierto-en-lcda-4/2025-09-06/
LOCATION:La Chica de ayer\, Calle la mar 30\, Denia\, Alicante\, 03700\, España
CATEGORIES:Concierto,Música,Ocio nocturno
ATTACH;FMTTYPE=image/jpeg:https://disfruta-denia.com/wp-content/uploads/2022/11/317545016_592127712917488_4859295703944293873_n.jpg
END:VEVENT
BEGIN:VEVENT
DTSTART;TZID=Europe/Madrid:20250906T213000
DTEND;TZID=Europe/Madrid:20250906T213000
DTSTAMP:20260426T061740
CREATED:20250905T105307Z
LAST-MODIFIED:20250905T105307Z
UID:10022140-1757194200-1757194200@disfruta-denia.com
SUMMARY:Concierto Inti Cardoso en Giuseppe al Porto
DESCRIPTION:
URL:https://disfruta-denia.com/evento/concierto-inti-cardoso-en-giuseppe-al-porto/
LOCATION:Giuseppe al Porto\, Edificio Balearia - Puerto de Denia\, Denia\, 03700\, España
CATEGORIES:Concierto,Música
ATTACH;FMTTYPE=image/png:https://disfruta-denia.com/wp-content/uploads/2025/09/Instagram-09-05-2025_12_51_PM.png
END:VEVENT
BEGIN:VEVENT
DTSTART;TZID=Europe/Madrid:20250906T213000
DTEND;TZID=Europe/Madrid:20250906T213000
DTSTAMP:20260426T061740
CREATED:20250819T092255Z
LAST-MODIFIED:20250819T092255Z
UID:10019973-1757194200-1757194200@disfruta-denia.com
SUMMARY:Sábado concierto en Rebeldía Blues
DESCRIPTION:Sábado concierto en Rebledía Blues
URL:https://disfruta-denia.com/evento/sabado-concierto-en-rebeldia-blues-3-2-10-3-3-2-8-3-2-2-2-2-2-2-2/2025-09-06/
LOCATION:Rebeldia Blues\, Carr. de Dénia A Xábia\, 3G\, Denia\, Alicante\, 03700\, España
CATEGORIES:Jazz,Música
ATTACH;FMTTYPE=image/jpeg:https://disfruta-denia.com/wp-content/uploads/2025/08/PHOTO-2025-08-17-18-39-32-2.jpg
END:VEVENT
BEGIN:VEVENT
DTSTART;TZID=Europe/Madrid:20250906T203000
DTEND;TZID=Europe/Madrid:20250906T203000
DTSTAMP:20260426T061740
CREATED:20240429T085216Z
LAST-MODIFIED:20240429T085218Z
UID:10014849-1757190600-1757190600@disfruta-denia.com
SUMMARY:Concierto: MC LUCAS BAND
DESCRIPTION:Tras el éxito y las ganas de más…. tendremos a MC LUCAS BAND cada primer sábado del mes!!! \, con ellos te lo pasarás en grande. ¡¡ NO TE LO PIERDAS Y RESERVA TU MESA!! ROCK N’ ROLL OH YEAH  ****************************************Since the last time went to well and you all begged for more we will have MC LUCAS BAND with us every first Saturday of the month!!! \, with them you will have a great time. DON’T MISS IT AND BOOK YOUR TABLE!! ROCK N’ ROLL OH YEAH 
URL:https://disfruta-denia.com/evento/concierto-mc-lucas-band-2/2025-09-06/
LOCATION:Bohemia Xalo\, Colonia lliber 21\, Jalón\, España
CATEGORIES:Concierto,Música
ATTACH;FMTTYPE=image/jpeg:https://disfruta-denia.com/wp-content/uploads/2023/11/440583764_17877569739065820_5475036873752478293_n.jpg
END:VEVENT
BEGIN:VEVENT
DTSTART;TZID=Europe/Madrid:20250905T213000
DTEND;TZID=Europe/Madrid:20250905T213000
DTSTAMP:20260426T061740
CREATED:20250819T092310Z
LAST-MODIFIED:20250819T092310Z
UID:10019713-1757107800-1757107800@disfruta-denia.com
SUMMARY:Concierto de Viernes en Rebeldía Blues
DESCRIPTION:¡Este viernes en Rebeldía Blues te espera una noche llena de música en vivo Prepárate para disfrutar de lo mejor del swing\, pop y música latina en un ambiente único. La entrada es totalmente gratuita\, así que trae a tus amigos y no te pierdas esta experiencia inolvidable.  Hora: 21:30h
URL:https://disfruta-denia.com/evento/concierto-de-viernes-en-rebeldia-blues-3-3-10-3-3-3-2-9-2-2-3-2-2-2/2025-09-05/
LOCATION:Rebeldia Blues\, Carr. de Dénia A Xábia\, 3G\, Denia\, Alicante\, 03700\, España
CATEGORIES:Concierto,Jazz,Música
ATTACH;FMTTYPE=image/jpeg:https://disfruta-denia.com/wp-content/uploads/2025/08/PHOTO-2025-08-17-18-39-32.jpg
END:VEVENT
BEGIN:VEVENT
DTSTART;TZID=Europe/Madrid:20250905T150000
DTEND;TZID=Europe/Madrid:20250905T180000
DTSTAMP:20260426T061740
CREATED:20250804T104055Z
LAST-MODIFIED:20250804T104055Z
UID:10021996-1757084400-1757095200@disfruta-denia.com
SUMMARY:Learn to Mix Cocktails Like a Pro!  Cocktail Workshop @ Dénia\, Costa Blanca
DESCRIPTION:Learn to mix cocktails like a pro! Join our hands-on workshop in Dénia\, enjoy great drinks\, and master cocktail-making skills. Cheers!\n\n\nLooking for a unique and interactive experience in Dénia? Whether you’re a cocktail enthusiast\, an expat looking to meet new people\, or a group of friends on vacation\, this Cocktail Workshop is the perfect way to shake things up! \n📍 Location: Co-Living Costa Blanca\n⏳ Duration: Approx. 3 hours\n👥 Group-Friendly: Bring your friends and have fun together!\n💌 Private bookings available: Want to create a customized event? Drop me a message\, and we’ll arrange something special just for you! \n  \nWhat’s Included?\n✨ Exclusive access to the stunning property\, including pool access during the workshop\n💧 Filtered water from the tap throughout the event\n🍹 1 Welcome drink (choose between beer\, wine\, or sparkling)\n🥃 1 Highball cocktail (e.g.\, Cuba Libre)\n🍸 2 Cocktails (e.g.\, a classic Margarita and a high-end Sangria)\n📖 Cocktail knowledge session on techniques\, tools\, and the history of the drinks\n👨‍🏫 Hands-on cocktail creation: Work in small groups (5 people) and craft your own drinks under expert guidance at the bar \n  \nWhat’s Not Included?\n🚫 Additional drinks before\, during\, or after the workshop (available at reasonable prices at the venue) \n  \nWho is this workshop for?\n🌴 Holidaymakers & vacationers looking for a unique experience\n🌍 Expats & locals who love great drinks and socializing\n🥂 Groups of friends wanting a fun activity together \n💌 Limited spots available – book now and let’s shake\, stir\, and sip together! \n🌍 Languages:\n🇬🇧 The workshop is conducted in English\n🇩🇪 If the group consists entirely of German speakers\, the workshop can be held in German\n🇪🇸 Basic explanations can be provided in Spanish if needed \n⚠️ Important Notice:\n🌿 This workshop takes place outdoors. In the event of a storm or heavy rainfall\, it may be canceled\n💰 If I need to cancel\, all tickets will be fully refunded (100%)
URL:https://disfruta-denia.com/evento/learn-to-mix-cocktails-like-a-pro-cocktail-workshop-denia-costa-blanca/
LOCATION:CO-CO COliving & COworking Costa Blanca­\, 4 Carrer Flor de Nesprer\, Dénia\, VC\, 03700\, Spain
CATEGORIES:Taller
ATTACH;FMTTYPE=image/jpeg:https://disfruta-denia.com/wp-content/uploads/2025/08/93badfc929f8ccd4a61fefca8dbcd192.jpg
END:VEVENT
BEGIN:VEVENT
DTSTART;TZID=Europe/Madrid:20250904T210000
DTEND;TZID=Europe/Madrid:20250904T210000
DTSTAMP:20260426T061740
CREATED:20250708T101854Z
LAST-MODIFIED:20250708T101855Z
UID:10016676-1757019600-1757019600@disfruta-denia.com
SUMMARY:Karaoké en Rebeldía Blues
DESCRIPTION:Karaoké en Rebeldía Blues
URL:https://disfruta-denia.com/evento/karaoke-en-rebeldia-blues-4-2-2-2-2-2-4-2/2025-09-04/
LOCATION:Rebeldia Blues\, Carr. de Dénia A Xábia\, 3G\, Denia\, Alicante\, 03700\, España
CATEGORIES:Karaoké,Música
ATTACH;FMTTYPE=image/jpeg:https://disfruta-denia.com/wp-content/uploads/2025/05/a5f3c9ac-03cc-4c6b-8317-4c9f2cd1e04b.jpg
END:VEVENT
BEGIN:VEVENT
DTSTART;TZID=Europe/Madrid:20250903T203000
DTEND;TZID=Europe/Madrid:20250903T203000
DTSTAMP:20260426T061740
CREATED:20240414T124150Z
LAST-MODIFIED:20240414T124150Z
UID:10017984-1756931400-1756931400@disfruta-denia.com
SUMMARY:Miércoles latinos\, miércoles clandestinos
DESCRIPTION:Miércoles latinos\, miércoles clandestinos  Cada miércoles a las 20.30h tenemos una cita con Madelyn Torroella a ritmo cubano!! Voz\, percusión y versiones de salsa clásica\, cada miércoles\, en el Speak. Parrillada\, tacos\, tapas\, cocktails & música. Reserva tu mesa
URL:https://disfruta-denia.com/evento/miercoles-latinos-miercoles-clandestinos/2025-09-03/
LOCATION:The Speak Denia\, Carrer del Pont\, 19\, Denia\, Alicante\, 03700\, España
CATEGORIES:Concierto,Música
ATTACH;FMTTYPE=image/jpeg:https://disfruta-denia.com/wp-content/uploads/2024/04/434468313_1159701198651630_4992165217264460198_n.jpg
END:VEVENT
BEGIN:VEVENT
DTSTART;TZID=Europe/Madrid:20250903T200000
DTEND;TZID=Europe/Madrid:20250903T233000
DTSTAMP:20260426T061740
CREATED:20250901T104558Z
LAST-MODIFIED:20250901T104558Z
UID:10009054-1756929600-1756942200@disfruta-denia.com
SUMMARY:Autocine: día del espectador
DESCRIPTION:
URL:https://disfruta-denia.com/evento/autocine-dia-del-espectador-3-48/
LOCATION:Autociné Denia\, Partida Deveses D\, 27\, Denia\, Alicante\, 03700\, España
CATEGORIES:Ciné,Cultura
ATTACH;FMTTYPE=image/png:https://disfruta-denia.com/wp-content/uploads/2023/06/Instagram-09-01-2025_12_17_PM-1.png
END:VEVENT
BEGIN:VEVENT
DTSTART;TZID=Europe/Madrid:20250903T193000
DTEND;TZID=Europe/Madrid:20250903T193000
DTSTAMP:20260426T061740
CREATED:20250603T094354Z
LAST-MODIFIED:20250603T094354Z
UID:10021324-1756927800-1756927800@disfruta-denia.com
SUMMARY:Encuentros en Códigos
DESCRIPTION:​¡Bienvenidos a Encuentros en Códigos\, el Meetup internacional semanal en Códigos del Arte!\nNos reunimos todos los miércoles a partir de las 19:30 — toma algo\, relájate\, y disfruta de una buena conversación.\nTodos los miércoles – 19:30\nEntrada: Gratuita
URL:https://disfruta-denia.com/evento/encuentros-en-codigos/2025-09-03/
LOCATION:Códigos del Arte\, Carreró de Morant\, 8\, Dénia\, 03700\, España
CATEGORIES:Tardeo
ATTACH;FMTTYPE=image/png:https://disfruta-denia.com/wp-content/uploads/2025/06/Codigos-del-Arte-20.png
END:VEVENT
BEGIN:VEVENT
DTSTART;TZID=Europe/Madrid:20250903T190000
DTEND;TZID=Europe/Madrid:20250903T210000
DTSTAMP:20260426T061740
CREATED:20231115T115842Z
LAST-MODIFIED:20231115T115843Z
UID:10008371-1756926000-1756933200@disfruta-denia.com
SUMMARY:Tardeo en Basta
DESCRIPTION:
URL:https://disfruta-denia.com/evento/tardeo-en-basta-3-3/2025-09-03/
LOCATION:Basta Lounge Bar\, Marina de Dénia\, Local C2\, Denia\, Valencian Community\, 03700\, España
CATEGORIES:Concierto,Música,Tardeo
ATTACH;FMTTYPE=image/jpeg:https://disfruta-denia.com/wp-content/uploads/2022/12/IMG_3678.jpeg
END:VEVENT
BEGIN:VEVENT
DTSTART;TZID=Europe/Madrid:20250901T203000
DTEND;TZID=Europe/Madrid:20250901T203000
DTSTAMP:20260426T061740
CREATED:20230912T174836Z
LAST-MODIFIED:20230912T174838Z
UID:10011513-1756758600-1756758600@disfruta-denia.com
SUMMARY:Tardeo con Marce Pesoa
DESCRIPTION:Esta noche. Tonight. \nLive music 20.30h. \nMarce Pesoa en The Speak Dénia. \nTacos\, Cocktails\, Parrilla \n& la mejor musica 🔥🤘 \nReservas: 675753879 \nLet’s #funmonday today!
URL:https://disfruta-denia.com/evento/tardeo-con-marce-pesoa-2/2025-09-01/
LOCATION:The Speak Denia\, Carrer del Pont\, 19\, Denia\, Alicante\, 03700\, España
CATEGORIES:Concierto,Música,Tardeo
ATTACH;FMTTYPE=image/jpeg:https://disfruta-denia.com/wp-content/uploads/2023/06/IMG-20230619-WA0000.jpg
END:VEVENT
BEGIN:VEVENT
DTSTART;TZID=Europe/Madrid:20250901T100000
DTEND;TZID=Europe/Madrid:20250901T110000
DTSTAMP:20260426T061740
CREATED:20250603T093855Z
LAST-MODIFIED:20250603T093912Z
UID:10021062-1756720800-1756724400@disfruta-denia.com
SUMMARY:Monday Stretch with Marianna
DESCRIPTION:Empieza la semana con una sesión de Pilates guiada por la instructora Marianna.\nDespués\, date un capricho con un café o una kombucha refrescante.\nTodos los lunes – 10:00
URL:https://disfruta-denia.com/evento/monday-stretch-with-marianna/2025-09-01/
LOCATION:Códigos del Arte\, Carreró de Morant\, 8\, Dénia\, 03700\, España
CATEGORIES:Deporte
ATTACH;FMTTYPE=image/png:https://disfruta-denia.com/wp-content/uploads/2025/06/Codigos-del-Arte-5.png
END:VEVENT
BEGIN:VEVENT
DTSTART;TZID=Europe/Madrid:20250831T235900
DTEND;TZID=Europe/Madrid:20250831T235900
DTSTAMP:20260426T061740
CREATED:20250828T084223Z
LAST-MODIFIED:20250828T084223Z
UID:10022029-1756684740-1756684740@disfruta-denia.com
SUMMARY:Dorian despide agosto
DESCRIPTION:🔸 LUNES • 00’00h • NOCHE\n• TÀNDEM 🎸 en directo #poprockespañol \n🔹 MARTES • 00’00h • NOCHE\n• LA MOCHA DÚO 🎸 en directo #poprockespañol \n🔸 MIÉRCOLES • 00’00h • NOCHE\n• JUNTOS Y REVUELTOS 🎸 en directo #poprockespañol \n🔹 JUEVES • 00’00h • NOCHE\n• RUMBADOS 💃🏼 en directo #rumbaflamenca \n🔸 VIERNES • 00’00h • NOCHE\n•Sala Gray BORJA CONESA 🎧 en cabina #urbanmusic \n🔹 SÁBADO • 00’00h • NOCHE\n•Sala Dorian LA MOCHA 🎸 en directo #poprockespañol\n•Sala Gray BORJA CONESA 🎧 en cabina #urbanmusic \nABRIMOS TODOS LOS DÍAS A PARTIR DE LAS 20’30h\, VEN A DESPEDIRTE DEL VERANO!
URL:https://disfruta-denia.com/evento/dorian-despide-agosto/2025-08-31/
LOCATION:Dorian Gray Denia\, Carrer de la Mar\, 14\, Denia\, Alicante\, 03700\, España
CATEGORIES:Concierto,DJ,Música,Ocio nocturno
ATTACH;FMTTYPE=image/png:https://disfruta-denia.com/wp-content/uploads/2025/08/Instagram-08-28-2025_10_40_AM.png
END:VEVENT
BEGIN:VEVENT
DTSTART;TZID=Europe/Madrid:20250831T210000
DTEND;TZID=Europe/Madrid:20250831T210000
DTSTAMP:20260426T061740
CREATED:20250708T101946Z
LAST-MODIFIED:20250708T101946Z
UID:10016399-1756674000-1756674000@disfruta-denia.com
SUMMARY:Concierto: Luis Manuel Gil
DESCRIPTION:
URL:https://disfruta-denia.com/evento/concierto-rebeldia-blues-band-5-2-2-2-6-4-2/2025-08-31/
LOCATION:Rebeldia Blues\, Carr. de Dénia A Xábia\, 3G\, Denia\, Alicante\, 03700\, España
CATEGORIES:Concierto,Música
ATTACH;FMTTYPE=image/jpeg:https://disfruta-denia.com/wp-content/uploads/2025/05/274753ee-daf2-4246-ab47-93da89109024.jpg
END:VEVENT
END:VCALENDAR