BEGIN:VCALENDAR
VERSION:2.0
PRODID:-//Disfruta Denia - ECPv6.15.20//NONSGML v1.0//EN
CALSCALE:GREGORIAN
METHOD:PUBLISH
X-ORIGINAL-URL:https://disfruta-denia.com
X-WR-CALDESC:Eventos para Disfruta Denia
REFRESH-INTERVAL;VALUE=DURATION:PT1H
X-Robots-Tag:noindex
X-PUBLISHED-TTL:PT1H
BEGIN:VTIMEZONE
TZID:Europe/Madrid
BEGIN:DAYLIGHT
TZOFFSETFROM:+0100
TZOFFSETTO:+0200
TZNAME:CEST
DTSTART:20240331T010000
END:DAYLIGHT
BEGIN:STANDARD
TZOFFSETFROM:+0200
TZOFFSETTO:+0100
TZNAME:CET
DTSTART:20241027T010000
END:STANDARD
BEGIN:DAYLIGHT
TZOFFSETFROM:+0100
TZOFFSETTO:+0200
TZNAME:CEST
DTSTART:20250330T010000
END:DAYLIGHT
BEGIN:STANDARD
TZOFFSETFROM:+0200
TZOFFSETTO:+0100
TZNAME:CET
DTSTART:20251026T010000
END:STANDARD
BEGIN:DAYLIGHT
TZOFFSETFROM:+0100
TZOFFSETTO:+0200
TZNAME:CEST
DTSTART:20260329T010000
END:DAYLIGHT
BEGIN:STANDARD
TZOFFSETFROM:+0200
TZOFFSETTO:+0100
TZNAME:CET
DTSTART:20261025T010000
END:STANDARD
END:VTIMEZONE
BEGIN:VEVENT
DTSTART;TZID=Europe/Madrid:20250825T203000
DTEND;TZID=Europe/Madrid:20250825T203000
DTSTAMP:20260426T013147
CREATED:20230912T174836Z
LAST-MODIFIED:20230912T174838Z
UID:10011512-1756153800-1756153800@disfruta-denia.com
SUMMARY:Tardeo con Marce Pesoa
DESCRIPTION:Esta noche. Tonight. \nLive music 20.30h. \nMarce Pesoa en The Speak Dénia. \nTacos\, Cocktails\, Parrilla \n& la mejor musica 🔥🤘 \nReservas: 675753879 \nLet’s #funmonday today!
URL:https://disfruta-denia.com/evento/tardeo-con-marce-pesoa-2/2025-08-25/
LOCATION:The Speak Denia\, Carrer del Pont\, 19\, Denia\, Alicante\, 03700\, España
CATEGORIES:Concierto,Música,Tardeo
ATTACH;FMTTYPE=image/jpeg:https://disfruta-denia.com/wp-content/uploads/2023/06/IMG-20230619-WA0000.jpg
END:VEVENT
BEGIN:VEVENT
DTSTART;TZID=Europe/Madrid:20250825T100000
DTEND;TZID=Europe/Madrid:20250825T110000
DTSTAMP:20260426T013147
CREATED:20250603T093855Z
LAST-MODIFIED:20250603T093912Z
UID:10021061-1756116000-1756119600@disfruta-denia.com
SUMMARY:Monday Stretch with Marianna
DESCRIPTION:Empieza la semana con una sesión de Pilates guiada por la instructora Marianna.\nDespués\, date un capricho con un café o una kombucha refrescante.\nTodos los lunes – 10:00
URL:https://disfruta-denia.com/evento/monday-stretch-with-marianna/2025-08-25/
LOCATION:Códigos del Arte\, Carreró de Morant\, 8\, Dénia\, 03700\, España
CATEGORIES:Deporte
ATTACH;FMTTYPE=image/png:https://disfruta-denia.com/wp-content/uploads/2025/06/Codigos-del-Arte-5.png
END:VEVENT
BEGIN:VEVENT
DTSTART;TZID=Europe/Madrid:20250824T235900
DTEND;TZID=Europe/Madrid:20250824T235900
DTSTAMP:20260426T013147
CREATED:20250822T144430Z
LAST-MODIFIED:20250822T144430Z
UID:10022024-1756079940-1756079940@disfruta-denia.com
SUMMARY:Dorian Gray: SEGUIMOS DE AGOSTO
DESCRIPTION:🔸 LUNES • 00’00h • NOCHE\n• LA MOCHA DÚO 🎸 en directo #poprockespañol \n🔹 MARTES • 00’00h • NOCHE\n• LA BANDA DE LA ABUELA TRÍO 🎸 en directo #poprockespañol \n🔸 MIÉRCOLES • 00’00h • NOCHE\n• JUNTOS Y REVUELTOS 🎸 en directo #poprockespañol \n🔹 JUEVES • 00’00h • NOCHE\n• POR CONFIRMAR \n🔸 VIERNES • 00’00h • NOCHE\n•Sala Dorian LA BANDA DE LA ABUELA 🎸 en directo #poprockespañol\n•Sala Gray BORJA CONESA 🎧 en cabina #urbanmusic \n🔹 SÁBADO • 00’00h • NOCHE\n•Sala Dorian MENPHIS 🎸 en directo #poprockespañol\n•Sala Gray BORJA CONESA 🎧 en cabina #urbanmusic \n🔸 DOMINGO • 00’00h • NOCHE\n• POR CONFIRMAR \nTODOS LOS DÍAS LA MEJOR MÚSICA EN DIRECTO!
URL:https://disfruta-denia.com/evento/dorian-gray-seguimos-de-agosto/2025-08-24/
LOCATION:Dorian Gray Denia\, Carrer de la Mar\, 14\, Denia\, Alicante\, 03700\, España
CATEGORIES:Concierto,DJ,Música,Ocio nocturno
ATTACH;FMTTYPE=image/png:https://disfruta-denia.com/wp-content/uploads/2025/08/Instagram-08-22-2025_04_40_PM.png
END:VEVENT
BEGIN:VEVENT
DTSTART;TZID=Europe/Madrid:20250824T180000
DTEND;TZID=Europe/Madrid:20250824T230000
DTSTAMP:20260426T013147
CREATED:20250621T180151Z
LAST-MODIFIED:20250621T180151Z
UID:10021642-1756058400-1756076400@disfruta-denia.com
SUMMARY:Mercat del Riurau Jesus Pobre
DESCRIPTION: NUEVO HORARIO DE VERANO: de 18:00 a 23:00 ¡Este domingo estrenamos el horario de tarde! Ven a disfrutar del fresquito del atardecer\, de la  gastronomía local\, artesanía\, dulces\, productos de la tierra y mucho más. Con cenas al aire libre\, puestos llenos de vida y música para cerrar el día de la mejor manera… A las 20:00 h concierto en directo con SANTI ENGUIXVersiones en clave de folk\, blues y rock que te van a flipar Jesús Pobre te espera con lucecitas\, buen rollo y mucho cariño por lo que hacemos
URL:https://disfruta-denia.com/evento/mercat-del-riurau-jesus-pobre-2-25-3-2-2-8-2-4-3-6-2/2025-08-24/
LOCATION:Mercado Riurau Jesus Pobre\, Jesus Pobre\, Alicante\, 03749\, España
CATEGORIES:Concierto,Gastronomía,Mercado
ATTACH;FMTTYPE=image/jpeg:https://disfruta-denia.com/wp-content/uploads/2025/06/509585942_1106883738141656_8917467192244946895_n.jpg
END:VEVENT
BEGIN:VEVENT
DTSTART;TZID=Europe/Madrid:20250824T180000
DTEND;TZID=Europe/Madrid:20250824T180000
DTSTAMP:20260426T013147
CREATED:20250630T103218Z
LAST-MODIFIED:20250630T103218Z
UID:10021908-1756058400-1756058400@disfruta-denia.com
SUMMARY:The Black Rose
DESCRIPTION:
URL:https://disfruta-denia.com/evento/the-black-rose/2025-08-24/
LOCATION:La Mar Serena\, Moll de la Pansa s/n Edificio Marina el Portet\, Denia\, Alicante\, 03700\, España
CATEGORIES:DJ,Música,Tardeo
ATTACH;FMTTYPE=image/jpeg:https://disfruta-denia.com/wp-content/uploads/2025/06/52318A2A-2125-4D79-84EF-BDCC678B4F82.jpg
END:VEVENT
BEGIN:VEVENT
DTSTART;TZID=Europe/Madrid:20250823T235900
DTEND;TZID=Europe/Madrid:20250823T235900
DTSTAMP:20260426T013147
CREATED:20250822T144617Z
LAST-MODIFIED:20250822T144617Z
UID:10022025-1755993540-1755993540@disfruta-denia.com
SUMMARY:Concierto La Mocha en el Paddy
DESCRIPTION:
URL:https://disfruta-denia.com/evento/concierto-la-mocha-en-el-paddy-3/
LOCATION:Paddy O’Connell Denia\, Calle de la Mar\, 20\, Denia\, Alicante\, 03700\, España
CATEGORIES:Concierto,Música,Ocio nocturno
ATTACH;FMTTYPE=image/png:https://disfruta-denia.com/wp-content/uploads/2025/08/Instagram-08-22-2025_04_45_PM.png
END:VEVENT
BEGIN:VEVENT
DTSTART;TZID=Europe/Madrid:20250823T235900
DTEND;TZID=Europe/Madrid:20250823T235900
DTSTAMP:20260426T013147
CREATED:20250822T144430Z
LAST-MODIFIED:20250822T144430Z
UID:10022023-1755993540-1755993540@disfruta-denia.com
SUMMARY:Dorian Gray: SEGUIMOS DE AGOSTO
DESCRIPTION:🔸 LUNES • 00’00h • NOCHE\n• LA MOCHA DÚO 🎸 en directo #poprockespañol \n🔹 MARTES • 00’00h • NOCHE\n• LA BANDA DE LA ABUELA TRÍO 🎸 en directo #poprockespañol \n🔸 MIÉRCOLES • 00’00h • NOCHE\n• JUNTOS Y REVUELTOS 🎸 en directo #poprockespañol \n🔹 JUEVES • 00’00h • NOCHE\n• POR CONFIRMAR \n🔸 VIERNES • 00’00h • NOCHE\n•Sala Dorian LA BANDA DE LA ABUELA 🎸 en directo #poprockespañol\n•Sala Gray BORJA CONESA 🎧 en cabina #urbanmusic \n🔹 SÁBADO • 00’00h • NOCHE\n•Sala Dorian MENPHIS 🎸 en directo #poprockespañol\n•Sala Gray BORJA CONESA 🎧 en cabina #urbanmusic \n🔸 DOMINGO • 00’00h • NOCHE\n• POR CONFIRMAR \nTODOS LOS DÍAS LA MEJOR MÚSICA EN DIRECTO!
URL:https://disfruta-denia.com/evento/dorian-gray-seguimos-de-agosto/2025-08-23/
LOCATION:Dorian Gray Denia\, Carrer de la Mar\, 14\, Denia\, Alicante\, 03700\, España
CATEGORIES:Concierto,DJ,Música,Ocio nocturno
ATTACH;FMTTYPE=image/png:https://disfruta-denia.com/wp-content/uploads/2025/08/Instagram-08-22-2025_04_40_PM.png
END:VEVENT
BEGIN:VEVENT
DTSTART;TZID=Europe/Madrid:20250823T235900
DTEND;TZID=Europe/Madrid:20250823T235900
DTSTAMP:20260426T013147
CREATED:20221128T194020Z
LAST-MODIFIED:20221128T194021Z
UID:10006626-1755993540-1755993540@disfruta-denia.com
SUMMARY:Concierto en LCDA
DESCRIPTION:
URL:https://disfruta-denia.com/evento/concierto-en-lcda-4/2025-08-23/
LOCATION:La Chica de ayer\, Calle la mar 30\, Denia\, Alicante\, 03700\, España
CATEGORIES:Concierto,Música,Ocio nocturno
ATTACH;FMTTYPE=image/jpeg:https://disfruta-denia.com/wp-content/uploads/2022/11/317545016_592127712917488_4859295703944293873_n.jpg
END:VEVENT
BEGIN:VEVENT
DTSTART;TZID=Europe/Madrid:20250823T213000
DTEND;TZID=Europe/Madrid:20250823T213000
DTSTAMP:20260426T013147
CREATED:20250819T092255Z
LAST-MODIFIED:20250819T092255Z
UID:10019971-1755984600-1755984600@disfruta-denia.com
SUMMARY:Sábado concierto en Rebeldía Blues
DESCRIPTION:Sábado concierto en Rebledía Blues
URL:https://disfruta-denia.com/evento/sabado-concierto-en-rebeldia-blues-3-2-10-3-3-2-8-3-2-2-2-2-2-2-2/2025-08-23/
LOCATION:Rebeldia Blues\, Carr. de Dénia A Xábia\, 3G\, Denia\, Alicante\, 03700\, España
CATEGORIES:Jazz,Música
ATTACH;FMTTYPE=image/jpeg:https://disfruta-denia.com/wp-content/uploads/2025/08/PHOTO-2025-08-17-18-39-32-2.jpg
END:VEVENT
BEGIN:VEVENT
DTSTART;TZID=Europe/Madrid:20250823T200000
DTEND;TZID=Europe/Madrid:20250823T200000
DTSTAMP:20260426T013147
CREATED:20250822T143855Z
LAST-MODIFIED:20250822T143855Z
UID:10022021-1755979200-1755979200@disfruta-denia.com
SUMMARY:Live Flamenco
DESCRIPTION:Noche de Flamenco en @the_foodandloungebar_denia Este sábado 23 Agosto a las 20:00h\, vive la pasión del flamenco en directo en un ambiente elegante y acogedor. Música\, emoción y gastronomía se unen para una velada inolvidable.Reserva tu mesa y déjate llevar por el ritmo español 
URL:https://disfruta-denia.com/evento/live-flamenco/
LOCATION:Food & lounge Bar\, Dársena de Babor s/n\, Denia\, Alicante\, 03700\, España
CATEGORIES:Concierto,Música,Tardeo
ATTACH;FMTTYPE=image/jpeg:https://disfruta-denia.com/wp-content/uploads/2025/08/536814151_18072714950044690_4985703142063266301_n.jpg
END:VEVENT
BEGIN:VEVENT
DTSTART;TZID=Europe/Madrid:20250823T183000
DTEND;TZID=Europe/Madrid:20250823T203000
DTSTAMP:20260426T013147
CREATED:20250804T101836Z
LAST-MODIFIED:20250804T101836Z
UID:10021993-1755973800-1755981000@disfruta-denia.com
SUMMARY:Atardecer Musical en l'Albarda
DESCRIPTION:Disfruta de la puesta de sol en el Jardín de l’Albarda con la guitarra de Thierry Fouet de fondo.\nTodos los viernes y sábados de julio y agosto\, excepto el 5 y el 19 de julio y el 16 de agosto.\nA partir de las 18:30 h.\nEntrada no socio: 10 € – Entrada socio: 5 € – Entrada infantil (7-13 años): 6 €
URL:https://disfruta-denia.com/evento/atardecer-musical-en-lalbarda-9/
LOCATION:Jardín de l’Albarda\, Denia\, Alicante\, 03700\, España
CATEGORIES:Concierto
ATTACH;FMTTYPE=image/jpeg:https://disfruta-denia.com/wp-content/uploads/2025/08/Atardeceres-musicales-2025-dIGYxa.jpg
END:VEVENT
BEGIN:VEVENT
DTSTART;TZID=Europe/Madrid:20250822T235900
DTEND;TZID=Europe/Madrid:20250822T235900
DTSTAMP:20260426T013147
CREATED:20250822T144430Z
LAST-MODIFIED:20250822T144430Z
UID:10022022-1755907140-1755907140@disfruta-denia.com
SUMMARY:Dorian Gray: SEGUIMOS DE AGOSTO
DESCRIPTION:🔸 LUNES • 00’00h • NOCHE\n• LA MOCHA DÚO 🎸 en directo #poprockespañol \n🔹 MARTES • 00’00h • NOCHE\n• LA BANDA DE LA ABUELA TRÍO 🎸 en directo #poprockespañol \n🔸 MIÉRCOLES • 00’00h • NOCHE\n• JUNTOS Y REVUELTOS 🎸 en directo #poprockespañol \n🔹 JUEVES • 00’00h • NOCHE\n• POR CONFIRMAR \n🔸 VIERNES • 00’00h • NOCHE\n•Sala Dorian LA BANDA DE LA ABUELA 🎸 en directo #poprockespañol\n•Sala Gray BORJA CONESA 🎧 en cabina #urbanmusic \n🔹 SÁBADO • 00’00h • NOCHE\n•Sala Dorian MENPHIS 🎸 en directo #poprockespañol\n•Sala Gray BORJA CONESA 🎧 en cabina #urbanmusic \n🔸 DOMINGO • 00’00h • NOCHE\n• POR CONFIRMAR \nTODOS LOS DÍAS LA MEJOR MÚSICA EN DIRECTO!
URL:https://disfruta-denia.com/evento/dorian-gray-seguimos-de-agosto/2025-08-22/
LOCATION:Dorian Gray Denia\, Carrer de la Mar\, 14\, Denia\, Alicante\, 03700\, España
CATEGORIES:Concierto,DJ,Música,Ocio nocturno
ATTACH;FMTTYPE=image/png:https://disfruta-denia.com/wp-content/uploads/2025/08/Instagram-08-22-2025_04_40_PM.png
END:VEVENT
BEGIN:VEVENT
DTSTART;TZID=Europe/Madrid:20250822T213000
DTEND;TZID=Europe/Madrid:20250822T213000
DTSTAMP:20260426T013147
CREATED:20250819T092310Z
LAST-MODIFIED:20250819T092310Z
UID:10019711-1755898200-1755898200@disfruta-denia.com
SUMMARY:Concierto de Viernes en Rebeldía Blues
DESCRIPTION:¡Este viernes en Rebeldía Blues te espera una noche llena de música en vivo Prepárate para disfrutar de lo mejor del swing\, pop y música latina en un ambiente único. La entrada es totalmente gratuita\, así que trae a tus amigos y no te pierdas esta experiencia inolvidable.  Hora: 21:30h
URL:https://disfruta-denia.com/evento/concierto-de-viernes-en-rebeldia-blues-3-3-10-3-3-3-2-9-2-2-3-2-2-2/2025-08-22/
LOCATION:Rebeldia Blues\, Carr. de Dénia A Xábia\, 3G\, Denia\, Alicante\, 03700\, España
CATEGORIES:Concierto,Jazz,Música
ATTACH;FMTTYPE=image/jpeg:https://disfruta-denia.com/wp-content/uploads/2025/08/PHOTO-2025-08-17-18-39-32.jpg
END:VEVENT
BEGIN:VEVENT
DTSTART;TZID=Europe/Madrid:20250822T183000
DTEND;TZID=Europe/Madrid:20250822T203000
DTSTAMP:20260426T013147
CREATED:20250804T101835Z
LAST-MODIFIED:20250804T101835Z
UID:10021992-1755887400-1755894600@disfruta-denia.com
SUMMARY:Atardecer Musical en l'Albarda
DESCRIPTION:Disfruta de la puesta de sol en el Jardín de l’Albarda con la guitarra de Thierry Fouet de fondo.\nTodos los viernes y sábados de julio y agosto\, excepto el 5 y el 19 de julio y el 16 de agosto.\nA partir de las 18:30 h.\nEntrada no socio: 10 € – Entrada socio: 5 € – Entrada infantil (7-13 años): 6 €
URL:https://disfruta-denia.com/evento/atardecer-musical-en-lalbarda-8/
LOCATION:Jardín de l’Albarda\, Denia\, Alicante\, 03700\, España
CATEGORIES:Concierto
ATTACH;FMTTYPE=image/jpeg:https://disfruta-denia.com/wp-content/uploads/2025/08/Atardeceres-musicales-2025-dIGYxa.jpg
END:VEVENT
BEGIN:VEVENT
DTSTART;TZID=Europe/Madrid:20250821T223000
DTEND;TZID=Europe/Madrid:20250821T223000
DTSTAMP:20260426T013147
CREATED:20250702T091759Z
LAST-MODIFIED:20250702T091759Z
UID:10021971-1755815400-1755815400@disfruta-denia.com
SUMMARY:XI Festival Jazz Denia - Ronald Baker Quartet
DESCRIPTION:
URL:https://disfruta-denia.com/evento/xi-festival-jazz-denia-ronald-baker-quartet/
LOCATION:Parque de Torrecremada\, Carrer Germans Maristes\, Denia\, Alicante\, 03700\, España
CATEGORIES:Concierto,Festival,Jazz,Música
ATTACH;FMTTYPE=image/png:https://disfruta-denia.com/wp-content/uploads/2025/07/2025-8-21-xi-festival-jazz-denia-ronald-baker-quartet.png
END:VEVENT
BEGIN:VEVENT
DTSTART;TZID=Europe/Madrid:20250821T210000
DTEND;TZID=Europe/Madrid:20250821T210000
DTSTAMP:20260426T013147
CREATED:20250708T101854Z
LAST-MODIFIED:20250708T101855Z
UID:10016674-1755810000-1755810000@disfruta-denia.com
SUMMARY:Karaoké en Rebeldía Blues
DESCRIPTION:Karaoké en Rebeldía Blues
URL:https://disfruta-denia.com/evento/karaoke-en-rebeldia-blues-4-2-2-2-2-2-4-2/2025-08-21/
LOCATION:Rebeldia Blues\, Carr. de Dénia A Xábia\, 3G\, Denia\, Alicante\, 03700\, España
CATEGORIES:Karaoké,Música
ATTACH;FMTTYPE=image/jpeg:https://disfruta-denia.com/wp-content/uploads/2025/05/a5f3c9ac-03cc-4c6b-8317-4c9f2cd1e04b.jpg
END:VEVENT
BEGIN:VEVENT
DTSTART;TZID=Europe/Madrid:20250820T223000
DTEND;TZID=Europe/Madrid:20250820T223000
DTSTAMP:20260426T013147
CREATED:20250617T122734Z
LAST-MODIFIED:20250617T122734Z
UID:10021625-1755729000-1755729000@disfruta-denia.com
SUMMARY:CULTURA A LES BASSETES 2025
DESCRIPTION:Los miércoles 16  y 30 de julio.  6\, 13 y 20 de agosto a las 22.30 h cita en el parque de les Bassetes. \nMúsica y cine al aire libre. \nEntrada libre
URL:https://disfruta-denia.com/evento/cultura-a-les-bassetes-2025/2025-08-20/
LOCATION:Parc de Les Bassetes\, Carr. de les Marines\, 53\, Denia\, Alicante\, 03700\, España
CATEGORIES:Ciné,Concierto,Cultura,Música
ATTACH;FMTTYPE=image/jpeg:https://disfruta-denia.com/wp-content/uploads/2025/06/CARTELA3-CULTURAALPARCDELESBASSETES2025_Vertical.jpg
ORGANIZER;CN="Denia Cultura":MAILTO:cultura@ayto-denia.es
END:VEVENT
BEGIN:VEVENT
DTSTART;TZID=Europe/Madrid:20250820T210000
DTEND;TZID=Europe/Madrid:20250820T210000
DTSTAMP:20260426T013147
CREATED:20250701T102945Z
LAST-MODIFIED:20250701T102945Z
UID:10021967-1755723600-1755723600@disfruta-denia.com
SUMMARY:Verea flamenca
DESCRIPTION:
URL:https://disfruta-denia.com/evento/verea-flamenca-7/2025-08-20/
LOCATION:Mr Fisher\, Moll de La Pansa s/n. Marina El Portet\, Denia\, Alicante\, 03700\, España
CATEGORIES:Baile,Concierto,Música
ATTACH;FMTTYPE=image/jpeg:https://disfruta-denia.com/wp-content/uploads/2025/07/IMG_7885.jpeg
END:VEVENT
BEGIN:VEVENT
DTSTART;TZID=Europe/Madrid:20250820T203000
DTEND;TZID=Europe/Madrid:20250820T203000
DTSTAMP:20260426T013147
CREATED:20240414T124150Z
LAST-MODIFIED:20240414T124150Z
UID:10017982-1755721800-1755721800@disfruta-denia.com
SUMMARY:Miércoles latinos\, miércoles clandestinos
DESCRIPTION:Miércoles latinos\, miércoles clandestinos  Cada miércoles a las 20.30h tenemos una cita con Madelyn Torroella a ritmo cubano!! Voz\, percusión y versiones de salsa clásica\, cada miércoles\, en el Speak. Parrillada\, tacos\, tapas\, cocktails & música. Reserva tu mesa
URL:https://disfruta-denia.com/evento/miercoles-latinos-miercoles-clandestinos/2025-08-20/
LOCATION:The Speak Denia\, Carrer del Pont\, 19\, Denia\, Alicante\, 03700\, España
CATEGORIES:Concierto,Música
ATTACH;FMTTYPE=image/jpeg:https://disfruta-denia.com/wp-content/uploads/2024/04/434468313_1159701198651630_4992165217264460198_n.jpg
END:VEVENT
BEGIN:VEVENT
DTSTART;TZID=Europe/Madrid:20250820T200000
DTEND;TZID=Europe/Madrid:20250820T233000
DTSTAMP:20260426T013147
CREATED:20230612T102803Z
LAST-MODIFIED:20230612T102804Z
UID:10009052-1755720000-1755732600@disfruta-denia.com
SUMMARY:Autocine: día del espectador
DESCRIPTION:
URL:https://disfruta-denia.com/evento/autocine-dia-del-espectador-3/2025-08-20/
LOCATION:Autociné Denia\, Partida Deveses D\, 27\, Denia\, Alicante\, 03700\, España
CATEGORIES:Ciné,Cultura
ATTACH;FMTTYPE=image/jpeg:https://disfruta-denia.com/wp-content/uploads/2022/11/Autocine-Drive-In-Denia-1.jpg
END:VEVENT
BEGIN:VEVENT
DTSTART;TZID=Europe/Madrid:20250820T193000
DTEND;TZID=Europe/Madrid:20250820T193000
DTSTAMP:20260426T013147
CREATED:20250603T094354Z
LAST-MODIFIED:20250603T094354Z
UID:10021322-1755718200-1755718200@disfruta-denia.com
SUMMARY:Encuentros en Códigos
DESCRIPTION:​¡Bienvenidos a Encuentros en Códigos\, el Meetup internacional semanal en Códigos del Arte!\nNos reunimos todos los miércoles a partir de las 19:30 — toma algo\, relájate\, y disfruta de una buena conversación.\nTodos los miércoles – 19:30\nEntrada: Gratuita
URL:https://disfruta-denia.com/evento/encuentros-en-codigos/2025-08-20/
LOCATION:Códigos del Arte\, Carreró de Morant\, 8\, Dénia\, 03700\, España
CATEGORIES:Tardeo
ATTACH;FMTTYPE=image/png:https://disfruta-denia.com/wp-content/uploads/2025/06/Codigos-del-Arte-20.png
END:VEVENT
BEGIN:VEVENT
DTSTART;TZID=Europe/Madrid:20250820T190000
DTEND;TZID=Europe/Madrid:20250820T210000
DTSTAMP:20260426T013147
CREATED:20231115T115842Z
LAST-MODIFIED:20231115T115843Z
UID:10008369-1755716400-1755723600@disfruta-denia.com
SUMMARY:Tardeo en Basta
DESCRIPTION:
URL:https://disfruta-denia.com/evento/tardeo-en-basta-3-3/2025-08-20/
LOCATION:Basta Lounge Bar\, Marina de Dénia\, Local C2\, Denia\, Valencian Community\, 03700\, España
CATEGORIES:Concierto,Música,Tardeo
ATTACH;FMTTYPE=image/jpeg:https://disfruta-denia.com/wp-content/uploads/2022/12/IMG_3678.jpeg
END:VEVENT
BEGIN:VEVENT
DTSTART;TZID=Europe/Madrid:20250818T203000
DTEND;TZID=Europe/Madrid:20250818T203000
DTSTAMP:20260426T013147
CREATED:20230912T174836Z
LAST-MODIFIED:20230912T174838Z
UID:10011511-1755549000-1755549000@disfruta-denia.com
SUMMARY:Tardeo con Marce Pesoa
DESCRIPTION:Esta noche. Tonight. \nLive music 20.30h. \nMarce Pesoa en The Speak Dénia. \nTacos\, Cocktails\, Parrilla \n& la mejor musica 🔥🤘 \nReservas: 675753879 \nLet’s #funmonday today!
URL:https://disfruta-denia.com/evento/tardeo-con-marce-pesoa-2/2025-08-18/
LOCATION:The Speak Denia\, Carrer del Pont\, 19\, Denia\, Alicante\, 03700\, España
CATEGORIES:Concierto,Música,Tardeo
ATTACH;FMTTYPE=image/jpeg:https://disfruta-denia.com/wp-content/uploads/2023/06/IMG-20230619-WA0000.jpg
END:VEVENT
BEGIN:VEVENT
DTSTART;TZID=Europe/Madrid:20250818T100000
DTEND;TZID=Europe/Madrid:20250818T110000
DTSTAMP:20260426T013147
CREATED:20250603T093855Z
LAST-MODIFIED:20250603T093912Z
UID:10021060-1755511200-1755514800@disfruta-denia.com
SUMMARY:Monday Stretch with Marianna
DESCRIPTION:Empieza la semana con una sesión de Pilates guiada por la instructora Marianna.\nDespués\, date un capricho con un café o una kombucha refrescante.\nTodos los lunes – 10:00
URL:https://disfruta-denia.com/evento/monday-stretch-with-marianna/2025-08-18/
LOCATION:Códigos del Arte\, Carreró de Morant\, 8\, Dénia\, 03700\, España
CATEGORIES:Deporte
ATTACH;FMTTYPE=image/png:https://disfruta-denia.com/wp-content/uploads/2025/06/Codigos-del-Arte-5.png
END:VEVENT
BEGIN:VEVENT
DTSTART;TZID=Europe/Madrid:20250817T235900
DTEND;TZID=Europe/Madrid:20250817T235900
DTSTAMP:20260426T013147
CREATED:20250813T082122Z
LAST-MODIFIED:20250813T082122Z
UID:10022017-1755475140-1755475140@disfruta-denia.com
SUMMARY:Dorian Gray: Moros i Cristians
DESCRIPTION:📣 MOROS I CRISTIANS ✝️🌙 \n🔹 MARTES • 00’00h • NOCHE\n• LA MOCHA DÚO 🎸 en directo #poprockenespañol \n🔸 MIÉRCOLES • 00’00h • NOCHE\n• RUMBADOS 💃🏼 en directo #rumbaflamenca \n🔹 JUEVES • 00’00h • NOCHE\n• Sala Dorian LA MOCHA 🎸 en directo #poprocknacional\n• Sala Gray BORJA CONESA 🎧 en cabina #urbanmusic \n🔸 VIERNES • 00’00h • NOCHE\n• Sala Dorian LA MOCHA 🎸 en directo #poprocknacional\n• Sala Gray BORJA CONESA 🎧 en cabina #urbanmusic \n🔹 SÁBADO • 00’00h • NOCHE\n• BORJA CONESA 🎧 en cabina #urbanmusic \n🔸 DOMINGO • 00’00h • NOCHE\n• JUNTOS Y REVUELTOS 🎸 en directo #poprockindieespañol \nVEN Y DISFRUTA DE LA SEMANA GRANDE DE LAS FIESTAS DE MOROS Y CRISTIANOS DE DENIA CON LA MEJOR MÚSICA\, EL MEJOR AMBIENTE Y SIN DUDA\, EL MEJOR LUGAR
URL:https://disfruta-denia.com/evento/dorian-gray-moros-i-cristians/2025-08-17/
LOCATION:Dorian Gray Denia\, Carrer de la Mar\, 14\, Denia\, Alicante\, 03700\, España
CATEGORIES:Concierto,DJ,Música,Ocio nocturno,Tardeo
ATTACH;FMTTYPE=image/png:https://disfruta-denia.com/wp-content/uploads/2025/08/Instagram-08-13-2025_09_54_AM.png
END:VEVENT
BEGIN:VEVENT
DTSTART;TZID=Europe/Madrid:20250817T180000
DTEND;TZID=Europe/Madrid:20250817T230000
DTSTAMP:20260426T013147
CREATED:20250621T180151Z
LAST-MODIFIED:20250621T180151Z
UID:10021641-1755453600-1755471600@disfruta-denia.com
SUMMARY:Mercat del Riurau Jesus Pobre
DESCRIPTION: NUEVO HORARIO DE VERANO: de 18:00 a 23:00 ¡Este domingo estrenamos el horario de tarde! Ven a disfrutar del fresquito del atardecer\, de la  gastronomía local\, artesanía\, dulces\, productos de la tierra y mucho más. Con cenas al aire libre\, puestos llenos de vida y música para cerrar el día de la mejor manera… A las 20:00 h concierto en directo con SANTI ENGUIXVersiones en clave de folk\, blues y rock que te van a flipar Jesús Pobre te espera con lucecitas\, buen rollo y mucho cariño por lo que hacemos
URL:https://disfruta-denia.com/evento/mercat-del-riurau-jesus-pobre-2-25-3-2-2-8-2-4-3-6-2/2025-08-17/
LOCATION:Mercado Riurau Jesus Pobre\, Jesus Pobre\, Alicante\, 03749\, España
CATEGORIES:Concierto,Gastronomía,Mercado
ATTACH;FMTTYPE=image/jpeg:https://disfruta-denia.com/wp-content/uploads/2025/06/509585942_1106883738141656_8917467192244946895_n.jpg
END:VEVENT
BEGIN:VEVENT
DTSTART;TZID=Europe/Madrid:20250817T180000
DTEND;TZID=Europe/Madrid:20250817T180000
DTSTAMP:20260426T013147
CREATED:20250630T103218Z
LAST-MODIFIED:20250630T103218Z
UID:10021907-1755453600-1755453600@disfruta-denia.com
SUMMARY:The Black Rose
DESCRIPTION:
URL:https://disfruta-denia.com/evento/the-black-rose/2025-08-17/
LOCATION:La Mar Serena\, Moll de la Pansa s/n Edificio Marina el Portet\, Denia\, Alicante\, 03700\, España
CATEGORIES:DJ,Música,Tardeo
ATTACH;FMTTYPE=image/jpeg:https://disfruta-denia.com/wp-content/uploads/2025/06/52318A2A-2125-4D79-84EF-BDCC678B4F82.jpg
END:VEVENT
BEGIN:VEVENT
DTSTART;TZID=Europe/Madrid:20250816T235900
DTEND;TZID=Europe/Madrid:20250816T235900
DTSTAMP:20260426T013147
CREATED:20250813T082122Z
LAST-MODIFIED:20250813T082122Z
UID:10022016-1755388740-1755388740@disfruta-denia.com
SUMMARY:Dorian Gray: Moros i Cristians
DESCRIPTION:📣 MOROS I CRISTIANS ✝️🌙 \n🔹 MARTES • 00’00h • NOCHE\n• LA MOCHA DÚO 🎸 en directo #poprockenespañol \n🔸 MIÉRCOLES • 00’00h • NOCHE\n• RUMBADOS 💃🏼 en directo #rumbaflamenca \n🔹 JUEVES • 00’00h • NOCHE\n• Sala Dorian LA MOCHA 🎸 en directo #poprocknacional\n• Sala Gray BORJA CONESA 🎧 en cabina #urbanmusic \n🔸 VIERNES • 00’00h • NOCHE\n• Sala Dorian LA MOCHA 🎸 en directo #poprocknacional\n• Sala Gray BORJA CONESA 🎧 en cabina #urbanmusic \n🔹 SÁBADO • 00’00h • NOCHE\n• BORJA CONESA 🎧 en cabina #urbanmusic \n🔸 DOMINGO • 00’00h • NOCHE\n• JUNTOS Y REVUELTOS 🎸 en directo #poprockindieespañol \nVEN Y DISFRUTA DE LA SEMANA GRANDE DE LAS FIESTAS DE MOROS Y CRISTIANOS DE DENIA CON LA MEJOR MÚSICA\, EL MEJOR AMBIENTE Y SIN DUDA\, EL MEJOR LUGAR
URL:https://disfruta-denia.com/evento/dorian-gray-moros-i-cristians/2025-08-16/
LOCATION:Dorian Gray Denia\, Carrer de la Mar\, 14\, Denia\, Alicante\, 03700\, España
CATEGORIES:Concierto,DJ,Música,Ocio nocturno,Tardeo
ATTACH;FMTTYPE=image/png:https://disfruta-denia.com/wp-content/uploads/2025/08/Instagram-08-13-2025_09_54_AM.png
END:VEVENT
BEGIN:VEVENT
DTSTART;TZID=Europe/Madrid:20250816T235900
DTEND;TZID=Europe/Madrid:20250816T235900
DTSTAMP:20260426T013147
CREATED:20221128T194020Z
LAST-MODIFIED:20221128T194021Z
UID:10006625-1755388740-1755388740@disfruta-denia.com
SUMMARY:Concierto en LCDA
DESCRIPTION:
URL:https://disfruta-denia.com/evento/concierto-en-lcda-4/2025-08-16/
LOCATION:La Chica de ayer\, Calle la mar 30\, Denia\, Alicante\, 03700\, España
CATEGORIES:Concierto,Música,Ocio nocturno
ATTACH;FMTTYPE=image/jpeg:https://disfruta-denia.com/wp-content/uploads/2022/11/317545016_592127712917488_4859295703944293873_n.jpg
END:VEVENT
BEGIN:VEVENT
DTSTART;TZID=Europe/Madrid:20250816T213000
DTEND;TZID=Europe/Madrid:20250816T213000
DTSTAMP:20260426T013147
CREATED:20250813T075324Z
LAST-MODIFIED:20250813T075324Z
UID:10019970-1755379800-1755379800@disfruta-denia.com
SUMMARY:Sábado concierto en Rebeldía Blues
DESCRIPTION:Sábado concierto en Rebledía Blues
URL:https://disfruta-denia.com/evento/sabado-concierto-en-rebeldia-blues-3-2-10-3-3-2-8-3-2-2-2-2-2-2/
LOCATION:Rebeldia Blues\, Carr. de Dénia A Xábia\, 3G\, Denia\, Alicante\, 03700\, España
CATEGORIES:Música
ATTACH;FMTTYPE=image/jpeg:https://disfruta-denia.com/wp-content/uploads/2025/08/PHOTO-2025-08-13-09-43-11.jpg
END:VEVENT
END:VCALENDAR