BEGIN:VCALENDAR
VERSION:2.0
PRODID:-//Disfruta Denia - ECPv6.15.20//NONSGML v1.0//EN
CALSCALE:GREGORIAN
METHOD:PUBLISH
X-ORIGINAL-URL:https://disfruta-denia.com
X-WR-CALDESC:Eventos para Disfruta Denia
REFRESH-INTERVAL;VALUE=DURATION:PT1H
X-Robots-Tag:noindex
X-PUBLISHED-TTL:PT1H
BEGIN:VTIMEZONE
TZID:Europe/Madrid
BEGIN:DAYLIGHT
TZOFFSETFROM:+0100
TZOFFSETTO:+0200
TZNAME:CEST
DTSTART:20240331T010000
END:DAYLIGHT
BEGIN:STANDARD
TZOFFSETFROM:+0200
TZOFFSETTO:+0100
TZNAME:CET
DTSTART:20241027T010000
END:STANDARD
BEGIN:DAYLIGHT
TZOFFSETFROM:+0100
TZOFFSETTO:+0200
TZNAME:CEST
DTSTART:20250330T010000
END:DAYLIGHT
BEGIN:STANDARD
TZOFFSETFROM:+0200
TZOFFSETTO:+0100
TZNAME:CET
DTSTART:20251026T010000
END:STANDARD
BEGIN:DAYLIGHT
TZOFFSETFROM:+0100
TZOFFSETTO:+0200
TZNAME:CEST
DTSTART:20260329T010000
END:DAYLIGHT
BEGIN:STANDARD
TZOFFSETFROM:+0200
TZOFFSETTO:+0100
TZNAME:CET
DTSTART:20261025T010000
END:STANDARD
END:VTIMEZONE
BEGIN:VEVENT
DTSTART;TZID=Europe/Madrid:20250804T100000
DTEND;TZID=Europe/Madrid:20250804T110000
DTSTAMP:20260425T151534
CREATED:20250603T093855Z
LAST-MODIFIED:20250603T093912Z
UID:10021058-1754301600-1754305200@disfruta-denia.com
SUMMARY:Monday Stretch with Marianna
DESCRIPTION:Empieza la semana con una sesión de Pilates guiada por la instructora Marianna.\nDespués\, date un capricho con un café o una kombucha refrescante.\nTodos los lunes – 10:00
URL:https://disfruta-denia.com/evento/monday-stretch-with-marianna/2025-08-04/
LOCATION:Códigos del Arte\, Carreró de Morant\, 8\, Dénia\, 03700\, España
CATEGORIES:Deporte
ATTACH;FMTTYPE=image/png:https://disfruta-denia.com/wp-content/uploads/2025/06/Codigos-del-Arte-5.png
END:VEVENT
BEGIN:VEVENT
DTSTART;TZID=Europe/Madrid:20250803T210000
DTEND;TZID=Europe/Madrid:20250803T210000
DTSTAMP:20260425T151534
CREATED:20250708T101946Z
LAST-MODIFIED:20250708T101946Z
UID:10016395-1754254800-1754254800@disfruta-denia.com
SUMMARY:Concierto: Luis Manuel Gil
DESCRIPTION:
URL:https://disfruta-denia.com/evento/concierto-rebeldia-blues-band-5-2-2-2-6-4-2/2025-08-03/
LOCATION:Rebeldia Blues\, Carr. de Dénia A Xábia\, 3G\, Denia\, Alicante\, 03700\, España
CATEGORIES:Concierto,Música
ATTACH;FMTTYPE=image/jpeg:https://disfruta-denia.com/wp-content/uploads/2025/05/274753ee-daf2-4246-ab47-93da89109024.jpg
END:VEVENT
BEGIN:VEVENT
DTSTART;TZID=Europe/Madrid:20250803T180000
DTEND;TZID=Europe/Madrid:20250803T230000
DTSTAMP:20260425T151534
CREATED:20250621T180151Z
LAST-MODIFIED:20250621T180151Z
UID:10021639-1754244000-1754262000@disfruta-denia.com
SUMMARY:Mercat del Riurau Jesus Pobre
DESCRIPTION: NUEVO HORARIO DE VERANO: de 18:00 a 23:00 ¡Este domingo estrenamos el horario de tarde! Ven a disfrutar del fresquito del atardecer\, de la  gastronomía local\, artesanía\, dulces\, productos de la tierra y mucho más. Con cenas al aire libre\, puestos llenos de vida y música para cerrar el día de la mejor manera… A las 20:00 h concierto en directo con SANTI ENGUIXVersiones en clave de folk\, blues y rock que te van a flipar Jesús Pobre te espera con lucecitas\, buen rollo y mucho cariño por lo que hacemos
URL:https://disfruta-denia.com/evento/mercat-del-riurau-jesus-pobre-2-25-3-2-2-8-2-4-3-6-2/2025-08-03/
LOCATION:Mercado Riurau Jesus Pobre\, Jesus Pobre\, Alicante\, 03749\, España
CATEGORIES:Concierto,Gastronomía,Mercado
ATTACH;FMTTYPE=image/jpeg:https://disfruta-denia.com/wp-content/uploads/2025/06/509585942_1106883738141656_8917467192244946895_n.jpg
END:VEVENT
BEGIN:VEVENT
DTSTART;TZID=Europe/Madrid:20250803T180000
DTEND;TZID=Europe/Madrid:20250803T180000
DTSTAMP:20260425T151534
CREATED:20250630T103218Z
LAST-MODIFIED:20250630T103218Z
UID:10021905-1754244000-1754244000@disfruta-denia.com
SUMMARY:The Black Rose
DESCRIPTION:
URL:https://disfruta-denia.com/evento/the-black-rose/2025-08-03/
LOCATION:La Mar Serena\, Moll de la Pansa s/n Edificio Marina el Portet\, Denia\, Alicante\, 03700\, España
CATEGORIES:DJ,Música,Tardeo
ATTACH;FMTTYPE=image/jpeg:https://disfruta-denia.com/wp-content/uploads/2025/06/52318A2A-2125-4D79-84EF-BDCC678B4F82.jpg
END:VEVENT
BEGIN:VEVENT
DTSTART;TZID=Europe/Madrid:20250802T235900
DTEND;TZID=Europe/Madrid:20250802T235900
DTSTAMP:20260425T151534
CREATED:20221128T194020Z
LAST-MODIFIED:20221128T194021Z
UID:10006623-1754179140-1754179140@disfruta-denia.com
SUMMARY:Concierto en LCDA
DESCRIPTION:
URL:https://disfruta-denia.com/evento/concierto-en-lcda-4/2025-08-02/
LOCATION:La Chica de ayer\, Calle la mar 30\, Denia\, Alicante\, 03700\, España
CATEGORIES:Concierto,Música,Ocio nocturno
ATTACH;FMTTYPE=image/jpeg:https://disfruta-denia.com/wp-content/uploads/2022/11/317545016_592127712917488_4859295703944293873_n.jpg
END:VEVENT
BEGIN:VEVENT
DTSTART;TZID=Europe/Madrid:20250802T213000
DTEND;TZID=Europe/Madrid:20250802T213000
DTSTAMP:20260425T151534
CREATED:20250708T101924Z
LAST-MODIFIED:20250708T101924Z
UID:10019968-1754170200-1754170200@disfruta-denia.com
SUMMARY:Sábado concierto en Rebeldía Blues
DESCRIPTION:Sábado concierto en Rebledía Blues
URL:https://disfruta-denia.com/evento/sabado-concierto-en-rebeldia-blues-3-2-10-3-3-2-8-3-2-2-2-2/2025-08-02/
LOCATION:Rebeldia Blues\, Carr. de Dénia A Xábia\, 3G\, Denia\, Alicante\, 03700\, España
CATEGORIES:Concierto,Música
ATTACH;FMTTYPE=image/jpeg:https://disfruta-denia.com/wp-content/uploads/2025/05/731aaf66-b480-4f18-9f3a-07ac4ff78903.jpg
END:VEVENT
BEGIN:VEVENT
DTSTART;TZID=Europe/Madrid:20250802T203000
DTEND;TZID=Europe/Madrid:20250802T203000
DTSTAMP:20260425T151534
CREATED:20240429T085216Z
LAST-MODIFIED:20240429T085218Z
UID:10014848-1754166600-1754166600@disfruta-denia.com
SUMMARY:Concierto: MC LUCAS BAND
DESCRIPTION:Tras el éxito y las ganas de más…. tendremos a MC LUCAS BAND cada primer sábado del mes!!! \, con ellos te lo pasarás en grande. ¡¡ NO TE LO PIERDAS Y RESERVA TU MESA!! ROCK N’ ROLL OH YEAH  ****************************************Since the last time went to well and you all begged for more we will have MC LUCAS BAND with us every first Saturday of the month!!! \, with them you will have a great time. DON’T MISS IT AND BOOK YOUR TABLE!! ROCK N’ ROLL OH YEAH 
URL:https://disfruta-denia.com/evento/concierto-mc-lucas-band-2/2025-08-02/
LOCATION:Bohemia Xalo\, Colonia lliber 21\, Jalón\, España
CATEGORIES:Concierto,Música
ATTACH;FMTTYPE=image/jpeg:https://disfruta-denia.com/wp-content/uploads/2023/11/440583764_17877569739065820_5475036873752478293_n.jpg
END:VEVENT
BEGIN:VEVENT
DTSTART;TZID=Europe/Madrid:20250801T223000
DTEND;TZID=Europe/Madrid:20250801T223000
DTSTAMP:20260425T151534
CREATED:20250702T091334Z
LAST-MODIFIED:20250729T101727Z
UID:10021968-1754087400-1754087400@disfruta-denia.com
SUMMARY:XI Festival Jazz Denia - Pia Tedesco Quintet
DESCRIPTION:🎙️ El viernes\, 1 de agosto\, el concierto inaugural de esta undécima edición con Pía Tedesco Quintet\, que presentará en los 🌳 jardines de Torrecremada su proyecto «Las pioneras del swing en España».\nUn homenaje a grandes artistas\, avanzadas a su tiempo\, que rompieron moldes a ritmo de jazz. \n🕥 A las 22.30 h. \n🎫 https://www.notikumi.com/2025/8/1/xi-festival-jazz-denia-pia-tedesco-quintet
URL:https://disfruta-denia.com/evento/xi-festival-jazz-denia-pia-tedesco-quintet/
LOCATION:Parque de Torrecremada\, Carrer Germans Maristes\, Denia\, Alicante\, 03700\, España
CATEGORIES:Concierto,Festival,Música
ATTACH;FMTTYPE=image/png:https://disfruta-denia.com/wp-content/uploads/2025/07/jazz-dia-1.png
END:VEVENT
BEGIN:VEVENT
DTSTART;TZID=Europe/Madrid:20250801T213000
DTEND;TZID=Europe/Madrid:20250801T213000
DTSTAMP:20260425T151534
CREATED:20250708T101913Z
LAST-MODIFIED:20250708T101914Z
UID:10019708-1754083800-1754083800@disfruta-denia.com
SUMMARY:Concierto de Viernes en Rebeldía Blues
DESCRIPTION:¡Este viernes en Rebeldía Blues te espera una noche llena de música en vivo Prepárate para disfrutar de lo mejor del swing\, pop y música latina en un ambiente único. La entrada es totalmente gratuita\, así que trae a tus amigos y no te pierdas esta experiencia inolvidable.  Hora: 21:30h
URL:https://disfruta-denia.com/evento/concierto-de-viernes-en-rebeldia-blues-3-3-10-3-3-3-2-9-2-2-3/2025-08-01/
LOCATION:Rebeldia Blues\, Carr. de Dénia A Xábia\, 3G\, Denia\, Alicante\, 03700\, España
CATEGORIES:Concierto,Música
ATTACH;FMTTYPE=image/jpeg:https://disfruta-denia.com/wp-content/uploads/2025/05/a7d1f75a-9193-45aa-9b80-31d86c2406b3.jpg
END:VEVENT
BEGIN:VEVENT
DTSTART;TZID=Europe/Madrid:20250731T210000
DTEND;TZID=Europe/Madrid:20250731T210000
DTSTAMP:20260425T151534
CREATED:20250708T101854Z
LAST-MODIFIED:20250708T101855Z
UID:10016671-1753995600-1753995600@disfruta-denia.com
SUMMARY:Karaoké en Rebeldía Blues
DESCRIPTION:Karaoké en Rebeldía Blues
URL:https://disfruta-denia.com/evento/karaoke-en-rebeldia-blues-4-2-2-2-2-2-4-2/2025-07-31/
LOCATION:Rebeldia Blues\, Carr. de Dénia A Xábia\, 3G\, Denia\, Alicante\, 03700\, España
CATEGORIES:Karaoké,Música
ATTACH;FMTTYPE=image/jpeg:https://disfruta-denia.com/wp-content/uploads/2025/05/a5f3c9ac-03cc-4c6b-8317-4c9f2cd1e04b.jpg
END:VEVENT
BEGIN:VEVENT
DTSTART;TZID=Europe/Madrid:20250730T223000
DTEND;TZID=Europe/Madrid:20250730T223000
DTSTAMP:20260425T151534
CREATED:20250617T122734Z
LAST-MODIFIED:20250617T122734Z
UID:10021622-1753914600-1753914600@disfruta-denia.com
SUMMARY:CULTURA A LES BASSETES 2025
DESCRIPTION:Los miércoles 16  y 30 de julio.  6\, 13 y 20 de agosto a las 22.30 h cita en el parque de les Bassetes. \nMúsica y cine al aire libre. \nEntrada libre
URL:https://disfruta-denia.com/evento/cultura-a-les-bassetes-2025/2025-07-30/
LOCATION:Parc de Les Bassetes\, Carr. de les Marines\, 53\, Denia\, Alicante\, 03700\, España
CATEGORIES:Ciné,Concierto,Cultura,Música
ATTACH;FMTTYPE=image/jpeg:https://disfruta-denia.com/wp-content/uploads/2025/06/CARTELA3-CULTURAALPARCDELESBASSETES2025_Vertical.jpg
ORGANIZER;CN="Denia Cultura":MAILTO:cultura@ayto-denia.es
END:VEVENT
BEGIN:VEVENT
DTSTART;TZID=Europe/Madrid:20250730T203000
DTEND;TZID=Europe/Madrid:20250730T203000
DTSTAMP:20260425T151534
CREATED:20240414T124150Z
LAST-MODIFIED:20240414T124150Z
UID:10017979-1753907400-1753907400@disfruta-denia.com
SUMMARY:Miércoles latinos\, miércoles clandestinos
DESCRIPTION:Miércoles latinos\, miércoles clandestinos  Cada miércoles a las 20.30h tenemos una cita con Madelyn Torroella a ritmo cubano!! Voz\, percusión y versiones de salsa clásica\, cada miércoles\, en el Speak. Parrillada\, tacos\, tapas\, cocktails & música. Reserva tu mesa
URL:https://disfruta-denia.com/evento/miercoles-latinos-miercoles-clandestinos/2025-07-30/
LOCATION:The Speak Denia\, Carrer del Pont\, 19\, Denia\, Alicante\, 03700\, España
CATEGORIES:Concierto,Música
ATTACH;FMTTYPE=image/jpeg:https://disfruta-denia.com/wp-content/uploads/2024/04/434468313_1159701198651630_4992165217264460198_n.jpg
END:VEVENT
BEGIN:VEVENT
DTSTART;TZID=Europe/Madrid:20250730T200000
DTEND;TZID=Europe/Madrid:20250730T233000
DTSTAMP:20260425T151534
CREATED:20230612T102803Z
LAST-MODIFIED:20230612T102804Z
UID:10009049-1753905600-1753918200@disfruta-denia.com
SUMMARY:Autocine: día del espectador
DESCRIPTION:
URL:https://disfruta-denia.com/evento/autocine-dia-del-espectador-3/2025-07-30/
LOCATION:Autociné Denia\, Partida Deveses D\, 27\, Denia\, Alicante\, 03700\, España
CATEGORIES:Ciné,Cultura
ATTACH;FMTTYPE=image/jpeg:https://disfruta-denia.com/wp-content/uploads/2022/11/Autocine-Drive-In-Denia-1.jpg
END:VEVENT
BEGIN:VEVENT
DTSTART;TZID=Europe/Madrid:20250730T193000
DTEND;TZID=Europe/Madrid:20250730T193000
DTSTAMP:20260425T151534
CREATED:20250603T094354Z
LAST-MODIFIED:20250603T094354Z
UID:10021319-1753903800-1753903800@disfruta-denia.com
SUMMARY:Encuentros en Códigos
DESCRIPTION:​¡Bienvenidos a Encuentros en Códigos\, el Meetup internacional semanal en Códigos del Arte!\nNos reunimos todos los miércoles a partir de las 19:30 — toma algo\, relájate\, y disfruta de una buena conversación.\nTodos los miércoles – 19:30\nEntrada: Gratuita
URL:https://disfruta-denia.com/evento/encuentros-en-codigos/2025-07-30/
LOCATION:Códigos del Arte\, Carreró de Morant\, 8\, Dénia\, 03700\, España
CATEGORIES:Tardeo
ATTACH;FMTTYPE=image/png:https://disfruta-denia.com/wp-content/uploads/2025/06/Codigos-del-Arte-20.png
END:VEVENT
BEGIN:VEVENT
DTSTART;TZID=Europe/Madrid:20250730T190000
DTEND;TZID=Europe/Madrid:20250730T210000
DTSTAMP:20260425T151534
CREATED:20231115T115842Z
LAST-MODIFIED:20231115T115843Z
UID:10008366-1753902000-1753909200@disfruta-denia.com
SUMMARY:Tardeo en Basta
DESCRIPTION:
URL:https://disfruta-denia.com/evento/tardeo-en-basta-3-3/2025-07-30/
LOCATION:Basta Lounge Bar\, Marina de Dénia\, Local C2\, Denia\, Valencian Community\, 03700\, España
CATEGORIES:Concierto,Música,Tardeo
ATTACH;FMTTYPE=image/jpeg:https://disfruta-denia.com/wp-content/uploads/2022/12/IMG_3678.jpeg
END:VEVENT
BEGIN:VEVENT
DTSTART;TZID=Europe/Madrid:20250728T203000
DTEND;TZID=Europe/Madrid:20250728T203000
DTSTAMP:20260425T151534
CREATED:20230912T174836Z
LAST-MODIFIED:20230912T174838Z
UID:10011508-1753734600-1753734600@disfruta-denia.com
SUMMARY:Tardeo con Marce Pesoa
DESCRIPTION:Esta noche. Tonight. \nLive music 20.30h. \nMarce Pesoa en The Speak Dénia. \nTacos\, Cocktails\, Parrilla \n& la mejor musica 🔥🤘 \nReservas: 675753879 \nLet’s #funmonday today!
URL:https://disfruta-denia.com/evento/tardeo-con-marce-pesoa-2/2025-07-28/
LOCATION:The Speak Denia\, Carrer del Pont\, 19\, Denia\, Alicante\, 03700\, España
CATEGORIES:Concierto,Música,Tardeo
ATTACH;FMTTYPE=image/jpeg:https://disfruta-denia.com/wp-content/uploads/2023/06/IMG-20230619-WA0000.jpg
END:VEVENT
BEGIN:VEVENT
DTSTART;TZID=Europe/Madrid:20250728T100000
DTEND;TZID=Europe/Madrid:20250728T110000
DTSTAMP:20260425T151534
CREATED:20250603T093855Z
LAST-MODIFIED:20250603T093912Z
UID:10021057-1753696800-1753700400@disfruta-denia.com
SUMMARY:Monday Stretch with Marianna
DESCRIPTION:Empieza la semana con una sesión de Pilates guiada por la instructora Marianna.\nDespués\, date un capricho con un café o una kombucha refrescante.\nTodos los lunes – 10:00
URL:https://disfruta-denia.com/evento/monday-stretch-with-marianna/2025-07-28/
LOCATION:Códigos del Arte\, Carreró de Morant\, 8\, Dénia\, 03700\, España
CATEGORIES:Deporte
ATTACH;FMTTYPE=image/png:https://disfruta-denia.com/wp-content/uploads/2025/06/Codigos-del-Arte-5.png
END:VEVENT
BEGIN:VEVENT
DTSTART;TZID=Europe/Madrid:20250727T210000
DTEND;TZID=Europe/Madrid:20250727T210000
DTSTAMP:20260425T151534
CREATED:20250708T101946Z
LAST-MODIFIED:20250708T101946Z
UID:10016394-1753650000-1753650000@disfruta-denia.com
SUMMARY:Concierto: Luis Manuel Gil
DESCRIPTION:
URL:https://disfruta-denia.com/evento/concierto-rebeldia-blues-band-5-2-2-2-6-4-2/2025-07-27/
LOCATION:Rebeldia Blues\, Carr. de Dénia A Xábia\, 3G\, Denia\, Alicante\, 03700\, España
CATEGORIES:Concierto,Música
ATTACH;FMTTYPE=image/jpeg:https://disfruta-denia.com/wp-content/uploads/2025/05/274753ee-daf2-4246-ab47-93da89109024.jpg
END:VEVENT
BEGIN:VEVENT
DTSTART;TZID=Europe/Madrid:20250727T203000
DTEND;TZID=Europe/Madrid:20250727T203000
DTSTAMP:20260425T151534
CREATED:20250619T080717Z
LAST-MODIFIED:20250619T081030Z
UID:10021630-1753648200-1753648200@disfruta-denia.com
SUMMARY:Música al Castell 2025
DESCRIPTION:Festival de Música amb ànima mediterrània.  \nDel 23 al 27 de juliol. \n  \nDia\, 23 –  23 h – CASTELL \nMIQUEL GIL \nViatger \nMúsica Folk \nEntrada lliure. \n  \nDia 24  – 23 h  – CASTELL    \nSEPTETO NABORÍ                                                                                      \nSigue el vacilón \nMúsica Tradicional Cubana \nSon Cubano/Salsa / Cha cha cha /Rumba \nEntrada lliure  \n  \nDia\, 25 –  23 h – CASTELL                                                                           \nEL NAÁN BANDA \nGerminal \nMúsica ètnica ibèrica \nEntrada: 10 € \n  \nDia\, 26 –  23 h – CASTELL                                                                            \nMARTIRIO \nAl sur del tango \nEntrada: 15 € \n  \nDia 27 –  20.30 h – PLAÇA DEL CONSELL \nCOLLA de  Dolçaines i Percussió de la Federació Valenciana de Dolçainers i Tabaleters (FVDiT). 
URL:https://disfruta-denia.com/evento/musica-al-castell-2025/2025-07-27/
LOCATION:Castillo de Denia\, Carrer Sant Francesc\, S/n\, Denia\, Alicante\, 03700\, España
CATEGORIES:Concierto,Música
ATTACH;FMTTYPE=image/png:https://disfruta-denia.com/wp-content/uploads/2025/06/10-Musica-al-Castell-general.png
END:VEVENT
BEGIN:VEVENT
DTSTART;TZID=Europe/Madrid:20250727T180000
DTEND;TZID=Europe/Madrid:20250727T230000
DTSTAMP:20260425T151534
CREATED:20250621T180151Z
LAST-MODIFIED:20250621T180151Z
UID:10021638-1753639200-1753657200@disfruta-denia.com
SUMMARY:Mercat del Riurau Jesus Pobre
DESCRIPTION: NUEVO HORARIO DE VERANO: de 18:00 a 23:00 ¡Este domingo estrenamos el horario de tarde! Ven a disfrutar del fresquito del atardecer\, de la  gastronomía local\, artesanía\, dulces\, productos de la tierra y mucho más. Con cenas al aire libre\, puestos llenos de vida y música para cerrar el día de la mejor manera… A las 20:00 h concierto en directo con SANTI ENGUIXVersiones en clave de folk\, blues y rock que te van a flipar Jesús Pobre te espera con lucecitas\, buen rollo y mucho cariño por lo que hacemos
URL:https://disfruta-denia.com/evento/mercat-del-riurau-jesus-pobre-2-25-3-2-2-8-2-4-3-6-2/2025-07-27/
LOCATION:Mercado Riurau Jesus Pobre\, Jesus Pobre\, Alicante\, 03749\, España
CATEGORIES:Concierto,Gastronomía,Mercado
ATTACH;FMTTYPE=image/jpeg:https://disfruta-denia.com/wp-content/uploads/2025/06/509585942_1106883738141656_8917467192244946895_n.jpg
END:VEVENT
BEGIN:VEVENT
DTSTART;TZID=Europe/Madrid:20250727T180000
DTEND;TZID=Europe/Madrid:20250727T180000
DTSTAMP:20260425T151534
CREATED:20250630T103218Z
LAST-MODIFIED:20250630T103218Z
UID:10021904-1753639200-1753639200@disfruta-denia.com
SUMMARY:The Black Rose
DESCRIPTION:
URL:https://disfruta-denia.com/evento/the-black-rose/2025-07-27/
LOCATION:La Mar Serena\, Moll de la Pansa s/n Edificio Marina el Portet\, Denia\, Alicante\, 03700\, España
CATEGORIES:DJ,Música,Tardeo
ATTACH;FMTTYPE=image/jpeg:https://disfruta-denia.com/wp-content/uploads/2025/06/52318A2A-2125-4D79-84EF-BDCC678B4F82.jpg
END:VEVENT
BEGIN:VEVENT
DTSTART;TZID=Europe/Madrid:20250726T235900
DTEND;TZID=Europe/Madrid:20250726T235900
DTSTAMP:20260425T151534
CREATED:20221128T194020Z
LAST-MODIFIED:20221128T194021Z
UID:10006622-1753574340-1753574340@disfruta-denia.com
SUMMARY:Concierto en LCDA
DESCRIPTION:
URL:https://disfruta-denia.com/evento/concierto-en-lcda-4/2025-07-26/
LOCATION:La Chica de ayer\, Calle la mar 30\, Denia\, Alicante\, 03700\, España
CATEGORIES:Concierto,Música,Ocio nocturno
ATTACH;FMTTYPE=image/jpeg:https://disfruta-denia.com/wp-content/uploads/2022/11/317545016_592127712917488_4859295703944293873_n.jpg
END:VEVENT
BEGIN:VEVENT
DTSTART;TZID=Europe/Madrid:20250726T213000
DTEND;TZID=Europe/Madrid:20250726T213000
DTSTAMP:20260425T151534
CREATED:20250708T101924Z
LAST-MODIFIED:20250708T101924Z
UID:10019967-1753565400-1753565400@disfruta-denia.com
SUMMARY:Sábado concierto en Rebeldía Blues
DESCRIPTION:Sábado concierto en Rebledía Blues
URL:https://disfruta-denia.com/evento/sabado-concierto-en-rebeldia-blues-3-2-10-3-3-2-8-3-2-2-2-2/2025-07-26/
LOCATION:Rebeldia Blues\, Carr. de Dénia A Xábia\, 3G\, Denia\, Alicante\, 03700\, España
CATEGORIES:Concierto,Música
ATTACH;FMTTYPE=image/jpeg:https://disfruta-denia.com/wp-content/uploads/2025/05/731aaf66-b480-4f18-9f3a-07ac4ff78903.jpg
END:VEVENT
BEGIN:VEVENT
DTSTART;TZID=Europe/Madrid:20250725T230000
DTEND;TZID=Europe/Madrid:20250725T230000
DTSTAMP:20260425T151534
CREATED:20250619T080717Z
LAST-MODIFIED:20250619T081030Z
UID:10021629-1753484400-1753484400@disfruta-denia.com
SUMMARY:Música al Castell 2025
DESCRIPTION:Festival de Música amb ànima mediterrània.  \nDel 23 al 27 de juliol. \n  \nDia\, 23 –  23 h – CASTELL \nMIQUEL GIL \nViatger \nMúsica Folk \nEntrada lliure. \n  \nDia 24  – 23 h  – CASTELL    \nSEPTETO NABORÍ                                                                                      \nSigue el vacilón \nMúsica Tradicional Cubana \nSon Cubano/Salsa / Cha cha cha /Rumba \nEntrada lliure  \n  \nDia\, 25 –  23 h – CASTELL                                                                           \nEL NAÁN BANDA \nGerminal \nMúsica ètnica ibèrica \nEntrada: 10 € \n  \nDia\, 26 –  23 h – CASTELL                                                                            \nMARTIRIO \nAl sur del tango \nEntrada: 15 € \n  \nDia 27 –  20.30 h – PLAÇA DEL CONSELL \nCOLLA de  Dolçaines i Percussió de la Federació Valenciana de Dolçainers i Tabaleters (FVDiT). 
URL:https://disfruta-denia.com/evento/musica-al-castell-2025/2025-07-25/
LOCATION:Castillo de Denia\, Carrer Sant Francesc\, S/n\, Denia\, Alicante\, 03700\, España
CATEGORIES:Concierto,Música
ATTACH;FMTTYPE=image/png:https://disfruta-denia.com/wp-content/uploads/2025/06/10-Musica-al-Castell-general.png
END:VEVENT
BEGIN:VEVENT
DTSTART;TZID=Europe/Madrid:20250725T213000
DTEND;TZID=Europe/Madrid:20250725T213000
DTSTAMP:20260425T151534
CREATED:20250708T101913Z
LAST-MODIFIED:20250708T101914Z
UID:10019707-1753479000-1753479000@disfruta-denia.com
SUMMARY:Concierto de Viernes en Rebeldía Blues
DESCRIPTION:¡Este viernes en Rebeldía Blues te espera una noche llena de música en vivo Prepárate para disfrutar de lo mejor del swing\, pop y música latina en un ambiente único. La entrada es totalmente gratuita\, así que trae a tus amigos y no te pierdas esta experiencia inolvidable.  Hora: 21:30h
URL:https://disfruta-denia.com/evento/concierto-de-viernes-en-rebeldia-blues-3-3-10-3-3-3-2-9-2-2-3/2025-07-25/
LOCATION:Rebeldia Blues\, Carr. de Dénia A Xábia\, 3G\, Denia\, Alicante\, 03700\, España
CATEGORIES:Concierto,Música
ATTACH;FMTTYPE=image/jpeg:https://disfruta-denia.com/wp-content/uploads/2025/05/a7d1f75a-9193-45aa-9b80-31d86c2406b3.jpg
END:VEVENT
BEGIN:VEVENT
DTSTART;TZID=Europe/Madrid:20250724T230000
DTEND;TZID=Europe/Madrid:20250724T230000
DTSTAMP:20260425T151534
CREATED:20250619T080717Z
LAST-MODIFIED:20250619T081030Z
UID:10021628-1753398000-1753398000@disfruta-denia.com
SUMMARY:Música al Castell 2025
DESCRIPTION:Festival de Música amb ànima mediterrània.  \nDel 23 al 27 de juliol. \n  \nDia\, 23 –  23 h – CASTELL \nMIQUEL GIL \nViatger \nMúsica Folk \nEntrada lliure. \n  \nDia 24  – 23 h  – CASTELL    \nSEPTETO NABORÍ                                                                                      \nSigue el vacilón \nMúsica Tradicional Cubana \nSon Cubano/Salsa / Cha cha cha /Rumba \nEntrada lliure  \n  \nDia\, 25 –  23 h – CASTELL                                                                           \nEL NAÁN BANDA \nGerminal \nMúsica ètnica ibèrica \nEntrada: 10 € \n  \nDia\, 26 –  23 h – CASTELL                                                                            \nMARTIRIO \nAl sur del tango \nEntrada: 15 € \n  \nDia 27 –  20.30 h – PLAÇA DEL CONSELL \nCOLLA de  Dolçaines i Percussió de la Federació Valenciana de Dolçainers i Tabaleters (FVDiT). 
URL:https://disfruta-denia.com/evento/musica-al-castell-2025/2025-07-24/
LOCATION:Castillo de Denia\, Carrer Sant Francesc\, S/n\, Denia\, Alicante\, 03700\, España
CATEGORIES:Concierto,Música
ATTACH;FMTTYPE=image/png:https://disfruta-denia.com/wp-content/uploads/2025/06/10-Musica-al-Castell-general.png
END:VEVENT
BEGIN:VEVENT
DTSTART;TZID=Europe/Madrid:20250724T210000
DTEND;TZID=Europe/Madrid:20250724T210000
DTSTAMP:20260425T151534
CREATED:20250708T101854Z
LAST-MODIFIED:20250708T101855Z
UID:10016670-1753390800-1753390800@disfruta-denia.com
SUMMARY:Karaoké en Rebeldía Blues
DESCRIPTION:Karaoké en Rebeldía Blues
URL:https://disfruta-denia.com/evento/karaoke-en-rebeldia-blues-4-2-2-2-2-2-4-2/2025-07-24/
LOCATION:Rebeldia Blues\, Carr. de Dénia A Xábia\, 3G\, Denia\, Alicante\, 03700\, España
CATEGORIES:Karaoké,Música
ATTACH;FMTTYPE=image/jpeg:https://disfruta-denia.com/wp-content/uploads/2025/05/a5f3c9ac-03cc-4c6b-8317-4c9f2cd1e04b.jpg
END:VEVENT
BEGIN:VEVENT
DTSTART;TZID=Europe/Madrid:20250724T200000
DTEND;TZID=Europe/Madrid:20250724T200000
DTSTAMP:20260425T151534
CREATED:20250630T132401Z
LAST-MODIFIED:20250710T081504Z
UID:10021962-1753387200-1753387200@disfruta-denia.com
SUMMARY:Lolipop en concierto
DESCRIPTION:**¡Este jueves 10 de julio a las 20:00 hrs\,** el increíble grupo **Lolipop** llega al bar Cele Denia\, para hacer vibrar la noche con su música en vivo!\nDisfruta de una velada única con:\n**Música en vivo**\n**Deliciosa comida** y **bebidas refrescantes**\n**Ambiente cálido** y buena vibra\n**Cele Bar** – *El lugar donde la música y el buen gusto se encuentran.*\n**Jueves 10 de julio**\n**8:00 PM**\n° Olivera\, 7 – Dénia |
URL:https://disfruta-denia.com/evento/lolipop-en-concierto-2/
LOCATION:Bar Cele\, Carrer Olivera 7\, Denia\, 03700\, España
CATEGORIES:Concierto,Música
ATTACH;FMTTYPE=image/jpeg:https://disfruta-denia.com/wp-content/uploads/2025/06/PHOTO-2025-07-07-16-57-57-2.jpg
END:VEVENT
BEGIN:VEVENT
DTSTART;TZID=Europe/Madrid:20250723T230000
DTEND;TZID=Europe/Madrid:20250723T230000
DTSTAMP:20260425T151534
CREATED:20250619T080717Z
LAST-MODIFIED:20250619T081030Z
UID:10021627-1753311600-1753311600@disfruta-denia.com
SUMMARY:Música al Castell 2025
DESCRIPTION:Festival de Música amb ànima mediterrània.  \nDel 23 al 27 de juliol. \n  \nDia\, 23 –  23 h – CASTELL \nMIQUEL GIL \nViatger \nMúsica Folk \nEntrada lliure. \n  \nDia 24  – 23 h  – CASTELL    \nSEPTETO NABORÍ                                                                                      \nSigue el vacilón \nMúsica Tradicional Cubana \nSon Cubano/Salsa / Cha cha cha /Rumba \nEntrada lliure  \n  \nDia\, 25 –  23 h – CASTELL                                                                           \nEL NAÁN BANDA \nGerminal \nMúsica ètnica ibèrica \nEntrada: 10 € \n  \nDia\, 26 –  23 h – CASTELL                                                                            \nMARTIRIO \nAl sur del tango \nEntrada: 15 € \n  \nDia 27 –  20.30 h – PLAÇA DEL CONSELL \nCOLLA de  Dolçaines i Percussió de la Federació Valenciana de Dolçainers i Tabaleters (FVDiT). 
URL:https://disfruta-denia.com/evento/musica-al-castell-2025/2025-07-23/
LOCATION:Castillo de Denia\, Carrer Sant Francesc\, S/n\, Denia\, Alicante\, 03700\, España
CATEGORIES:Concierto,Música
ATTACH;FMTTYPE=image/png:https://disfruta-denia.com/wp-content/uploads/2025/06/10-Musica-al-Castell-general.png
END:VEVENT
BEGIN:VEVENT
DTSTART;TZID=Europe/Madrid:20250723T210000
DTEND;TZID=Europe/Madrid:20250723T210000
DTSTAMP:20260425T151534
CREATED:20250701T102945Z
LAST-MODIFIED:20250701T102945Z
UID:10021965-1753304400-1753304400@disfruta-denia.com
SUMMARY:Verea flamenca
DESCRIPTION:
URL:https://disfruta-denia.com/evento/verea-flamenca-7/2025-07-23/
LOCATION:Mr Fisher\, Moll de La Pansa s/n. Marina El Portet\, Denia\, Alicante\, 03700\, España
CATEGORIES:Baile,Concierto,Música
ATTACH;FMTTYPE=image/jpeg:https://disfruta-denia.com/wp-content/uploads/2025/07/IMG_7885.jpeg
END:VEVENT
END:VCALENDAR