BEGIN:VCALENDAR
VERSION:2.0
PRODID:-//Disfruta Denia - ECPv6.15.20//NONSGML v1.0//EN
CALSCALE:GREGORIAN
METHOD:PUBLISH
X-WR-CALNAME:Disfruta Denia
X-ORIGINAL-URL:https://disfruta-denia.com
X-WR-CALDESC:Eventos para Disfruta Denia
REFRESH-INTERVAL;VALUE=DURATION:PT1H
X-Robots-Tag:noindex
X-PUBLISHED-TTL:PT1H
BEGIN:VTIMEZONE
TZID:Europe/Madrid
BEGIN:DAYLIGHT
TZOFFSETFROM:+0100
TZOFFSETTO:+0200
TZNAME:CEST
DTSTART:20270328T010000
END:DAYLIGHT
BEGIN:STANDARD
TZOFFSETFROM:+0200
TZOFFSETTO:+0100
TZNAME:CET
DTSTART:20271031T010000
END:STANDARD
BEGIN:DAYLIGHT
TZOFFSETFROM:+0100
TZOFFSETTO:+0200
TZNAME:CEST
DTSTART:20280326T010000
END:DAYLIGHT
BEGIN:STANDARD
TZOFFSETFROM:+0200
TZOFFSETTO:+0100
TZNAME:CET
DTSTART:20281029T010000
END:STANDARD
BEGIN:DAYLIGHT
TZOFFSETFROM:+0100
TZOFFSETTO:+0200
TZNAME:CEST
DTSTART:20290325T010000
END:DAYLIGHT
BEGIN:STANDARD
TZOFFSETFROM:+0200
TZOFFSETTO:+0100
TZNAME:CET
DTSTART:20291028T010000
END:STANDARD
END:VTIMEZONE
BEGIN:VEVENT
DTSTART;TZID=Europe/Madrid:20280301T193000
DTEND;TZID=Europe/Madrid:20280301T193000
DTSTAMP:20260424T011033
CREATED:20250603T094354Z
LAST-MODIFIED:20250603T094354Z
UID:10021454-1835551800-1835551800@disfruta-denia.com
SUMMARY:Encuentros en Códigos
DESCRIPTION:​¡Bienvenidos a Encuentros en Códigos\, el Meetup internacional semanal en Códigos del Arte!\nNos reunimos todos los miércoles a partir de las 19:30 — toma algo\, relájate\, y disfruta de una buena conversación.\nTodos los miércoles – 19:30\nEntrada: Gratuita
URL:https://disfruta-denia.com/evento/encuentros-en-codigos/2028-03-01/
LOCATION:Códigos del Arte\, Carreró de Morant\, 8\, Dénia\, 03700\, España
CATEGORIES:Tardeo
ATTACH;FMTTYPE=image/png:https://disfruta-denia.com/wp-content/uploads/2025/06/Codigos-del-Arte-20.png
END:VEVENT
BEGIN:VEVENT
DTSTART;TZID=Europe/Madrid:20280301T200000
DTEND;TZID=Europe/Madrid:20280301T233000
DTSTAMP:20260424T011033
CREATED:20230612T102803Z
LAST-MODIFIED:20230612T102804Z
UID:10010823-1835553600-1835566200@disfruta-denia.com
SUMMARY:Autocine: día del espectador
DESCRIPTION:
URL:https://disfruta-denia.com/evento/autocine-dia-del-espectador-3/2028-03-01/
LOCATION:Autociné Denia\, Partida Deveses D\, 27\, Denia\, Alicante\, 03700\, España
CATEGORIES:Ciné,Cultura
ATTACH;FMTTYPE=image/jpeg:https://disfruta-denia.com/wp-content/uploads/2022/11/Autocine-Drive-In-Denia-1.jpg
END:VEVENT
BEGIN:VEVENT
DTSTART;TZID=Europe/Madrid:20280301T203000
DTEND;TZID=Europe/Madrid:20280301T203000
DTSTAMP:20260424T011033
CREATED:20240414T124150Z
LAST-MODIFIED:20240414T124150Z
UID:10018114-1835555400-1835555400@disfruta-denia.com
SUMMARY:Miércoles latinos\, miércoles clandestinos
DESCRIPTION:Miércoles latinos\, miércoles clandestinos  Cada miércoles a las 20.30h tenemos una cita con Madelyn Torroella a ritmo cubano!! Voz\, percusión y versiones de salsa clásica\, cada miércoles\, en el Speak. Parrillada\, tacos\, tapas\, cocktails & música. Reserva tu mesa
URL:https://disfruta-denia.com/evento/miercoles-latinos-miercoles-clandestinos/2028-03-01/
LOCATION:The Speak Denia\, Carrer del Pont\, 19\, Denia\, Alicante\, 03700\, España
CATEGORIES:Concierto,Música
ATTACH;FMTTYPE=image/jpeg:https://disfruta-denia.com/wp-content/uploads/2024/04/434468313_1159701198651630_4992165217264460198_n.jpg
END:VEVENT
BEGIN:VEVENT
DTSTART;TZID=Europe/Madrid:20280302T210000
DTEND;TZID=Europe/Madrid:20280302T210000
DTSTAMP:20260424T011033
CREATED:20251126T080051Z
LAST-MODIFIED:20251126T080052Z
UID:10016806-1835643600-1835643600@disfruta-denia.com
SUMMARY:Karaoké en Rebeldía Blues
DESCRIPTION:Karaoké en Rebeldía Blues
URL:https://disfruta-denia.com/evento/karaoke-en-rebeldia-blues-4-2-2-2-2-2-4-2-2/2028-03-02/
LOCATION:Rebeldia Blues\, Carr. de Dénia A Xábia\, 3G\, Denia\, Alicante\, 03700\, España
CATEGORIES:Karaoké,Música
ATTACH;FMTTYPE=image/jpeg:https://disfruta-denia.com/wp-content/uploads/2025/11/8d230c5f-3bf9-49cf-abc3-d73a7ed23d68.jpg
END:VEVENT
BEGIN:VEVENT
DTSTART;TZID=Europe/Madrid:20280303T200000
DTEND;TZID=Europe/Madrid:20280303T200000
DTSTAMP:20260424T011033
CREATED:20260422T093605Z
LAST-MODIFIED:20260422T093608Z
UID:10026196-1835726400-1835726400@disfruta-denia.com
SUMMARY:Concierto Afterwork en La Chica de Ayer
DESCRIPTION:
URL:https://disfruta-denia.com/evento/concierto-afterwork-en-la-chica-de-ayer-3-2-2-2-2-2-2-2-2-2-2-2-3-2-2/2028-03-03/
LOCATION:La Chica de ayer\, Calle la mar 30\, Denia\, Alicante\, 03700\, España
CATEGORIES:Concierto,Música
ATTACH;FMTTYPE=image/jpeg:https://disfruta-denia.com/wp-content/uploads/2026/04/6909b00d-8daa-4998-ba62-171f0eb524f8.jpg
END:VEVENT
BEGIN:VEVENT
DTSTART;TZID=Europe/Madrid:20280303T213000
DTEND;TZID=Europe/Madrid:20280303T213000
DTSTAMP:20260424T011033
CREATED:20260421T084402Z
LAST-MODIFIED:20260421T084402Z
UID:10019843-1835731800-1835731800@disfruta-denia.com
SUMMARY:Concierto de Viernes en Rebeldía Blues
DESCRIPTION:🎶🔥 VEREA FLAMENCA en Rebeldía Blues 🔥🎶\n\nEl viernes 24 de abril llega a Rebeldía Blues Verea Flamenca\, con una noche llena de arte\, pasión y puro flamenco 💃✨\n\nSevillanas\, bulerías y mucho duende sobre el escenario para disfrutar de un directo que te va a emocionar 😍\n\n🗓 Viernes 24 de abril\n🕤 Desde las 21:30 h\n🎟 Entrada gratuita\n📍 Rebeldía Blues – Dénia
URL:https://disfruta-denia.com/evento/concierto-de-viernes-en-rebeldia-blues-3-3-10-3-3-3-2-9-2-2-3-2-2-2-2-2-2-2-2-2-2-3-2-2-2-2-2-2-2-2-2-2-2-2-2-2-2-2-2-2/2028-03-03/
LOCATION:Rebeldia Blues\, Carr. de Dénia A Xábia\, 3G\, Denia\, Alicante\, 03700\, España
CATEGORIES:Jazz,Música
ATTACH;FMTTYPE=image/jpeg:https://disfruta-denia.com/wp-content/uploads/2026/04/PHOTO-2026-04-20-11-56-04-3.jpg
END:VEVENT
BEGIN:VEVENT
DTSTART;TZID=Europe/Madrid:20280303T235900
DTEND;TZID=Europe/Madrid:20280303T235900
DTSTAMP:20260424T011033
CREATED:20260422T093628Z
LAST-MODIFIED:20260422T093630Z
UID:10025467-1835740740-1835740740@disfruta-denia.com
SUMMARY:Concierto Pop Indie Rock
DESCRIPTION:El concierto empieza las 00h30
URL:https://disfruta-denia.com/evento/concierto-pop-indie-rock-2-2/2028-03-03/
LOCATION:La Chica de ayer\, Calle la mar 30\, Denia\, Alicante\, 03700\, España
CATEGORIES:Concierto,Música,Ocio nocturno
ATTACH;FMTTYPE=image/jpeg:https://disfruta-denia.com/wp-content/uploads/2026/04/6909b00d-8daa-4998-ba62-171f0eb524f8.jpg
END:VEVENT
BEGIN:VEVENT
DTSTART;TZID=Europe/Madrid:20280304T193000
DTEND;TZID=Europe/Madrid:20280304T193000
DTSTAMP:20260424T011033
CREATED:20260422T093637Z
LAST-MODIFIED:20260422T093639Z
UID:10024679-1835811000-1835811000@disfruta-denia.com
SUMMARY:Concierto tardeo versiones en La Chica de Ayer
DESCRIPTION:
URL:https://disfruta-denia.com/evento/concierto-tardeo-en-la-chica-de-ayer-4-3-2-2-2-2-2-2-2-2-2-2-2-2-2-2-2/2028-03-04/
LOCATION:La Chica de ayer\, Calle la mar 30\, Denia\, Alicante\, 03700\, España
CATEGORIES:Concierto,Música,Tardeo
ATTACH;FMTTYPE=image/jpeg:https://disfruta-denia.com/wp-content/uploads/2026/04/1761e8ac-86c2-4f3f-8a68-61a1fc791519.jpg
END:VEVENT
BEGIN:VEVENT
DTSTART;TZID=Europe/Madrid:20280304T213000
DTEND;TZID=Europe/Madrid:20280304T213000
DTSTAMP:20260424T011033
CREATED:20260421T084311Z
LAST-MODIFIED:20260421T084311Z
UID:10020103-1835818200-1835818200@disfruta-denia.com
SUMMARY:Sábado concierto en Rebeldía Blues
DESCRIPTION:🎶🔥 THE FRENCH LOVERS en Rebeldía Blues 🔥🎶 \nEl sábado 25 de abril llegan a Rebeldía Blues The French Lovers\, con una noche de jazz y swing al más puro estilo francés 🎷✨ \nUn concierto elegante\, con ritmo y mucho encanto para dejarte llevar por el sonido más sofisticado 😎 \n🗓 Sábado 25 de abril\n🕤 Desde las 21:30 h\n🎟 Entrada: 5€\n📍 Rebeldía Blues – Dénia
URL:https://disfruta-denia.com/evento/sabado-concierto-en-rebeldia-blues-3-2-10-3-3-2-8-3-2-2-2-2-2-2-2-2-2-2-2-2-2-2-2-2-2-2-3-2-3-2-2-2-2-2-2-2-2-2-2/2028-03-04/
LOCATION:Rebeldia Blues\, Carr. de Dénia A Xábia\, 3G\, Denia\, Alicante\, 03700\, España
CATEGORIES:Jazz,Música
ATTACH;FMTTYPE=image/jpeg:https://disfruta-denia.com/wp-content/uploads/2026/04/PHOTO-2026-04-20-11-56-04-2.jpg
END:VEVENT
BEGIN:VEVENT
DTSTART;TZID=Europe/Madrid:20280304T235900
DTEND;TZID=Europe/Madrid:20280304T235900
DTSTAMP:20260424T011033
CREATED:20260422T093647Z
LAST-MODIFIED:20260422T093650Z
UID:10025804-1835827140-1835827140@disfruta-denia.com
SUMMARY:Concierto covers
DESCRIPTION:El concierto comienza a las 00h30
URL:https://disfruta-denia.com/evento/homenaje-pop-rock-80-90-2-2-2-2/2028-03-04/
LOCATION:La Chica de ayer\, Calle la mar 30\, Denia\, Alicante\, 03700\, España
CATEGORIES:Concierto,Música,Ocio nocturno
ATTACH;FMTTYPE=image/jpeg:https://disfruta-denia.com/wp-content/uploads/2026/04/1761e8ac-86c2-4f3f-8a68-61a1fc791519.jpg
END:VEVENT
BEGIN:VEVENT
DTSTART;TZID=Europe/Madrid:20280305T090000
DTEND;TZID=Europe/Madrid:20280305T140000
DTSTAMP:20260424T011033
CREATED:20260410T103958Z
LAST-MODIFIED:20260410T103959Z
UID:10022643-1835859600-1835877600@disfruta-denia.com
SUMMARY:Mercat del Riurau Jesus Pobre
DESCRIPTION:¡Momentos únicos en el Mercat del Riurau!  Ven a disfrutar de un buen almuerzo al solecito\, música y la autenticidad de los productos locales. A partir de las 12:00 h nos acompañarán “Botamarges”\, para dar un toque alegre a la mañana.Jesús Pobre te recibe con ganas y buen ambiente… ¡nos vemos en el mercado!
URL:https://disfruta-denia.com/evento/mercat-del-riurau-jesus-pobre-26-2-2-2-3-2-2-2-4/2028-03-05/
LOCATION:Mercado Riurau Jesus Pobre\, Jesus Pobre\, Alicante\, 03749\, España
CATEGORIES:Concierto,Gastronomía,Mercado
ATTACH;FMTTYPE=image/jpeg:https://disfruta-denia.com/wp-content/uploads/2026/02/669356424_18089141459242809_2501307543561935097_n.jpg
END:VEVENT
BEGIN:VEVENT
DTSTART;TZID=Europe/Madrid:20280305T093000
DTEND;TZID=Europe/Madrid:20280305T140000
DTSTAMP:20260424T011033
CREATED:20260123T121555Z
LAST-MODIFIED:20260123T121555Z
UID:10023208-1835861400-1835877600@disfruta-denia.com
SUMMARY:Mercat del Autocine
DESCRIPTION:¡ La mejor música blues estará este domingo 25 en el Autocine Drive In de Dénia con la actuación en directo de BIG HOLLERS! Si eres amante de la buena música\, el buen ambiente y los planes diferentes\, no te puedes perder el Mercat de l’Autocine. Descubre un pequeño Mercado con artesanos y productores selectos\, una amplia oferta de artículos de rastro y un ambiente genial y apto para toda la familia. Zona infantil para que los más pequeños también se lo pasen en grande! Autocine Drive In Dénia – Final de la Carretera de Les Marines Abierto desde las 9:30 h Música en directo a partir de las 11:30 h Acceso libre y aparcamiento disponible ¡Ven a vivir un domingo diferente y disfruta de la vida! 
URL:https://disfruta-denia.com/evento/mercat-del-autocine-2-2-2-3/2028-03-05/
LOCATION:Autociné Denia\, Partida Deveses D\, 27\, Denia\, Alicante\, 03700\, España
CATEGORIES:Concierto,Gastronomía,Mercado,Música
ATTACH;FMTTYPE=image/jpeg:https://disfruta-denia.com/wp-content/uploads/2025/11/619185631_1400783535172886_178185546401561331_n.jpg
END:VEVENT
BEGIN:VEVENT
DTSTART;TZID=Europe/Madrid:20280305T160000
DTEND;TZID=Europe/Madrid:20280305T160000
DTSTAMP:20260424T011033
CREATED:20260421T083752Z
LAST-MODIFIED:20260421T083753Z
UID:10022904-1835884800-1835884800@disfruta-denia.com
SUMMARY:Tardeos live Mr Fisher
DESCRIPTION:
URL:https://disfruta-denia.com/evento/tardeos-live-mr-fisher-3-2-3/2028-03-05/
LOCATION:Mr Fisher\, Moll de La Pansa s/n. Marina El Portet\, Denia\, Alicante\, 03700\, España
CATEGORIES:Concierto,Música,Tardeo
ATTACH;FMTTYPE=image/png:https://disfruta-denia.com/wp-content/uploads/2026/04/MRFISHER_LAMOCHA_03_05.png
END:VEVENT
BEGIN:VEVENT
DTSTART;TZID=Europe/Madrid:20280305T160000
DTEND;TZID=Europe/Madrid:20280305T180000
DTSTAMP:20260424T011033
CREATED:20260403T085340Z
LAST-MODIFIED:20260403T090037Z
UID:10026993-1835884800-1835892000@disfruta-denia.com
SUMMARY:Tardeo música en directo en Nomada
DESCRIPTION:
URL:https://disfruta-denia.com/evento/tardeo-musica-en-directo-en-nomada/2028-03-05/
LOCATION:Nomada Restaurante\, 11\, Moll de la Pansa\, Dénia\, 03700\, España
CATEGORIES:Concierto,Música,Tardeo
ATTACH;FMTTYPE=image/jpeg:https://disfruta-denia.com/wp-content/uploads/2026/04/PHOTO-2026-04-03-10-49-20.jpg
END:VEVENT
BEGIN:VEVENT
DTSTART;TZID=Europe/Madrid:20280305T180000
DTEND;TZID=Europe/Madrid:20280305T180000
DTSTAMP:20260424T011033
CREATED:20260409T065357Z
LAST-MODIFIED:20260409T065357Z
UID:10025201-1835892000-1835892000@disfruta-denia.com
SUMMARY:Best Of en concierto
DESCRIPTION:
URL:https://disfruta-denia.com/evento/tardeo-en-la-chica-de-ayer-2-2/2028-03-05/
LOCATION:La Chica de ayer\, Calle la mar 30\, Denia\, Alicante\, 03700\, España
CATEGORIES:Concierto,Música,Tardeo
ATTACH;FMTTYPE=image/jpeg:https://disfruta-denia.com/wp-content/uploads/2026/03/86973c98-373f-4a86-82cf-b7b619475342.jpg
END:VEVENT
BEGIN:VEVENT
DTSTART;TZID=Europe/Madrid:20280306T203000
DTEND;TZID=Europe/Madrid:20280306T203000
DTSTAMP:20260424T011033
CREATED:20260307T125319Z
LAST-MODIFIED:20260307T125319Z
UID:10011644-1835987400-1835987400@disfruta-denia.com
SUMMARY:Tardeo con Marce Pesoa
DESCRIPTION:Esta noche. Tonight. \nLive music 20.30h. \nMarce Pesoa en The Speak Dénia. \nTacos\, Cocktails\, Parrilla \n& la mejor musica 🔥🤘 \nReservas: 675753879 \nLet’s #funmonday today!
URL:https://disfruta-denia.com/evento/tardeo-con-marce-pesoa-2-2/2028-03-06/
LOCATION:The Speak Denia\, Carrer del Pont\, 19\, Denia\, Alicante\, 03700\, España
CATEGORIES:Concierto,Música,Tardeo
ATTACH;FMTTYPE=image/jpeg:https://disfruta-denia.com/wp-content/uploads/2023/06/IMG-20230619-WA0000.jpg
END:VEVENT
BEGIN:VEVENT
DTSTART;TZID=Europe/Madrid:20280308T193000
DTEND;TZID=Europe/Madrid:20280308T193000
DTSTAMP:20260424T011033
CREATED:20250603T094354Z
LAST-MODIFIED:20250603T094354Z
UID:10021455-1836156600-1836156600@disfruta-denia.com
SUMMARY:Encuentros en Códigos
DESCRIPTION:​¡Bienvenidos a Encuentros en Códigos\, el Meetup internacional semanal en Códigos del Arte!\nNos reunimos todos los miércoles a partir de las 19:30 — toma algo\, relájate\, y disfruta de una buena conversación.\nTodos los miércoles – 19:30\nEntrada: Gratuita
URL:https://disfruta-denia.com/evento/encuentros-en-codigos/2028-03-08/
LOCATION:Códigos del Arte\, Carreró de Morant\, 8\, Dénia\, 03700\, España
CATEGORIES:Tardeo
ATTACH;FMTTYPE=image/png:https://disfruta-denia.com/wp-content/uploads/2025/06/Codigos-del-Arte-20.png
END:VEVENT
BEGIN:VEVENT
DTSTART;TZID=Europe/Madrid:20280308T200000
DTEND;TZID=Europe/Madrid:20280308T233000
DTSTAMP:20260424T011033
CREATED:20230612T102803Z
LAST-MODIFIED:20230612T102804Z
UID:10010824-1836158400-1836171000@disfruta-denia.com
SUMMARY:Autocine: día del espectador
DESCRIPTION:
URL:https://disfruta-denia.com/evento/autocine-dia-del-espectador-3/2028-03-08/
LOCATION:Autociné Denia\, Partida Deveses D\, 27\, Denia\, Alicante\, 03700\, España
CATEGORIES:Ciné,Cultura
ATTACH;FMTTYPE=image/jpeg:https://disfruta-denia.com/wp-content/uploads/2022/11/Autocine-Drive-In-Denia-1.jpg
END:VEVENT
BEGIN:VEVENT
DTSTART;TZID=Europe/Madrid:20280308T203000
DTEND;TZID=Europe/Madrid:20280308T203000
DTSTAMP:20260424T011033
CREATED:20240414T124150Z
LAST-MODIFIED:20240414T124150Z
UID:10018115-1836160200-1836160200@disfruta-denia.com
SUMMARY:Miércoles latinos\, miércoles clandestinos
DESCRIPTION:Miércoles latinos\, miércoles clandestinos  Cada miércoles a las 20.30h tenemos una cita con Madelyn Torroella a ritmo cubano!! Voz\, percusión y versiones de salsa clásica\, cada miércoles\, en el Speak. Parrillada\, tacos\, tapas\, cocktails & música. Reserva tu mesa
URL:https://disfruta-denia.com/evento/miercoles-latinos-miercoles-clandestinos/2028-03-08/
LOCATION:The Speak Denia\, Carrer del Pont\, 19\, Denia\, Alicante\, 03700\, España
CATEGORIES:Concierto,Música
ATTACH;FMTTYPE=image/jpeg:https://disfruta-denia.com/wp-content/uploads/2024/04/434468313_1159701198651630_4992165217264460198_n.jpg
END:VEVENT
BEGIN:VEVENT
DTSTART;TZID=Europe/Madrid:20280309T210000
DTEND;TZID=Europe/Madrid:20280309T210000
DTSTAMP:20260424T011033
CREATED:20251126T080051Z
LAST-MODIFIED:20251126T080052Z
UID:10016807-1836248400-1836248400@disfruta-denia.com
SUMMARY:Karaoké en Rebeldía Blues
DESCRIPTION:Karaoké en Rebeldía Blues
URL:https://disfruta-denia.com/evento/karaoke-en-rebeldia-blues-4-2-2-2-2-2-4-2-2/2028-03-09/
LOCATION:Rebeldia Blues\, Carr. de Dénia A Xábia\, 3G\, Denia\, Alicante\, 03700\, España
CATEGORIES:Karaoké,Música
ATTACH;FMTTYPE=image/jpeg:https://disfruta-denia.com/wp-content/uploads/2025/11/8d230c5f-3bf9-49cf-abc3-d73a7ed23d68.jpg
END:VEVENT
BEGIN:VEVENT
DTSTART;TZID=Europe/Madrid:20280310T200000
DTEND;TZID=Europe/Madrid:20280310T200000
DTSTAMP:20260424T011033
CREATED:20260422T093605Z
LAST-MODIFIED:20260422T093608Z
UID:10026197-1836331200-1836331200@disfruta-denia.com
SUMMARY:Concierto Afterwork en La Chica de Ayer
DESCRIPTION:
URL:https://disfruta-denia.com/evento/concierto-afterwork-en-la-chica-de-ayer-3-2-2-2-2-2-2-2-2-2-2-2-3-2-2/2028-03-10/
LOCATION:La Chica de ayer\, Calle la mar 30\, Denia\, Alicante\, 03700\, España
CATEGORIES:Concierto,Música
ATTACH;FMTTYPE=image/jpeg:https://disfruta-denia.com/wp-content/uploads/2026/04/6909b00d-8daa-4998-ba62-171f0eb524f8.jpg
END:VEVENT
BEGIN:VEVENT
DTSTART;TZID=Europe/Madrid:20280310T213000
DTEND;TZID=Europe/Madrid:20280310T213000
DTSTAMP:20260424T011033
CREATED:20260421T084402Z
LAST-MODIFIED:20260421T084402Z
UID:10019844-1836336600-1836336600@disfruta-denia.com
SUMMARY:Concierto de Viernes en Rebeldía Blues
DESCRIPTION:🎶🔥 VEREA FLAMENCA en Rebeldía Blues 🔥🎶\n\nEl viernes 24 de abril llega a Rebeldía Blues Verea Flamenca\, con una noche llena de arte\, pasión y puro flamenco 💃✨\n\nSevillanas\, bulerías y mucho duende sobre el escenario para disfrutar de un directo que te va a emocionar 😍\n\n🗓 Viernes 24 de abril\n🕤 Desde las 21:30 h\n🎟 Entrada gratuita\n📍 Rebeldía Blues – Dénia
URL:https://disfruta-denia.com/evento/concierto-de-viernes-en-rebeldia-blues-3-3-10-3-3-3-2-9-2-2-3-2-2-2-2-2-2-2-2-2-2-3-2-2-2-2-2-2-2-2-2-2-2-2-2-2-2-2-2-2/2028-03-10/
LOCATION:Rebeldia Blues\, Carr. de Dénia A Xábia\, 3G\, Denia\, Alicante\, 03700\, España
CATEGORIES:Jazz,Música
ATTACH;FMTTYPE=image/jpeg:https://disfruta-denia.com/wp-content/uploads/2026/04/PHOTO-2026-04-20-11-56-04-3.jpg
END:VEVENT
BEGIN:VEVENT
DTSTART;TZID=Europe/Madrid:20280310T235900
DTEND;TZID=Europe/Madrid:20280310T235900
DTSTAMP:20260424T011033
CREATED:20260422T093628Z
LAST-MODIFIED:20260422T093630Z
UID:10025468-1836345540-1836345540@disfruta-denia.com
SUMMARY:Concierto Pop Indie Rock
DESCRIPTION:El concierto empieza las 00h30
URL:https://disfruta-denia.com/evento/concierto-pop-indie-rock-2-2/2028-03-10/
LOCATION:La Chica de ayer\, Calle la mar 30\, Denia\, Alicante\, 03700\, España
CATEGORIES:Concierto,Música,Ocio nocturno
ATTACH;FMTTYPE=image/jpeg:https://disfruta-denia.com/wp-content/uploads/2026/04/6909b00d-8daa-4998-ba62-171f0eb524f8.jpg
END:VEVENT
BEGIN:VEVENT
DTSTART;TZID=Europe/Madrid:20280311T193000
DTEND;TZID=Europe/Madrid:20280311T193000
DTSTAMP:20260424T011033
CREATED:20260422T093637Z
LAST-MODIFIED:20260422T093639Z
UID:10024680-1836415800-1836415800@disfruta-denia.com
SUMMARY:Concierto tardeo versiones en La Chica de Ayer
DESCRIPTION:
URL:https://disfruta-denia.com/evento/concierto-tardeo-en-la-chica-de-ayer-4-3-2-2-2-2-2-2-2-2-2-2-2-2-2-2-2/2028-03-11/
LOCATION:La Chica de ayer\, Calle la mar 30\, Denia\, Alicante\, 03700\, España
CATEGORIES:Concierto,Música,Tardeo
ATTACH;FMTTYPE=image/jpeg:https://disfruta-denia.com/wp-content/uploads/2026/04/1761e8ac-86c2-4f3f-8a68-61a1fc791519.jpg
END:VEVENT
BEGIN:VEVENT
DTSTART;TZID=Europe/Madrid:20280311T213000
DTEND;TZID=Europe/Madrid:20280311T213000
DTSTAMP:20260424T011033
CREATED:20260421T084311Z
LAST-MODIFIED:20260421T084311Z
UID:10020104-1836423000-1836423000@disfruta-denia.com
SUMMARY:Sábado concierto en Rebeldía Blues
DESCRIPTION:🎶🔥 THE FRENCH LOVERS en Rebeldía Blues 🔥🎶 \nEl sábado 25 de abril llegan a Rebeldía Blues The French Lovers\, con una noche de jazz y swing al más puro estilo francés 🎷✨ \nUn concierto elegante\, con ritmo y mucho encanto para dejarte llevar por el sonido más sofisticado 😎 \n🗓 Sábado 25 de abril\n🕤 Desde las 21:30 h\n🎟 Entrada: 5€\n📍 Rebeldía Blues – Dénia
URL:https://disfruta-denia.com/evento/sabado-concierto-en-rebeldia-blues-3-2-10-3-3-2-8-3-2-2-2-2-2-2-2-2-2-2-2-2-2-2-2-2-2-2-3-2-3-2-2-2-2-2-2-2-2-2-2/2028-03-11/
LOCATION:Rebeldia Blues\, Carr. de Dénia A Xábia\, 3G\, Denia\, Alicante\, 03700\, España
CATEGORIES:Jazz,Música
ATTACH;FMTTYPE=image/jpeg:https://disfruta-denia.com/wp-content/uploads/2026/04/PHOTO-2026-04-20-11-56-04-2.jpg
END:VEVENT
BEGIN:VEVENT
DTSTART;TZID=Europe/Madrid:20280311T235900
DTEND;TZID=Europe/Madrid:20280311T235900
DTSTAMP:20260424T011033
CREATED:20260422T093647Z
LAST-MODIFIED:20260422T093650Z
UID:10025805-1836431940-1836431940@disfruta-denia.com
SUMMARY:Concierto covers
DESCRIPTION:El concierto comienza a las 00h30
URL:https://disfruta-denia.com/evento/homenaje-pop-rock-80-90-2-2-2-2/2028-03-11/
LOCATION:La Chica de ayer\, Calle la mar 30\, Denia\, Alicante\, 03700\, España
CATEGORIES:Concierto,Música,Ocio nocturno
ATTACH;FMTTYPE=image/jpeg:https://disfruta-denia.com/wp-content/uploads/2026/04/1761e8ac-86c2-4f3f-8a68-61a1fc791519.jpg
END:VEVENT
BEGIN:VEVENT
DTSTART;TZID=Europe/Madrid:20280312T090000
DTEND;TZID=Europe/Madrid:20280312T140000
DTSTAMP:20260424T011033
CREATED:20260410T103958Z
LAST-MODIFIED:20260410T103959Z
UID:10022644-1836464400-1836482400@disfruta-denia.com
SUMMARY:Mercat del Riurau Jesus Pobre
DESCRIPTION:¡Momentos únicos en el Mercat del Riurau!  Ven a disfrutar de un buen almuerzo al solecito\, música y la autenticidad de los productos locales. A partir de las 12:00 h nos acompañarán “Botamarges”\, para dar un toque alegre a la mañana.Jesús Pobre te recibe con ganas y buen ambiente… ¡nos vemos en el mercado!
URL:https://disfruta-denia.com/evento/mercat-del-riurau-jesus-pobre-26-2-2-2-3-2-2-2-4/2028-03-12/
LOCATION:Mercado Riurau Jesus Pobre\, Jesus Pobre\, Alicante\, 03749\, España
CATEGORIES:Concierto,Gastronomía,Mercado
ATTACH;FMTTYPE=image/jpeg:https://disfruta-denia.com/wp-content/uploads/2026/02/669356424_18089141459242809_2501307543561935097_n.jpg
END:VEVENT
BEGIN:VEVENT
DTSTART;TZID=Europe/Madrid:20280312T093000
DTEND;TZID=Europe/Madrid:20280312T140000
DTSTAMP:20260424T011033
CREATED:20260123T121555Z
LAST-MODIFIED:20260123T121555Z
UID:10023209-1836466200-1836482400@disfruta-denia.com
SUMMARY:Mercat del Autocine
DESCRIPTION:¡ La mejor música blues estará este domingo 25 en el Autocine Drive In de Dénia con la actuación en directo de BIG HOLLERS! Si eres amante de la buena música\, el buen ambiente y los planes diferentes\, no te puedes perder el Mercat de l’Autocine. Descubre un pequeño Mercado con artesanos y productores selectos\, una amplia oferta de artículos de rastro y un ambiente genial y apto para toda la familia. Zona infantil para que los más pequeños también se lo pasen en grande! Autocine Drive In Dénia – Final de la Carretera de Les Marines Abierto desde las 9:30 h Música en directo a partir de las 11:30 h Acceso libre y aparcamiento disponible ¡Ven a vivir un domingo diferente y disfruta de la vida! 
URL:https://disfruta-denia.com/evento/mercat-del-autocine-2-2-2-3/2028-03-12/
LOCATION:Autociné Denia\, Partida Deveses D\, 27\, Denia\, Alicante\, 03700\, España
CATEGORIES:Concierto,Gastronomía,Mercado,Música
ATTACH;FMTTYPE=image/jpeg:https://disfruta-denia.com/wp-content/uploads/2025/11/619185631_1400783535172886_178185546401561331_n.jpg
END:VEVENT
BEGIN:VEVENT
DTSTART;TZID=Europe/Madrid:20280312T160000
DTEND;TZID=Europe/Madrid:20280312T160000
DTSTAMP:20260424T011033
CREATED:20260421T083752Z
LAST-MODIFIED:20260421T083753Z
UID:10022905-1836489600-1836489600@disfruta-denia.com
SUMMARY:Tardeos live Mr Fisher
DESCRIPTION:
URL:https://disfruta-denia.com/evento/tardeos-live-mr-fisher-3-2-3/2028-03-12/
LOCATION:Mr Fisher\, Moll de La Pansa s/n. Marina El Portet\, Denia\, Alicante\, 03700\, España
CATEGORIES:Concierto,Música,Tardeo
ATTACH;FMTTYPE=image/png:https://disfruta-denia.com/wp-content/uploads/2026/04/MRFISHER_LAMOCHA_03_05.png
END:VEVENT
BEGIN:VEVENT
DTSTART;TZID=Europe/Madrid:20280312T160000
DTEND;TZID=Europe/Madrid:20280312T180000
DTSTAMP:20260424T011033
CREATED:20260403T085340Z
LAST-MODIFIED:20260403T090037Z
UID:10026994-1836489600-1836496800@disfruta-denia.com
SUMMARY:Tardeo música en directo en Nomada
DESCRIPTION:
URL:https://disfruta-denia.com/evento/tardeo-musica-en-directo-en-nomada/2028-03-12/
LOCATION:Nomada Restaurante\, 11\, Moll de la Pansa\, Dénia\, 03700\, España
CATEGORIES:Concierto,Música,Tardeo
ATTACH;FMTTYPE=image/jpeg:https://disfruta-denia.com/wp-content/uploads/2026/04/PHOTO-2026-04-03-10-49-20.jpg
END:VEVENT
END:VCALENDAR