BEGIN:VCALENDAR
VERSION:2.0
PRODID:-//Disfruta Denia - ECPv6.15.20//NONSGML v1.0//EN
CALSCALE:GREGORIAN
METHOD:PUBLISH
X-ORIGINAL-URL:https://disfruta-denia.com
X-WR-CALDESC:Eventos para Disfruta Denia
REFRESH-INTERVAL;VALUE=DURATION:PT1H
X-Robots-Tag:noindex
X-PUBLISHED-TTL:PT1H
BEGIN:VTIMEZONE
TZID:Europe/Madrid
BEGIN:DAYLIGHT
TZOFFSETFROM:+0100
TZOFFSETTO:+0200
TZNAME:CEST
DTSTART:20250330T010000
END:DAYLIGHT
BEGIN:STANDARD
TZOFFSETFROM:+0200
TZOFFSETTO:+0100
TZNAME:CET
DTSTART:20251026T010000
END:STANDARD
BEGIN:DAYLIGHT
TZOFFSETFROM:+0100
TZOFFSETTO:+0200
TZNAME:CEST
DTSTART:20260329T010000
END:DAYLIGHT
BEGIN:STANDARD
TZOFFSETFROM:+0200
TZOFFSETTO:+0100
TZNAME:CET
DTSTART:20261025T010000
END:STANDARD
BEGIN:DAYLIGHT
TZOFFSETFROM:+0100
TZOFFSETTO:+0200
TZNAME:CEST
DTSTART:20270328T010000
END:DAYLIGHT
BEGIN:STANDARD
TZOFFSETFROM:+0200
TZOFFSETTO:+0100
TZNAME:CET
DTSTART:20271031T010000
END:STANDARD
END:VTIMEZONE
BEGIN:VEVENT
DTSTART;TZID=Europe/Madrid:20260429T190000
DTEND;TZID=Europe/Madrid:20260429T210000
DTSTAMP:20260423T002535
CREATED:20260422T130423Z
LAST-MODIFIED:20260422T130505Z
UID:10027194-1777489200-1777496400@disfruta-denia.com
SUMMARY:ANIVERSARIO MAGAZINOS “7 AÑOS DONDE LATE EL MEDITERRÁNEO”
DESCRIPTION:Els Magazinos celebra su aniversario “7 años donde late el Mediterráneo”\, un homenaje a la cultura\, música y gastronomía de la Marina Alta\n\n\n\n\n\n\n\n\n\n\n\n\n\n\n\n\n\n\n\n\n\n\n\n\n\n\n\n\n\n\n\n\n\n\nEl mercado de Dénia organiza una completa programación del 29 de abril al 3 de mayo de actividades y experiencias en torno a la comarca de la Marina Alta y a la vida mediterránea. \nEls Magazinos\, el mercado gastronómico y cultural de Dénia\, celebra su séptimo aniversario bajo el lema “7 años. Donde late el Mediterráneo”\, una invitación a sentir\, saborear y vivir la esencia mediterránea a través de una programación especial para todas las edades que tendrá lugar del 29 de abril al 3 de mayo. \nDurante estos siete años\, Els Magazinos se ha consolidado como un punto de encuentro donde la gastronomía\, la cultura\, la tradición y el territorio conviven en armonía\, poniendo en valor el producto local\, las tradiciones y el talento artístico de la comarca de la Marina Alta. Para esta edición\, la artista María Barrera ha sido la encargada de crear la imagen del aniversario que dará vida a la celebración. \nA lo largo de cinco días\, el espacio acogerá actividades para todos los públicos y de libre acceso\, con propuestas que combinan música en directo\, arte\, tradición y experiencias gastronómicas\, manteniendo siempre al Mediterráneo como hilo conductor. \n\n\n\n\n\n\n\n\n\n\n\n\n\n\n\n\n\n\n\n\n\n\n\n\n\n\n\n\n\n\n\n\nPorque el mar\, tanto en el pasado cuando Els Magazinos era el espacio del puerto donde se almacenaban las cargas de los barcos como en la actualidad\, forma parte del día a día\, marca el ritmo\, la vida y la actividad del lugar. \nEls Magazinos es mucho más que un mercado: es un espacio con historia y alma\, donde la cultura mediterránea se respira en cada rincón. Sus puertas son también las puertas del Mediterráneo; un lugar donde el aroma del mar\, a escasos metros\, se mezcla con la poesía\, el arte y la vida cotidiana. \nAquí\, la gastronomía se entiende como un acto social\, familiar\, de compartir mesa y momentos con amigos\, celebrando el producto local y el saber hacer de la comarca y su gente. Hablamos de un lugar donde el mar no solo se vive\, sino que late. \n\n\n\n\n\n\n\n\n\n\n\n\n\n\n\n\n\n\n\n\n\n\n\n\n\n\n\n\n\n\n\n\n\n\n\n\n\n\n\n\n\n\n\n\n\n\n\n\n\n\n\n\n\n\n\n\n\n\n\n\n\n\n\n\n\n\n\nProgramación “7 años donde late el Mediterráneo” del 29 de abril al 3 de mayo \n\n\n\n\n\n\n\n\n\n\n\n\n\n\n\n\n\n\n\n\n\n\n\n\n\n\n\n\n\n\n\n\n\n\n\n\n\n\n\n\nDurante todos los días: \n\n\nRuta de tapas aniversario (12:00–14:00 h y 19:00–21:00 h): tapa + Cerveza Turia por 6€. Consigue la bolsa “7 años donde late el Mediterráneo” de Maria Barrera\, hasta fin de existencias\, al consumir en dos locales diferentes (Calle de los Sabores). \n\n\nMercat al carrer\, el mercado de artesanía sostenible y de proximidad con artesanas de la Comunidad Valenciana. \n\n\nExposición “Costa y Campo”\, de Mariia Zhurykova y Anastasiia Syd hasta finales de mayo (Restaurante A la Fresca). \n\n\nExposición colectiva “Els Somnis dels Baleàrics”\, en el Taller Túria\, de la mano de Fundació Baleària hasta el 31 de mayo (Taller Turia). \n\n\nMiércoles 29 de abril \n19:00–21:00 h | Calle de los Sabores \nRuta de tapas con ambientación musical de la “Xaranga l’Embolic” de Xàbia \nJueves 30 de abril \n12:00–14:00 h | Calle de los Sabores \nRuta de tapas con la “Xaranga l’Embolic” de Xàbia \n19:30–21:30 h | Terraza La Rosa \nActuación de Xavi Gómez y Elena Almendros \nViernes 1 de mayo \n12:00–14:00 h | Calle de los Sabores  \nDesfile de moda inclusiva “Paraigües” por Aprosdeco con más de 40 paraguas que artistas mediterráneos han convertido en obras de arte bajo el comisariado de Antoni Torres y de la mano de la Fundació Baleària. A continuación\, pasacalle junto a la Agrupación Musical de Dénia “Fem Banda”. \n18:00–20:00 h | Terraza La Rosa \nConcierto de Abril y Ana de “Diània Dúo Acústic” \nSábado\, 2 de mayo \n12:00–14:00 h | Calle de los Sabores \nRuta de tapas con la “Xaranga l’Embolic” de Xàbia \n17:00–22:00 h | Terraza La Rosa \nMúsica en directo con Mr. Smoke y sesión A.K.A. Soulsick \nDomingo\, 3 de mayo \n9:30 a 10:30 h | Terraza La Mediterránea \nEvento de barre único al aire libre impartido por Barre & Pilates Studio Abby Hopkins. Será una clase divertida\, apta para todos los niveles\, que fusionará baile con disciplinas como pilates y yoga\, y estará dirigida por Abby\, formadora de instructores de barre\, junto con Blanca\, quienes aseguran una experiencia emocionante\, segura y sudorosa (Precio 12 euros). \n12:00–14:00 h | Terraza A la Fresca Events \nTaller “Luz y color del Mediterráneo” con Ximo Canet (técnicas gyotaku y jaspeado). \n13:00–14:00 h | Plaza Dénia es vida \nActuación de Dianium Dansa con el espectáculo “Ballem Cabuts i Drac” a ritmo de tabal y dolçaina\, un grupo de Dénia fundado en 1988 dedicado a recuperar y difundir la cultura valenciana a través de la danza tradicional\, el folclore y sus raíces populares. \n\n\n\n\n\n\n\n\n\n\n\n\n\n\n\n\n\n\n\n\n\n\n\n\n\n\n\n\n\n\n\n\n\n\n\n\n\n\n\nRuta de tapas en los locales de la Calle de los Sabores y el restaurante A la Fresca \n\n\n\n\n\n\n\n\n\n\n\n\n\n\n\n\n\n\n\n\nDe 12:00 a 14:00 y de 19:00 a 21:00 h consigue tu Tapa + Cerveza Turia por 6€\, y por dos tapas\, la bolsa “7 años donde late el Mediterráneo” de María Barrera\, hasta fin de existencias: \nAtelier du petit français: montaditos de carne con queso cabra y miel \nTapaloca: montaditos de manzana caramelizada con bacon queso cabra y miel \nLa Lola: tosta de focaccia de masa madre crujiente (con anchoas del cantábrico 00\, mayonesa La Lola y cebollino) \nManzo: mini burger\, trufa y boletus con (con pan brioche\, carne de vaca madurada 30 días\, bacon\, salsa de trufa y boletus y cremoso de gorgonzola) \nLa pinchoteca: chorizos a la sidra \nSan Vito: mini pizza Margarita \nBluefish: 4 piezas de Spicy tuna \nFogata grill: taco de chicharrón \nFreiduría Rincón del mar: boquerones fritos \nWaffle Wrap: mini waffle + mini milkshake sabor galleta Dinosaurus \nPatagonia: carrillada \nAllora: empanada a elección \nFayiz Lebanon: humus \nKamin Thai: rollitos de gamba \nThe Speak: picaña a la brasa sobre pan de cristal con pimienta verde fresca y mostaza de Dijon \nTiffin Dénia: Tapaa de pollo tikka\, de seekh kebab y de pakora de verdura \nCroqueteria Qmcomo: croqueta de torrezno y croqueta de escalivada y bacalao ahumado \n+Qcoqueta: Huevos rotos con chorizo \nOstrarium: 2 croquetas de Gula del Norte \nVermutamadre: 1 gilda Vermutamadre \nA la Fresca: Patatas revolconas con embutido de La Marina
URL:https://disfruta-denia.com/evento/aniversario-magazinos-7-anos-donde-late-el-mediterraneo/2026-04-29/
LOCATION:Els Magazinos\, Carrer Pont 19\, Denia\, Alicante\, 03700\, España
CATEGORIES:Gastronomía,Música,Taller
ATTACH;FMTTYPE=image/jpeg:https://disfruta-denia.com/wp-content/uploads/2026/04/unnamed-2.jpg
END:VEVENT
END:VCALENDAR