BEGIN:VCALENDAR
VERSION:2.0
PRODID:-//Disfruta Denia - ECPv6.15.20//NONSGML v1.0//EN
CALSCALE:GREGORIAN
METHOD:PUBLISH
X-ORIGINAL-URL:https://disfruta-denia.com
X-WR-CALDESC:Eventos para Disfruta Denia
REFRESH-INTERVAL;VALUE=DURATION:PT1H
X-Robots-Tag:noindex
X-PUBLISHED-TTL:PT1H
BEGIN:VTIMEZONE
TZID:Europe/Madrid
BEGIN:DAYLIGHT
TZOFFSETFROM:+0100
TZOFFSETTO:+0200
TZNAME:CEST
DTSTART:20230326T010000
END:DAYLIGHT
BEGIN:STANDARD
TZOFFSETFROM:+0200
TZOFFSETTO:+0100
TZNAME:CET
DTSTART:20231029T010000
END:STANDARD
BEGIN:DAYLIGHT
TZOFFSETFROM:+0100
TZOFFSETTO:+0200
TZNAME:CEST
DTSTART:20240331T010000
END:DAYLIGHT
BEGIN:STANDARD
TZOFFSETFROM:+0200
TZOFFSETTO:+0100
TZNAME:CET
DTSTART:20241027T010000
END:STANDARD
BEGIN:DAYLIGHT
TZOFFSETFROM:+0100
TZOFFSETTO:+0200
TZNAME:CEST
DTSTART:20250330T010000
END:DAYLIGHT
BEGIN:STANDARD
TZOFFSETFROM:+0200
TZOFFSETTO:+0100
TZNAME:CET
DTSTART:20251026T010000
END:STANDARD
END:VTIMEZONE
BEGIN:VEVENT
DTSTART;TZID=Europe/Madrid:20240616T203000
DTEND;TZID=Europe/Madrid:20240616T220000
DTSTAMP:20260422T092350
CREATED:20240525T090036Z
LAST-MODIFIED:20240525T090036Z
UID:10018670-1718569800-1718575200@disfruta-denia.com
SUMMARY:Tot lo que Relluix i Entrega de Premis
DESCRIPTION:Un padre se endeuda para llevar a su familia al mar. Surgen «aprovechados». Difícil situación ante apariencias que superan la realidad.\n\n\nObra:Tot lo que Relluix \nAutor:Paco Barchino (1926) \nDirecció:Antonia Díaz \nGènere:Comedia \nGrup:La Mar Salà \nDurada:50′ \nLlengua:Valencià \nProcedència:Dénia \nSinopsis: Un pare decidix endeutar-se per portar les filles i la germana a la mar on es mou la gent «bé». No esperen que uns «aprofitats» també aniran. \nVeurem les dificultats que passava un pare per les filles en un ambient\, on les aparences feien estirar el braç més de lo que la mànega els prestava.
URL:https://disfruta-denia.com/evento/tot-lo-que-relluix-i-entrega-de-premis/
LOCATION:Teatro Auditorio Centro Social\, 4 Carrer Calderón\, Dénia\, VC\, 03700\, Spain
CATEGORIES:Cultura,Teatro
ATTACH;FMTTYPE=image/jpeg:https://disfruta-denia.com/wp-content/uploads/2024/05/1992eb48ffe42aa3f0a27aeacbef313c.jpg
END:VEVENT
BEGIN:VEVENT
DTSTART;TZID=Europe/Madrid:20240615T203000
DTEND;TZID=Europe/Madrid:20240615T213000
DTSTAMP:20260422T092350
CREATED:20240525T090048Z
LAST-MODIFIED:20240525T090048Z
UID:10018669-1718483400-1718487000@disfruta-denia.com
SUMMARY:Mamá\, la Virgen María y un Conejo
DESCRIPTION:Álvaro\, desde niño hasta anciano\, sin entender la vida. Hijo de un capitán general español y una pianista de larga melena.\n\n\nObra:Mamá\, la Virgen María y un Conejo \nAutor:Teresa Bállo \nDirecció:Teresa Bállo\, Marina Vinyals y Sefa Bernet \nGènere:Tragicomédia \nGrup:Manuel Puchades \nDurada:60′ \nLlengua:Castellà \nProcedència:Valencia \nSinopsis: Alvaro\, un niño que no entiende nada de la vida\, un adolescente que no entiende nada de la vida \, un hombre que no entiende nada de la vida \, un anciano que no entiende nada de la vida\, hijo de un capitán general de la octava región militar de España y de una mujer de larga melena que toca el piano.
URL:https://disfruta-denia.com/evento/mama-la-virgen-maria-y-un-conejo/
LOCATION:Teatro Auditorio Centro Social\, 4 Carrer Calderón\, Dénia\, VC\, 03700\, Spain
CATEGORIES:Cultura,Teatro
ATTACH;FMTTYPE=image/jpeg:https://disfruta-denia.com/wp-content/uploads/2024/05/1992eb48ffe42aa3f0a27aeacbef313c.jpg
END:VEVENT
BEGIN:VEVENT
DTSTART;TZID=Europe/Madrid:20240614T203000
DTEND;TZID=Europe/Madrid:20240614T213000
DTSTAMP:20260422T092350
CREATED:20240525T090052Z
LAST-MODIFIED:20240525T090052Z
UID:10018668-1718397000-1718400600@disfruta-denia.com
SUMMARY:Segismundo y Compañía
DESCRIPTION:Una pareja asiste a una obra de teatro por error. Insisten y proponen improvisar una de piratas\, jugando al teatro dentro del teatro.\n\n\nObra:Segismundo y Compañía \nAutor:Fernando Lalana Josa \nDirecció:Rosa Catalán \nGènere:Comedia \nGrup:Ti-t-lla Teatre \nDurada:60′ \nLlengua:Castellano \nProcedència:Teulada \nSinopsis: Una pareja de espectadores acude a ver una obra de teatro por equivocación. Tras insistir en que es mejor representar una pieza más divertida\, proponen a toda la sala improvisar una de piratas. Así acabarán jugando al teatro dentro del teatro.
URL:https://disfruta-denia.com/evento/segismundo-y-compania/
LOCATION:Teatro Auditorio Centro Social\, 4 Carrer Calderón\, Dénia\, VC\, 03700\, Spain
CATEGORIES:Cultura,Teatro
ATTACH;FMTTYPE=image/jpeg:https://disfruta-denia.com/wp-content/uploads/2024/05/1992eb48ffe42aa3f0a27aeacbef313c.jpg
END:VEVENT
BEGIN:VEVENT
DTSTART;TZID=Europe/Madrid:20240613T203000
DTEND;TZID=Europe/Madrid:20240613T213000
DTSTAMP:20260422T092350
CREATED:20240525T090059Z
LAST-MODIFIED:20240525T090059Z
UID:10018667-1718310600-1718314200@disfruta-denia.com
SUMMARY:Casamiento Forzoso
DESCRIPTION:La sempiterna historia del viejo que quiere casarse con la joven sin la seguridad de la fidelidad.\n\n\nObra:Casamiento Forzoso \nAutor:Molier \nDirecció:Rafa Martín \nGènere:Comedia \nGrup:Carabau Teatre \nDurada:62′ \nLlengua:Castellà \nProcedència:Valencia \nSinopsis:La sempiterna historia del viejo que quiere casarse con la joven sin la seguridad de la fidelidad.
URL:https://disfruta-denia.com/evento/casamiento-forzoso/
LOCATION:Teatro Auditorio Centro Social\, 4 Carrer Calderón\, Dénia\, VC\, 03700\, Spain
CATEGORIES:Cultura,Teatro
ATTACH;FMTTYPE=image/jpeg:https://disfruta-denia.com/wp-content/uploads/2024/05/1992eb48ffe42aa3f0a27aeacbef313c.jpg
END:VEVENT
BEGIN:VEVENT
DTSTART;TZID=Europe/Madrid:20240612T203000
DTEND;TZID=Europe/Madrid:20240612T220000
DTSTAMP:20260422T092350
CREATED:20240525T090109Z
LAST-MODIFIED:20240525T090109Z
UID:10018666-1718224200-1718229600@disfruta-denia.com
SUMMARY:Miércoles de Ceniza
DESCRIPTION:A los 50 años\, Juan viaja a España en busca de la palabra de su padre\, iniciando una travesía mágica hacia el secreto de su familia.\n\n\nObra:Miércoles de Ceniza \nAutor:Javier Sahuquillo \nDirecció:Javier Sahuquillo \nGènere:Tragicomédia \nGrup:Stres de Quatre \nDurada:80′ \nLlengua:Castellà \nProcedència:Albalat dels Sorells \nSinopsis:Juan ha vivido bajo el silencio de su padre\, al cumplir 50 años decide viajar a España en busca de la palabra de su padre. A partir de aquí\, iniciará una travesía mágica hacia el secreto de su famillia.
URL:https://disfruta-denia.com/evento/miercoles-de-ceniza/
LOCATION:Teatro Auditorio Centro Social\, 4 Carrer Calderón\, Dénia\, VC\, 03700\, Spain
CATEGORIES:Cultura,Teatro
ATTACH;FMTTYPE=image/jpeg:https://disfruta-denia.com/wp-content/uploads/2024/05/1992eb48ffe42aa3f0a27aeacbef313c.jpg
END:VEVENT
BEGIN:VEVENT
DTSTART;TZID=Europe/Madrid:20240607T203000
DTEND;TZID=Europe/Madrid:20240607T213000
DTSTAMP:20260422T092350
CREATED:20240525T090125Z
LAST-MODIFIED:20240525T090125Z
UID:10018665-1717792200-1717795800@disfruta-denia.com
SUMMARY:¡Crahs Pum Zas Ñam Guau!
DESCRIPTION:En esta obra nos desnudamos\, mostrando una parte íntima de nuestras vidas… bueno\, de chicos y chicas como nosotras\, que nos lo contaron.\n\n\nObra:¡Crahs Pum Zas Ñam Guau! \nAutor:Adolecentes Improbando y Sonia Gonzáles \nDirecció:Sonia Gonzáles López \nGènere:Comedia \nGrup:Improbando (Eseoese) \nDurada:60′ \nLlengua:Castellano \nProcedència:Orba \nSinopsis: En esta obra nos desnudamos. Vamos a mostrar una parte muy íntima de nuestras vidas…o bueno…de nuestras vidas\, nuestras vidas…tampoco. De la vida de chicas y chicos como nosotras\, que nos lo han contado…
URL:https://disfruta-denia.com/evento/crahs-pum-zas-nam-guau/
LOCATION:Teatro Auditorio Centro Social\, 4 Carrer Calderón\, Dénia\, VC\, 03700\, Spain
CATEGORIES:Cultura,Teatro
ATTACH;FMTTYPE=image/jpeg:https://disfruta-denia.com/wp-content/uploads/2024/05/1992eb48ffe42aa3f0a27aeacbef313c.jpg
END:VEVENT
BEGIN:VEVENT
DTSTART;TZID=Europe/Madrid:20240606T203000
DTEND;TZID=Europe/Madrid:20240606T213000
DTSTAMP:20260422T092350
CREATED:20240525T090125Z
LAST-MODIFIED:20240525T090125Z
UID:10018664-1717705800-1717709400@disfruta-denia.com
SUMMARY:Arsénico por compasión
DESCRIPTION:Cristina\, joven escritora recién casada\, descubre que sus tías encantadoras y caritativas envenenan a ancianos y los entierran en el sótano.\n\n\nObra:Arsénico por compasión \nAutor:Joseph Kesserlring \nDirecció:Anna Lucia Gonzáles Valdés \nGènere:Comedia \nGrup:ETC Dénia \nDurada:60′ \nLlengua:Castellà \nProcedència:Dénia \nSinopsis:Cristina una joven escritora recién casada descubre que sus encantadoras y caritativas tías\, se dedican a envenenar a personas mayores que entierran en el sótano.
URL:https://disfruta-denia.com/evento/arsenico-por-compasion/
LOCATION:Teatro Auditorio Centro Social\, 4 Carrer Calderón\, Dénia\, VC\, 03700\, Spain
CATEGORIES:Cultura,Teatro
ATTACH;FMTTYPE=image/jpeg:https://disfruta-denia.com/wp-content/uploads/2024/05/1992eb48ffe42aa3f0a27aeacbef313c.jpg
END:VEVENT
END:VCALENDAR