BEGIN:VCALENDAR
VERSION:2.0
PRODID:-//Disfruta Denia - ECPv6.15.20//NONSGML v1.0//EN
CALSCALE:GREGORIAN
METHOD:PUBLISH
X-WR-CALNAME:Disfruta Denia
X-ORIGINAL-URL:https://disfruta-denia.com
X-WR-CALDESC:Eventos para Disfruta Denia
REFRESH-INTERVAL;VALUE=DURATION:PT1H
X-Robots-Tag:noindex
X-PUBLISHED-TTL:PT1H
BEGIN:VTIMEZONE
TZID:Europe/Madrid
BEGIN:DAYLIGHT
TZOFFSETFROM:+0100
TZOFFSETTO:+0200
TZNAME:CEST
DTSTART:20210328T010000
END:DAYLIGHT
BEGIN:STANDARD
TZOFFSETFROM:+0200
TZOFFSETTO:+0100
TZNAME:CET
DTSTART:20211031T010000
END:STANDARD
BEGIN:DAYLIGHT
TZOFFSETFROM:+0100
TZOFFSETTO:+0200
TZNAME:CEST
DTSTART:20220327T010000
END:DAYLIGHT
BEGIN:STANDARD
TZOFFSETFROM:+0200
TZOFFSETTO:+0100
TZNAME:CET
DTSTART:20221030T010000
END:STANDARD
BEGIN:DAYLIGHT
TZOFFSETFROM:+0100
TZOFFSETTO:+0200
TZNAME:CEST
DTSTART:20230326T010000
END:DAYLIGHT
BEGIN:STANDARD
TZOFFSETFROM:+0200
TZOFFSETTO:+0100
TZNAME:CET
DTSTART:20231029T010000
END:STANDARD
BEGIN:DAYLIGHT
TZOFFSETFROM:+0100
TZOFFSETTO:+0200
TZNAME:CEST
DTSTART:20240331T010000
END:DAYLIGHT
BEGIN:STANDARD
TZOFFSETFROM:+0200
TZOFFSETTO:+0100
TZNAME:CET
DTSTART:20241027T010000
END:STANDARD
END:VTIMEZONE
BEGIN:VEVENT
DTSTART;VALUE=DATE:20230202
DTEND;VALUE=DATE:20230302
DTSTAMP:20260423T063053
CREATED:20230123T094704Z
LAST-MODIFIED:20230123T094704Z
UID:10009837-1675310400-1677643199@disfruta-denia.com
SUMMARY:Exposición: Arte Uruguayo
DESCRIPTION:FEBLES CERIANI\, Estructura & ALEXANDRE ASI\, Arte Madí. \nHorari/horario: laborables 11 – 14 h / 17 – 21 h. Dissabte/sábado 11 – 13.30 h 
URL:https://disfruta-denia.com/evento/exposicion-arte-uruguayo/
LOCATION:Casa de la Cultura Denia\, Plaça Jaume I\, Denia\, Alicante\, 03700\, España
CATEGORIES:Cultura,Exposiciones
ATTACH;FMTTYPE=image/png:https://disfruta-denia.com/wp-content/uploads/2023/01/1-expo-arte-uruguayo.png
ORGANIZER;CN="Denia Cultura":MAILTO:cultura@ayto-denia.es
END:VEVENT
BEGIN:VEVENT
DTSTART;TZID=Europe/Madrid:20230129T190000
DTEND;TZID=Europe/Madrid:20230129T210000
DTSTAMP:20260423T063053
CREATED:20230124T132917Z
LAST-MODIFIED:20230124T132917Z
UID:10009842-1675018800-1675026000@disfruta-denia.com
SUMMARY:Cineclub: 𝗟𝗔 𝗜𝗦𝗟𝗔 𝗗𝗘 𝗕𝗘𝗥𝗚𝗠𝗔𝗡
DESCRIPTION: Este domingo\, 29 de enero tendrá lugar la proyección de la película «𝗟𝗔 𝗜𝗦𝗟𝗔 𝗗𝗘 𝗕𝗘𝗥𝗚𝗠𝗔𝗡»\nV.O en inglés subtitulada en castellano.\n Entradas anticipadas en https://www.notikumi.com/2023/1/29/la-isla-de-bergman
URL:https://disfruta-denia.com/evento/cineclub-%f0%9d%97%9f%f0%9d%97%94-%f0%9d%97%9c%f0%9d%97%a6%f0%9d%97%9f%f0%9d%97%94-%f0%9d%97%97%f0%9d%97%98-%f0%9d%97%95%f0%9d%97%98%f0%9d%97%a5%f0%9d%97%9a%f0%9d%97%a0%f0%9d%97%94%f0%9d%97%a1/
LOCATION:Teatro Auditorio Centro Social\, 4 Carrer Calderón\, Dénia\, VC\, 03700\, Spain
CATEGORIES:Ciné,Cultura
ATTACH;FMTTYPE=image/jpeg:https://disfruta-denia.com/wp-content/uploads/2023/01/322211713_511850684346272_742907687777017509_n.jpg
ORGANIZER;CN="Denia Cultura":MAILTO:cultura@ayto-denia.es
END:VEVENT
BEGIN:VEVENT
DTSTART;TZID=Europe/Madrid:20230129T120000
DTEND;TZID=Europe/Madrid:20230129T133000
DTSTAMP:20260423T063053
CREATED:20230128T094332Z
LAST-MODIFIED:20230128T094332Z
UID:10009848-1674993600-1674999000@disfruta-denia.com
SUMMARY:Cine en familia: Raya l'ultim drac
DESCRIPTION:Película en valenciano\nEntrada libre.
URL:https://disfruta-denia.com/evento/cine-en-familia-raya-lultim-drac/
LOCATION:Teatro Auditorio Centro Social\, 4 Carrer Calderón\, Dénia\, VC\, 03700\, Spain
CATEGORIES:Ciné,Cultura
ATTACH;FMTTYPE=image/png:https://disfruta-denia.com/wp-content/uploads/2023/01/unnamed.png
ORGANIZER;CN="Denia Cultura":MAILTO:cultura@ayto-denia.es
END:VEVENT
BEGIN:VEVENT
DTSTART;TZID=Europe/Madrid:20230108T190000
DTEND;TZID=Europe/Madrid:20230108T190000
DTSTAMP:20260423T063053
CREATED:20221219T122742Z
LAST-MODIFIED:20221219T122742Z
UID:10009811-1673204400-1673204400@disfruta-denia.com
SUMMARY:Cineclub: ALCARRÀS
DESCRIPTION:ALCARRÀS. Dir.: Carla Simón. Espanya/España\, 2022\, 120 min.  VO en català / catalán. Subtitulada al castellà / castellano.   Recomanada / recomendada  + 12 anys/años. \nEntrada 3 € en https://notkumi.com. Taquilla: el mateix dia una hora abans/el mismo día una hora antes.
URL:https://disfruta-denia.com/evento/cineclub-alcarras/
LOCATION:Teatro Auditorio Centro Social\, 4 Carrer Calderón\, Dénia\, VC\, 03700\, Spain
CATEGORIES:Ciné,Cultura
ORGANIZER;CN="Denia Cultura":MAILTO:cultura@ayto-denia.es
END:VEVENT
BEGIN:VEVENT
DTSTART;TZID=Europe/Madrid:20221228T200000
DTEND;TZID=Europe/Madrid:20221228T200000
DTSTAMP:20260423T063053
CREATED:20221118T135648Z
LAST-MODIFIED:20221118T135648Z
UID:10008763-1672257600-1672257600@disfruta-denia.com
SUMMARY:FLAMENCO: AMURA
DESCRIPTION:AMURA \nIsabel Julve\, cant\, ball\, palmes i postisses/cante\, baile\, palmas y castañuelas. \nMatthieu Saglio\, Viloncel/violonchelo \nJosé “el Piru”\, guitarra flamenca\, ronroco \nDesprés de recórrer el món amb els seus respectius projectes\, s’uneixen aquests tres reconeguts artistes per a una nova aventura musical entre composicions pròpies i versions de cançons de tota la vida. \nDespués de recorrer el mundo con sus respectivos proyectos\, se unen estos tres reconocidos artistas para una nueva aventura musical entre composiciones propias y versiones de canciones de toda la vida. \nEntrada 6 €  en https://www.notikumi.com Taquilla: el mateix dia una hora abans/ el mismo día una hora antes.
URL:https://disfruta-denia.com/evento/flamenco-amura/
LOCATION:Teatro Auditorio Centro Social\, 4 Carrer Calderón\, Dénia\, VC\, 03700\, Spain
CATEGORIES:Cultura,Danza,Espectáculo
ORGANIZER;CN="Denia Cultura":MAILTO:cultura@ayto-denia.es
END:VEVENT
BEGIN:VEVENT
DTSTART;TZID=Europe/Madrid:20221218T190000
DTEND;TZID=Europe/Madrid:20221218T190000
DTSTAMP:20260423T063053
CREATED:20221118T135358Z
LAST-MODIFIED:20221118T135358Z
UID:10008762-1671390000-1671390000@disfruta-denia.com
SUMMARY:Cineclub: EL ACONTECIMIENTO
DESCRIPTION:EL ACONTECIMIENTO. Dir.: Audrey Diwan. França/Francia\, 2021\, 100 min. VO en francés subtitulada en castellà/castellano. + 16 anys/años. \nEntrada 3 € en  https://www.notikumi.com. Taquilla: el mateix dia una hora abans/el mismo día una hora antes.
URL:https://disfruta-denia.com/evento/cineclub-el-acontecimiento/
LOCATION:Teatro Auditorio Centro Social\, 4 Carrer Calderón\, Dénia\, VC\, 03700\, Spain
CATEGORIES:Ciné,Cultura
ATTACH;FMTTYPE=image/jpeg:https://disfruta-denia.com/wp-content/uploads/2022/11/El-acontecimiento-cartell.jpg
ORGANIZER;CN="Denia Cultura":MAILTO:cultura@ayto-denia.es
END:VEVENT
BEGIN:VEVENT
DTSTART;TZID=Europe/Madrid:20221218T120000
DTEND;TZID=Europe/Madrid:20221218T120000
DTSTAMP:20260423T063053
CREATED:20221118T135248Z
LAST-MODIFIED:20221118T135248Z
UID:10008761-1671364800-1671364800@disfruta-denia.com
SUMMARY:TEATRO EN FAMÍLIA
DESCRIPTION:ROB.  Teatre de l’Abast.  Teatre gestual i titelles / teatro gestual y marionetas \nBasat en la novel·la Robinson Crusoe / basado en la novela de Robinson Crusoe. \nQuan Rob va pujar a aquell vaixell\, no sabia que mai arribaria al seu destí. O potser el destí li tenia reservat aquell lloc\, una illa en la qual l’única cosa que trobaria seria a sí mateix.   \n  \nCuando Rob subió a aquel barco\, no sabía que nunca llegaría a su destino. O quizás el destino le tenía reservado aquel lugar\, una isla en la cual lo único que encontraría seria a sí mismo. \nRecomanat / recomendado de 5 a 8 anys/años. En valencià/valenciano. \nEntrada:  lliure fins a completar aforament/ libre hasta completar aforo.
URL:https://disfruta-denia.com/evento/teatro-en-familia-3/
LOCATION:Teatro Auditorio Centro Social\, 4 Carrer Calderón\, Dénia\, VC\, 03700\, Spain
CATEGORIES:Cultura,Teatro
ATTACH;FMTTYPE=image/png:https://disfruta-denia.com/wp-content/uploads/2022/11/ROB.png
ORGANIZER;CN="Denia Cultura":MAILTO:cultura@ayto-denia.es
END:VEVENT
BEGIN:VEVENT
DTSTART;TZID=Europe/Madrid:20221217T200000
DTEND;TZID=Europe/Madrid:20221217T200000
DTSTAMP:20260423T063053
CREATED:20221118T135129Z
LAST-MODIFIED:20221118T135129Z
UID:10008760-1671307200-1671307200@disfruta-denia.com
SUMMARY:ZAMBOMBA FLAMENCA
DESCRIPTION:Actuació del grup/ Actuación del grupo  LA MAREA FLAMENCA \nBuleries\, tangos\, alegries i nadales tradicionals\, seran els ritmes que ens portaran a acostar-nos a una de les celebracions més pròpies de la cultura andalusa\, que contagiarà als assistents el millor del seu art i eixa alegria que sempre els ha caracteritzat\, la que els fa viure enamorats de la vida. \n  \nBulerías\, tangos\, alegrías y villancicos tradicionales\, serán los ritmos que nos llevarán a acercarnos a una de las celebraciones más propias de la cultura andaluza\, que contagiará a los asistentes lo mejor de su arte y esa alegría que siempre les ha caracterizado\, la que les hace vivir enamorados de la vida. \nEntrada: lliure fins a completar aforament/ libre hasta completar aforo. \nOrganitza / Organiza: Casa de Andalucía de Dénia.
URL:https://disfruta-denia.com/evento/zambomba-flamenca/
LOCATION:Teatro Auditorio Centro Social\, 4 Carrer Calderón\, Dénia\, VC\, 03700\, Spain
CATEGORIES:Concierto,Cultura,Danza,Música
ATTACH;FMTTYPE=image/png:https://disfruta-denia.com/wp-content/uploads/2022/11/14-Zambomba-flamenca-2.png
ORGANIZER;CN="Denia Cultura":MAILTO:cultura@ayto-denia.es
END:VEVENT
BEGIN:VEVENT
DTSTART;TZID=Europe/Madrid:20221216T193000
DTEND;TZID=Europe/Madrid:20221216T193000
DTSTAMP:20260423T063053
CREATED:20221118T135020Z
LAST-MODIFIED:20221118T135020Z
UID:10008759-1671219000-1671219000@disfruta-denia.com
SUMMARY:CONCIERTO DE NAVIDAD
DESCRIPTION:GRUP POLIFÒNIC CADENZA. Nadales del món \nDirecció/n: SILVIA PEÑA. Piano: LELLANY LIZANA. Violoncel/violoncelo: PACO PINEDA.  \nVeu blanca/voz blanca: NORAN MORENO \nEntrada:  lliure fins a completar aforament/ libre hasta completar aforo.
URL:https://disfruta-denia.com/evento/concierto-de-navidad-2/
LOCATION:Teatro Auditorio Centro Social\, 4 Carrer Calderón\, Dénia\, VC\, 03700\, Spain
CATEGORIES:Concierto,Música
ATTACH;FMTTYPE=image/png:https://disfruta-denia.com/wp-content/uploads/2022/11/13-Cadenza.png
ORGANIZER;CN="Denia Cultura":MAILTO:cultura@ayto-denia.es
END:VEVENT
BEGIN:VEVENT
DTSTART;VALUE=DATE:20221216
DTEND;VALUE=DATE:20230117
DTSTAMP:20260423T063053
CREATED:20221212T092355Z
LAST-MODIFIED:20221212T092355Z
UID:10009799-1671163200-1673841599@disfruta-denia.com
SUMMARY:Exposición: SOM MEDITERRANIS
DESCRIPTION: Xavi Fornés\, pintura\, Alfredo Sanz\, fotografia. \n“Pintura i fotografia són imatges; la pintura de forma pensada i treballada i la fotografia espontània i intuïtiva\, d’ací l’atractiu que creiem ofereix aquesta exposició compartida. Som autors que intentem oferir i expressar de manera atractiva la cultura i costums mediterranis amb les quals ens sentim tan identificats”. \n  \n“Pintura y fotografía son imágenes; la pintura de forma pensada y trabajada y la fotografía espontánea e intuitiva\, de aquí el atractivo que creemos ofrece esta exposición compartida. Somos autores que intentamos ofrecer y expresar de manera atractiva la cultura y costumbres mediterráneas con las que nos sentimos tan identificados”. \nInauguració dia / Inauguración día 16- 19 h.  \nHorari/horario: tots els dies/todos los días de 10 a 13 h / de 16 a 20 h.  \nTancat el 25 de desembre/cerrado el 25 de diciembre
URL:https://disfruta-denia.com/evento/exposicion-som-mediterranis/
LOCATION:Centre d’art l’Estació\, Carrer Calderón\, 2\, Denia\, Alicante\, 03700\, España
CATEGORIES:Exposiciones
ATTACH;FMTTYPE=image/jpeg:https://disfruta-denia.com/wp-content/uploads/2022/12/317365739_517319200438927_1474097021339348752_n.jpg
ORGANIZER;CN="Denia Cultura":MAILTO:cultura@ayto-denia.es
END:VEVENT
BEGIN:VEVENT
DTSTART;TZID=Europe/Madrid:20221214T200000
DTEND;TZID=Europe/Madrid:20221214T200000
DTSTAMP:20260423T063053
CREATED:20221118T135801Z
LAST-MODIFIED:20221118T135801Z
UID:10008764-1671048000-1671048000@disfruta-denia.com
SUMMARY:TEATRO : CONQUISTADORES
DESCRIPTION:CONQUISTADORES. Text / Texto de J.P. Cañamero. \nDirecció i dramatúrgia / dirección y dramaturgia:  Pedro Luis López Bellot \nIntèrprets/intérpretes: Chema Pizarro\, Nuqui Fernández i Francis J. Quirós. \nUna divertida història de l’aventura americana contada en clau d’humor negre i teatre de l’absurd. \nDos candidatures als premis MAX: millor espectacle revelació i millor autoria revelació. \n  \nUna divertida historia de la aventura americana contada en clave de humor negro y teatro del absurdo. \nDos candidaturas a los premios MAX: mejor espectáculo revelación y mejor autoría revelación. \nEntrada: 10 € en https://www.notikumi.com. En taquilla el mateix dia una hora abans.
URL:https://disfruta-denia.com/evento/teatro-conquistadores/
LOCATION:Teatro Auditorio Centro Social\, 4 Carrer Calderón\, Dénia\, VC\, 03700\, Spain
CATEGORIES:Cultura,Teatro
ORGANIZER;CN="Denia Cultura":MAILTO:cultura@ayto-denia.es
END:VEVENT
BEGIN:VEVENT
DTSTART;TZID=Europe/Madrid:20221214T193000
DTEND;TZID=Europe/Madrid:20221214T193000
DTSTAMP:20260423T063053
CREATED:20221213T090247Z
LAST-MODIFIED:20221213T090247Z
UID:10009803-1671046200-1671046200@disfruta-denia.com
SUMMARY:Presentación de la revista de literatura L'Aiguadolç
DESCRIPTION:Presentación de la revista de literatura L’Aiguadolç (IECMA)\, núm. 51 dedicada a Joan Fuster\nA cargo de Antoni Prats y Juli Capilla.\nConmemoración de los 50 números de l’Aiguadolç
URL:https://disfruta-denia.com/evento/presentacion-de-la-revista-de-literatura-laiguadolc/
LOCATION:Casa de la Cultura Denia\, Plaça Jaume I\, Denia\, Alicante\, 03700\, España
CATEGORIES:Charlas y conferencias,Cultura
ATTACH;FMTTYPE=image/jpeg:https://disfruta-denia.com/wp-content/uploads/2022/12/318123805_520329040137943_7576742303302516827_n.jpg
ORGANIZER;CN="Denia Cultura":MAILTO:cultura@ayto-denia.es
END:VEVENT
BEGIN:VEVENT
DTSTART;TZID=Europe/Madrid:20221211T190000
DTEND;TZID=Europe/Madrid:20221211T190000
DTSTAMP:20260423T063053
CREATED:20221118T134908Z
LAST-MODIFIED:20221118T134908Z
UID:10008758-1670785200-1670785200@disfruta-denia.com
SUMMARY:Cineclub: COMPARTIMENTO Nº 6
DESCRIPTION:COMPARTIMENTO Nº 6. Dir.: Juho Kuosmanen. Finlàndia/Finlandia\, 2021\, 107 min. V.O. en finés i rus/ finlandés y ruso. Subtitulada en castellà/castellano.  + 12 anys/años. \nEntrada 3 € en  https://www.notikumi.com/. Taquilla: el mateix dia una hora abans/el mismo día una hora antes.
URL:https://disfruta-denia.com/evento/cineclub-compartimento-no-6/
LOCATION:Teatro Auditorio Centro Social\, 4 Carrer Calderón\, Dénia\, VC\, 03700\, Spain
CATEGORIES:Ciné,Cultura
ATTACH;FMTTYPE=image/jpeg:https://disfruta-denia.com/wp-content/uploads/2022/11/Compartimento-no-6-cartell.jpg
ORGANIZER;CN="Denia Cultura":MAILTO:cultura@ayto-denia.es
END:VEVENT
BEGIN:VEVENT
DTSTART;TZID=Europe/Madrid:20221211T100000
DTEND;TZID=Europe/Madrid:20221211T100000
DTSTAMP:20260423T063053
CREATED:20221118T134743Z
LAST-MODIFIED:20221207T121420Z
UID:10008757-1670752800-1670752800@disfruta-denia.com
SUMMARY:EXCURSIÓN EN FAMÍLIA
DESCRIPTION:JESÚS POBRE. MOLINS. OLIVERA MIL·LENÀRIA. MERCAT RIURAU. Passeig amable pel paisatge rural \nInscripció prèvia obligatòria a: deniaviva@ayto-denia.es\, indicant nom complet\, edat i telèfon.  \nTermini d’inscripcions fins a  les 14 h del dijous anterior a cada excursió \nDesplaçament amb cotxes particulars. Duració: 4 h. Opció dinar al mercat del riurau. \n  \nJESÚS POBRE. MOLINOS. OLIVERA MILENARIA. MERCADO DEL RIURAU. Paseo amable por el paisaje rural. \nInscripción previa obligatoria en:  deniaviva@ayto-denia.es\, indicando nombre completo\, edad y teléfono.  \nPlazo de inscripción hasta las 14 h del jueves anterior a cada excursión. \nDesplazamiento con vehículos particulares. Duración: 4 h Opción de comer en el mercado del riurau
URL:https://disfruta-denia.com/evento/excursion-en-familia-4/
LOCATION:Casa de la Cultura Denia\, Plaça Jaume I\, Denia\, Alicante\, 03700\, España
CATEGORIES:Deporte,Excursión
ATTACH;FMTTYPE=image/jpeg:https://disfruta-denia.com/wp-content/uploads/2022/11/318303722_3373696426243329_3387843301511786614_n.jpg
ORGANIZER;CN="Denia Cultura":MAILTO:cultura@ayto-denia.es
END:VEVENT
BEGIN:VEVENT
DTSTART;TZID=Europe/Madrid:20221210T200000
DTEND;TZID=Europe/Madrid:20221210T200000
DTSTAMP:20260423T063053
CREATED:20221118T134602Z
LAST-MODIFIED:20221121T112841Z
UID:10008756-1670702400-1670702400@disfruta-denia.com
SUMMARY:CONCIERTO DE NAVIDAD
DESCRIPTION:ORFEÓ DE DÉNIA. Dir.: Klàra Sarkadi \nEntrada:  lliure fins a completar aforament/ libre hasta completar aforo.
URL:https://disfruta-denia.com/evento/concierto-de-navidad/
LOCATION:Teatro Auditorio Centro Social\, 4 Carrer Calderón\, Dénia\, VC\, 03700\, Spain
CATEGORIES:Concierto,Música
ATTACH;FMTTYPE=image/jpeg:https://disfruta-denia.com/wp-content/uploads/2022/11/Cartell-cast.jpg
ORGANIZER;CN="Denia Cultura":MAILTO:cultura@ayto-denia.es
END:VEVENT
BEGIN:VEVENT
DTSTART;TZID=Europe/Madrid:20221210T173000
DTEND;TZID=Europe/Madrid:20221210T213000
DTSTAMP:20260423T063053
CREATED:20221202T120347Z
LAST-MODIFIED:20221202T120347Z
UID:10009516-1670693400-1670707800@disfruta-denia.com
SUMMARY:Nit de la Llum en Denia 2022
DESCRIPTION:¡Disfruta de la «Noche de la Luz» en Dénia! \n\n\n\n\n\n\n\n\n\nLa tarde-noche del 10 de diciembre el centro de la ciudad brillará a la luz de las velas y los comercios ofrecerán grandes descuentos en las compras.\nEl centro urbano de Dénia se decorará con miles de\nvelas y con decoraciones especiales. \nLos comercios participantes ofrecerán descuentos y detalles navideños a sus clientes y el Mercado Municipal también contará con una decoración especial y abrirá desde las 18h. hasta las 23h. \nDescarga el plano de comercios y las actividades \nMiles de velas \nEl centro de Dénia se iluminará con 7.000 velas y en algunos puntos\, como las plazas del Consell o de la Constitució\, se apagará por completo el alumbrado público y las velas serán la única iluminación\, creando un ambiente único. \nCoros de villancicos \nVarios coros de villancicos se situarán en distintos puntos del casco urbano para amenizar las compras. Participan en esta edición el Coro APAMAR  (Asociación de Padres del Colegio Maristas)\, el Coro Al-Manchara\, el Coro de la Casa de Andalucía y el Coro Ukraniano Fuente del Alma. \nAnimación musical \nGrupos de bailarines y bailarinas recorrerán las calles repartiendo espectáculo\, regalos y sorpresas.
URL:https://disfruta-denia.com/evento/nit-de-la-llum-en-denia-2022/
LOCATION:Denia\, Denia\, Alicante\, 03700\, España
CATEGORIES:Espectáculo,Fiesta
ATTACH;FMTTYPE=image/jpeg:https://disfruta-denia.com/wp-content/uploads/2022/12/CartelNit_22_Vertical.jpg
ORGANIZER;CN="Denia Cultura":MAILTO:cultura@ayto-denia.es
END:VEVENT
END:VCALENDAR