BEGIN:VCALENDAR
VERSION:2.0
PRODID:-//Disfruta Denia - ECPv6.15.20//NONSGML v1.0//EN
CALSCALE:GREGORIAN
METHOD:PUBLISH
X-WR-CALNAME:Disfruta Denia
X-ORIGINAL-URL:https://disfruta-denia.com
X-WR-CALDESC:Eventos para Disfruta Denia
REFRESH-INTERVAL;VALUE=DURATION:PT1H
X-Robots-Tag:noindex
X-PUBLISHED-TTL:PT1H
BEGIN:VTIMEZONE
TZID:Europe/Madrid
BEGIN:DAYLIGHT
TZOFFSETFROM:+0100
TZOFFSETTO:+0200
TZNAME:CEST
DTSTART:20210328T010000
END:DAYLIGHT
BEGIN:STANDARD
TZOFFSETFROM:+0200
TZOFFSETTO:+0100
TZNAME:CET
DTSTART:20211031T010000
END:STANDARD
BEGIN:DAYLIGHT
TZOFFSETFROM:+0100
TZOFFSETTO:+0200
TZNAME:CEST
DTSTART:20220327T010000
END:DAYLIGHT
BEGIN:STANDARD
TZOFFSETFROM:+0200
TZOFFSETTO:+0100
TZNAME:CET
DTSTART:20221030T010000
END:STANDARD
BEGIN:DAYLIGHT
TZOFFSETFROM:+0100
TZOFFSETTO:+0200
TZNAME:CEST
DTSTART:20230326T010000
END:DAYLIGHT
BEGIN:STANDARD
TZOFFSETFROM:+0200
TZOFFSETTO:+0100
TZNAME:CET
DTSTART:20231029T010000
END:STANDARD
BEGIN:DAYLIGHT
TZOFFSETFROM:+0100
TZOFFSETTO:+0200
TZNAME:CEST
DTSTART:20240331T010000
END:DAYLIGHT
BEGIN:STANDARD
TZOFFSETFROM:+0200
TZOFFSETTO:+0100
TZNAME:CET
DTSTART:20241027T010000
END:STANDARD
BEGIN:DAYLIGHT
TZOFFSETFROM:+0100
TZOFFSETTO:+0200
TZNAME:CEST
DTSTART:20250330T010000
END:DAYLIGHT
BEGIN:STANDARD
TZOFFSETFROM:+0200
TZOFFSETTO:+0100
TZNAME:CET
DTSTART:20251026T010000
END:STANDARD
END:VTIMEZONE
BEGIN:VEVENT
DTSTART;TZID=Europe/Madrid:20240329T190000
DTEND;TZID=Europe/Madrid:20240329T190000
DTSTAMP:20260421T232114
CREATED:20240312T140957Z
LAST-MODIFIED:20240312T140957Z
UID:10017811-1711738800-1711738800@disfruta-denia.com
SUMMARY:Taller: 𝘿𝙤𝙣𝙖❜𝙢 𝙎𝙬𝙞𝙣𝙜 de Ana Olite.
DESCRIPTION:si el que vols és passar una bona estona ballant \, no pots faltar al taller del dia 29 𝘿𝙤𝙣𝙖❜𝙢 𝙎𝙬𝙞𝙣𝙜 de Ana Olite.
URL:https://disfruta-denia.com/evento/taller-%f0%9d%98%bf%f0%9d%99%a4%f0%9d%99%a3%f0%9d%99%96%e2%9d%9c%f0%9d%99%a2-%f0%9d%99%8e%f0%9d%99%ac%f0%9d%99%9e%f0%9d%99%a3%f0%9d%99%9c-de-ana-olite/
LOCATION:Els Magazinos\, Carrer Pont 19\, Denia\, Alicante\, 03700\, España
CATEGORIES:Baile,Música
ATTACH;FMTTYPE=image/jpeg:https://disfruta-denia.com/wp-content/uploads/2024/03/432375947_796942629126539_2956247016724403149_n.jpg
END:VEVENT
BEGIN:VEVENT
DTSTART;TZID=Europe/Madrid:20240320T190000
DTEND;TZID=Europe/Madrid:20240320T190000
DTSTAMP:20260421T232114
CREATED:20240312T140827Z
LAST-MODIFIED:20240312T140827Z
UID:10017810-1710961200-1710961200@disfruta-denia.com
SUMMARY:Taller: 𝘿𝙚𝙡 𝙡𝙚𝙣𝙜𝙪𝙖𝙟𝙚 𝙩𝙤́𝙭𝙞𝙘𝙤 𝙖𝙡 𝙡𝙚𝙣𝙜𝙪𝙖𝙟𝙚 𝙧𝙚𝙨𝙥𝙚𝙩𝙪𝙤𝙨𝙤
DESCRIPTION:Si vols aprendre sobre la importància de l’ús d’un correcte lèxic\, apunta’t el dimecres 20 al taller 𝘿𝙚𝙡 𝙡𝙚𝙣𝙜𝙪𝙖𝙟𝙚 𝙩𝙤́𝙭𝙞𝙘𝙤 𝙖𝙡 𝙡𝙚𝙣𝙜𝙪𝙖𝙟𝙚 𝙧𝙚𝙨𝙥𝙚𝙩𝙪𝙤𝙨𝙤 de Patrizia Crespi
URL:https://disfruta-denia.com/evento/taller-%f0%9d%98%bf%f0%9d%99%9a%f0%9d%99%a1-%f0%9d%99%a1%f0%9d%99%9a%f0%9d%99%a3%f0%9d%99%9c%f0%9d%99%aa%f0%9d%99%96%f0%9d%99%9f%f0%9d%99%9a-%f0%9d%99%a9%f0%9d%99%a4%f0%9d%99%ad%f0%9d%99%9e/
LOCATION:Els Magazinos\, Carrer Pont 19\, Denia\, Alicante\, 03700\, España
CATEGORIES:Taller
ATTACH;FMTTYPE=image/jpeg:https://disfruta-denia.com/wp-content/uploads/2024/03/430096682_796945529126249_4257070405264259133_n.jpg
END:VEVENT
BEGIN:VEVENT
DTSTART;TZID=Europe/Madrid:20221226T113000
DTEND;TZID=Europe/Madrid:20221226T123000
DTSTAMP:20260421T232114
CREATED:20221219T122316Z
LAST-MODIFIED:20221219T122316Z
UID:10009809-1672054200-1672057800@disfruta-denia.com
SUMMARY:IV Carrera Infantil - Mini San Silvestre
DESCRIPTION:El lunes 26 os esperamos a las 11.30 h en El Portet Denia con muchas sorpresas.  Cada participante tendrá de regalo una entrada para disfrutar hasta el 8 de enero de nuestra pista de patinaje sostenible. 
URL:https://disfruta-denia.com/evento/iv-carrera-infantil-mini-san-silvestre/
LOCATION:El Portet Denia\, Moll de la Pansa s/n\,\, Denia\, Alicante\, 03700\, España
CATEGORIES:Deporte
ATTACH;FMTTYPE=image/jpeg:https://disfruta-denia.com/wp-content/uploads/2022/12/318580740_5932279526823441_2862214924354495414_n.jpg
END:VEVENT
BEGIN:VEVENT
DTSTART;TZID=Europe/Madrid:20221220T190000
DTEND;TZID=Europe/Madrid:20221220T190000
DTSTAMP:20260421T232114
CREATED:20221214T222705Z
LAST-MODIFIED:20221214T222705Z
UID:10009806-1671562800-1671562800@disfruta-denia.com
SUMMARY:II Concierto solidario de Navidad de la Fundación Balearia
DESCRIPTION:El dimarts dia 20 tenim el segon concert solidari de Nadal de la Fundació Baleària a càrrec del Cor del Conservatori de València.  \nL’entrada és gratuïta fins a completar aforament i s’acceptaran aliments no peribles  per al programa #BaleàriaSolidaria. 
URL:https://disfruta-denia.com/evento/ii-concierto-solidario-de-navidad-de-la-fundacion-balearia/
LOCATION:Multiespai L’Androna\, Estación Marítima\, S/N\, Denia\, Alicante\, 03700\, España
CATEGORIES:Concierto,Música
ATTACH;FMTTYPE=image/png:https://disfruta-denia.com/wp-content/uploads/2022/12/318322707_5926950260689701_9210344712232606818_n.png
END:VEVENT
END:VCALENDAR