BEGIN:VCALENDAR
VERSION:2.0
PRODID:-//Disfruta Denia - ECPv6.15.20//NONSGML v1.0//EN
CALSCALE:GREGORIAN
METHOD:PUBLISH
X-ORIGINAL-URL:https://disfruta-denia.com
X-WR-CALDESC:Eventos para Disfruta Denia
REFRESH-INTERVAL;VALUE=DURATION:PT1H
X-Robots-Tag:noindex
X-PUBLISHED-TTL:PT1H
BEGIN:VTIMEZONE
TZID:Europe/Madrid
BEGIN:DAYLIGHT
TZOFFSETFROM:+0100
TZOFFSETTO:+0200
TZNAME:CEST
DTSTART:20220327T010000
END:DAYLIGHT
BEGIN:STANDARD
TZOFFSETFROM:+0200
TZOFFSETTO:+0100
TZNAME:CET
DTSTART:20221030T010000
END:STANDARD
BEGIN:DAYLIGHT
TZOFFSETFROM:+0100
TZOFFSETTO:+0200
TZNAME:CEST
DTSTART:20230326T010000
END:DAYLIGHT
BEGIN:STANDARD
TZOFFSETFROM:+0200
TZOFFSETTO:+0100
TZNAME:CET
DTSTART:20231029T010000
END:STANDARD
BEGIN:DAYLIGHT
TZOFFSETFROM:+0100
TZOFFSETTO:+0200
TZNAME:CEST
DTSTART:20240331T010000
END:DAYLIGHT
BEGIN:STANDARD
TZOFFSETFROM:+0200
TZOFFSETTO:+0100
TZNAME:CET
DTSTART:20241027T010000
END:STANDARD
BEGIN:DAYLIGHT
TZOFFSETFROM:+0100
TZOFFSETTO:+0200
TZNAME:CEST
DTSTART:20250330T010000
END:DAYLIGHT
BEGIN:STANDARD
TZOFFSETFROM:+0200
TZOFFSETTO:+0100
TZNAME:CET
DTSTART:20251026T010000
END:STANDARD
END:VTIMEZONE
BEGIN:VEVENT
DTSTART;TZID=Europe/Madrid:20240330T200000
DTEND;TZID=Europe/Madrid:20240330T200000
DTSTAMP:20260421T221545
CREATED:20240216T092930Z
LAST-MODIFIED:20240216T092930Z
UID:10017224-1711828800-1711828800@disfruta-denia.com
SUMMARY:Teatro: FA 35 ANYS QUE TINC 30 ANYS
DESCRIPTION:El sábado 30 de marzo se celebra el aniversario de la Escuela Municipal de Teatro de la Ciudad de Dénia “FA 35 ANYS QUE TINC 30 ANYS” \nCon el espectaculo “EL ASSAIG GENERAL PER A LA FARSA ACTUAL\, TEATRE ANTIDISTURBIOS” \nA las 20:00h en el Centro Social Dénia!! \n Más info: 96 642 37 00
URL:https://disfruta-denia.com/evento/teatro-fa-35-anys-que-tinc-30-anys/
LOCATION:Teatro Auditorio Centro Social\, 4 Carrer Calderón\, Dénia\, VC\, 03700\, Spain
CATEGORIES:Cultura,Teatro
ATTACH;FMTTYPE=image/jpeg:https://disfruta-denia.com/wp-content/uploads/2024/02/426600619_18253362853215276_1195154416331499091_n.jpg
END:VEVENT
BEGIN:VEVENT
DTSTART;TZID=Europe/Madrid:20231106T180000
DTEND;TZID=Europe/Madrid:20231106T180000
DTSTAMP:20260421T221545
CREATED:20231103T100419Z
LAST-MODIFIED:20231103T100419Z
UID:10014781-1699293600-1699293600@disfruta-denia.com
SUMMARY:Escape Room en la Biblioteca
DESCRIPTION:Te gustan los enigmas del escape room?  Quieres pasar un buen rato con tus amigos? Ven a disfrutar en la biblioteca municipal de Dénia! \nEscape room «Sense rostre». «Invisible» es tu libro. Hagamos visible lo invisible.\nÚltimas plazas para las inscripciones\, no te quedes sin la tuya.
URL:https://disfruta-denia.com/evento/escape-room-en-la-biblioteca/
LOCATION:Biblioteca pública Denia\, c/ de Sant Josep\, 6\, Denia\, Alicante\, 03700\, España
CATEGORIES:Taller
ATTACH;FMTTYPE=image/jpeg:https://disfruta-denia.com/wp-content/uploads/2023/11/398693784_834093272050925_8412984576138203518_n.jpg
END:VEVENT
BEGIN:VEVENT
DTSTART;TZID=Europe/Madrid:20231029T100000
DTEND;TZID=Europe/Madrid:20231029T140000
DTSTAMP:20260421T221545
CREATED:20231023T100907Z
LAST-MODIFIED:20231023T100907Z
UID:10014749-1698573600-1698588000@disfruta-denia.com
SUMMARY:Escape Room Jig Saw
DESCRIPTION:Escape Room Jig Saw (con inscripción previa \, de lunes a viernes de 9h a 14h\, en el 638540773 o 966423700. + 12 años
URL:https://disfruta-denia.com/evento/escape-room-jig-saw/2023-10-29/
LOCATION:Edificio Joventut\, Ronda Muralles\, Dénia\, 03700\, España
CATEGORIES:Fiesta
ATTACH;FMTTYPE=image/jpeg:https://disfruta-denia.com/wp-content/uploads/2023/10/394673385_827034256090160_8159112970800580393_n.jpg
END:VEVENT
BEGIN:VEVENT
DTSTART;TZID=Europe/Madrid:20231028T100000
DTEND;TZID=Europe/Madrid:20231028T100000
DTSTAMP:20260421T221545
CREATED:20231023T100907Z
LAST-MODIFIED:20231023T100907Z
UID:10014748-1698487200-1698487200@disfruta-denia.com
SUMMARY:Escape Room Jig Saw
DESCRIPTION:Escape Room Jig Saw (con inscripción previa \, de lunes a viernes de 9h a 14h\, en el 638540773 o 966423700. + 12 años
URL:https://disfruta-denia.com/evento/escape-room-jig-saw/2023-10-28/
LOCATION:Edificio Joventut\, Ronda Muralles\, Dénia\, 03700\, España
CATEGORIES:Fiesta
ATTACH;FMTTYPE=image/jpeg:https://disfruta-denia.com/wp-content/uploads/2023/10/394673385_827034256090160_8159112970800580393_n.jpg
END:VEVENT
BEGIN:VEVENT
DTSTART;TZID=Europe/Madrid:20231027T180000
DTEND;TZID=Europe/Madrid:20231027T180000
DTSTAMP:20260421T221545
CREATED:20231023T100907Z
LAST-MODIFIED:20231023T100907Z
UID:10014747-1698429600-1698429600@disfruta-denia.com
SUMMARY:Escape Room Jig Saw
DESCRIPTION:Escape Room Jig Saw (con inscripción previa \, de lunes a viernes de 9h a 14h\, en el 638540773 o 966423700. + 12 años
URL:https://disfruta-denia.com/evento/escape-room-jig-saw/2023-10-27/
LOCATION:Edificio Joventut\, Ronda Muralles\, Dénia\, 03700\, España
CATEGORIES:Fiesta
ATTACH;FMTTYPE=image/jpeg:https://disfruta-denia.com/wp-content/uploads/2023/10/394673385_827034256090160_8159112970800580393_n.jpg
END:VEVENT
END:VCALENDAR