BEGIN:VCALENDAR
VERSION:2.0
PRODID:-//Disfruta Denia - ECPv6.15.20//NONSGML v1.0//EN
CALSCALE:GREGORIAN
METHOD:PUBLISH
X-ORIGINAL-URL:https://disfruta-denia.com
X-WR-CALDESC:Eventos para Disfruta Denia
REFRESH-INTERVAL;VALUE=DURATION:PT1H
X-Robots-Tag:noindex
X-PUBLISHED-TTL:PT1H
BEGIN:VTIMEZONE
TZID:Europe/Madrid
BEGIN:DAYLIGHT
TZOFFSETFROM:+0100
TZOFFSETTO:+0200
TZNAME:CEST
DTSTART:20210328T010000
END:DAYLIGHT
BEGIN:STANDARD
TZOFFSETFROM:+0200
TZOFFSETTO:+0100
TZNAME:CET
DTSTART:20211031T010000
END:STANDARD
BEGIN:DAYLIGHT
TZOFFSETFROM:+0100
TZOFFSETTO:+0200
TZNAME:CEST
DTSTART:20220327T010000
END:DAYLIGHT
BEGIN:STANDARD
TZOFFSETFROM:+0200
TZOFFSETTO:+0100
TZNAME:CET
DTSTART:20221030T010000
END:STANDARD
BEGIN:DAYLIGHT
TZOFFSETFROM:+0100
TZOFFSETTO:+0200
TZNAME:CEST
DTSTART:20230326T010000
END:DAYLIGHT
BEGIN:STANDARD
TZOFFSETFROM:+0200
TZOFFSETTO:+0100
TZNAME:CET
DTSTART:20231029T010000
END:STANDARD
BEGIN:DAYLIGHT
TZOFFSETFROM:+0100
TZOFFSETTO:+0200
TZNAME:CEST
DTSTART:20240331T010000
END:DAYLIGHT
BEGIN:STANDARD
TZOFFSETFROM:+0200
TZOFFSETTO:+0100
TZNAME:CET
DTSTART:20241027T010000
END:STANDARD
END:VTIMEZONE
BEGIN:VEVENT
DTSTART;TZID=Europe/Madrid:20230819T163000
DTEND;TZID=Europe/Madrid:20230819T163000
DTSTAMP:20260420T181438
CREATED:20230807T082435Z
LAST-MODIFIED:20230807T082435Z
UID:10012978-1692462600-1692462600@disfruta-denia.com
SUMMARY:Sarao Beach
DESCRIPTION:Sábado 19 de agosto desde las 16:30h en @cielo_beachclub_denia Sarao Beach!\n10 horas de Beach party\, 5 djs\, ampliación de sonido e iluminación y el musicón y el buen rollo que ya conoces\, ¡te esperamos en la fiesta del verano! \n  \n@jfchacu @chusballesteros10 @coquiselection @sergyocrespo @the_pharmaceutiks
URL:https://disfruta-denia.com/evento/sarao-beach/
LOCATION:Cielo Beachclub\, Carr. de les Marines a Dénia\, Km. 0\, 5\, Denia\, Alicante\, 03700\, España
CATEGORIES:DJ,Música,Ocio nocturno,Tardeo
ATTACH;FMTTYPE=image/png:https://disfruta-denia.com/wp-content/uploads/2023/08/Instagram-2.png
ORGANIZER;CN="Sarao Electronic Parties":MAILTO:saraoelectronic@gmail.com
END:VEVENT
BEGIN:VEVENT
DTSTART;TZID=Europe/Madrid:20230722T163000
DTEND;TZID=Europe/Madrid:20230722T163000
DTSTAMP:20260420T181438
CREATED:20230714T052117Z
LAST-MODIFIED:20230718T071831Z
UID:10012423-1690043400-1690043400@disfruta-denia.com
SUMMARY:Sarao Beach en Cielo Beachclub
DESCRIPTION:Sabemos que tenéis ganas\, lo mejor es que nosotros también…\n\n\nSábado 22 de julio\nSarao Beach en @cielo_beachclub_denia\nDesde las 16:30h.
URL:https://disfruta-denia.com/evento/sarao-beach-en-cielo-beachclub/
LOCATION:Cielo Beachclub\, Carr. de les Marines a Dénia\, Km. 0\, 5\, Denia\, Alicante\, 03700\, España
CATEGORIES:DJ,Música,Tardeo
ATTACH;FMTTYPE=image/jpeg:https://disfruta-denia.com/wp-content/uploads/2023/07/361649749_740035801459665_1706510391625744035_n.jpg
ORGANIZER;CN="Sarao Electronic Parties":MAILTO:saraoelectronic@gmail.com
END:VEVENT
BEGIN:VEVENT
DTSTART;TZID=Europe/Madrid:20221210T170000
DTEND;TZID=Europe/Madrid:20221210T235900
DTSTAMP:20260420T181438
CREATED:20221109T105250Z
LAST-MODIFIED:20221116T104949Z
UID:10007944-1670691600-1670716740@disfruta-denia.com
SUMMARY:Sarao en Sounders
DESCRIPTION:•Este es el Sarao\, que en el futuro contarás a tus familiares y amigos con orgullo que tu estuviste ahí.  \n•Cartelazo para la ocasión\, con dos de los mejores djs y productores de nuestro país @coquiselection y @jaimesoeiromusic además de nuestros residentes @chusballesteros10 y @sergyocrespo\n\n• sábado 10 de diciembre en Sounders desde las 17:00h.\n– Comida + tardeo.\n– 8 horas de musicón.\n– Entrada gratuita.\n– Zona de parking.\n– 4 djs.\n– Foto + Video.\n– Melodic – Tech – Progressive  \n•¡Apunta esta fecha porque te mereces un Sarao!\nPronto publicaremos menú.\nLa comida se realizará en Mr Fisher
URL:https://disfruta-denia.com/evento/sarao-en-sounders/
LOCATION:Sounders Discoteca\, Moll de la Pansa\, Marina El Portet\, Denia\, Alicante\, 03700\, España
CATEGORIES:DJ,Música,Ocio nocturno,Tardeo
ATTACH;FMTTYPE=image/jpeg:https://disfruta-denia.com/wp-content/uploads/2022/11/314397227_549716680491579_511322679208517665_n.jpg
ORGANIZER;CN="Sarao Electronic Parties":MAILTO:saraoelectronic@gmail.com
END:VEVENT
END:VCALENDAR