BEGIN:VCALENDAR
VERSION:2.0
PRODID:-//Disfruta Denia - ECPv6.15.20//NONSGML v1.0//EN
CALSCALE:GREGORIAN
METHOD:PUBLISH
X-ORIGINAL-URL:https://disfruta-denia.com
X-WR-CALDESC:Eventos para Disfruta Denia
REFRESH-INTERVAL;VALUE=DURATION:PT1H
X-Robots-Tag:noindex
X-PUBLISHED-TTL:PT1H
BEGIN:VTIMEZONE
TZID:Europe/Madrid
BEGIN:DAYLIGHT
TZOFFSETFROM:+0100
TZOFFSETTO:+0200
TZNAME:CEST
DTSTART:20250330T010000
END:DAYLIGHT
BEGIN:STANDARD
TZOFFSETFROM:+0200
TZOFFSETTO:+0100
TZNAME:CET
DTSTART:20251026T010000
END:STANDARD
BEGIN:DAYLIGHT
TZOFFSETFROM:+0100
TZOFFSETTO:+0200
TZNAME:CEST
DTSTART:20260329T010000
END:DAYLIGHT
BEGIN:STANDARD
TZOFFSETFROM:+0200
TZOFFSETTO:+0100
TZNAME:CET
DTSTART:20261025T010000
END:STANDARD
BEGIN:DAYLIGHT
TZOFFSETFROM:+0100
TZOFFSETTO:+0200
TZNAME:CEST
DTSTART:20270328T010000
END:DAYLIGHT
BEGIN:STANDARD
TZOFFSETFROM:+0200
TZOFFSETTO:+0100
TZNAME:CET
DTSTART:20271031T010000
END:STANDARD
BEGIN:DAYLIGHT
TZOFFSETFROM:+0100
TZOFFSETTO:+0200
TZNAME:CEST
DTSTART:20280326T010000
END:DAYLIGHT
BEGIN:STANDARD
TZOFFSETFROM:+0200
TZOFFSETTO:+0100
TZNAME:CET
DTSTART:20281029T010000
END:STANDARD
END:VTIMEZONE
BEGIN:VEVENT
DTSTART;TZID=Europe/Madrid:20261230T190000
DTEND;TZID=Europe/Madrid:20261230T210000
DTSTAMP:20260420T155400
CREATED:20260128T085100Z
LAST-MODIFIED:20260128T085100Z
UID:10008440-1798657200-1798664400@disfruta-denia.com
SUMMARY:Tardeo en Basta
DESCRIPTION:
URL:https://disfruta-denia.com/evento/tardeo-en-basta-3-3-2/2026-12-30/
LOCATION:Basta Lounge Bar\, Marina de Dénia\, Local C2\, Denia\, Valencian Community\, 03700\, España
CATEGORIES:Concierto,Música,Tardeo
ATTACH;FMTTYPE=image/jpeg:https://disfruta-denia.com/wp-content/uploads/2023/11/622742350_1496613362465887_1711052853307817582_n.jpg
END:VEVENT
BEGIN:VEVENT
DTSTART;TZID=Europe/Madrid:20270106T190000
DTEND;TZID=Europe/Madrid:20270106T210000
DTSTAMP:20260420T155400
CREATED:20260128T085100Z
LAST-MODIFIED:20260128T085100Z
UID:10008441-1799262000-1799269200@disfruta-denia.com
SUMMARY:Tardeo en Basta
DESCRIPTION:
URL:https://disfruta-denia.com/evento/tardeo-en-basta-3-3-2/2027-01-06/
LOCATION:Basta Lounge Bar\, Marina de Dénia\, Local C2\, Denia\, Valencian Community\, 03700\, España
CATEGORIES:Concierto,Música,Tardeo
ATTACH;FMTTYPE=image/jpeg:https://disfruta-denia.com/wp-content/uploads/2023/11/622742350_1496613362465887_1711052853307817582_n.jpg
END:VEVENT
BEGIN:VEVENT
DTSTART;TZID=Europe/Madrid:20270113T190000
DTEND;TZID=Europe/Madrid:20270113T210000
DTSTAMP:20260420T155400
CREATED:20260128T085100Z
LAST-MODIFIED:20260128T085100Z
UID:10008442-1799866800-1799874000@disfruta-denia.com
SUMMARY:Tardeo en Basta
DESCRIPTION:
URL:https://disfruta-denia.com/evento/tardeo-en-basta-3-3-2/2027-01-13/
LOCATION:Basta Lounge Bar\, Marina de Dénia\, Local C2\, Denia\, Valencian Community\, 03700\, España
CATEGORIES:Concierto,Música,Tardeo
ATTACH;FMTTYPE=image/jpeg:https://disfruta-denia.com/wp-content/uploads/2023/11/622742350_1496613362465887_1711052853307817582_n.jpg
END:VEVENT
BEGIN:VEVENT
DTSTART;TZID=Europe/Madrid:20270120T190000
DTEND;TZID=Europe/Madrid:20270120T210000
DTSTAMP:20260420T155400
CREATED:20260128T085100Z
LAST-MODIFIED:20260128T085100Z
UID:10008443-1800471600-1800478800@disfruta-denia.com
SUMMARY:Tardeo en Basta
DESCRIPTION:
URL:https://disfruta-denia.com/evento/tardeo-en-basta-3-3-2/2027-01-20/
LOCATION:Basta Lounge Bar\, Marina de Dénia\, Local C2\, Denia\, Valencian Community\, 03700\, España
CATEGORIES:Concierto,Música,Tardeo
ATTACH;FMTTYPE=image/jpeg:https://disfruta-denia.com/wp-content/uploads/2023/11/622742350_1496613362465887_1711052853307817582_n.jpg
END:VEVENT
BEGIN:VEVENT
DTSTART;TZID=Europe/Madrid:20270127T190000
DTEND;TZID=Europe/Madrid:20270127T210000
DTSTAMP:20260420T155400
CREATED:20260128T085100Z
LAST-MODIFIED:20260128T085100Z
UID:10008444-1801076400-1801083600@disfruta-denia.com
SUMMARY:Tardeo en Basta
DESCRIPTION:
URL:https://disfruta-denia.com/evento/tardeo-en-basta-3-3-2/2027-01-27/
LOCATION:Basta Lounge Bar\, Marina de Dénia\, Local C2\, Denia\, Valencian Community\, 03700\, España
CATEGORIES:Concierto,Música,Tardeo
ATTACH;FMTTYPE=image/jpeg:https://disfruta-denia.com/wp-content/uploads/2023/11/622742350_1496613362465887_1711052853307817582_n.jpg
END:VEVENT
BEGIN:VEVENT
DTSTART;TZID=Europe/Madrid:20270203T190000
DTEND;TZID=Europe/Madrid:20270203T210000
DTSTAMP:20260420T155400
CREATED:20260128T085100Z
LAST-MODIFIED:20260128T085100Z
UID:10008445-1801681200-1801688400@disfruta-denia.com
SUMMARY:Tardeo en Basta
DESCRIPTION:
URL:https://disfruta-denia.com/evento/tardeo-en-basta-3-3-2/2027-02-03/
LOCATION:Basta Lounge Bar\, Marina de Dénia\, Local C2\, Denia\, Valencian Community\, 03700\, España
CATEGORIES:Concierto,Música,Tardeo
ATTACH;FMTTYPE=image/jpeg:https://disfruta-denia.com/wp-content/uploads/2023/11/622742350_1496613362465887_1711052853307817582_n.jpg
END:VEVENT
BEGIN:VEVENT
DTSTART;TZID=Europe/Madrid:20270210T190000
DTEND;TZID=Europe/Madrid:20270210T210000
DTSTAMP:20260420T155400
CREATED:20260128T085100Z
LAST-MODIFIED:20260128T085100Z
UID:10008446-1802286000-1802293200@disfruta-denia.com
SUMMARY:Tardeo en Basta
DESCRIPTION:
URL:https://disfruta-denia.com/evento/tardeo-en-basta-3-3-2/2027-02-10/
LOCATION:Basta Lounge Bar\, Marina de Dénia\, Local C2\, Denia\, Valencian Community\, 03700\, España
CATEGORIES:Concierto,Música,Tardeo
ATTACH;FMTTYPE=image/jpeg:https://disfruta-denia.com/wp-content/uploads/2023/11/622742350_1496613362465887_1711052853307817582_n.jpg
END:VEVENT
BEGIN:VEVENT
DTSTART;TZID=Europe/Madrid:20270217T190000
DTEND;TZID=Europe/Madrid:20270217T210000
DTSTAMP:20260420T155400
CREATED:20260128T085100Z
LAST-MODIFIED:20260128T085100Z
UID:10008447-1802890800-1802898000@disfruta-denia.com
SUMMARY:Tardeo en Basta
DESCRIPTION:
URL:https://disfruta-denia.com/evento/tardeo-en-basta-3-3-2/2027-02-17/
LOCATION:Basta Lounge Bar\, Marina de Dénia\, Local C2\, Denia\, Valencian Community\, 03700\, España
CATEGORIES:Concierto,Música,Tardeo
ATTACH;FMTTYPE=image/jpeg:https://disfruta-denia.com/wp-content/uploads/2023/11/622742350_1496613362465887_1711052853307817582_n.jpg
END:VEVENT
BEGIN:VEVENT
DTSTART;TZID=Europe/Madrid:20270224T190000
DTEND;TZID=Europe/Madrid:20270224T210000
DTSTAMP:20260420T155400
CREATED:20260128T085100Z
LAST-MODIFIED:20260128T085100Z
UID:10008448-1803495600-1803502800@disfruta-denia.com
SUMMARY:Tardeo en Basta
DESCRIPTION:
URL:https://disfruta-denia.com/evento/tardeo-en-basta-3-3-2/2027-02-24/
LOCATION:Basta Lounge Bar\, Marina de Dénia\, Local C2\, Denia\, Valencian Community\, 03700\, España
CATEGORIES:Concierto,Música,Tardeo
ATTACH;FMTTYPE=image/jpeg:https://disfruta-denia.com/wp-content/uploads/2023/11/622742350_1496613362465887_1711052853307817582_n.jpg
END:VEVENT
BEGIN:VEVENT
DTSTART;TZID=Europe/Madrid:20270303T190000
DTEND;TZID=Europe/Madrid:20270303T210000
DTSTAMP:20260420T155400
CREATED:20260128T085100Z
LAST-MODIFIED:20260128T085100Z
UID:10008449-1804100400-1804107600@disfruta-denia.com
SUMMARY:Tardeo en Basta
DESCRIPTION:
URL:https://disfruta-denia.com/evento/tardeo-en-basta-3-3-2/2027-03-03/
LOCATION:Basta Lounge Bar\, Marina de Dénia\, Local C2\, Denia\, Valencian Community\, 03700\, España
CATEGORIES:Concierto,Música,Tardeo
ATTACH;FMTTYPE=image/jpeg:https://disfruta-denia.com/wp-content/uploads/2023/11/622742350_1496613362465887_1711052853307817582_n.jpg
END:VEVENT
BEGIN:VEVENT
DTSTART;TZID=Europe/Madrid:20270310T190000
DTEND;TZID=Europe/Madrid:20270310T210000
DTSTAMP:20260420T155400
CREATED:20260128T085100Z
LAST-MODIFIED:20260128T085100Z
UID:10008450-1804705200-1804712400@disfruta-denia.com
SUMMARY:Tardeo en Basta
DESCRIPTION:
URL:https://disfruta-denia.com/evento/tardeo-en-basta-3-3-2/2027-03-10/
LOCATION:Basta Lounge Bar\, Marina de Dénia\, Local C2\, Denia\, Valencian Community\, 03700\, España
CATEGORIES:Concierto,Música,Tardeo
ATTACH;FMTTYPE=image/jpeg:https://disfruta-denia.com/wp-content/uploads/2023/11/622742350_1496613362465887_1711052853307817582_n.jpg
END:VEVENT
BEGIN:VEVENT
DTSTART;TZID=Europe/Madrid:20270317T190000
DTEND;TZID=Europe/Madrid:20270317T210000
DTSTAMP:20260420T155400
CREATED:20260128T085100Z
LAST-MODIFIED:20260128T085100Z
UID:10008451-1805310000-1805317200@disfruta-denia.com
SUMMARY:Tardeo en Basta
DESCRIPTION:
URL:https://disfruta-denia.com/evento/tardeo-en-basta-3-3-2/2027-03-17/
LOCATION:Basta Lounge Bar\, Marina de Dénia\, Local C2\, Denia\, Valencian Community\, 03700\, España
CATEGORIES:Concierto,Música,Tardeo
ATTACH;FMTTYPE=image/jpeg:https://disfruta-denia.com/wp-content/uploads/2023/11/622742350_1496613362465887_1711052853307817582_n.jpg
END:VEVENT
BEGIN:VEVENT
DTSTART;TZID=Europe/Madrid:20270324T190000
DTEND;TZID=Europe/Madrid:20270324T210000
DTSTAMP:20260420T155400
CREATED:20260128T085100Z
LAST-MODIFIED:20260128T085100Z
UID:10008452-1805914800-1805922000@disfruta-denia.com
SUMMARY:Tardeo en Basta
DESCRIPTION:
URL:https://disfruta-denia.com/evento/tardeo-en-basta-3-3-2/2027-03-24/
LOCATION:Basta Lounge Bar\, Marina de Dénia\, Local C2\, Denia\, Valencian Community\, 03700\, España
CATEGORIES:Concierto,Música,Tardeo
ATTACH;FMTTYPE=image/jpeg:https://disfruta-denia.com/wp-content/uploads/2023/11/622742350_1496613362465887_1711052853307817582_n.jpg
END:VEVENT
BEGIN:VEVENT
DTSTART;TZID=Europe/Madrid:20270331T190000
DTEND;TZID=Europe/Madrid:20270331T210000
DTSTAMP:20260420T155400
CREATED:20260128T085100Z
LAST-MODIFIED:20260128T085100Z
UID:10008453-1806519600-1806526800@disfruta-denia.com
SUMMARY:Tardeo en Basta
DESCRIPTION:
URL:https://disfruta-denia.com/evento/tardeo-en-basta-3-3-2/2027-03-31/
LOCATION:Basta Lounge Bar\, Marina de Dénia\, Local C2\, Denia\, Valencian Community\, 03700\, España
CATEGORIES:Concierto,Música,Tardeo
ATTACH;FMTTYPE=image/jpeg:https://disfruta-denia.com/wp-content/uploads/2023/11/622742350_1496613362465887_1711052853307817582_n.jpg
END:VEVENT
BEGIN:VEVENT
DTSTART;TZID=Europe/Madrid:20270407T190000
DTEND;TZID=Europe/Madrid:20270407T210000
DTSTAMP:20260420T155400
CREATED:20260128T085100Z
LAST-MODIFIED:20260128T085100Z
UID:10008454-1807124400-1807131600@disfruta-denia.com
SUMMARY:Tardeo en Basta
DESCRIPTION:
URL:https://disfruta-denia.com/evento/tardeo-en-basta-3-3-2/2027-04-07/
LOCATION:Basta Lounge Bar\, Marina de Dénia\, Local C2\, Denia\, Valencian Community\, 03700\, España
CATEGORIES:Concierto,Música,Tardeo
ATTACH;FMTTYPE=image/jpeg:https://disfruta-denia.com/wp-content/uploads/2023/11/622742350_1496613362465887_1711052853307817582_n.jpg
END:VEVENT
BEGIN:VEVENT
DTSTART;TZID=Europe/Madrid:20270414T190000
DTEND;TZID=Europe/Madrid:20270414T210000
DTSTAMP:20260420T155400
CREATED:20260128T085100Z
LAST-MODIFIED:20260128T085100Z
UID:10008455-1807729200-1807736400@disfruta-denia.com
SUMMARY:Tardeo en Basta
DESCRIPTION:
URL:https://disfruta-denia.com/evento/tardeo-en-basta-3-3-2/2027-04-14/
LOCATION:Basta Lounge Bar\, Marina de Dénia\, Local C2\, Denia\, Valencian Community\, 03700\, España
CATEGORIES:Concierto,Música,Tardeo
ATTACH;FMTTYPE=image/jpeg:https://disfruta-denia.com/wp-content/uploads/2023/11/622742350_1496613362465887_1711052853307817582_n.jpg
END:VEVENT
BEGIN:VEVENT
DTSTART;TZID=Europe/Madrid:20270421T190000
DTEND;TZID=Europe/Madrid:20270421T210000
DTSTAMP:20260420T155400
CREATED:20260128T085100Z
LAST-MODIFIED:20260128T085100Z
UID:10008456-1808334000-1808341200@disfruta-denia.com
SUMMARY:Tardeo en Basta
DESCRIPTION:
URL:https://disfruta-denia.com/evento/tardeo-en-basta-3-3-2/2027-04-21/
LOCATION:Basta Lounge Bar\, Marina de Dénia\, Local C2\, Denia\, Valencian Community\, 03700\, España
CATEGORIES:Concierto,Música,Tardeo
ATTACH;FMTTYPE=image/jpeg:https://disfruta-denia.com/wp-content/uploads/2023/11/622742350_1496613362465887_1711052853307817582_n.jpg
END:VEVENT
BEGIN:VEVENT
DTSTART;TZID=Europe/Madrid:20270428T190000
DTEND;TZID=Europe/Madrid:20270428T210000
DTSTAMP:20260420T155400
CREATED:20260128T085100Z
LAST-MODIFIED:20260128T085100Z
UID:10008457-1808938800-1808946000@disfruta-denia.com
SUMMARY:Tardeo en Basta
DESCRIPTION:
URL:https://disfruta-denia.com/evento/tardeo-en-basta-3-3-2/2027-04-28/
LOCATION:Basta Lounge Bar\, Marina de Dénia\, Local C2\, Denia\, Valencian Community\, 03700\, España
CATEGORIES:Concierto,Música,Tardeo
ATTACH;FMTTYPE=image/jpeg:https://disfruta-denia.com/wp-content/uploads/2023/11/622742350_1496613362465887_1711052853307817582_n.jpg
END:VEVENT
BEGIN:VEVENT
DTSTART;TZID=Europe/Madrid:20270505T190000
DTEND;TZID=Europe/Madrid:20270505T210000
DTSTAMP:20260420T155400
CREATED:20260128T085100Z
LAST-MODIFIED:20260128T085100Z
UID:10008458-1809543600-1809550800@disfruta-denia.com
SUMMARY:Tardeo en Basta
DESCRIPTION:
URL:https://disfruta-denia.com/evento/tardeo-en-basta-3-3-2/2027-05-05/
LOCATION:Basta Lounge Bar\, Marina de Dénia\, Local C2\, Denia\, Valencian Community\, 03700\, España
CATEGORIES:Concierto,Música,Tardeo
ATTACH;FMTTYPE=image/jpeg:https://disfruta-denia.com/wp-content/uploads/2023/11/622742350_1496613362465887_1711052853307817582_n.jpg
END:VEVENT
BEGIN:VEVENT
DTSTART;TZID=Europe/Madrid:20270512T190000
DTEND;TZID=Europe/Madrid:20270512T210000
DTSTAMP:20260420T155400
CREATED:20260128T085100Z
LAST-MODIFIED:20260128T085100Z
UID:10008459-1810148400-1810155600@disfruta-denia.com
SUMMARY:Tardeo en Basta
DESCRIPTION:
URL:https://disfruta-denia.com/evento/tardeo-en-basta-3-3-2/2027-05-12/
LOCATION:Basta Lounge Bar\, Marina de Dénia\, Local C2\, Denia\, Valencian Community\, 03700\, España
CATEGORIES:Concierto,Música,Tardeo
ATTACH;FMTTYPE=image/jpeg:https://disfruta-denia.com/wp-content/uploads/2023/11/622742350_1496613362465887_1711052853307817582_n.jpg
END:VEVENT
BEGIN:VEVENT
DTSTART;TZID=Europe/Madrid:20270519T190000
DTEND;TZID=Europe/Madrid:20270519T210000
DTSTAMP:20260420T155400
CREATED:20260128T085100Z
LAST-MODIFIED:20260128T085100Z
UID:10008460-1810753200-1810760400@disfruta-denia.com
SUMMARY:Tardeo en Basta
DESCRIPTION:
URL:https://disfruta-denia.com/evento/tardeo-en-basta-3-3-2/2027-05-19/
LOCATION:Basta Lounge Bar\, Marina de Dénia\, Local C2\, Denia\, Valencian Community\, 03700\, España
CATEGORIES:Concierto,Música,Tardeo
ATTACH;FMTTYPE=image/jpeg:https://disfruta-denia.com/wp-content/uploads/2023/11/622742350_1496613362465887_1711052853307817582_n.jpg
END:VEVENT
BEGIN:VEVENT
DTSTART;TZID=Europe/Madrid:20270526T190000
DTEND;TZID=Europe/Madrid:20270526T210000
DTSTAMP:20260420T155400
CREATED:20260128T085100Z
LAST-MODIFIED:20260128T085100Z
UID:10008461-1811358000-1811365200@disfruta-denia.com
SUMMARY:Tardeo en Basta
DESCRIPTION:
URL:https://disfruta-denia.com/evento/tardeo-en-basta-3-3-2/2027-05-26/
LOCATION:Basta Lounge Bar\, Marina de Dénia\, Local C2\, Denia\, Valencian Community\, 03700\, España
CATEGORIES:Concierto,Música,Tardeo
ATTACH;FMTTYPE=image/jpeg:https://disfruta-denia.com/wp-content/uploads/2023/11/622742350_1496613362465887_1711052853307817582_n.jpg
END:VEVENT
BEGIN:VEVENT
DTSTART;TZID=Europe/Madrid:20270602T190000
DTEND;TZID=Europe/Madrid:20270602T210000
DTSTAMP:20260420T155400
CREATED:20260128T085100Z
LAST-MODIFIED:20260128T085100Z
UID:10008462-1811962800-1811970000@disfruta-denia.com
SUMMARY:Tardeo en Basta
DESCRIPTION:
URL:https://disfruta-denia.com/evento/tardeo-en-basta-3-3-2/2027-06-02/
LOCATION:Basta Lounge Bar\, Marina de Dénia\, Local C2\, Denia\, Valencian Community\, 03700\, España
CATEGORIES:Concierto,Música,Tardeo
ATTACH;FMTTYPE=image/jpeg:https://disfruta-denia.com/wp-content/uploads/2023/11/622742350_1496613362465887_1711052853307817582_n.jpg
END:VEVENT
BEGIN:VEVENT
DTSTART;TZID=Europe/Madrid:20270609T190000
DTEND;TZID=Europe/Madrid:20270609T210000
DTSTAMP:20260420T155400
CREATED:20260128T085100Z
LAST-MODIFIED:20260128T085100Z
UID:10008463-1812567600-1812574800@disfruta-denia.com
SUMMARY:Tardeo en Basta
DESCRIPTION:
URL:https://disfruta-denia.com/evento/tardeo-en-basta-3-3-2/2027-06-09/
LOCATION:Basta Lounge Bar\, Marina de Dénia\, Local C2\, Denia\, Valencian Community\, 03700\, España
CATEGORIES:Concierto,Música,Tardeo
ATTACH;FMTTYPE=image/jpeg:https://disfruta-denia.com/wp-content/uploads/2023/11/622742350_1496613362465887_1711052853307817582_n.jpg
END:VEVENT
BEGIN:VEVENT
DTSTART;TZID=Europe/Madrid:20270616T190000
DTEND;TZID=Europe/Madrid:20270616T210000
DTSTAMP:20260420T155400
CREATED:20260128T085100Z
LAST-MODIFIED:20260128T085100Z
UID:10008464-1813172400-1813179600@disfruta-denia.com
SUMMARY:Tardeo en Basta
DESCRIPTION:
URL:https://disfruta-denia.com/evento/tardeo-en-basta-3-3-2/2027-06-16/
LOCATION:Basta Lounge Bar\, Marina de Dénia\, Local C2\, Denia\, Valencian Community\, 03700\, España
CATEGORIES:Concierto,Música,Tardeo
ATTACH;FMTTYPE=image/jpeg:https://disfruta-denia.com/wp-content/uploads/2023/11/622742350_1496613362465887_1711052853307817582_n.jpg
END:VEVENT
BEGIN:VEVENT
DTSTART;TZID=Europe/Madrid:20270623T190000
DTEND;TZID=Europe/Madrid:20270623T210000
DTSTAMP:20260420T155400
CREATED:20260128T085100Z
LAST-MODIFIED:20260128T085100Z
UID:10008465-1813777200-1813784400@disfruta-denia.com
SUMMARY:Tardeo en Basta
DESCRIPTION:
URL:https://disfruta-denia.com/evento/tardeo-en-basta-3-3-2/2027-06-23/
LOCATION:Basta Lounge Bar\, Marina de Dénia\, Local C2\, Denia\, Valencian Community\, 03700\, España
CATEGORIES:Concierto,Música,Tardeo
ATTACH;FMTTYPE=image/jpeg:https://disfruta-denia.com/wp-content/uploads/2023/11/622742350_1496613362465887_1711052853307817582_n.jpg
END:VEVENT
BEGIN:VEVENT
DTSTART;TZID=Europe/Madrid:20270630T190000
DTEND;TZID=Europe/Madrid:20270630T210000
DTSTAMP:20260420T155400
CREATED:20260128T085100Z
LAST-MODIFIED:20260128T085100Z
UID:10008466-1814382000-1814389200@disfruta-denia.com
SUMMARY:Tardeo en Basta
DESCRIPTION:
URL:https://disfruta-denia.com/evento/tardeo-en-basta-3-3-2/2027-06-30/
LOCATION:Basta Lounge Bar\, Marina de Dénia\, Local C2\, Denia\, Valencian Community\, 03700\, España
CATEGORIES:Concierto,Música,Tardeo
ATTACH;FMTTYPE=image/jpeg:https://disfruta-denia.com/wp-content/uploads/2023/11/622742350_1496613362465887_1711052853307817582_n.jpg
END:VEVENT
BEGIN:VEVENT
DTSTART;TZID=Europe/Madrid:20270707T190000
DTEND;TZID=Europe/Madrid:20270707T210000
DTSTAMP:20260420T155400
CREATED:20260128T085100Z
LAST-MODIFIED:20260128T085100Z
UID:10008467-1814986800-1814994000@disfruta-denia.com
SUMMARY:Tardeo en Basta
DESCRIPTION:
URL:https://disfruta-denia.com/evento/tardeo-en-basta-3-3-2/2027-07-07/
LOCATION:Basta Lounge Bar\, Marina de Dénia\, Local C2\, Denia\, Valencian Community\, 03700\, España
CATEGORIES:Concierto,Música,Tardeo
ATTACH;FMTTYPE=image/jpeg:https://disfruta-denia.com/wp-content/uploads/2023/11/622742350_1496613362465887_1711052853307817582_n.jpg
END:VEVENT
BEGIN:VEVENT
DTSTART;TZID=Europe/Madrid:20270714T190000
DTEND;TZID=Europe/Madrid:20270714T210000
DTSTAMP:20260420T155400
CREATED:20260128T085100Z
LAST-MODIFIED:20260128T085100Z
UID:10008468-1815591600-1815598800@disfruta-denia.com
SUMMARY:Tardeo en Basta
DESCRIPTION:
URL:https://disfruta-denia.com/evento/tardeo-en-basta-3-3-2/2027-07-14/
LOCATION:Basta Lounge Bar\, Marina de Dénia\, Local C2\, Denia\, Valencian Community\, 03700\, España
CATEGORIES:Concierto,Música,Tardeo
ATTACH;FMTTYPE=image/jpeg:https://disfruta-denia.com/wp-content/uploads/2023/11/622742350_1496613362465887_1711052853307817582_n.jpg
END:VEVENT
BEGIN:VEVENT
DTSTART;TZID=Europe/Madrid:20270721T190000
DTEND;TZID=Europe/Madrid:20270721T210000
DTSTAMP:20260420T155400
CREATED:20260128T085100Z
LAST-MODIFIED:20260128T085100Z
UID:10008469-1816196400-1816203600@disfruta-denia.com
SUMMARY:Tardeo en Basta
DESCRIPTION:
URL:https://disfruta-denia.com/evento/tardeo-en-basta-3-3-2/2027-07-21/
LOCATION:Basta Lounge Bar\, Marina de Dénia\, Local C2\, Denia\, Valencian Community\, 03700\, España
CATEGORIES:Concierto,Música,Tardeo
ATTACH;FMTTYPE=image/jpeg:https://disfruta-denia.com/wp-content/uploads/2023/11/622742350_1496613362465887_1711052853307817582_n.jpg
END:VEVENT
END:VCALENDAR