BEGIN:VCALENDAR
VERSION:2.0
PRODID:-//Disfruta Denia - ECPv6.15.20//NONSGML v1.0//EN
CALSCALE:GREGORIAN
METHOD:PUBLISH
X-WR-CALNAME:Disfruta Denia
X-ORIGINAL-URL:https://disfruta-denia.com
X-WR-CALDESC:Eventos para Disfruta Denia
REFRESH-INTERVAL;VALUE=DURATION:PT1H
X-Robots-Tag:noindex
X-PUBLISHED-TTL:PT1H
BEGIN:VTIMEZONE
TZID:Europe/Madrid
BEGIN:DAYLIGHT
TZOFFSETFROM:+0100
TZOFFSETTO:+0200
TZNAME:CEST
DTSTART:20260329T010000
END:DAYLIGHT
BEGIN:STANDARD
TZOFFSETFROM:+0200
TZOFFSETTO:+0100
TZNAME:CET
DTSTART:20261025T010000
END:STANDARD
BEGIN:DAYLIGHT
TZOFFSETFROM:+0100
TZOFFSETTO:+0200
TZNAME:CEST
DTSTART:20270328T010000
END:DAYLIGHT
BEGIN:STANDARD
TZOFFSETFROM:+0200
TZOFFSETTO:+0100
TZNAME:CET
DTSTART:20271031T010000
END:STANDARD
BEGIN:DAYLIGHT
TZOFFSETFROM:+0100
TZOFFSETTO:+0200
TZNAME:CEST
DTSTART:20280326T010000
END:DAYLIGHT
BEGIN:STANDARD
TZOFFSETFROM:+0200
TZOFFSETTO:+0100
TZNAME:CET
DTSTART:20281029T010000
END:STANDARD
END:VTIMEZONE
BEGIN:VEVENT
DTSTART;TZID=Europe/Madrid:20270616T190000
DTEND;TZID=Europe/Madrid:20270616T210000
DTSTAMP:20260420T193201
CREATED:20260128T085100Z
LAST-MODIFIED:20260128T085100Z
UID:10008464-1813172400-1813179600@disfruta-denia.com
SUMMARY:Tardeo en Basta
DESCRIPTION:
URL:https://disfruta-denia.com/evento/tardeo-en-basta-3-3-2/2027-06-16/
LOCATION:Basta Lounge Bar\, Marina de Dénia\, Local C2\, Denia\, Valencian Community\, 03700\, España
CATEGORIES:Concierto,Música,Tardeo
ATTACH;FMTTYPE=image/jpeg:https://disfruta-denia.com/wp-content/uploads/2023/11/622742350_1496613362465887_1711052853307817582_n.jpg
END:VEVENT
BEGIN:VEVENT
DTSTART;TZID=Europe/Madrid:20270623T190000
DTEND;TZID=Europe/Madrid:20270623T210000
DTSTAMP:20260420T193201
CREATED:20260128T085100Z
LAST-MODIFIED:20260128T085100Z
UID:10008465-1813777200-1813784400@disfruta-denia.com
SUMMARY:Tardeo en Basta
DESCRIPTION:
URL:https://disfruta-denia.com/evento/tardeo-en-basta-3-3-2/2027-06-23/
LOCATION:Basta Lounge Bar\, Marina de Dénia\, Local C2\, Denia\, Valencian Community\, 03700\, España
CATEGORIES:Concierto,Música,Tardeo
ATTACH;FMTTYPE=image/jpeg:https://disfruta-denia.com/wp-content/uploads/2023/11/622742350_1496613362465887_1711052853307817582_n.jpg
END:VEVENT
BEGIN:VEVENT
DTSTART;TZID=Europe/Madrid:20270630T190000
DTEND;TZID=Europe/Madrid:20270630T210000
DTSTAMP:20260420T193201
CREATED:20260128T085100Z
LAST-MODIFIED:20260128T085100Z
UID:10008466-1814382000-1814389200@disfruta-denia.com
SUMMARY:Tardeo en Basta
DESCRIPTION:
URL:https://disfruta-denia.com/evento/tardeo-en-basta-3-3-2/2027-06-30/
LOCATION:Basta Lounge Bar\, Marina de Dénia\, Local C2\, Denia\, Valencian Community\, 03700\, España
CATEGORIES:Concierto,Música,Tardeo
ATTACH;FMTTYPE=image/jpeg:https://disfruta-denia.com/wp-content/uploads/2023/11/622742350_1496613362465887_1711052853307817582_n.jpg
END:VEVENT
BEGIN:VEVENT
DTSTART;TZID=Europe/Madrid:20270707T190000
DTEND;TZID=Europe/Madrid:20270707T210000
DTSTAMP:20260420T193201
CREATED:20260128T085100Z
LAST-MODIFIED:20260128T085100Z
UID:10008467-1814986800-1814994000@disfruta-denia.com
SUMMARY:Tardeo en Basta
DESCRIPTION:
URL:https://disfruta-denia.com/evento/tardeo-en-basta-3-3-2/2027-07-07/
LOCATION:Basta Lounge Bar\, Marina de Dénia\, Local C2\, Denia\, Valencian Community\, 03700\, España
CATEGORIES:Concierto,Música,Tardeo
ATTACH;FMTTYPE=image/jpeg:https://disfruta-denia.com/wp-content/uploads/2023/11/622742350_1496613362465887_1711052853307817582_n.jpg
END:VEVENT
BEGIN:VEVENT
DTSTART;TZID=Europe/Madrid:20270714T190000
DTEND;TZID=Europe/Madrid:20270714T210000
DTSTAMP:20260420T193201
CREATED:20260128T085100Z
LAST-MODIFIED:20260128T085100Z
UID:10008468-1815591600-1815598800@disfruta-denia.com
SUMMARY:Tardeo en Basta
DESCRIPTION:
URL:https://disfruta-denia.com/evento/tardeo-en-basta-3-3-2/2027-07-14/
LOCATION:Basta Lounge Bar\, Marina de Dénia\, Local C2\, Denia\, Valencian Community\, 03700\, España
CATEGORIES:Concierto,Música,Tardeo
ATTACH;FMTTYPE=image/jpeg:https://disfruta-denia.com/wp-content/uploads/2023/11/622742350_1496613362465887_1711052853307817582_n.jpg
END:VEVENT
BEGIN:VEVENT
DTSTART;TZID=Europe/Madrid:20270721T190000
DTEND;TZID=Europe/Madrid:20270721T210000
DTSTAMP:20260420T193201
CREATED:20260128T085100Z
LAST-MODIFIED:20260128T085100Z
UID:10008469-1816196400-1816203600@disfruta-denia.com
SUMMARY:Tardeo en Basta
DESCRIPTION:
URL:https://disfruta-denia.com/evento/tardeo-en-basta-3-3-2/2027-07-21/
LOCATION:Basta Lounge Bar\, Marina de Dénia\, Local C2\, Denia\, Valencian Community\, 03700\, España
CATEGORIES:Concierto,Música,Tardeo
ATTACH;FMTTYPE=image/jpeg:https://disfruta-denia.com/wp-content/uploads/2023/11/622742350_1496613362465887_1711052853307817582_n.jpg
END:VEVENT
BEGIN:VEVENT
DTSTART;TZID=Europe/Madrid:20270728T190000
DTEND;TZID=Europe/Madrid:20270728T210000
DTSTAMP:20260420T193201
CREATED:20260128T085100Z
LAST-MODIFIED:20260128T085100Z
UID:10008470-1816801200-1816808400@disfruta-denia.com
SUMMARY:Tardeo en Basta
DESCRIPTION:
URL:https://disfruta-denia.com/evento/tardeo-en-basta-3-3-2/2027-07-28/
LOCATION:Basta Lounge Bar\, Marina de Dénia\, Local C2\, Denia\, Valencian Community\, 03700\, España
CATEGORIES:Concierto,Música,Tardeo
ATTACH;FMTTYPE=image/jpeg:https://disfruta-denia.com/wp-content/uploads/2023/11/622742350_1496613362465887_1711052853307817582_n.jpg
END:VEVENT
BEGIN:VEVENT
DTSTART;TZID=Europe/Madrid:20270804T190000
DTEND;TZID=Europe/Madrid:20270804T210000
DTSTAMP:20260420T193201
CREATED:20260128T085100Z
LAST-MODIFIED:20260128T085100Z
UID:10008471-1817406000-1817413200@disfruta-denia.com
SUMMARY:Tardeo en Basta
DESCRIPTION:
URL:https://disfruta-denia.com/evento/tardeo-en-basta-3-3-2/2027-08-04/
LOCATION:Basta Lounge Bar\, Marina de Dénia\, Local C2\, Denia\, Valencian Community\, 03700\, España
CATEGORIES:Concierto,Música,Tardeo
ATTACH;FMTTYPE=image/jpeg:https://disfruta-denia.com/wp-content/uploads/2023/11/622742350_1496613362465887_1711052853307817582_n.jpg
END:VEVENT
BEGIN:VEVENT
DTSTART;TZID=Europe/Madrid:20270811T190000
DTEND;TZID=Europe/Madrid:20270811T210000
DTSTAMP:20260420T193201
CREATED:20260128T085100Z
LAST-MODIFIED:20260128T085100Z
UID:10008472-1818010800-1818018000@disfruta-denia.com
SUMMARY:Tardeo en Basta
DESCRIPTION:
URL:https://disfruta-denia.com/evento/tardeo-en-basta-3-3-2/2027-08-11/
LOCATION:Basta Lounge Bar\, Marina de Dénia\, Local C2\, Denia\, Valencian Community\, 03700\, España
CATEGORIES:Concierto,Música,Tardeo
ATTACH;FMTTYPE=image/jpeg:https://disfruta-denia.com/wp-content/uploads/2023/11/622742350_1496613362465887_1711052853307817582_n.jpg
END:VEVENT
BEGIN:VEVENT
DTSTART;TZID=Europe/Madrid:20270818T190000
DTEND;TZID=Europe/Madrid:20270818T210000
DTSTAMP:20260420T193201
CREATED:20260128T085100Z
LAST-MODIFIED:20260128T085100Z
UID:10008473-1818615600-1818622800@disfruta-denia.com
SUMMARY:Tardeo en Basta
DESCRIPTION:
URL:https://disfruta-denia.com/evento/tardeo-en-basta-3-3-2/2027-08-18/
LOCATION:Basta Lounge Bar\, Marina de Dénia\, Local C2\, Denia\, Valencian Community\, 03700\, España
CATEGORIES:Concierto,Música,Tardeo
ATTACH;FMTTYPE=image/jpeg:https://disfruta-denia.com/wp-content/uploads/2023/11/622742350_1496613362465887_1711052853307817582_n.jpg
END:VEVENT
BEGIN:VEVENT
DTSTART;TZID=Europe/Madrid:20270825T190000
DTEND;TZID=Europe/Madrid:20270825T210000
DTSTAMP:20260420T193201
CREATED:20260128T085100Z
LAST-MODIFIED:20260128T085100Z
UID:10008474-1819220400-1819227600@disfruta-denia.com
SUMMARY:Tardeo en Basta
DESCRIPTION:
URL:https://disfruta-denia.com/evento/tardeo-en-basta-3-3-2/2027-08-25/
LOCATION:Basta Lounge Bar\, Marina de Dénia\, Local C2\, Denia\, Valencian Community\, 03700\, España
CATEGORIES:Concierto,Música,Tardeo
ATTACH;FMTTYPE=image/jpeg:https://disfruta-denia.com/wp-content/uploads/2023/11/622742350_1496613362465887_1711052853307817582_n.jpg
END:VEVENT
BEGIN:VEVENT
DTSTART;TZID=Europe/Madrid:20270901T190000
DTEND;TZID=Europe/Madrid:20270901T210000
DTSTAMP:20260420T193201
CREATED:20260128T085100Z
LAST-MODIFIED:20260128T085100Z
UID:10008475-1819825200-1819832400@disfruta-denia.com
SUMMARY:Tardeo en Basta
DESCRIPTION:
URL:https://disfruta-denia.com/evento/tardeo-en-basta-3-3-2/2027-09-01/
LOCATION:Basta Lounge Bar\, Marina de Dénia\, Local C2\, Denia\, Valencian Community\, 03700\, España
CATEGORIES:Concierto,Música,Tardeo
ATTACH;FMTTYPE=image/jpeg:https://disfruta-denia.com/wp-content/uploads/2023/11/622742350_1496613362465887_1711052853307817582_n.jpg
END:VEVENT
BEGIN:VEVENT
DTSTART;TZID=Europe/Madrid:20270908T190000
DTEND;TZID=Europe/Madrid:20270908T210000
DTSTAMP:20260420T193201
CREATED:20260128T085100Z
LAST-MODIFIED:20260128T085100Z
UID:10008476-1820430000-1820437200@disfruta-denia.com
SUMMARY:Tardeo en Basta
DESCRIPTION:
URL:https://disfruta-denia.com/evento/tardeo-en-basta-3-3-2/2027-09-08/
LOCATION:Basta Lounge Bar\, Marina de Dénia\, Local C2\, Denia\, Valencian Community\, 03700\, España
CATEGORIES:Concierto,Música,Tardeo
ATTACH;FMTTYPE=image/jpeg:https://disfruta-denia.com/wp-content/uploads/2023/11/622742350_1496613362465887_1711052853307817582_n.jpg
END:VEVENT
BEGIN:VEVENT
DTSTART;TZID=Europe/Madrid:20270915T190000
DTEND;TZID=Europe/Madrid:20270915T210000
DTSTAMP:20260420T193201
CREATED:20260128T085100Z
LAST-MODIFIED:20260128T085100Z
UID:10008477-1821034800-1821042000@disfruta-denia.com
SUMMARY:Tardeo en Basta
DESCRIPTION:
URL:https://disfruta-denia.com/evento/tardeo-en-basta-3-3-2/2027-09-15/
LOCATION:Basta Lounge Bar\, Marina de Dénia\, Local C2\, Denia\, Valencian Community\, 03700\, España
CATEGORIES:Concierto,Música,Tardeo
ATTACH;FMTTYPE=image/jpeg:https://disfruta-denia.com/wp-content/uploads/2023/11/622742350_1496613362465887_1711052853307817582_n.jpg
END:VEVENT
BEGIN:VEVENT
DTSTART;TZID=Europe/Madrid:20270922T190000
DTEND;TZID=Europe/Madrid:20270922T210000
DTSTAMP:20260420T193201
CREATED:20260128T085100Z
LAST-MODIFIED:20260128T085100Z
UID:10008478-1821639600-1821646800@disfruta-denia.com
SUMMARY:Tardeo en Basta
DESCRIPTION:
URL:https://disfruta-denia.com/evento/tardeo-en-basta-3-3-2/2027-09-22/
LOCATION:Basta Lounge Bar\, Marina de Dénia\, Local C2\, Denia\, Valencian Community\, 03700\, España
CATEGORIES:Concierto,Música,Tardeo
ATTACH;FMTTYPE=image/jpeg:https://disfruta-denia.com/wp-content/uploads/2023/11/622742350_1496613362465887_1711052853307817582_n.jpg
END:VEVENT
BEGIN:VEVENT
DTSTART;TZID=Europe/Madrid:20270929T190000
DTEND;TZID=Europe/Madrid:20270929T210000
DTSTAMP:20260420T193201
CREATED:20260128T085100Z
LAST-MODIFIED:20260128T085100Z
UID:10008479-1822244400-1822251600@disfruta-denia.com
SUMMARY:Tardeo en Basta
DESCRIPTION:
URL:https://disfruta-denia.com/evento/tardeo-en-basta-3-3-2/2027-09-29/
LOCATION:Basta Lounge Bar\, Marina de Dénia\, Local C2\, Denia\, Valencian Community\, 03700\, España
CATEGORIES:Concierto,Música,Tardeo
ATTACH;FMTTYPE=image/jpeg:https://disfruta-denia.com/wp-content/uploads/2023/11/622742350_1496613362465887_1711052853307817582_n.jpg
END:VEVENT
BEGIN:VEVENT
DTSTART;TZID=Europe/Madrid:20271006T190000
DTEND;TZID=Europe/Madrid:20271006T210000
DTSTAMP:20260420T193201
CREATED:20260128T085100Z
LAST-MODIFIED:20260128T085100Z
UID:10008480-1822849200-1822856400@disfruta-denia.com
SUMMARY:Tardeo en Basta
DESCRIPTION:
URL:https://disfruta-denia.com/evento/tardeo-en-basta-3-3-2/2027-10-06/
LOCATION:Basta Lounge Bar\, Marina de Dénia\, Local C2\, Denia\, Valencian Community\, 03700\, España
CATEGORIES:Concierto,Música,Tardeo
ATTACH;FMTTYPE=image/jpeg:https://disfruta-denia.com/wp-content/uploads/2023/11/622742350_1496613362465887_1711052853307817582_n.jpg
END:VEVENT
BEGIN:VEVENT
DTSTART;TZID=Europe/Madrid:20271013T190000
DTEND;TZID=Europe/Madrid:20271013T210000
DTSTAMP:20260420T193201
CREATED:20260128T085100Z
LAST-MODIFIED:20260128T085100Z
UID:10008481-1823454000-1823461200@disfruta-denia.com
SUMMARY:Tardeo en Basta
DESCRIPTION:
URL:https://disfruta-denia.com/evento/tardeo-en-basta-3-3-2/2027-10-13/
LOCATION:Basta Lounge Bar\, Marina de Dénia\, Local C2\, Denia\, Valencian Community\, 03700\, España
CATEGORIES:Concierto,Música,Tardeo
ATTACH;FMTTYPE=image/jpeg:https://disfruta-denia.com/wp-content/uploads/2023/11/622742350_1496613362465887_1711052853307817582_n.jpg
END:VEVENT
BEGIN:VEVENT
DTSTART;TZID=Europe/Madrid:20271020T190000
DTEND;TZID=Europe/Madrid:20271020T210000
DTSTAMP:20260420T193201
CREATED:20260128T085100Z
LAST-MODIFIED:20260128T085100Z
UID:10008482-1824058800-1824066000@disfruta-denia.com
SUMMARY:Tardeo en Basta
DESCRIPTION:
URL:https://disfruta-denia.com/evento/tardeo-en-basta-3-3-2/2027-10-20/
LOCATION:Basta Lounge Bar\, Marina de Dénia\, Local C2\, Denia\, Valencian Community\, 03700\, España
CATEGORIES:Concierto,Música,Tardeo
ATTACH;FMTTYPE=image/jpeg:https://disfruta-denia.com/wp-content/uploads/2023/11/622742350_1496613362465887_1711052853307817582_n.jpg
END:VEVENT
BEGIN:VEVENT
DTSTART;TZID=Europe/Madrid:20271027T190000
DTEND;TZID=Europe/Madrid:20271027T210000
DTSTAMP:20260420T193201
CREATED:20260128T085100Z
LAST-MODIFIED:20260128T085100Z
UID:10008483-1824663600-1824670800@disfruta-denia.com
SUMMARY:Tardeo en Basta
DESCRIPTION:
URL:https://disfruta-denia.com/evento/tardeo-en-basta-3-3-2/2027-10-27/
LOCATION:Basta Lounge Bar\, Marina de Dénia\, Local C2\, Denia\, Valencian Community\, 03700\, España
CATEGORIES:Concierto,Música,Tardeo
ATTACH;FMTTYPE=image/jpeg:https://disfruta-denia.com/wp-content/uploads/2023/11/622742350_1496613362465887_1711052853307817582_n.jpg
END:VEVENT
BEGIN:VEVENT
DTSTART;TZID=Europe/Madrid:20271103T190000
DTEND;TZID=Europe/Madrid:20271103T210000
DTSTAMP:20260420T193201
CREATED:20260128T085100Z
LAST-MODIFIED:20260128T085100Z
UID:10008484-1825268400-1825275600@disfruta-denia.com
SUMMARY:Tardeo en Basta
DESCRIPTION:
URL:https://disfruta-denia.com/evento/tardeo-en-basta-3-3-2/2027-11-03/
LOCATION:Basta Lounge Bar\, Marina de Dénia\, Local C2\, Denia\, Valencian Community\, 03700\, España
CATEGORIES:Concierto,Música,Tardeo
ATTACH;FMTTYPE=image/jpeg:https://disfruta-denia.com/wp-content/uploads/2023/11/622742350_1496613362465887_1711052853307817582_n.jpg
END:VEVENT
BEGIN:VEVENT
DTSTART;TZID=Europe/Madrid:20271110T190000
DTEND;TZID=Europe/Madrid:20271110T210000
DTSTAMP:20260420T193201
CREATED:20260128T085100Z
LAST-MODIFIED:20260128T085100Z
UID:10008485-1825873200-1825880400@disfruta-denia.com
SUMMARY:Tardeo en Basta
DESCRIPTION:
URL:https://disfruta-denia.com/evento/tardeo-en-basta-3-3-2/2027-11-10/
LOCATION:Basta Lounge Bar\, Marina de Dénia\, Local C2\, Denia\, Valencian Community\, 03700\, España
CATEGORIES:Concierto,Música,Tardeo
ATTACH;FMTTYPE=image/jpeg:https://disfruta-denia.com/wp-content/uploads/2023/11/622742350_1496613362465887_1711052853307817582_n.jpg
END:VEVENT
END:VCALENDAR