BEGIN:VCALENDAR
VERSION:2.0
PRODID:-//Disfruta Denia - ECPv6.15.20//NONSGML v1.0//EN
CALSCALE:GREGORIAN
METHOD:PUBLISH
X-ORIGINAL-URL:https://disfruta-denia.com
X-WR-CALDESC:Eventos para Disfruta Denia
REFRESH-INTERVAL;VALUE=DURATION:PT1H
X-Robots-Tag:noindex
X-PUBLISHED-TTL:PT1H
BEGIN:VTIMEZONE
TZID:Europe/Madrid
BEGIN:DAYLIGHT
TZOFFSETFROM:+0100
TZOFFSETTO:+0200
TZNAME:CEST
DTSTART:20220327T010000
END:DAYLIGHT
BEGIN:STANDARD
TZOFFSETFROM:+0200
TZOFFSETTO:+0100
TZNAME:CET
DTSTART:20221030T010000
END:STANDARD
BEGIN:DAYLIGHT
TZOFFSETFROM:+0100
TZOFFSETTO:+0200
TZNAME:CEST
DTSTART:20230326T010000
END:DAYLIGHT
BEGIN:STANDARD
TZOFFSETFROM:+0200
TZOFFSETTO:+0100
TZNAME:CET
DTSTART:20231029T010000
END:STANDARD
BEGIN:DAYLIGHT
TZOFFSETFROM:+0100
TZOFFSETTO:+0200
TZNAME:CEST
DTSTART:20240331T010000
END:DAYLIGHT
BEGIN:STANDARD
TZOFFSETFROM:+0200
TZOFFSETTO:+0100
TZNAME:CET
DTSTART:20241027T010000
END:STANDARD
END:VTIMEZONE
BEGIN:VEVENT
DTSTART;TZID=Europe/Madrid:20231118T120000
DTEND;TZID=Europe/Madrid:20231118T120000
DTSTAMP:20260422T043154
CREATED:20231005T084043Z
LAST-MODIFIED:20231005T084043Z
UID:10014036-1700308800-1700308800@disfruta-denia.com
SUMMARY:El Putxero dels Capitans
DESCRIPTION:El proper dia 18 de Novembre les Capitaníes del 2024 Abencerrajes i Pirates del Girona\, organitzem el “Putxero dels Capitans”!!\nAcí us deixem el cartell on teniu els horaris\, “Planning”i ubicacions.\nEl preu\, de 27 €\, inclou:\n-Pallorfà a la plaça de l’Ajuntament per cortesia de les Capitaníes.\n-Menú*\n• Papes\, olives i tramussos\n• Beguda (cervessa\, ví\, aigua i refrescs)\n• El putxero\n• Postre\n*Hi haurà servei de cambrers\, que ens serviràn el dinar\, hi haurà vaixella de porcelana i vidre i coberteria d’acer inoxidable.\n-Txaranga (amenitzarà la pallorfà\, el previ del dinar a la barra de la Fàbrica de Sabó i el dinar)\n-Discomòbil\, que començarà després del dinar.\nPodeu apuntar-se directament fent un ingrés al compte corrent de les Capitaníes \, o acudint a qualsevol dels comerços col.laboradors.\nPer a més info contacteu per privat o cridant als contactes del cartell.\nUs esperem a tots!!!
URL:https://disfruta-denia.com/evento/el-putxero-dels-capitans/
LOCATION:Fàbrica de Sabó\, Centre Cultural\, Carrer Sant Antoni\, 2\, El Verger\, 03770\, España
CATEGORIES:Fiesta,Gastronomía
ATTACH;FMTTYPE=image/png:https://disfruta-denia.com/wp-content/uploads/2023/10/Fila-Abencerrajes-El-Verger-filamoraabencerrajes-•-Photos-et-videos-Instagram.png
END:VEVENT
END:VCALENDAR