BEGIN:VCALENDAR
VERSION:2.0
PRODID:-//Disfruta Denia - ECPv6.15.20//NONSGML v1.0//EN
CALSCALE:GREGORIAN
METHOD:PUBLISH
X-WR-CALNAME:Disfruta Denia
X-ORIGINAL-URL:https://disfruta-denia.com
X-WR-CALDESC:Eventos para Disfruta Denia
REFRESH-INTERVAL;VALUE=DURATION:PT1H
X-Robots-Tag:noindex
X-PUBLISHED-TTL:PT1H
BEGIN:VTIMEZONE
TZID:Europe/Madrid
BEGIN:DAYLIGHT
TZOFFSETFROM:+0100
TZOFFSETTO:+0200
TZNAME:CEST
DTSTART:20230326T010000
END:DAYLIGHT
BEGIN:STANDARD
TZOFFSETFROM:+0200
TZOFFSETTO:+0100
TZNAME:CET
DTSTART:20231029T010000
END:STANDARD
BEGIN:DAYLIGHT
TZOFFSETFROM:+0100
TZOFFSETTO:+0200
TZNAME:CEST
DTSTART:20240331T010000
END:DAYLIGHT
BEGIN:STANDARD
TZOFFSETFROM:+0200
TZOFFSETTO:+0100
TZNAME:CET
DTSTART:20241027T010000
END:STANDARD
BEGIN:DAYLIGHT
TZOFFSETFROM:+0100
TZOFFSETTO:+0200
TZNAME:CEST
DTSTART:20250330T010000
END:DAYLIGHT
BEGIN:STANDARD
TZOFFSETFROM:+0200
TZOFFSETTO:+0100
TZNAME:CET
DTSTART:20251026T010000
END:STANDARD
END:VTIMEZONE
BEGIN:VEVENT
DTSTART;TZID=Europe/Madrid:20240524T210000
DTEND;TZID=Europe/Madrid:20240524T210000
DTSTAMP:20260421T031903
CREATED:20240514T183658Z
LAST-MODIFIED:20240516T122331Z
UID:10018598-1716584400-1716584400@disfruta-denia.com
SUMMARY:The Lobby Sessions: Altea Mainer
DESCRIPTION:Vuelven las Lobby Sessions con la cantante compositora Altea Mainer\, esta vez\, para adentrarnos en el mundo del Neo Soul con una puesta en escena contemporánea en solitario. El concierto durará una hora y la artista nos brindará una mayoría de canciones propias inéditas\, creando un ambiente atmosférico y groovy\, en el lugar mas carismático de Denia\, la recepción del Hotel Chamarel. \nEsta es una actuación única que te acercará al universo mas intimo de la cantante. No te la pierdas!\nApertura de puertas: 20:30hs\nEntrada anticipada: 15€\nEntradas disponibles en el Hotel Chamarel\nNo habrán mesas en este evento.\n\n\nThe Lobby Sessions are back with singer songwriter Altea Mainer\, this time to dive into the sounds of Neo Soul with a contemporary solo performance. Altea will sing a majority of her unreleased songs creating an atmospheric and groovy vibe at the most charismatic place in Denia\, the lobby at the Hotel Chamarel.\nThis will be a one time performance that will\nget you closer to the artist’s most intimate universe. Don’t miss out!\nDoors open: 20:30hs\nTickets: 15€\nTickets available now at Hotel Chamarel\n\nThere won’t be tables at this event
URL:https://disfruta-denia.com/evento/the-lobby-sessions-altea-mainer/
LOCATION:Hotel Chamarel\, Carrer dels Cavallers\, 13\, Denia\, Alicante\, 03700\, España
CATEGORIES:Concierto,Música
ATTACH;FMTTYPE=image/jpeg:https://disfruta-denia.com/wp-content/uploads/2024/05/fb1b4fdc-e192-4d2a-96ee-710ba1aea5d4.jpeg
END:VEVENT
BEGIN:VEVENT
DTSTART;TZID=Europe/Madrid:20240216T190000
DTEND;TZID=Europe/Madrid:20240216T190000
DTSTAMP:20260421T031903
CREATED:20240206T122550Z
LAST-MODIFIED:20240206T122550Z
UID:10017128-1708110000-1708110000@disfruta-denia.com
SUMMARY:Club House evento
DESCRIPTION:
URL:https://disfruta-denia.com/evento/club-house-evento/
LOCATION:Hotel Chamarel\, Carrer dels Cavallers\, 13\, Denia\, Alicante\, 03700\, España
CATEGORIES:Concierto,Música,Tardeo
ATTACH;FMTTYPE=image/jpeg:https://disfruta-denia.com/wp-content/uploads/2024/02/7abf20c4-b603-45a3-b203-eef700e8224d.jpg
END:VEVENT
END:VCALENDAR