BEGIN:VCALENDAR
VERSION:2.0
PRODID:-//Disfruta Denia - ECPv6.15.20//NONSGML v1.0//EN
CALSCALE:GREGORIAN
METHOD:PUBLISH
X-ORIGINAL-URL:https://disfruta-denia.com
X-WR-CALDESC:Eventos para Disfruta Denia
REFRESH-INTERVAL;VALUE=DURATION:PT1H
X-Robots-Tag:noindex
X-PUBLISHED-TTL:PT1H
BEGIN:VTIMEZONE
TZID:Europe/Madrid
BEGIN:DAYLIGHT
TZOFFSETFROM:+0100
TZOFFSETTO:+0200
TZNAME:CEST
DTSTART:20230326T010000
END:DAYLIGHT
BEGIN:STANDARD
TZOFFSETFROM:+0200
TZOFFSETTO:+0100
TZNAME:CET
DTSTART:20231029T010000
END:STANDARD
BEGIN:DAYLIGHT
TZOFFSETFROM:+0100
TZOFFSETTO:+0200
TZNAME:CEST
DTSTART:20240331T010000
END:DAYLIGHT
BEGIN:STANDARD
TZOFFSETFROM:+0200
TZOFFSETTO:+0100
TZNAME:CET
DTSTART:20241027T010000
END:STANDARD
BEGIN:DAYLIGHT
TZOFFSETFROM:+0100
TZOFFSETTO:+0200
TZNAME:CEST
DTSTART:20250330T010000
END:DAYLIGHT
BEGIN:STANDARD
TZOFFSETFROM:+0200
TZOFFSETTO:+0100
TZNAME:CET
DTSTART:20251026T010000
END:STANDARD
END:VTIMEZONE
BEGIN:VEVENT
DTSTART;TZID=Europe/Madrid:20240518T180000
DTEND;TZID=Europe/Madrid:20240518T180000
DTSTAMP:20260421T153040
CREATED:20240429T142809Z
LAST-MODIFIED:20240429T142809Z
UID:10018227-1716055200-1716055200@disfruta-denia.com
SUMMARY:Fashion Show en Bambula
DESCRIPTION:𝐅𝐀𝐒𝐇𝐈𝐎𝐍 𝐒𝐇𝐎𝐖✨🍷\nBy BOHO BOUTIQUE\n@labohoboutique \n𝐒á𝐛𝐚𝐝𝐨 𝟏𝟖 𝐝𝐞 𝐌𝐚𝐲𝐨 🕕 𝟏𝟖𝐡 \n¡Qué ganas teníamos de anunciar este evento tan especial! \nAcompáñanos en un magnífico desfile donde podrás descubrir las últimas tendencias de Primavera – Verano 2024 presentado por nuestras maravillosas modelos. \nPrepárate para inspirarte con nuestra colección rodeado en el ambiente único \, vibrante y lleno de arte que nos ofrece 𝑳𝒂 𝑩𝒂𝒎𝒃𝒖𝒍𝒂. \n¡No puedes perderte esta cita tan especial! \n✨¡RESERVA TU SITIO! 📲 MESAS VIP : 96 647 06 88 \n#labambulajavea #jávea #xàbia #costablancalifestyle #javeacompany #playadelarenal #fashionshow
URL:https://disfruta-denia.com/evento/fashion-show-en-bambula/
LOCATION:La Bambula\, Avenida Ultramar 2\, Jávea\, España
CATEGORIES:Cultura,Desfile
ATTACH;FMTTYPE=image/jpeg:https://disfruta-denia.com/wp-content/uploads/2024/04/119CA353-1B69-45F9-AC3C-B1BF8269EADB.jpeg
END:VEVENT
END:VCALENDAR