BEGIN:VCALENDAR
VERSION:2.0
PRODID:-//Disfruta Denia - ECPv6.15.20//NONSGML v1.0//EN
CALSCALE:GREGORIAN
METHOD:PUBLISH
X-WR-CALNAME:Disfruta Denia
X-ORIGINAL-URL:https://disfruta-denia.com
X-WR-CALDESC:Eventos para Disfruta Denia
REFRESH-INTERVAL;VALUE=DURATION:PT1H
X-Robots-Tag:noindex
X-PUBLISHED-TTL:PT1H
BEGIN:VTIMEZONE
TZID:Europe/Madrid
BEGIN:DAYLIGHT
TZOFFSETFROM:+0100
TZOFFSETTO:+0200
TZNAME:CEST
DTSTART:20270328T010000
END:DAYLIGHT
BEGIN:STANDARD
TZOFFSETFROM:+0200
TZOFFSETTO:+0100
TZNAME:CET
DTSTART:20271031T010000
END:STANDARD
BEGIN:DAYLIGHT
TZOFFSETFROM:+0100
TZOFFSETTO:+0200
TZNAME:CEST
DTSTART:20280326T010000
END:DAYLIGHT
BEGIN:STANDARD
TZOFFSETFROM:+0200
TZOFFSETTO:+0100
TZNAME:CET
DTSTART:20281029T010000
END:STANDARD
BEGIN:DAYLIGHT
TZOFFSETFROM:+0100
TZOFFSETTO:+0200
TZNAME:CEST
DTSTART:20290325T010000
END:DAYLIGHT
BEGIN:STANDARD
TZOFFSETFROM:+0200
TZOFFSETTO:+0100
TZNAME:CET
DTSTART:20291028T010000
END:STANDARD
BEGIN:DAYLIGHT
TZOFFSETFROM:+0100
TZOFFSETTO:+0200
TZNAME:CEST
DTSTART:20300331T010000
END:DAYLIGHT
BEGIN:STANDARD
TZOFFSETFROM:+0200
TZOFFSETTO:+0100
TZNAME:CET
DTSTART:20301027T010000
END:STANDARD
END:VTIMEZONE
BEGIN:VEVENT
DTSTART;TZID=Europe/Madrid:20280813T160000
DTEND;TZID=Europe/Madrid:20280813T160000
DTSTAMP:20260423T124950
CREATED:20260421T083752Z
LAST-MODIFIED:20260421T083753Z
UID:10022927-1849795200-1849795200@disfruta-denia.com
SUMMARY:Tardeos live Mr Fisher
DESCRIPTION:
URL:https://disfruta-denia.com/evento/tardeos-live-mr-fisher-3-2-3/2028-08-13/
LOCATION:Mr Fisher\, Moll de La Pansa s/n. Marina El Portet\, Denia\, Alicante\, 03700\, España
CATEGORIES:Concierto,Música,Tardeo
ATTACH;FMTTYPE=image/png:https://disfruta-denia.com/wp-content/uploads/2026/04/MRFISHER_LAMOCHA_03_05.png
END:VEVENT
BEGIN:VEVENT
DTSTART;TZID=Europe/Madrid:20280820T160000
DTEND;TZID=Europe/Madrid:20280820T160000
DTSTAMP:20260423T124950
CREATED:20260421T083752Z
LAST-MODIFIED:20260421T083753Z
UID:10022928-1850400000-1850400000@disfruta-denia.com
SUMMARY:Tardeos live Mr Fisher
DESCRIPTION:
URL:https://disfruta-denia.com/evento/tardeos-live-mr-fisher-3-2-3/2028-08-20/
LOCATION:Mr Fisher\, Moll de La Pansa s/n. Marina El Portet\, Denia\, Alicante\, 03700\, España
CATEGORIES:Concierto,Música,Tardeo
ATTACH;FMTTYPE=image/png:https://disfruta-denia.com/wp-content/uploads/2026/04/MRFISHER_LAMOCHA_03_05.png
END:VEVENT
BEGIN:VEVENT
DTSTART;TZID=Europe/Madrid:20280827T160000
DTEND;TZID=Europe/Madrid:20280827T160000
DTSTAMP:20260423T124950
CREATED:20260421T083752Z
LAST-MODIFIED:20260421T083753Z
UID:10022929-1851004800-1851004800@disfruta-denia.com
SUMMARY:Tardeos live Mr Fisher
DESCRIPTION:
URL:https://disfruta-denia.com/evento/tardeos-live-mr-fisher-3-2-3/2028-08-27/
LOCATION:Mr Fisher\, Moll de La Pansa s/n. Marina El Portet\, Denia\, Alicante\, 03700\, España
CATEGORIES:Concierto,Música,Tardeo
ATTACH;FMTTYPE=image/png:https://disfruta-denia.com/wp-content/uploads/2026/04/MRFISHER_LAMOCHA_03_05.png
END:VEVENT
BEGIN:VEVENT
DTSTART;TZID=Europe/Madrid:20280903T160000
DTEND;TZID=Europe/Madrid:20280903T160000
DTSTAMP:20260423T124950
CREATED:20260421T083752Z
LAST-MODIFIED:20260421T083753Z
UID:10022930-1851609600-1851609600@disfruta-denia.com
SUMMARY:Tardeos live Mr Fisher
DESCRIPTION:
URL:https://disfruta-denia.com/evento/tardeos-live-mr-fisher-3-2-3/2028-09-03/
LOCATION:Mr Fisher\, Moll de La Pansa s/n. Marina El Portet\, Denia\, Alicante\, 03700\, España
CATEGORIES:Concierto,Música,Tardeo
ATTACH;FMTTYPE=image/png:https://disfruta-denia.com/wp-content/uploads/2026/04/MRFISHER_LAMOCHA_03_05.png
END:VEVENT
BEGIN:VEVENT
DTSTART;TZID=Europe/Madrid:20280910T160000
DTEND;TZID=Europe/Madrid:20280910T160000
DTSTAMP:20260423T124950
CREATED:20260421T083752Z
LAST-MODIFIED:20260421T083753Z
UID:10022931-1852214400-1852214400@disfruta-denia.com
SUMMARY:Tardeos live Mr Fisher
DESCRIPTION:
URL:https://disfruta-denia.com/evento/tardeos-live-mr-fisher-3-2-3/2028-09-10/
LOCATION:Mr Fisher\, Moll de La Pansa s/n. Marina El Portet\, Denia\, Alicante\, 03700\, España
CATEGORIES:Concierto,Música,Tardeo
ATTACH;FMTTYPE=image/png:https://disfruta-denia.com/wp-content/uploads/2026/04/MRFISHER_LAMOCHA_03_05.png
END:VEVENT
BEGIN:VEVENT
DTSTART;TZID=Europe/Madrid:20280917T160000
DTEND;TZID=Europe/Madrid:20280917T160000
DTSTAMP:20260423T124950
CREATED:20260421T083752Z
LAST-MODIFIED:20260421T083753Z
UID:10022932-1852819200-1852819200@disfruta-denia.com
SUMMARY:Tardeos live Mr Fisher
DESCRIPTION:
URL:https://disfruta-denia.com/evento/tardeos-live-mr-fisher-3-2-3/2028-09-17/
LOCATION:Mr Fisher\, Moll de La Pansa s/n. Marina El Portet\, Denia\, Alicante\, 03700\, España
CATEGORIES:Concierto,Música,Tardeo
ATTACH;FMTTYPE=image/png:https://disfruta-denia.com/wp-content/uploads/2026/04/MRFISHER_LAMOCHA_03_05.png
END:VEVENT
BEGIN:VEVENT
DTSTART;TZID=Europe/Madrid:20280924T160000
DTEND;TZID=Europe/Madrid:20280924T160000
DTSTAMP:20260423T124950
CREATED:20260421T083752Z
LAST-MODIFIED:20260421T083753Z
UID:10022933-1853424000-1853424000@disfruta-denia.com
SUMMARY:Tardeos live Mr Fisher
DESCRIPTION:
URL:https://disfruta-denia.com/evento/tardeos-live-mr-fisher-3-2-3/2028-09-24/
LOCATION:Mr Fisher\, Moll de La Pansa s/n. Marina El Portet\, Denia\, Alicante\, 03700\, España
CATEGORIES:Concierto,Música,Tardeo
ATTACH;FMTTYPE=image/png:https://disfruta-denia.com/wp-content/uploads/2026/04/MRFISHER_LAMOCHA_03_05.png
END:VEVENT
BEGIN:VEVENT
DTSTART;TZID=Europe/Madrid:20281001T160000
DTEND;TZID=Europe/Madrid:20281001T160000
DTSTAMP:20260423T124950
CREATED:20260421T083752Z
LAST-MODIFIED:20260421T083753Z
UID:10022934-1854028800-1854028800@disfruta-denia.com
SUMMARY:Tardeos live Mr Fisher
DESCRIPTION:
URL:https://disfruta-denia.com/evento/tardeos-live-mr-fisher-3-2-3/2028-10-01/
LOCATION:Mr Fisher\, Moll de La Pansa s/n. Marina El Portet\, Denia\, Alicante\, 03700\, España
CATEGORIES:Concierto,Música,Tardeo
ATTACH;FMTTYPE=image/png:https://disfruta-denia.com/wp-content/uploads/2026/04/MRFISHER_LAMOCHA_03_05.png
END:VEVENT
BEGIN:VEVENT
DTSTART;TZID=Europe/Madrid:20281008T160000
DTEND;TZID=Europe/Madrid:20281008T160000
DTSTAMP:20260423T124950
CREATED:20260421T083752Z
LAST-MODIFIED:20260421T083753Z
UID:10022935-1854633600-1854633600@disfruta-denia.com
SUMMARY:Tardeos live Mr Fisher
DESCRIPTION:
URL:https://disfruta-denia.com/evento/tardeos-live-mr-fisher-3-2-3/2028-10-08/
LOCATION:Mr Fisher\, Moll de La Pansa s/n. Marina El Portet\, Denia\, Alicante\, 03700\, España
CATEGORIES:Concierto,Música,Tardeo
ATTACH;FMTTYPE=image/png:https://disfruta-denia.com/wp-content/uploads/2026/04/MRFISHER_LAMOCHA_03_05.png
END:VEVENT
BEGIN:VEVENT
DTSTART;TZID=Europe/Madrid:20281015T160000
DTEND;TZID=Europe/Madrid:20281015T160000
DTSTAMP:20260423T124950
CREATED:20260421T083752Z
LAST-MODIFIED:20260421T083753Z
UID:10022936-1855238400-1855238400@disfruta-denia.com
SUMMARY:Tardeos live Mr Fisher
DESCRIPTION:
URL:https://disfruta-denia.com/evento/tardeos-live-mr-fisher-3-2-3/2028-10-15/
LOCATION:Mr Fisher\, Moll de La Pansa s/n. Marina El Portet\, Denia\, Alicante\, 03700\, España
CATEGORIES:Concierto,Música,Tardeo
ATTACH;FMTTYPE=image/png:https://disfruta-denia.com/wp-content/uploads/2026/04/MRFISHER_LAMOCHA_03_05.png
END:VEVENT
BEGIN:VEVENT
DTSTART;TZID=Europe/Madrid:20281022T160000
DTEND;TZID=Europe/Madrid:20281022T160000
DTSTAMP:20260423T124950
CREATED:20260421T083752Z
LAST-MODIFIED:20260421T083753Z
UID:10022937-1855843200-1855843200@disfruta-denia.com
SUMMARY:Tardeos live Mr Fisher
DESCRIPTION:
URL:https://disfruta-denia.com/evento/tardeos-live-mr-fisher-3-2-3/2028-10-22/
LOCATION:Mr Fisher\, Moll de La Pansa s/n. Marina El Portet\, Denia\, Alicante\, 03700\, España
CATEGORIES:Concierto,Música,Tardeo
ATTACH;FMTTYPE=image/png:https://disfruta-denia.com/wp-content/uploads/2026/04/MRFISHER_LAMOCHA_03_05.png
END:VEVENT
BEGIN:VEVENT
DTSTART;TZID=Europe/Madrid:20281029T160000
DTEND;TZID=Europe/Madrid:20281029T160000
DTSTAMP:20260423T124950
CREATED:20260421T083752Z
LAST-MODIFIED:20260421T083753Z
UID:10022938-1856448000-1856448000@disfruta-denia.com
SUMMARY:Tardeos live Mr Fisher
DESCRIPTION:
URL:https://disfruta-denia.com/evento/tardeos-live-mr-fisher-3-2-3/2028-10-29/
LOCATION:Mr Fisher\, Moll de La Pansa s/n. Marina El Portet\, Denia\, Alicante\, 03700\, España
CATEGORIES:Concierto,Música,Tardeo
ATTACH;FMTTYPE=image/png:https://disfruta-denia.com/wp-content/uploads/2026/04/MRFISHER_LAMOCHA_03_05.png
END:VEVENT
BEGIN:VEVENT
DTSTART;TZID=Europe/Madrid:20281105T160000
DTEND;TZID=Europe/Madrid:20281105T160000
DTSTAMP:20260423T124950
CREATED:20260421T083752Z
LAST-MODIFIED:20260421T083753Z
UID:10022939-1857052800-1857052800@disfruta-denia.com
SUMMARY:Tardeos live Mr Fisher
DESCRIPTION:
URL:https://disfruta-denia.com/evento/tardeos-live-mr-fisher-3-2-3/2028-11-05/
LOCATION:Mr Fisher\, Moll de La Pansa s/n. Marina El Portet\, Denia\, Alicante\, 03700\, España
CATEGORIES:Concierto,Música,Tardeo
ATTACH;FMTTYPE=image/png:https://disfruta-denia.com/wp-content/uploads/2026/04/MRFISHER_LAMOCHA_03_05.png
END:VEVENT
BEGIN:VEVENT
DTSTART;TZID=Europe/Madrid:20281112T160000
DTEND;TZID=Europe/Madrid:20281112T160000
DTSTAMP:20260423T124950
CREATED:20260421T083752Z
LAST-MODIFIED:20260421T083753Z
UID:10022940-1857657600-1857657600@disfruta-denia.com
SUMMARY:Tardeos live Mr Fisher
DESCRIPTION:
URL:https://disfruta-denia.com/evento/tardeos-live-mr-fisher-3-2-3/2028-11-12/
LOCATION:Mr Fisher\, Moll de La Pansa s/n. Marina El Portet\, Denia\, Alicante\, 03700\, España
CATEGORIES:Concierto,Música,Tardeo
ATTACH;FMTTYPE=image/png:https://disfruta-denia.com/wp-content/uploads/2026/04/MRFISHER_LAMOCHA_03_05.png
END:VEVENT
BEGIN:VEVENT
DTSTART;TZID=Europe/Madrid:20281119T160000
DTEND;TZID=Europe/Madrid:20281119T160000
DTSTAMP:20260423T124950
CREATED:20260421T083752Z
LAST-MODIFIED:20260421T083753Z
UID:10022941-1858262400-1858262400@disfruta-denia.com
SUMMARY:Tardeos live Mr Fisher
DESCRIPTION:
URL:https://disfruta-denia.com/evento/tardeos-live-mr-fisher-3-2-3/2028-11-19/
LOCATION:Mr Fisher\, Moll de La Pansa s/n. Marina El Portet\, Denia\, Alicante\, 03700\, España
CATEGORIES:Concierto,Música,Tardeo
ATTACH;FMTTYPE=image/png:https://disfruta-denia.com/wp-content/uploads/2026/04/MRFISHER_LAMOCHA_03_05.png
END:VEVENT
BEGIN:VEVENT
DTSTART;TZID=Europe/Madrid:20281126T160000
DTEND;TZID=Europe/Madrid:20281126T160000
DTSTAMP:20260423T124950
CREATED:20260421T083752Z
LAST-MODIFIED:20260421T083753Z
UID:10022942-1858867200-1858867200@disfruta-denia.com
SUMMARY:Tardeos live Mr Fisher
DESCRIPTION:
URL:https://disfruta-denia.com/evento/tardeos-live-mr-fisher-3-2-3/2028-11-26/
LOCATION:Mr Fisher\, Moll de La Pansa s/n. Marina El Portet\, Denia\, Alicante\, 03700\, España
CATEGORIES:Concierto,Música,Tardeo
ATTACH;FMTTYPE=image/png:https://disfruta-denia.com/wp-content/uploads/2026/04/MRFISHER_LAMOCHA_03_05.png
END:VEVENT
BEGIN:VEVENT
DTSTART;TZID=Europe/Madrid:20281203T160000
DTEND;TZID=Europe/Madrid:20281203T160000
DTSTAMP:20260423T124950
CREATED:20260421T083752Z
LAST-MODIFIED:20260421T083753Z
UID:10022943-1859472000-1859472000@disfruta-denia.com
SUMMARY:Tardeos live Mr Fisher
DESCRIPTION:
URL:https://disfruta-denia.com/evento/tardeos-live-mr-fisher-3-2-3/2028-12-03/
LOCATION:Mr Fisher\, Moll de La Pansa s/n. Marina El Portet\, Denia\, Alicante\, 03700\, España
CATEGORIES:Concierto,Música,Tardeo
ATTACH;FMTTYPE=image/png:https://disfruta-denia.com/wp-content/uploads/2026/04/MRFISHER_LAMOCHA_03_05.png
END:VEVENT
BEGIN:VEVENT
DTSTART;TZID=Europe/Madrid:20281210T160000
DTEND;TZID=Europe/Madrid:20281210T160000
DTSTAMP:20260423T124950
CREATED:20260421T083752Z
LAST-MODIFIED:20260421T083753Z
UID:10022944-1860076800-1860076800@disfruta-denia.com
SUMMARY:Tardeos live Mr Fisher
DESCRIPTION:
URL:https://disfruta-denia.com/evento/tardeos-live-mr-fisher-3-2-3/2028-12-10/
LOCATION:Mr Fisher\, Moll de La Pansa s/n. Marina El Portet\, Denia\, Alicante\, 03700\, España
CATEGORIES:Concierto,Música,Tardeo
ATTACH;FMTTYPE=image/png:https://disfruta-denia.com/wp-content/uploads/2026/04/MRFISHER_LAMOCHA_03_05.png
END:VEVENT
BEGIN:VEVENT
DTSTART;TZID=Europe/Madrid:20281217T160000
DTEND;TZID=Europe/Madrid:20281217T160000
DTSTAMP:20260423T124950
CREATED:20260421T083752Z
LAST-MODIFIED:20260421T083753Z
UID:10022945-1860681600-1860681600@disfruta-denia.com
SUMMARY:Tardeos live Mr Fisher
DESCRIPTION:
URL:https://disfruta-denia.com/evento/tardeos-live-mr-fisher-3-2-3/2028-12-17/
LOCATION:Mr Fisher\, Moll de La Pansa s/n. Marina El Portet\, Denia\, Alicante\, 03700\, España
CATEGORIES:Concierto,Música,Tardeo
ATTACH;FMTTYPE=image/png:https://disfruta-denia.com/wp-content/uploads/2026/04/MRFISHER_LAMOCHA_03_05.png
END:VEVENT
BEGIN:VEVENT
DTSTART;TZID=Europe/Madrid:20281224T160000
DTEND;TZID=Europe/Madrid:20281224T160000
DTSTAMP:20260423T124950
CREATED:20260421T083752Z
LAST-MODIFIED:20260421T083753Z
UID:10022946-1861286400-1861286400@disfruta-denia.com
SUMMARY:Tardeos live Mr Fisher
DESCRIPTION:
URL:https://disfruta-denia.com/evento/tardeos-live-mr-fisher-3-2-3/2028-12-24/
LOCATION:Mr Fisher\, Moll de La Pansa s/n. Marina El Portet\, Denia\, Alicante\, 03700\, España
CATEGORIES:Concierto,Música,Tardeo
ATTACH;FMTTYPE=image/png:https://disfruta-denia.com/wp-content/uploads/2026/04/MRFISHER_LAMOCHA_03_05.png
END:VEVENT
BEGIN:VEVENT
DTSTART;TZID=Europe/Madrid:20281231T160000
DTEND;TZID=Europe/Madrid:20281231T160000
DTSTAMP:20260423T124950
CREATED:20260421T083752Z
LAST-MODIFIED:20260421T083753Z
UID:10022947-1861891200-1861891200@disfruta-denia.com
SUMMARY:Tardeos live Mr Fisher
DESCRIPTION:
URL:https://disfruta-denia.com/evento/tardeos-live-mr-fisher-3-2-3/2028-12-31/
LOCATION:Mr Fisher\, Moll de La Pansa s/n. Marina El Portet\, Denia\, Alicante\, 03700\, España
CATEGORIES:Concierto,Música,Tardeo
ATTACH;FMTTYPE=image/png:https://disfruta-denia.com/wp-content/uploads/2026/04/MRFISHER_LAMOCHA_03_05.png
END:VEVENT
BEGIN:VEVENT
DTSTART;TZID=Europe/Madrid:20290107T160000
DTEND;TZID=Europe/Madrid:20290107T160000
DTSTAMP:20260423T124950
CREATED:20260421T083752Z
LAST-MODIFIED:20260421T083753Z
UID:10022948-1862496000-1862496000@disfruta-denia.com
SUMMARY:Tardeos live Mr Fisher
DESCRIPTION:
URL:https://disfruta-denia.com/evento/tardeos-live-mr-fisher-3-2-3/2029-01-07/
LOCATION:Mr Fisher\, Moll de La Pansa s/n. Marina El Portet\, Denia\, Alicante\, 03700\, España
CATEGORIES:Concierto,Música,Tardeo
ATTACH;FMTTYPE=image/png:https://disfruta-denia.com/wp-content/uploads/2026/04/MRFISHER_LAMOCHA_03_05.png
END:VEVENT
BEGIN:VEVENT
DTSTART;TZID=Europe/Madrid:20290114T160000
DTEND;TZID=Europe/Madrid:20290114T160000
DTSTAMP:20260423T124950
CREATED:20260421T083752Z
LAST-MODIFIED:20260421T083753Z
UID:10022949-1863100800-1863100800@disfruta-denia.com
SUMMARY:Tardeos live Mr Fisher
DESCRIPTION:
URL:https://disfruta-denia.com/evento/tardeos-live-mr-fisher-3-2-3/2029-01-14/
LOCATION:Mr Fisher\, Moll de La Pansa s/n. Marina El Portet\, Denia\, Alicante\, 03700\, España
CATEGORIES:Concierto,Música,Tardeo
ATTACH;FMTTYPE=image/png:https://disfruta-denia.com/wp-content/uploads/2026/04/MRFISHER_LAMOCHA_03_05.png
END:VEVENT
BEGIN:VEVENT
DTSTART;TZID=Europe/Madrid:20290121T160000
DTEND;TZID=Europe/Madrid:20290121T160000
DTSTAMP:20260423T124950
CREATED:20260421T083752Z
LAST-MODIFIED:20260421T083753Z
UID:10022950-1863705600-1863705600@disfruta-denia.com
SUMMARY:Tardeos live Mr Fisher
DESCRIPTION:
URL:https://disfruta-denia.com/evento/tardeos-live-mr-fisher-3-2-3/2029-01-21/
LOCATION:Mr Fisher\, Moll de La Pansa s/n. Marina El Portet\, Denia\, Alicante\, 03700\, España
CATEGORIES:Concierto,Música,Tardeo
ATTACH;FMTTYPE=image/png:https://disfruta-denia.com/wp-content/uploads/2026/04/MRFISHER_LAMOCHA_03_05.png
END:VEVENT
BEGIN:VEVENT
DTSTART;TZID=Europe/Madrid:20290128T160000
DTEND;TZID=Europe/Madrid:20290128T160000
DTSTAMP:20260423T124950
CREATED:20260421T083752Z
LAST-MODIFIED:20260421T083753Z
UID:10022951-1864310400-1864310400@disfruta-denia.com
SUMMARY:Tardeos live Mr Fisher
DESCRIPTION:
URL:https://disfruta-denia.com/evento/tardeos-live-mr-fisher-3-2-3/2029-01-28/
LOCATION:Mr Fisher\, Moll de La Pansa s/n. Marina El Portet\, Denia\, Alicante\, 03700\, España
CATEGORIES:Concierto,Música,Tardeo
ATTACH;FMTTYPE=image/png:https://disfruta-denia.com/wp-content/uploads/2026/04/MRFISHER_LAMOCHA_03_05.png
END:VEVENT
BEGIN:VEVENT
DTSTART;TZID=Europe/Madrid:20290204T160000
DTEND;TZID=Europe/Madrid:20290204T160000
DTSTAMP:20260423T124950
CREATED:20260421T083752Z
LAST-MODIFIED:20260421T083753Z
UID:10022952-1864915200-1864915200@disfruta-denia.com
SUMMARY:Tardeos live Mr Fisher
DESCRIPTION:
URL:https://disfruta-denia.com/evento/tardeos-live-mr-fisher-3-2-3/2029-02-04/
LOCATION:Mr Fisher\, Moll de La Pansa s/n. Marina El Portet\, Denia\, Alicante\, 03700\, España
CATEGORIES:Concierto,Música,Tardeo
ATTACH;FMTTYPE=image/png:https://disfruta-denia.com/wp-content/uploads/2026/04/MRFISHER_LAMOCHA_03_05.png
END:VEVENT
BEGIN:VEVENT
DTSTART;TZID=Europe/Madrid:20290211T160000
DTEND;TZID=Europe/Madrid:20290211T160000
DTSTAMP:20260423T124950
CREATED:20260421T083752Z
LAST-MODIFIED:20260421T083753Z
UID:10022953-1865520000-1865520000@disfruta-denia.com
SUMMARY:Tardeos live Mr Fisher
DESCRIPTION:
URL:https://disfruta-denia.com/evento/tardeos-live-mr-fisher-3-2-3/2029-02-11/
LOCATION:Mr Fisher\, Moll de La Pansa s/n. Marina El Portet\, Denia\, Alicante\, 03700\, España
CATEGORIES:Concierto,Música,Tardeo
ATTACH;FMTTYPE=image/png:https://disfruta-denia.com/wp-content/uploads/2026/04/MRFISHER_LAMOCHA_03_05.png
END:VEVENT
BEGIN:VEVENT
DTSTART;TZID=Europe/Madrid:20290218T160000
DTEND;TZID=Europe/Madrid:20290218T160000
DTSTAMP:20260423T124950
CREATED:20260421T083752Z
LAST-MODIFIED:20260421T083753Z
UID:10022954-1866124800-1866124800@disfruta-denia.com
SUMMARY:Tardeos live Mr Fisher
DESCRIPTION:
URL:https://disfruta-denia.com/evento/tardeos-live-mr-fisher-3-2-3/2029-02-18/
LOCATION:Mr Fisher\, Moll de La Pansa s/n. Marina El Portet\, Denia\, Alicante\, 03700\, España
CATEGORIES:Concierto,Música,Tardeo
ATTACH;FMTTYPE=image/png:https://disfruta-denia.com/wp-content/uploads/2026/04/MRFISHER_LAMOCHA_03_05.png
END:VEVENT
BEGIN:VEVENT
DTSTART;TZID=Europe/Madrid:20290225T160000
DTEND;TZID=Europe/Madrid:20290225T160000
DTSTAMP:20260423T124950
CREATED:20260421T083752Z
LAST-MODIFIED:20260421T083753Z
UID:10022955-1866729600-1866729600@disfruta-denia.com
SUMMARY:Tardeos live Mr Fisher
DESCRIPTION:
URL:https://disfruta-denia.com/evento/tardeos-live-mr-fisher-3-2-3/2029-02-25/
LOCATION:Mr Fisher\, Moll de La Pansa s/n. Marina El Portet\, Denia\, Alicante\, 03700\, España
CATEGORIES:Concierto,Música,Tardeo
ATTACH;FMTTYPE=image/png:https://disfruta-denia.com/wp-content/uploads/2026/04/MRFISHER_LAMOCHA_03_05.png
END:VEVENT
BEGIN:VEVENT
DTSTART;TZID=Europe/Madrid:20290304T160000
DTEND;TZID=Europe/Madrid:20290304T160000
DTSTAMP:20260423T124950
CREATED:20260421T083752Z
LAST-MODIFIED:20260421T083753Z
UID:10022956-1867334400-1867334400@disfruta-denia.com
SUMMARY:Tardeos live Mr Fisher
DESCRIPTION:
URL:https://disfruta-denia.com/evento/tardeos-live-mr-fisher-3-2-3/2029-03-04/
LOCATION:Mr Fisher\, Moll de La Pansa s/n. Marina El Portet\, Denia\, Alicante\, 03700\, España
CATEGORIES:Concierto,Música,Tardeo
ATTACH;FMTTYPE=image/png:https://disfruta-denia.com/wp-content/uploads/2026/04/MRFISHER_LAMOCHA_03_05.png
END:VEVENT
END:VCALENDAR