BEGIN:VCALENDAR
VERSION:2.0
PRODID:-//Disfruta Denia - ECPv6.15.20//NONSGML v1.0//EN
CALSCALE:GREGORIAN
METHOD:PUBLISH
X-WR-CALNAME:Disfruta Denia
X-ORIGINAL-URL:https://disfruta-denia.com
X-WR-CALDESC:Eventos para Disfruta Denia
REFRESH-INTERVAL;VALUE=DURATION:PT1H
X-Robots-Tag:noindex
X-PUBLISHED-TTL:PT1H
BEGIN:VTIMEZONE
TZID:Europe/Madrid
BEGIN:DAYLIGHT
TZOFFSETFROM:+0100
TZOFFSETTO:+0200
TZNAME:CEST
DTSTART:20280326T010000
END:DAYLIGHT
BEGIN:STANDARD
TZOFFSETFROM:+0200
TZOFFSETTO:+0100
TZNAME:CET
DTSTART:20281029T010000
END:STANDARD
BEGIN:DAYLIGHT
TZOFFSETFROM:+0100
TZOFFSETTO:+0200
TZNAME:CEST
DTSTART:20290325T010000
END:DAYLIGHT
BEGIN:STANDARD
TZOFFSETFROM:+0200
TZOFFSETTO:+0100
TZNAME:CET
DTSTART:20291028T010000
END:STANDARD
BEGIN:DAYLIGHT
TZOFFSETFROM:+0100
TZOFFSETTO:+0200
TZNAME:CEST
DTSTART:20300331T010000
END:DAYLIGHT
BEGIN:STANDARD
TZOFFSETFROM:+0200
TZOFFSETTO:+0100
TZNAME:CET
DTSTART:20301027T010000
END:STANDARD
BEGIN:DAYLIGHT
TZOFFSETFROM:+0100
TZOFFSETTO:+0200
TZNAME:CEST
DTSTART:20310330T010000
END:DAYLIGHT
BEGIN:STANDARD
TZOFFSETFROM:+0200
TZOFFSETTO:+0100
TZNAME:CET
DTSTART:20311026T010000
END:STANDARD
END:VTIMEZONE
BEGIN:VEVENT
DTSTART;TZID=Europe/Madrid:20290715T160000
DTEND;TZID=Europe/Madrid:20290715T160000
DTSTAMP:20260423T201303
CREATED:20260421T083752Z
LAST-MODIFIED:20260421T083753Z
UID:10022975-1878825600-1878825600@disfruta-denia.com
SUMMARY:Tardeos live Mr Fisher
DESCRIPTION:
URL:https://disfruta-denia.com/evento/tardeos-live-mr-fisher-3-2-3/2029-07-15/
LOCATION:Mr Fisher\, Moll de La Pansa s/n. Marina El Portet\, Denia\, Alicante\, 03700\, España
CATEGORIES:Concierto,Música,Tardeo
ATTACH;FMTTYPE=image/png:https://disfruta-denia.com/wp-content/uploads/2026/04/MRFISHER_LAMOCHA_03_05.png
END:VEVENT
BEGIN:VEVENT
DTSTART;TZID=Europe/Madrid:20290722T160000
DTEND;TZID=Europe/Madrid:20290722T160000
DTSTAMP:20260423T201303
CREATED:20260421T083752Z
LAST-MODIFIED:20260421T083753Z
UID:10022976-1879430400-1879430400@disfruta-denia.com
SUMMARY:Tardeos live Mr Fisher
DESCRIPTION:
URL:https://disfruta-denia.com/evento/tardeos-live-mr-fisher-3-2-3/2029-07-22/
LOCATION:Mr Fisher\, Moll de La Pansa s/n. Marina El Portet\, Denia\, Alicante\, 03700\, España
CATEGORIES:Concierto,Música,Tardeo
ATTACH;FMTTYPE=image/png:https://disfruta-denia.com/wp-content/uploads/2026/04/MRFISHER_LAMOCHA_03_05.png
END:VEVENT
BEGIN:VEVENT
DTSTART;TZID=Europe/Madrid:20290729T160000
DTEND;TZID=Europe/Madrid:20290729T160000
DTSTAMP:20260423T201303
CREATED:20260421T083752Z
LAST-MODIFIED:20260421T083753Z
UID:10022977-1880035200-1880035200@disfruta-denia.com
SUMMARY:Tardeos live Mr Fisher
DESCRIPTION:
URL:https://disfruta-denia.com/evento/tardeos-live-mr-fisher-3-2-3/2029-07-29/
LOCATION:Mr Fisher\, Moll de La Pansa s/n. Marina El Portet\, Denia\, Alicante\, 03700\, España
CATEGORIES:Concierto,Música,Tardeo
ATTACH;FMTTYPE=image/png:https://disfruta-denia.com/wp-content/uploads/2026/04/MRFISHER_LAMOCHA_03_05.png
END:VEVENT
BEGIN:VEVENT
DTSTART;TZID=Europe/Madrid:20290805T160000
DTEND;TZID=Europe/Madrid:20290805T160000
DTSTAMP:20260423T201303
CREATED:20260421T083752Z
LAST-MODIFIED:20260421T083753Z
UID:10022978-1880640000-1880640000@disfruta-denia.com
SUMMARY:Tardeos live Mr Fisher
DESCRIPTION:
URL:https://disfruta-denia.com/evento/tardeos-live-mr-fisher-3-2-3/2029-08-05/
LOCATION:Mr Fisher\, Moll de La Pansa s/n. Marina El Portet\, Denia\, Alicante\, 03700\, España
CATEGORIES:Concierto,Música,Tardeo
ATTACH;FMTTYPE=image/png:https://disfruta-denia.com/wp-content/uploads/2026/04/MRFISHER_LAMOCHA_03_05.png
END:VEVENT
BEGIN:VEVENT
DTSTART;TZID=Europe/Madrid:20290812T160000
DTEND;TZID=Europe/Madrid:20290812T160000
DTSTAMP:20260423T201303
CREATED:20260421T083752Z
LAST-MODIFIED:20260421T083753Z
UID:10022979-1881244800-1881244800@disfruta-denia.com
SUMMARY:Tardeos live Mr Fisher
DESCRIPTION:
URL:https://disfruta-denia.com/evento/tardeos-live-mr-fisher-3-2-3/2029-08-12/
LOCATION:Mr Fisher\, Moll de La Pansa s/n. Marina El Portet\, Denia\, Alicante\, 03700\, España
CATEGORIES:Concierto,Música,Tardeo
ATTACH;FMTTYPE=image/png:https://disfruta-denia.com/wp-content/uploads/2026/04/MRFISHER_LAMOCHA_03_05.png
END:VEVENT
BEGIN:VEVENT
DTSTART;TZID=Europe/Madrid:20290819T160000
DTEND;TZID=Europe/Madrid:20290819T160000
DTSTAMP:20260423T201303
CREATED:20260421T083752Z
LAST-MODIFIED:20260421T083753Z
UID:10022980-1881849600-1881849600@disfruta-denia.com
SUMMARY:Tardeos live Mr Fisher
DESCRIPTION:
URL:https://disfruta-denia.com/evento/tardeos-live-mr-fisher-3-2-3/2029-08-19/
LOCATION:Mr Fisher\, Moll de La Pansa s/n. Marina El Portet\, Denia\, Alicante\, 03700\, España
CATEGORIES:Concierto,Música,Tardeo
ATTACH;FMTTYPE=image/png:https://disfruta-denia.com/wp-content/uploads/2026/04/MRFISHER_LAMOCHA_03_05.png
END:VEVENT
BEGIN:VEVENT
DTSTART;TZID=Europe/Madrid:20290826T160000
DTEND;TZID=Europe/Madrid:20290826T160000
DTSTAMP:20260423T201303
CREATED:20260421T083752Z
LAST-MODIFIED:20260421T083753Z
UID:10022981-1882454400-1882454400@disfruta-denia.com
SUMMARY:Tardeos live Mr Fisher
DESCRIPTION:
URL:https://disfruta-denia.com/evento/tardeos-live-mr-fisher-3-2-3/2029-08-26/
LOCATION:Mr Fisher\, Moll de La Pansa s/n. Marina El Portet\, Denia\, Alicante\, 03700\, España
CATEGORIES:Concierto,Música,Tardeo
ATTACH;FMTTYPE=image/png:https://disfruta-denia.com/wp-content/uploads/2026/04/MRFISHER_LAMOCHA_03_05.png
END:VEVENT
BEGIN:VEVENT
DTSTART;TZID=Europe/Madrid:20290902T160000
DTEND;TZID=Europe/Madrid:20290902T160000
DTSTAMP:20260423T201303
CREATED:20260421T083752Z
LAST-MODIFIED:20260421T083753Z
UID:10022982-1883059200-1883059200@disfruta-denia.com
SUMMARY:Tardeos live Mr Fisher
DESCRIPTION:
URL:https://disfruta-denia.com/evento/tardeos-live-mr-fisher-3-2-3/2029-09-02/
LOCATION:Mr Fisher\, Moll de La Pansa s/n. Marina El Portet\, Denia\, Alicante\, 03700\, España
CATEGORIES:Concierto,Música,Tardeo
ATTACH;FMTTYPE=image/png:https://disfruta-denia.com/wp-content/uploads/2026/04/MRFISHER_LAMOCHA_03_05.png
END:VEVENT
BEGIN:VEVENT
DTSTART;TZID=Europe/Madrid:20290909T160000
DTEND;TZID=Europe/Madrid:20290909T160000
DTSTAMP:20260423T201303
CREATED:20260421T083752Z
LAST-MODIFIED:20260421T083753Z
UID:10022983-1883664000-1883664000@disfruta-denia.com
SUMMARY:Tardeos live Mr Fisher
DESCRIPTION:
URL:https://disfruta-denia.com/evento/tardeos-live-mr-fisher-3-2-3/2029-09-09/
LOCATION:Mr Fisher\, Moll de La Pansa s/n. Marina El Portet\, Denia\, Alicante\, 03700\, España
CATEGORIES:Concierto,Música,Tardeo
ATTACH;FMTTYPE=image/png:https://disfruta-denia.com/wp-content/uploads/2026/04/MRFISHER_LAMOCHA_03_05.png
END:VEVENT
BEGIN:VEVENT
DTSTART;TZID=Europe/Madrid:20290916T160000
DTEND;TZID=Europe/Madrid:20290916T160000
DTSTAMP:20260423T201303
CREATED:20260421T083752Z
LAST-MODIFIED:20260421T083753Z
UID:10022984-1884268800-1884268800@disfruta-denia.com
SUMMARY:Tardeos live Mr Fisher
DESCRIPTION:
URL:https://disfruta-denia.com/evento/tardeos-live-mr-fisher-3-2-3/2029-09-16/
LOCATION:Mr Fisher\, Moll de La Pansa s/n. Marina El Portet\, Denia\, Alicante\, 03700\, España
CATEGORIES:Concierto,Música,Tardeo
ATTACH;FMTTYPE=image/png:https://disfruta-denia.com/wp-content/uploads/2026/04/MRFISHER_LAMOCHA_03_05.png
END:VEVENT
BEGIN:VEVENT
DTSTART;TZID=Europe/Madrid:20290923T160000
DTEND;TZID=Europe/Madrid:20290923T160000
DTSTAMP:20260423T201303
CREATED:20260421T083752Z
LAST-MODIFIED:20260421T083753Z
UID:10022985-1884873600-1884873600@disfruta-denia.com
SUMMARY:Tardeos live Mr Fisher
DESCRIPTION:
URL:https://disfruta-denia.com/evento/tardeos-live-mr-fisher-3-2-3/2029-09-23/
LOCATION:Mr Fisher\, Moll de La Pansa s/n. Marina El Portet\, Denia\, Alicante\, 03700\, España
CATEGORIES:Concierto,Música,Tardeo
ATTACH;FMTTYPE=image/png:https://disfruta-denia.com/wp-content/uploads/2026/04/MRFISHER_LAMOCHA_03_05.png
END:VEVENT
BEGIN:VEVENT
DTSTART;TZID=Europe/Madrid:20290930T160000
DTEND;TZID=Europe/Madrid:20290930T160000
DTSTAMP:20260423T201303
CREATED:20260421T083752Z
LAST-MODIFIED:20260421T083753Z
UID:10022986-1885478400-1885478400@disfruta-denia.com
SUMMARY:Tardeos live Mr Fisher
DESCRIPTION:
URL:https://disfruta-denia.com/evento/tardeos-live-mr-fisher-3-2-3/2029-09-30/
LOCATION:Mr Fisher\, Moll de La Pansa s/n. Marina El Portet\, Denia\, Alicante\, 03700\, España
CATEGORIES:Concierto,Música,Tardeo
ATTACH;FMTTYPE=image/png:https://disfruta-denia.com/wp-content/uploads/2026/04/MRFISHER_LAMOCHA_03_05.png
END:VEVENT
BEGIN:VEVENT
DTSTART;TZID=Europe/Madrid:20291007T160000
DTEND;TZID=Europe/Madrid:20291007T160000
DTSTAMP:20260423T201303
CREATED:20260421T083752Z
LAST-MODIFIED:20260421T083753Z
UID:10022987-1886083200-1886083200@disfruta-denia.com
SUMMARY:Tardeos live Mr Fisher
DESCRIPTION:
URL:https://disfruta-denia.com/evento/tardeos-live-mr-fisher-3-2-3/2029-10-07/
LOCATION:Mr Fisher\, Moll de La Pansa s/n. Marina El Portet\, Denia\, Alicante\, 03700\, España
CATEGORIES:Concierto,Música,Tardeo
ATTACH;FMTTYPE=image/png:https://disfruta-denia.com/wp-content/uploads/2026/04/MRFISHER_LAMOCHA_03_05.png
END:VEVENT
BEGIN:VEVENT
DTSTART;TZID=Europe/Madrid:20291014T160000
DTEND;TZID=Europe/Madrid:20291014T160000
DTSTAMP:20260423T201303
CREATED:20260421T083752Z
LAST-MODIFIED:20260421T083753Z
UID:10022988-1886688000-1886688000@disfruta-denia.com
SUMMARY:Tardeos live Mr Fisher
DESCRIPTION:
URL:https://disfruta-denia.com/evento/tardeos-live-mr-fisher-3-2-3/2029-10-14/
LOCATION:Mr Fisher\, Moll de La Pansa s/n. Marina El Portet\, Denia\, Alicante\, 03700\, España
CATEGORIES:Concierto,Música,Tardeo
ATTACH;FMTTYPE=image/png:https://disfruta-denia.com/wp-content/uploads/2026/04/MRFISHER_LAMOCHA_03_05.png
END:VEVENT
BEGIN:VEVENT
DTSTART;TZID=Europe/Madrid:20291021T160000
DTEND;TZID=Europe/Madrid:20291021T160000
DTSTAMP:20260423T201303
CREATED:20260421T083752Z
LAST-MODIFIED:20260421T083753Z
UID:10022989-1887292800-1887292800@disfruta-denia.com
SUMMARY:Tardeos live Mr Fisher
DESCRIPTION:
URL:https://disfruta-denia.com/evento/tardeos-live-mr-fisher-3-2-3/2029-10-21/
LOCATION:Mr Fisher\, Moll de La Pansa s/n. Marina El Portet\, Denia\, Alicante\, 03700\, España
CATEGORIES:Concierto,Música,Tardeo
ATTACH;FMTTYPE=image/png:https://disfruta-denia.com/wp-content/uploads/2026/04/MRFISHER_LAMOCHA_03_05.png
END:VEVENT
BEGIN:VEVENT
DTSTART;TZID=Europe/Madrid:20291028T160000
DTEND;TZID=Europe/Madrid:20291028T160000
DTSTAMP:20260423T201303
CREATED:20260421T083752Z
LAST-MODIFIED:20260421T083753Z
UID:10022990-1887897600-1887897600@disfruta-denia.com
SUMMARY:Tardeos live Mr Fisher
DESCRIPTION:
URL:https://disfruta-denia.com/evento/tardeos-live-mr-fisher-3-2-3/2029-10-28/
LOCATION:Mr Fisher\, Moll de La Pansa s/n. Marina El Portet\, Denia\, Alicante\, 03700\, España
CATEGORIES:Concierto,Música,Tardeo
ATTACH;FMTTYPE=image/png:https://disfruta-denia.com/wp-content/uploads/2026/04/MRFISHER_LAMOCHA_03_05.png
END:VEVENT
BEGIN:VEVENT
DTSTART;TZID=Europe/Madrid:20291104T160000
DTEND;TZID=Europe/Madrid:20291104T160000
DTSTAMP:20260423T201303
CREATED:20260421T083752Z
LAST-MODIFIED:20260421T083753Z
UID:10022991-1888502400-1888502400@disfruta-denia.com
SUMMARY:Tardeos live Mr Fisher
DESCRIPTION:
URL:https://disfruta-denia.com/evento/tardeos-live-mr-fisher-3-2-3/2029-11-04/
LOCATION:Mr Fisher\, Moll de La Pansa s/n. Marina El Portet\, Denia\, Alicante\, 03700\, España
CATEGORIES:Concierto,Música,Tardeo
ATTACH;FMTTYPE=image/png:https://disfruta-denia.com/wp-content/uploads/2026/04/MRFISHER_LAMOCHA_03_05.png
END:VEVENT
BEGIN:VEVENT
DTSTART;TZID=Europe/Madrid:20291111T160000
DTEND;TZID=Europe/Madrid:20291111T160000
DTSTAMP:20260423T201303
CREATED:20260421T083752Z
LAST-MODIFIED:20260421T083753Z
UID:10022992-1889107200-1889107200@disfruta-denia.com
SUMMARY:Tardeos live Mr Fisher
DESCRIPTION:
URL:https://disfruta-denia.com/evento/tardeos-live-mr-fisher-3-2-3/2029-11-11/
LOCATION:Mr Fisher\, Moll de La Pansa s/n. Marina El Portet\, Denia\, Alicante\, 03700\, España
CATEGORIES:Concierto,Música,Tardeo
ATTACH;FMTTYPE=image/png:https://disfruta-denia.com/wp-content/uploads/2026/04/MRFISHER_LAMOCHA_03_05.png
END:VEVENT
BEGIN:VEVENT
DTSTART;TZID=Europe/Madrid:20291118T160000
DTEND;TZID=Europe/Madrid:20291118T160000
DTSTAMP:20260423T201303
CREATED:20260421T083752Z
LAST-MODIFIED:20260421T083753Z
UID:10022993-1889712000-1889712000@disfruta-denia.com
SUMMARY:Tardeos live Mr Fisher
DESCRIPTION:
URL:https://disfruta-denia.com/evento/tardeos-live-mr-fisher-3-2-3/2029-11-18/
LOCATION:Mr Fisher\, Moll de La Pansa s/n. Marina El Portet\, Denia\, Alicante\, 03700\, España
CATEGORIES:Concierto,Música,Tardeo
ATTACH;FMTTYPE=image/png:https://disfruta-denia.com/wp-content/uploads/2026/04/MRFISHER_LAMOCHA_03_05.png
END:VEVENT
BEGIN:VEVENT
DTSTART;TZID=Europe/Madrid:20291125T160000
DTEND;TZID=Europe/Madrid:20291125T160000
DTSTAMP:20260423T201303
CREATED:20260421T083752Z
LAST-MODIFIED:20260421T083753Z
UID:10022994-1890316800-1890316800@disfruta-denia.com
SUMMARY:Tardeos live Mr Fisher
DESCRIPTION:
URL:https://disfruta-denia.com/evento/tardeos-live-mr-fisher-3-2-3/2029-11-25/
LOCATION:Mr Fisher\, Moll de La Pansa s/n. Marina El Portet\, Denia\, Alicante\, 03700\, España
CATEGORIES:Concierto,Música,Tardeo
ATTACH;FMTTYPE=image/png:https://disfruta-denia.com/wp-content/uploads/2026/04/MRFISHER_LAMOCHA_03_05.png
END:VEVENT
BEGIN:VEVENT
DTSTART;TZID=Europe/Madrid:20291202T160000
DTEND;TZID=Europe/Madrid:20291202T160000
DTSTAMP:20260423T201303
CREATED:20260421T083752Z
LAST-MODIFIED:20260421T083753Z
UID:10022995-1890921600-1890921600@disfruta-denia.com
SUMMARY:Tardeos live Mr Fisher
DESCRIPTION:
URL:https://disfruta-denia.com/evento/tardeos-live-mr-fisher-3-2-3/2029-12-02/
LOCATION:Mr Fisher\, Moll de La Pansa s/n. Marina El Portet\, Denia\, Alicante\, 03700\, España
CATEGORIES:Concierto,Música,Tardeo
ATTACH;FMTTYPE=image/png:https://disfruta-denia.com/wp-content/uploads/2026/04/MRFISHER_LAMOCHA_03_05.png
END:VEVENT
BEGIN:VEVENT
DTSTART;TZID=Europe/Madrid:20291209T160000
DTEND;TZID=Europe/Madrid:20291209T160000
DTSTAMP:20260423T201303
CREATED:20260421T083752Z
LAST-MODIFIED:20260421T083753Z
UID:10022996-1891526400-1891526400@disfruta-denia.com
SUMMARY:Tardeos live Mr Fisher
DESCRIPTION:
URL:https://disfruta-denia.com/evento/tardeos-live-mr-fisher-3-2-3/2029-12-09/
LOCATION:Mr Fisher\, Moll de La Pansa s/n. Marina El Portet\, Denia\, Alicante\, 03700\, España
CATEGORIES:Concierto,Música,Tardeo
ATTACH;FMTTYPE=image/png:https://disfruta-denia.com/wp-content/uploads/2026/04/MRFISHER_LAMOCHA_03_05.png
END:VEVENT
BEGIN:VEVENT
DTSTART;TZID=Europe/Madrid:20291216T160000
DTEND;TZID=Europe/Madrid:20291216T160000
DTSTAMP:20260423T201303
CREATED:20260421T083752Z
LAST-MODIFIED:20260421T083753Z
UID:10022997-1892131200-1892131200@disfruta-denia.com
SUMMARY:Tardeos live Mr Fisher
DESCRIPTION:
URL:https://disfruta-denia.com/evento/tardeos-live-mr-fisher-3-2-3/2029-12-16/
LOCATION:Mr Fisher\, Moll de La Pansa s/n. Marina El Portet\, Denia\, Alicante\, 03700\, España
CATEGORIES:Concierto,Música,Tardeo
ATTACH;FMTTYPE=image/png:https://disfruta-denia.com/wp-content/uploads/2026/04/MRFISHER_LAMOCHA_03_05.png
END:VEVENT
BEGIN:VEVENT
DTSTART;TZID=Europe/Madrid:20291223T160000
DTEND;TZID=Europe/Madrid:20291223T160000
DTSTAMP:20260423T201303
CREATED:20260421T083752Z
LAST-MODIFIED:20260421T083753Z
UID:10022998-1892736000-1892736000@disfruta-denia.com
SUMMARY:Tardeos live Mr Fisher
DESCRIPTION:
URL:https://disfruta-denia.com/evento/tardeos-live-mr-fisher-3-2-3/2029-12-23/
LOCATION:Mr Fisher\, Moll de La Pansa s/n. Marina El Portet\, Denia\, Alicante\, 03700\, España
CATEGORIES:Concierto,Música,Tardeo
ATTACH;FMTTYPE=image/png:https://disfruta-denia.com/wp-content/uploads/2026/04/MRFISHER_LAMOCHA_03_05.png
END:VEVENT
BEGIN:VEVENT
DTSTART;TZID=Europe/Madrid:20291230T160000
DTEND;TZID=Europe/Madrid:20291230T160000
DTSTAMP:20260423T201303
CREATED:20260421T083752Z
LAST-MODIFIED:20260421T083753Z
UID:10022999-1893340800-1893340800@disfruta-denia.com
SUMMARY:Tardeos live Mr Fisher
DESCRIPTION:
URL:https://disfruta-denia.com/evento/tardeos-live-mr-fisher-3-2-3/2029-12-30/
LOCATION:Mr Fisher\, Moll de La Pansa s/n. Marina El Portet\, Denia\, Alicante\, 03700\, España
CATEGORIES:Concierto,Música,Tardeo
ATTACH;FMTTYPE=image/png:https://disfruta-denia.com/wp-content/uploads/2026/04/MRFISHER_LAMOCHA_03_05.png
END:VEVENT
BEGIN:VEVENT
DTSTART;TZID=Europe/Madrid:20300106T160000
DTEND;TZID=Europe/Madrid:20300106T160000
DTSTAMP:20260423T201303
CREATED:20260421T083752Z
LAST-MODIFIED:20260421T083753Z
UID:10023000-1893945600-1893945600@disfruta-denia.com
SUMMARY:Tardeos live Mr Fisher
DESCRIPTION:
URL:https://disfruta-denia.com/evento/tardeos-live-mr-fisher-3-2-3/2030-01-06/
LOCATION:Mr Fisher\, Moll de La Pansa s/n. Marina El Portet\, Denia\, Alicante\, 03700\, España
CATEGORIES:Concierto,Música,Tardeo
ATTACH;FMTTYPE=image/png:https://disfruta-denia.com/wp-content/uploads/2026/04/MRFISHER_LAMOCHA_03_05.png
END:VEVENT
BEGIN:VEVENT
DTSTART;TZID=Europe/Madrid:20300113T160000
DTEND;TZID=Europe/Madrid:20300113T160000
DTSTAMP:20260423T201303
CREATED:20260421T083752Z
LAST-MODIFIED:20260421T083753Z
UID:10023001-1894550400-1894550400@disfruta-denia.com
SUMMARY:Tardeos live Mr Fisher
DESCRIPTION:
URL:https://disfruta-denia.com/evento/tardeos-live-mr-fisher-3-2-3/2030-01-13/
LOCATION:Mr Fisher\, Moll de La Pansa s/n. Marina El Portet\, Denia\, Alicante\, 03700\, España
CATEGORIES:Concierto,Música,Tardeo
ATTACH;FMTTYPE=image/png:https://disfruta-denia.com/wp-content/uploads/2026/04/MRFISHER_LAMOCHA_03_05.png
END:VEVENT
BEGIN:VEVENT
DTSTART;TZID=Europe/Madrid:20300120T160000
DTEND;TZID=Europe/Madrid:20300120T160000
DTSTAMP:20260423T201303
CREATED:20260421T083752Z
LAST-MODIFIED:20260421T083753Z
UID:10023002-1895155200-1895155200@disfruta-denia.com
SUMMARY:Tardeos live Mr Fisher
DESCRIPTION:
URL:https://disfruta-denia.com/evento/tardeos-live-mr-fisher-3-2-3/2030-01-20/
LOCATION:Mr Fisher\, Moll de La Pansa s/n. Marina El Portet\, Denia\, Alicante\, 03700\, España
CATEGORIES:Concierto,Música,Tardeo
ATTACH;FMTTYPE=image/png:https://disfruta-denia.com/wp-content/uploads/2026/04/MRFISHER_LAMOCHA_03_05.png
END:VEVENT
BEGIN:VEVENT
DTSTART;TZID=Europe/Madrid:20300127T160000
DTEND;TZID=Europe/Madrid:20300127T160000
DTSTAMP:20260423T201303
CREATED:20260421T083752Z
LAST-MODIFIED:20260421T083753Z
UID:10023003-1895760000-1895760000@disfruta-denia.com
SUMMARY:Tardeos live Mr Fisher
DESCRIPTION:
URL:https://disfruta-denia.com/evento/tardeos-live-mr-fisher-3-2-3/2030-01-27/
LOCATION:Mr Fisher\, Moll de La Pansa s/n. Marina El Portet\, Denia\, Alicante\, 03700\, España
CATEGORIES:Concierto,Música,Tardeo
ATTACH;FMTTYPE=image/png:https://disfruta-denia.com/wp-content/uploads/2026/04/MRFISHER_LAMOCHA_03_05.png
END:VEVENT
BEGIN:VEVENT
DTSTART;TZID=Europe/Madrid:20300203T160000
DTEND;TZID=Europe/Madrid:20300203T160000
DTSTAMP:20260423T201303
CREATED:20260421T083752Z
LAST-MODIFIED:20260421T083753Z
UID:10023004-1896364800-1896364800@disfruta-denia.com
SUMMARY:Tardeos live Mr Fisher
DESCRIPTION:
URL:https://disfruta-denia.com/evento/tardeos-live-mr-fisher-3-2-3/2030-02-03/
LOCATION:Mr Fisher\, Moll de La Pansa s/n. Marina El Portet\, Denia\, Alicante\, 03700\, España
CATEGORIES:Concierto,Música,Tardeo
ATTACH;FMTTYPE=image/png:https://disfruta-denia.com/wp-content/uploads/2026/04/MRFISHER_LAMOCHA_03_05.png
END:VEVENT
END:VCALENDAR