BEGIN:VCALENDAR
VERSION:2.0
PRODID:-//Disfruta Denia - ECPv6.15.20//NONSGML v1.0//EN
CALSCALE:GREGORIAN
METHOD:PUBLISH
X-ORIGINAL-URL:https://disfruta-denia.com
X-WR-CALDESC:Eventos para Disfruta Denia
REFRESH-INTERVAL;VALUE=DURATION:PT1H
X-Robots-Tag:noindex
X-PUBLISHED-TTL:PT1H
BEGIN:VTIMEZONE
TZID:Europe/Madrid
BEGIN:DAYLIGHT
TZOFFSETFROM:+0100
TZOFFSETTO:+0200
TZNAME:CEST
DTSTART:20250330T010000
END:DAYLIGHT
BEGIN:STANDARD
TZOFFSETFROM:+0200
TZOFFSETTO:+0100
TZNAME:CET
DTSTART:20251026T010000
END:STANDARD
BEGIN:DAYLIGHT
TZOFFSETFROM:+0100
TZOFFSETTO:+0200
TZNAME:CEST
DTSTART:20260329T010000
END:DAYLIGHT
BEGIN:STANDARD
TZOFFSETFROM:+0200
TZOFFSETTO:+0100
TZNAME:CET
DTSTART:20261025T010000
END:STANDARD
BEGIN:DAYLIGHT
TZOFFSETFROM:+0100
TZOFFSETTO:+0200
TZNAME:CEST
DTSTART:20270328T010000
END:DAYLIGHT
BEGIN:STANDARD
TZOFFSETFROM:+0200
TZOFFSETTO:+0100
TZNAME:CET
DTSTART:20271031T010000
END:STANDARD
BEGIN:DAYLIGHT
TZOFFSETFROM:+0100
TZOFFSETTO:+0200
TZNAME:CEST
DTSTART:20280326T010000
END:DAYLIGHT
BEGIN:STANDARD
TZOFFSETFROM:+0200
TZOFFSETTO:+0100
TZNAME:CET
DTSTART:20281029T010000
END:STANDARD
END:VTIMEZONE
BEGIN:VEVENT
DTSTART;TZID=Europe/Madrid:20260719T160000
DTEND;TZID=Europe/Madrid:20260719T160000
DTSTAMP:20260420T210134
CREATED:20260402T085843Z
LAST-MODIFIED:20260402T085846Z
UID:10022819-1784476800-1784476800@disfruta-denia.com
SUMMARY:Tardeos live Mr Fisher
DESCRIPTION:
URL:https://disfruta-denia.com/evento/tardeos-live-mr-fisher-3-2/2026-07-19/
LOCATION:Mr Fisher\, Moll de La Pansa s/n. Marina El Portet\, Denia\, Alicante\, 03700\, España
CATEGORIES:Concierto,Música,Tardeo
ATTACH;FMTTYPE=image/jpeg:https://disfruta-denia.com/wp-content/uploads/2026/03/PHOTO-2026-04-01-21-52-52.jpg
END:VEVENT
BEGIN:VEVENT
DTSTART;TZID=Europe/Madrid:20260726T160000
DTEND;TZID=Europe/Madrid:20260726T160000
DTSTAMP:20260420T210134
CREATED:20260402T085843Z
LAST-MODIFIED:20260402T085846Z
UID:10022820-1785081600-1785081600@disfruta-denia.com
SUMMARY:Tardeos live Mr Fisher
DESCRIPTION:
URL:https://disfruta-denia.com/evento/tardeos-live-mr-fisher-3-2/2026-07-26/
LOCATION:Mr Fisher\, Moll de La Pansa s/n. Marina El Portet\, Denia\, Alicante\, 03700\, España
CATEGORIES:Concierto,Música,Tardeo
ATTACH;FMTTYPE=image/jpeg:https://disfruta-denia.com/wp-content/uploads/2026/03/PHOTO-2026-04-01-21-52-52.jpg
END:VEVENT
BEGIN:VEVENT
DTSTART;TZID=Europe/Madrid:20260802T160000
DTEND;TZID=Europe/Madrid:20260802T160000
DTSTAMP:20260420T210134
CREATED:20260402T085843Z
LAST-MODIFIED:20260402T085846Z
UID:10022821-1785686400-1785686400@disfruta-denia.com
SUMMARY:Tardeos live Mr Fisher
DESCRIPTION:
URL:https://disfruta-denia.com/evento/tardeos-live-mr-fisher-3-2/2026-08-02/
LOCATION:Mr Fisher\, Moll de La Pansa s/n. Marina El Portet\, Denia\, Alicante\, 03700\, España
CATEGORIES:Concierto,Música,Tardeo
ATTACH;FMTTYPE=image/jpeg:https://disfruta-denia.com/wp-content/uploads/2026/03/PHOTO-2026-04-01-21-52-52.jpg
END:VEVENT
BEGIN:VEVENT
DTSTART;TZID=Europe/Madrid:20260809T160000
DTEND;TZID=Europe/Madrid:20260809T160000
DTSTAMP:20260420T210134
CREATED:20260402T085843Z
LAST-MODIFIED:20260402T085846Z
UID:10022822-1786291200-1786291200@disfruta-denia.com
SUMMARY:Tardeos live Mr Fisher
DESCRIPTION:
URL:https://disfruta-denia.com/evento/tardeos-live-mr-fisher-3-2/2026-08-09/
LOCATION:Mr Fisher\, Moll de La Pansa s/n. Marina El Portet\, Denia\, Alicante\, 03700\, España
CATEGORIES:Concierto,Música,Tardeo
ATTACH;FMTTYPE=image/jpeg:https://disfruta-denia.com/wp-content/uploads/2026/03/PHOTO-2026-04-01-21-52-52.jpg
END:VEVENT
BEGIN:VEVENT
DTSTART;TZID=Europe/Madrid:20260816T160000
DTEND;TZID=Europe/Madrid:20260816T160000
DTSTAMP:20260420T210134
CREATED:20260402T085843Z
LAST-MODIFIED:20260402T085846Z
UID:10022823-1786896000-1786896000@disfruta-denia.com
SUMMARY:Tardeos live Mr Fisher
DESCRIPTION:
URL:https://disfruta-denia.com/evento/tardeos-live-mr-fisher-3-2/2026-08-16/
LOCATION:Mr Fisher\, Moll de La Pansa s/n. Marina El Portet\, Denia\, Alicante\, 03700\, España
CATEGORIES:Concierto,Música,Tardeo
ATTACH;FMTTYPE=image/jpeg:https://disfruta-denia.com/wp-content/uploads/2026/03/PHOTO-2026-04-01-21-52-52.jpg
END:VEVENT
BEGIN:VEVENT
DTSTART;TZID=Europe/Madrid:20260823T160000
DTEND;TZID=Europe/Madrid:20260823T160000
DTSTAMP:20260420T210134
CREATED:20260402T085843Z
LAST-MODIFIED:20260402T085846Z
UID:10022824-1787500800-1787500800@disfruta-denia.com
SUMMARY:Tardeos live Mr Fisher
DESCRIPTION:
URL:https://disfruta-denia.com/evento/tardeos-live-mr-fisher-3-2/2026-08-23/
LOCATION:Mr Fisher\, Moll de La Pansa s/n. Marina El Portet\, Denia\, Alicante\, 03700\, España
CATEGORIES:Concierto,Música,Tardeo
ATTACH;FMTTYPE=image/jpeg:https://disfruta-denia.com/wp-content/uploads/2026/03/PHOTO-2026-04-01-21-52-52.jpg
END:VEVENT
BEGIN:VEVENT
DTSTART;TZID=Europe/Madrid:20260830T160000
DTEND;TZID=Europe/Madrid:20260830T160000
DTSTAMP:20260420T210134
CREATED:20260402T085843Z
LAST-MODIFIED:20260402T085846Z
UID:10022825-1788105600-1788105600@disfruta-denia.com
SUMMARY:Tardeos live Mr Fisher
DESCRIPTION:
URL:https://disfruta-denia.com/evento/tardeos-live-mr-fisher-3-2/2026-08-30/
LOCATION:Mr Fisher\, Moll de La Pansa s/n. Marina El Portet\, Denia\, Alicante\, 03700\, España
CATEGORIES:Concierto,Música,Tardeo
ATTACH;FMTTYPE=image/jpeg:https://disfruta-denia.com/wp-content/uploads/2026/03/PHOTO-2026-04-01-21-52-52.jpg
END:VEVENT
BEGIN:VEVENT
DTSTART;TZID=Europe/Madrid:20260906T160000
DTEND;TZID=Europe/Madrid:20260906T160000
DTSTAMP:20260420T210134
CREATED:20260402T085843Z
LAST-MODIFIED:20260402T085846Z
UID:10022826-1788710400-1788710400@disfruta-denia.com
SUMMARY:Tardeos live Mr Fisher
DESCRIPTION:
URL:https://disfruta-denia.com/evento/tardeos-live-mr-fisher-3-2/2026-09-06/
LOCATION:Mr Fisher\, Moll de La Pansa s/n. Marina El Portet\, Denia\, Alicante\, 03700\, España
CATEGORIES:Concierto,Música,Tardeo
ATTACH;FMTTYPE=image/jpeg:https://disfruta-denia.com/wp-content/uploads/2026/03/PHOTO-2026-04-01-21-52-52.jpg
END:VEVENT
BEGIN:VEVENT
DTSTART;TZID=Europe/Madrid:20260913T160000
DTEND;TZID=Europe/Madrid:20260913T160000
DTSTAMP:20260420T210134
CREATED:20260402T085843Z
LAST-MODIFIED:20260402T085846Z
UID:10022827-1789315200-1789315200@disfruta-denia.com
SUMMARY:Tardeos live Mr Fisher
DESCRIPTION:
URL:https://disfruta-denia.com/evento/tardeos-live-mr-fisher-3-2/2026-09-13/
LOCATION:Mr Fisher\, Moll de La Pansa s/n. Marina El Portet\, Denia\, Alicante\, 03700\, España
CATEGORIES:Concierto,Música,Tardeo
ATTACH;FMTTYPE=image/jpeg:https://disfruta-denia.com/wp-content/uploads/2026/03/PHOTO-2026-04-01-21-52-52.jpg
END:VEVENT
BEGIN:VEVENT
DTSTART;TZID=Europe/Madrid:20260920T160000
DTEND;TZID=Europe/Madrid:20260920T160000
DTSTAMP:20260420T210134
CREATED:20260402T085843Z
LAST-MODIFIED:20260402T085846Z
UID:10022828-1789920000-1789920000@disfruta-denia.com
SUMMARY:Tardeos live Mr Fisher
DESCRIPTION:
URL:https://disfruta-denia.com/evento/tardeos-live-mr-fisher-3-2/2026-09-20/
LOCATION:Mr Fisher\, Moll de La Pansa s/n. Marina El Portet\, Denia\, Alicante\, 03700\, España
CATEGORIES:Concierto,Música,Tardeo
ATTACH;FMTTYPE=image/jpeg:https://disfruta-denia.com/wp-content/uploads/2026/03/PHOTO-2026-04-01-21-52-52.jpg
END:VEVENT
BEGIN:VEVENT
DTSTART;TZID=Europe/Madrid:20260927T160000
DTEND;TZID=Europe/Madrid:20260927T160000
DTSTAMP:20260420T210134
CREATED:20260402T085843Z
LAST-MODIFIED:20260402T085846Z
UID:10022829-1790524800-1790524800@disfruta-denia.com
SUMMARY:Tardeos live Mr Fisher
DESCRIPTION:
URL:https://disfruta-denia.com/evento/tardeos-live-mr-fisher-3-2/2026-09-27/
LOCATION:Mr Fisher\, Moll de La Pansa s/n. Marina El Portet\, Denia\, Alicante\, 03700\, España
CATEGORIES:Concierto,Música,Tardeo
ATTACH;FMTTYPE=image/jpeg:https://disfruta-denia.com/wp-content/uploads/2026/03/PHOTO-2026-04-01-21-52-52.jpg
END:VEVENT
BEGIN:VEVENT
DTSTART;TZID=Europe/Madrid:20261004T160000
DTEND;TZID=Europe/Madrid:20261004T160000
DTSTAMP:20260420T210134
CREATED:20260402T085843Z
LAST-MODIFIED:20260402T085846Z
UID:10022830-1791129600-1791129600@disfruta-denia.com
SUMMARY:Tardeos live Mr Fisher
DESCRIPTION:
URL:https://disfruta-denia.com/evento/tardeos-live-mr-fisher-3-2/2026-10-04/
LOCATION:Mr Fisher\, Moll de La Pansa s/n. Marina El Portet\, Denia\, Alicante\, 03700\, España
CATEGORIES:Concierto,Música,Tardeo
ATTACH;FMTTYPE=image/jpeg:https://disfruta-denia.com/wp-content/uploads/2026/03/PHOTO-2026-04-01-21-52-52.jpg
END:VEVENT
BEGIN:VEVENT
DTSTART;TZID=Europe/Madrid:20261011T160000
DTEND;TZID=Europe/Madrid:20261011T160000
DTSTAMP:20260420T210134
CREATED:20260402T085843Z
LAST-MODIFIED:20260402T085846Z
UID:10022831-1791734400-1791734400@disfruta-denia.com
SUMMARY:Tardeos live Mr Fisher
DESCRIPTION:
URL:https://disfruta-denia.com/evento/tardeos-live-mr-fisher-3-2/2026-10-11/
LOCATION:Mr Fisher\, Moll de La Pansa s/n. Marina El Portet\, Denia\, Alicante\, 03700\, España
CATEGORIES:Concierto,Música,Tardeo
ATTACH;FMTTYPE=image/jpeg:https://disfruta-denia.com/wp-content/uploads/2026/03/PHOTO-2026-04-01-21-52-52.jpg
END:VEVENT
BEGIN:VEVENT
DTSTART;TZID=Europe/Madrid:20261018T160000
DTEND;TZID=Europe/Madrid:20261018T160000
DTSTAMP:20260420T210134
CREATED:20260402T085843Z
LAST-MODIFIED:20260402T085846Z
UID:10022832-1792339200-1792339200@disfruta-denia.com
SUMMARY:Tardeos live Mr Fisher
DESCRIPTION:
URL:https://disfruta-denia.com/evento/tardeos-live-mr-fisher-3-2/2026-10-18/
LOCATION:Mr Fisher\, Moll de La Pansa s/n. Marina El Portet\, Denia\, Alicante\, 03700\, España
CATEGORIES:Concierto,Música,Tardeo
ATTACH;FMTTYPE=image/jpeg:https://disfruta-denia.com/wp-content/uploads/2026/03/PHOTO-2026-04-01-21-52-52.jpg
END:VEVENT
BEGIN:VEVENT
DTSTART;TZID=Europe/Madrid:20261025T160000
DTEND;TZID=Europe/Madrid:20261025T160000
DTSTAMP:20260420T210134
CREATED:20260402T085843Z
LAST-MODIFIED:20260402T085846Z
UID:10022833-1792944000-1792944000@disfruta-denia.com
SUMMARY:Tardeos live Mr Fisher
DESCRIPTION:
URL:https://disfruta-denia.com/evento/tardeos-live-mr-fisher-3-2/2026-10-25/
LOCATION:Mr Fisher\, Moll de La Pansa s/n. Marina El Portet\, Denia\, Alicante\, 03700\, España
CATEGORIES:Concierto,Música,Tardeo
ATTACH;FMTTYPE=image/jpeg:https://disfruta-denia.com/wp-content/uploads/2026/03/PHOTO-2026-04-01-21-52-52.jpg
END:VEVENT
BEGIN:VEVENT
DTSTART;TZID=Europe/Madrid:20261101T160000
DTEND;TZID=Europe/Madrid:20261101T160000
DTSTAMP:20260420T210134
CREATED:20260402T085843Z
LAST-MODIFIED:20260402T085846Z
UID:10022834-1793548800-1793548800@disfruta-denia.com
SUMMARY:Tardeos live Mr Fisher
DESCRIPTION:
URL:https://disfruta-denia.com/evento/tardeos-live-mr-fisher-3-2/2026-11-01/
LOCATION:Mr Fisher\, Moll de La Pansa s/n. Marina El Portet\, Denia\, Alicante\, 03700\, España
CATEGORIES:Concierto,Música,Tardeo
ATTACH;FMTTYPE=image/jpeg:https://disfruta-denia.com/wp-content/uploads/2026/03/PHOTO-2026-04-01-21-52-52.jpg
END:VEVENT
BEGIN:VEVENT
DTSTART;TZID=Europe/Madrid:20261108T160000
DTEND;TZID=Europe/Madrid:20261108T160000
DTSTAMP:20260420T210134
CREATED:20260402T085843Z
LAST-MODIFIED:20260402T085846Z
UID:10022835-1794153600-1794153600@disfruta-denia.com
SUMMARY:Tardeos live Mr Fisher
DESCRIPTION:
URL:https://disfruta-denia.com/evento/tardeos-live-mr-fisher-3-2/2026-11-08/
LOCATION:Mr Fisher\, Moll de La Pansa s/n. Marina El Portet\, Denia\, Alicante\, 03700\, España
CATEGORIES:Concierto,Música,Tardeo
ATTACH;FMTTYPE=image/jpeg:https://disfruta-denia.com/wp-content/uploads/2026/03/PHOTO-2026-04-01-21-52-52.jpg
END:VEVENT
BEGIN:VEVENT
DTSTART;TZID=Europe/Madrid:20261115T160000
DTEND;TZID=Europe/Madrid:20261115T160000
DTSTAMP:20260420T210134
CREATED:20260402T085843Z
LAST-MODIFIED:20260402T085846Z
UID:10022836-1794758400-1794758400@disfruta-denia.com
SUMMARY:Tardeos live Mr Fisher
DESCRIPTION:
URL:https://disfruta-denia.com/evento/tardeos-live-mr-fisher-3-2/2026-11-15/
LOCATION:Mr Fisher\, Moll de La Pansa s/n. Marina El Portet\, Denia\, Alicante\, 03700\, España
CATEGORIES:Concierto,Música,Tardeo
ATTACH;FMTTYPE=image/jpeg:https://disfruta-denia.com/wp-content/uploads/2026/03/PHOTO-2026-04-01-21-52-52.jpg
END:VEVENT
BEGIN:VEVENT
DTSTART;TZID=Europe/Madrid:20261122T160000
DTEND;TZID=Europe/Madrid:20261122T160000
DTSTAMP:20260420T210134
CREATED:20260402T085843Z
LAST-MODIFIED:20260402T085846Z
UID:10022837-1795363200-1795363200@disfruta-denia.com
SUMMARY:Tardeos live Mr Fisher
DESCRIPTION:
URL:https://disfruta-denia.com/evento/tardeos-live-mr-fisher-3-2/2026-11-22/
LOCATION:Mr Fisher\, Moll de La Pansa s/n. Marina El Portet\, Denia\, Alicante\, 03700\, España
CATEGORIES:Concierto,Música,Tardeo
ATTACH;FMTTYPE=image/jpeg:https://disfruta-denia.com/wp-content/uploads/2026/03/PHOTO-2026-04-01-21-52-52.jpg
END:VEVENT
BEGIN:VEVENT
DTSTART;TZID=Europe/Madrid:20261129T160000
DTEND;TZID=Europe/Madrid:20261129T160000
DTSTAMP:20260420T210134
CREATED:20260402T085843Z
LAST-MODIFIED:20260402T085846Z
UID:10022838-1795968000-1795968000@disfruta-denia.com
SUMMARY:Tardeos live Mr Fisher
DESCRIPTION:
URL:https://disfruta-denia.com/evento/tardeos-live-mr-fisher-3-2/2026-11-29/
LOCATION:Mr Fisher\, Moll de La Pansa s/n. Marina El Portet\, Denia\, Alicante\, 03700\, España
CATEGORIES:Concierto,Música,Tardeo
ATTACH;FMTTYPE=image/jpeg:https://disfruta-denia.com/wp-content/uploads/2026/03/PHOTO-2026-04-01-21-52-52.jpg
END:VEVENT
BEGIN:VEVENT
DTSTART;TZID=Europe/Madrid:20261206T160000
DTEND;TZID=Europe/Madrid:20261206T160000
DTSTAMP:20260420T210134
CREATED:20260402T085843Z
LAST-MODIFIED:20260402T085846Z
UID:10022839-1796572800-1796572800@disfruta-denia.com
SUMMARY:Tardeos live Mr Fisher
DESCRIPTION:
URL:https://disfruta-denia.com/evento/tardeos-live-mr-fisher-3-2/2026-12-06/
LOCATION:Mr Fisher\, Moll de La Pansa s/n. Marina El Portet\, Denia\, Alicante\, 03700\, España
CATEGORIES:Concierto,Música,Tardeo
ATTACH;FMTTYPE=image/jpeg:https://disfruta-denia.com/wp-content/uploads/2026/03/PHOTO-2026-04-01-21-52-52.jpg
END:VEVENT
BEGIN:VEVENT
DTSTART;TZID=Europe/Madrid:20261213T160000
DTEND;TZID=Europe/Madrid:20261213T160000
DTSTAMP:20260420T210134
CREATED:20260402T085843Z
LAST-MODIFIED:20260402T085846Z
UID:10022840-1797177600-1797177600@disfruta-denia.com
SUMMARY:Tardeos live Mr Fisher
DESCRIPTION:
URL:https://disfruta-denia.com/evento/tardeos-live-mr-fisher-3-2/2026-12-13/
LOCATION:Mr Fisher\, Moll de La Pansa s/n. Marina El Portet\, Denia\, Alicante\, 03700\, España
CATEGORIES:Concierto,Música,Tardeo
ATTACH;FMTTYPE=image/jpeg:https://disfruta-denia.com/wp-content/uploads/2026/03/PHOTO-2026-04-01-21-52-52.jpg
END:VEVENT
BEGIN:VEVENT
DTSTART;TZID=Europe/Madrid:20261220T160000
DTEND;TZID=Europe/Madrid:20261220T160000
DTSTAMP:20260420T210134
CREATED:20260402T085843Z
LAST-MODIFIED:20260402T085846Z
UID:10022841-1797782400-1797782400@disfruta-denia.com
SUMMARY:Tardeos live Mr Fisher
DESCRIPTION:
URL:https://disfruta-denia.com/evento/tardeos-live-mr-fisher-3-2/2026-12-20/
LOCATION:Mr Fisher\, Moll de La Pansa s/n. Marina El Portet\, Denia\, Alicante\, 03700\, España
CATEGORIES:Concierto,Música,Tardeo
ATTACH;FMTTYPE=image/jpeg:https://disfruta-denia.com/wp-content/uploads/2026/03/PHOTO-2026-04-01-21-52-52.jpg
END:VEVENT
BEGIN:VEVENT
DTSTART;TZID=Europe/Madrid:20261227T160000
DTEND;TZID=Europe/Madrid:20261227T160000
DTSTAMP:20260420T210134
CREATED:20260402T085843Z
LAST-MODIFIED:20260402T085846Z
UID:10022842-1798387200-1798387200@disfruta-denia.com
SUMMARY:Tardeos live Mr Fisher
DESCRIPTION:
URL:https://disfruta-denia.com/evento/tardeos-live-mr-fisher-3-2/2026-12-27/
LOCATION:Mr Fisher\, Moll de La Pansa s/n. Marina El Portet\, Denia\, Alicante\, 03700\, España
CATEGORIES:Concierto,Música,Tardeo
ATTACH;FMTTYPE=image/jpeg:https://disfruta-denia.com/wp-content/uploads/2026/03/PHOTO-2026-04-01-21-52-52.jpg
END:VEVENT
BEGIN:VEVENT
DTSTART;TZID=Europe/Madrid:20270103T160000
DTEND;TZID=Europe/Madrid:20270103T160000
DTSTAMP:20260420T210134
CREATED:20260402T085843Z
LAST-MODIFIED:20260402T085846Z
UID:10022843-1798992000-1798992000@disfruta-denia.com
SUMMARY:Tardeos live Mr Fisher
DESCRIPTION:
URL:https://disfruta-denia.com/evento/tardeos-live-mr-fisher-3-2/2027-01-03/
LOCATION:Mr Fisher\, Moll de La Pansa s/n. Marina El Portet\, Denia\, Alicante\, 03700\, España
CATEGORIES:Concierto,Música,Tardeo
ATTACH;FMTTYPE=image/jpeg:https://disfruta-denia.com/wp-content/uploads/2026/03/PHOTO-2026-04-01-21-52-52.jpg
END:VEVENT
BEGIN:VEVENT
DTSTART;TZID=Europe/Madrid:20270110T160000
DTEND;TZID=Europe/Madrid:20270110T160000
DTSTAMP:20260420T210134
CREATED:20260402T085843Z
LAST-MODIFIED:20260402T085846Z
UID:10022844-1799596800-1799596800@disfruta-denia.com
SUMMARY:Tardeos live Mr Fisher
DESCRIPTION:
URL:https://disfruta-denia.com/evento/tardeos-live-mr-fisher-3-2/2027-01-10/
LOCATION:Mr Fisher\, Moll de La Pansa s/n. Marina El Portet\, Denia\, Alicante\, 03700\, España
CATEGORIES:Concierto,Música,Tardeo
ATTACH;FMTTYPE=image/jpeg:https://disfruta-denia.com/wp-content/uploads/2026/03/PHOTO-2026-04-01-21-52-52.jpg
END:VEVENT
BEGIN:VEVENT
DTSTART;TZID=Europe/Madrid:20270117T160000
DTEND;TZID=Europe/Madrid:20270117T160000
DTSTAMP:20260420T210134
CREATED:20260402T085843Z
LAST-MODIFIED:20260402T085846Z
UID:10022845-1800201600-1800201600@disfruta-denia.com
SUMMARY:Tardeos live Mr Fisher
DESCRIPTION:
URL:https://disfruta-denia.com/evento/tardeos-live-mr-fisher-3-2/2027-01-17/
LOCATION:Mr Fisher\, Moll de La Pansa s/n. Marina El Portet\, Denia\, Alicante\, 03700\, España
CATEGORIES:Concierto,Música,Tardeo
ATTACH;FMTTYPE=image/jpeg:https://disfruta-denia.com/wp-content/uploads/2026/03/PHOTO-2026-04-01-21-52-52.jpg
END:VEVENT
BEGIN:VEVENT
DTSTART;TZID=Europe/Madrid:20270124T160000
DTEND;TZID=Europe/Madrid:20270124T160000
DTSTAMP:20260420T210134
CREATED:20260402T085843Z
LAST-MODIFIED:20260402T085846Z
UID:10022846-1800806400-1800806400@disfruta-denia.com
SUMMARY:Tardeos live Mr Fisher
DESCRIPTION:
URL:https://disfruta-denia.com/evento/tardeos-live-mr-fisher-3-2/2027-01-24/
LOCATION:Mr Fisher\, Moll de La Pansa s/n. Marina El Portet\, Denia\, Alicante\, 03700\, España
CATEGORIES:Concierto,Música,Tardeo
ATTACH;FMTTYPE=image/jpeg:https://disfruta-denia.com/wp-content/uploads/2026/03/PHOTO-2026-04-01-21-52-52.jpg
END:VEVENT
BEGIN:VEVENT
DTSTART;TZID=Europe/Madrid:20270131T160000
DTEND;TZID=Europe/Madrid:20270131T160000
DTSTAMP:20260420T210134
CREATED:20260402T085843Z
LAST-MODIFIED:20260402T085846Z
UID:10022847-1801411200-1801411200@disfruta-denia.com
SUMMARY:Tardeos live Mr Fisher
DESCRIPTION:
URL:https://disfruta-denia.com/evento/tardeos-live-mr-fisher-3-2/2027-01-31/
LOCATION:Mr Fisher\, Moll de La Pansa s/n. Marina El Portet\, Denia\, Alicante\, 03700\, España
CATEGORIES:Concierto,Música,Tardeo
ATTACH;FMTTYPE=image/jpeg:https://disfruta-denia.com/wp-content/uploads/2026/03/PHOTO-2026-04-01-21-52-52.jpg
END:VEVENT
BEGIN:VEVENT
DTSTART;TZID=Europe/Madrid:20270207T160000
DTEND;TZID=Europe/Madrid:20270207T160000
DTSTAMP:20260420T210134
CREATED:20260402T085843Z
LAST-MODIFIED:20260402T085846Z
UID:10022848-1802016000-1802016000@disfruta-denia.com
SUMMARY:Tardeos live Mr Fisher
DESCRIPTION:
URL:https://disfruta-denia.com/evento/tardeos-live-mr-fisher-3-2/2027-02-07/
LOCATION:Mr Fisher\, Moll de La Pansa s/n. Marina El Portet\, Denia\, Alicante\, 03700\, España
CATEGORIES:Concierto,Música,Tardeo
ATTACH;FMTTYPE=image/jpeg:https://disfruta-denia.com/wp-content/uploads/2026/03/PHOTO-2026-04-01-21-52-52.jpg
END:VEVENT
END:VCALENDAR