BEGIN:VCALENDAR
VERSION:2.0
PRODID:-//Disfruta Denia - ECPv6.15.20//NONSGML v1.0//EN
CALSCALE:GREGORIAN
METHOD:PUBLISH
X-WR-CALNAME:Disfruta Denia
X-ORIGINAL-URL:https://disfruta-denia.com
X-WR-CALDESC:Eventos para Disfruta Denia
REFRESH-INTERVAL;VALUE=DURATION:PT1H
X-Robots-Tag:noindex
X-PUBLISHED-TTL:PT1H
BEGIN:VTIMEZONE
TZID:Europe/Madrid
BEGIN:DAYLIGHT
TZOFFSETFROM:+0100
TZOFFSETTO:+0200
TZNAME:CEST
DTSTART:20300331T010000
END:DAYLIGHT
BEGIN:STANDARD
TZOFFSETFROM:+0200
TZOFFSETTO:+0100
TZNAME:CET
DTSTART:20301027T010000
END:STANDARD
BEGIN:DAYLIGHT
TZOFFSETFROM:+0100
TZOFFSETTO:+0200
TZNAME:CEST
DTSTART:20310330T010000
END:DAYLIGHT
BEGIN:STANDARD
TZOFFSETFROM:+0200
TZOFFSETTO:+0100
TZNAME:CET
DTSTART:20311026T010000
END:STANDARD
BEGIN:DAYLIGHT
TZOFFSETFROM:+0100
TZOFFSETTO:+0200
TZNAME:CEST
DTSTART:20320328T010000
END:DAYLIGHT
BEGIN:STANDARD
TZOFFSETFROM:+0200
TZOFFSETTO:+0100
TZNAME:CET
DTSTART:20321031T010000
END:STANDARD
END:VTIMEZONE
BEGIN:VEVENT
DTSTART;TZID=Europe/Madrid:20310223T160000
DTEND;TZID=Europe/Madrid:20310223T160000
DTSTAMP:20260424T094253
CREATED:20260421T083752Z
LAST-MODIFIED:20260421T083753Z
UID:10026622-1929628800-1929628800@disfruta-denia.com
SUMMARY:Tardeos live Mr Fisher
DESCRIPTION:
URL:https://disfruta-denia.com/evento/tardeos-live-mr-fisher-3-2-3/2031-02-23/
LOCATION:Mr Fisher\, Moll de La Pansa s/n. Marina El Portet\, Denia\, Alicante\, 03700\, España
CATEGORIES:Concierto,Música,Tardeo
ATTACH;FMTTYPE=image/png:https://disfruta-denia.com/wp-content/uploads/2026/04/MRFISHER_LAMOCHA_03_05.png
END:VEVENT
BEGIN:VEVENT
DTSTART;TZID=Europe/Madrid:20310302T160000
DTEND;TZID=Europe/Madrid:20310302T160000
DTSTAMP:20260424T094253
CREATED:20260421T083752Z
LAST-MODIFIED:20260421T083753Z
UID:10026640-1930233600-1930233600@disfruta-denia.com
SUMMARY:Tardeos live Mr Fisher
DESCRIPTION:
URL:https://disfruta-denia.com/evento/tardeos-live-mr-fisher-3-2-3/2031-03-02/
LOCATION:Mr Fisher\, Moll de La Pansa s/n. Marina El Portet\, Denia\, Alicante\, 03700\, España
CATEGORIES:Concierto,Música,Tardeo
ATTACH;FMTTYPE=image/png:https://disfruta-denia.com/wp-content/uploads/2026/04/MRFISHER_LAMOCHA_03_05.png
END:VEVENT
BEGIN:VEVENT
DTSTART;TZID=Europe/Madrid:20310309T160000
DTEND;TZID=Europe/Madrid:20310309T160000
DTSTAMP:20260424T094253
CREATED:20260421T083752Z
LAST-MODIFIED:20260421T083753Z
UID:10026801-1930838400-1930838400@disfruta-denia.com
SUMMARY:Tardeos live Mr Fisher
DESCRIPTION:
URL:https://disfruta-denia.com/evento/tardeos-live-mr-fisher-3-2-3/2031-03-09/
LOCATION:Mr Fisher\, Moll de La Pansa s/n. Marina El Portet\, Denia\, Alicante\, 03700\, España
CATEGORIES:Concierto,Música,Tardeo
ATTACH;FMTTYPE=image/png:https://disfruta-denia.com/wp-content/uploads/2026/04/MRFISHER_LAMOCHA_03_05.png
END:VEVENT
BEGIN:VEVENT
DTSTART;TZID=Europe/Madrid:20310316T160000
DTEND;TZID=Europe/Madrid:20310316T160000
DTSTAMP:20260424T094253
CREATED:20260421T083752Z
LAST-MODIFIED:20260421T083753Z
UID:10026867-1931443200-1931443200@disfruta-denia.com
SUMMARY:Tardeos live Mr Fisher
DESCRIPTION:
URL:https://disfruta-denia.com/evento/tardeos-live-mr-fisher-3-2-3/2031-03-16/
LOCATION:Mr Fisher\, Moll de La Pansa s/n. Marina El Portet\, Denia\, Alicante\, 03700\, España
CATEGORIES:Concierto,Música,Tardeo
ATTACH;FMTTYPE=image/png:https://disfruta-denia.com/wp-content/uploads/2026/04/MRFISHER_LAMOCHA_03_05.png
END:VEVENT
BEGIN:VEVENT
DTSTART;TZID=Europe/Madrid:20310323T160000
DTEND;TZID=Europe/Madrid:20310323T160000
DTSTAMP:20260424T094253
CREATED:20260421T083752Z
LAST-MODIFIED:20260421T083753Z
UID:10026868-1932048000-1932048000@disfruta-denia.com
SUMMARY:Tardeos live Mr Fisher
DESCRIPTION:
URL:https://disfruta-denia.com/evento/tardeos-live-mr-fisher-3-2-3/2031-03-23/
LOCATION:Mr Fisher\, Moll de La Pansa s/n. Marina El Portet\, Denia\, Alicante\, 03700\, España
CATEGORIES:Concierto,Música,Tardeo
ATTACH;FMTTYPE=image/png:https://disfruta-denia.com/wp-content/uploads/2026/04/MRFISHER_LAMOCHA_03_05.png
END:VEVENT
BEGIN:VEVENT
DTSTART;TZID=Europe/Madrid:20310330T160000
DTEND;TZID=Europe/Madrid:20310330T160000
DTSTAMP:20260424T094253
CREATED:20260421T083752Z
LAST-MODIFIED:20260421T083753Z
UID:10026892-1932652800-1932652800@disfruta-denia.com
SUMMARY:Tardeos live Mr Fisher
DESCRIPTION:
URL:https://disfruta-denia.com/evento/tardeos-live-mr-fisher-3-2-3/2031-03-30/
LOCATION:Mr Fisher\, Moll de La Pansa s/n. Marina El Portet\, Denia\, Alicante\, 03700\, España
CATEGORIES:Concierto,Música,Tardeo
ATTACH;FMTTYPE=image/png:https://disfruta-denia.com/wp-content/uploads/2026/04/MRFISHER_LAMOCHA_03_05.png
END:VEVENT
BEGIN:VEVENT
DTSTART;TZID=Europe/Madrid:20310406T160000
DTEND;TZID=Europe/Madrid:20310406T160000
DTSTAMP:20260424T094253
CREATED:20260421T083752Z
LAST-MODIFIED:20260421T083753Z
UID:10027181-1933257600-1933257600@disfruta-denia.com
SUMMARY:Tardeos live Mr Fisher
DESCRIPTION:
URL:https://disfruta-denia.com/evento/tardeos-live-mr-fisher-3-2-3/2031-04-06/
LOCATION:Mr Fisher\, Moll de La Pansa s/n. Marina El Portet\, Denia\, Alicante\, 03700\, España
CATEGORIES:Concierto,Música,Tardeo
ATTACH;FMTTYPE=image/png:https://disfruta-denia.com/wp-content/uploads/2026/04/MRFISHER_LAMOCHA_03_05.png
END:VEVENT
BEGIN:VEVENT
DTSTART;TZID=Europe/Madrid:20310413T160000
DTEND;TZID=Europe/Madrid:20310413T160000
DTSTAMP:20260424T094253
CREATED:20260421T083752Z
LAST-MODIFIED:20260421T083753Z
UID:10027182-1933862400-1933862400@disfruta-denia.com
SUMMARY:Tardeos live Mr Fisher
DESCRIPTION:
URL:https://disfruta-denia.com/evento/tardeos-live-mr-fisher-3-2-3/2031-04-13/
LOCATION:Mr Fisher\, Moll de La Pansa s/n. Marina El Portet\, Denia\, Alicante\, 03700\, España
CATEGORIES:Concierto,Música,Tardeo
ATTACH;FMTTYPE=image/png:https://disfruta-denia.com/wp-content/uploads/2026/04/MRFISHER_LAMOCHA_03_05.png
END:VEVENT
BEGIN:VEVENT
DTSTART;TZID=Europe/Madrid:20310420T160000
DTEND;TZID=Europe/Madrid:20310420T160000
DTSTAMP:20260424T094253
CREATED:20260421T083752Z
LAST-MODIFIED:20260421T083753Z
UID:10027183-1934467200-1934467200@disfruta-denia.com
SUMMARY:Tardeos live Mr Fisher
DESCRIPTION:
URL:https://disfruta-denia.com/evento/tardeos-live-mr-fisher-3-2-3/2031-04-20/
LOCATION:Mr Fisher\, Moll de La Pansa s/n. Marina El Portet\, Denia\, Alicante\, 03700\, España
CATEGORIES:Concierto,Música,Tardeo
ATTACH;FMTTYPE=image/png:https://disfruta-denia.com/wp-content/uploads/2026/04/MRFISHER_LAMOCHA_03_05.png
END:VEVENT
END:VCALENDAR