BEGIN:VCALENDAR
VERSION:2.0
PRODID:-//Disfruta Denia - ECPv6.15.20//NONSGML v1.0//EN
CALSCALE:GREGORIAN
METHOD:PUBLISH
X-ORIGINAL-URL:https://disfruta-denia.com
X-WR-CALDESC:Eventos para Disfruta Denia
REFRESH-INTERVAL;VALUE=DURATION:PT1H
X-Robots-Tag:noindex
X-PUBLISHED-TTL:PT1H
BEGIN:VTIMEZONE
TZID:Europe/Madrid
BEGIN:DAYLIGHT
TZOFFSETFROM:+0100
TZOFFSETTO:+0200
TZNAME:CEST
DTSTART:20260329T010000
END:DAYLIGHT
BEGIN:STANDARD
TZOFFSETFROM:+0200
TZOFFSETTO:+0100
TZNAME:CET
DTSTART:20261025T010000
END:STANDARD
BEGIN:DAYLIGHT
TZOFFSETFROM:+0100
TZOFFSETTO:+0200
TZNAME:CEST
DTSTART:20270328T010000
END:DAYLIGHT
BEGIN:STANDARD
TZOFFSETFROM:+0200
TZOFFSETTO:+0100
TZNAME:CET
DTSTART:20271031T010000
END:STANDARD
BEGIN:DAYLIGHT
TZOFFSETFROM:+0100
TZOFFSETTO:+0200
TZNAME:CEST
DTSTART:20280326T010000
END:DAYLIGHT
BEGIN:STANDARD
TZOFFSETFROM:+0200
TZOFFSETTO:+0100
TZNAME:CET
DTSTART:20281029T010000
END:STANDARD
BEGIN:DAYLIGHT
TZOFFSETFROM:+0100
TZOFFSETTO:+0200
TZNAME:CEST
DTSTART:20290325T010000
END:DAYLIGHT
BEGIN:STANDARD
TZOFFSETFROM:+0200
TZOFFSETTO:+0100
TZNAME:CET
DTSTART:20291028T010000
END:STANDARD
END:VTIMEZONE
BEGIN:VEVENT
DTSTART;TZID=Europe/Madrid:20270620T160000
DTEND;TZID=Europe/Madrid:20270620T160000
DTSTAMP:20260421T040702
CREATED:20260402T085843Z
LAST-MODIFIED:20260402T085846Z
UID:10022867-1813507200-1813507200@disfruta-denia.com
SUMMARY:Tardeos live Mr Fisher
DESCRIPTION:
URL:https://disfruta-denia.com/evento/tardeos-live-mr-fisher-3-2/2027-06-20/
LOCATION:Mr Fisher\, Moll de La Pansa s/n. Marina El Portet\, Denia\, Alicante\, 03700\, España
CATEGORIES:Concierto,Música,Tardeo
ATTACH;FMTTYPE=image/jpeg:https://disfruta-denia.com/wp-content/uploads/2026/03/PHOTO-2026-04-01-21-52-52.jpg
END:VEVENT
BEGIN:VEVENT
DTSTART;TZID=Europe/Madrid:20270627T160000
DTEND;TZID=Europe/Madrid:20270627T160000
DTSTAMP:20260421T040702
CREATED:20260402T085843Z
LAST-MODIFIED:20260402T085846Z
UID:10022868-1814112000-1814112000@disfruta-denia.com
SUMMARY:Tardeos live Mr Fisher
DESCRIPTION:
URL:https://disfruta-denia.com/evento/tardeos-live-mr-fisher-3-2/2027-06-27/
LOCATION:Mr Fisher\, Moll de La Pansa s/n. Marina El Portet\, Denia\, Alicante\, 03700\, España
CATEGORIES:Concierto,Música,Tardeo
ATTACH;FMTTYPE=image/jpeg:https://disfruta-denia.com/wp-content/uploads/2026/03/PHOTO-2026-04-01-21-52-52.jpg
END:VEVENT
BEGIN:VEVENT
DTSTART;TZID=Europe/Madrid:20270704T160000
DTEND;TZID=Europe/Madrid:20270704T160000
DTSTAMP:20260421T040702
CREATED:20260402T085843Z
LAST-MODIFIED:20260402T085846Z
UID:10022869-1814716800-1814716800@disfruta-denia.com
SUMMARY:Tardeos live Mr Fisher
DESCRIPTION:
URL:https://disfruta-denia.com/evento/tardeos-live-mr-fisher-3-2/2027-07-04/
LOCATION:Mr Fisher\, Moll de La Pansa s/n. Marina El Portet\, Denia\, Alicante\, 03700\, España
CATEGORIES:Concierto,Música,Tardeo
ATTACH;FMTTYPE=image/jpeg:https://disfruta-denia.com/wp-content/uploads/2026/03/PHOTO-2026-04-01-21-52-52.jpg
END:VEVENT
BEGIN:VEVENT
DTSTART;TZID=Europe/Madrid:20270711T160000
DTEND;TZID=Europe/Madrid:20270711T160000
DTSTAMP:20260421T040702
CREATED:20260402T085843Z
LAST-MODIFIED:20260402T085846Z
UID:10022870-1815321600-1815321600@disfruta-denia.com
SUMMARY:Tardeos live Mr Fisher
DESCRIPTION:
URL:https://disfruta-denia.com/evento/tardeos-live-mr-fisher-3-2/2027-07-11/
LOCATION:Mr Fisher\, Moll de La Pansa s/n. Marina El Portet\, Denia\, Alicante\, 03700\, España
CATEGORIES:Concierto,Música,Tardeo
ATTACH;FMTTYPE=image/jpeg:https://disfruta-denia.com/wp-content/uploads/2026/03/PHOTO-2026-04-01-21-52-52.jpg
END:VEVENT
BEGIN:VEVENT
DTSTART;TZID=Europe/Madrid:20270718T160000
DTEND;TZID=Europe/Madrid:20270718T160000
DTSTAMP:20260421T040702
CREATED:20260402T085843Z
LAST-MODIFIED:20260402T085846Z
UID:10022871-1815926400-1815926400@disfruta-denia.com
SUMMARY:Tardeos live Mr Fisher
DESCRIPTION:
URL:https://disfruta-denia.com/evento/tardeos-live-mr-fisher-3-2/2027-07-18/
LOCATION:Mr Fisher\, Moll de La Pansa s/n. Marina El Portet\, Denia\, Alicante\, 03700\, España
CATEGORIES:Concierto,Música,Tardeo
ATTACH;FMTTYPE=image/jpeg:https://disfruta-denia.com/wp-content/uploads/2026/03/PHOTO-2026-04-01-21-52-52.jpg
END:VEVENT
BEGIN:VEVENT
DTSTART;TZID=Europe/Madrid:20270725T160000
DTEND;TZID=Europe/Madrid:20270725T160000
DTSTAMP:20260421T040702
CREATED:20260402T085843Z
LAST-MODIFIED:20260402T085846Z
UID:10022872-1816531200-1816531200@disfruta-denia.com
SUMMARY:Tardeos live Mr Fisher
DESCRIPTION:
URL:https://disfruta-denia.com/evento/tardeos-live-mr-fisher-3-2/2027-07-25/
LOCATION:Mr Fisher\, Moll de La Pansa s/n. Marina El Portet\, Denia\, Alicante\, 03700\, España
CATEGORIES:Concierto,Música,Tardeo
ATTACH;FMTTYPE=image/jpeg:https://disfruta-denia.com/wp-content/uploads/2026/03/PHOTO-2026-04-01-21-52-52.jpg
END:VEVENT
BEGIN:VEVENT
DTSTART;TZID=Europe/Madrid:20270801T160000
DTEND;TZID=Europe/Madrid:20270801T160000
DTSTAMP:20260421T040702
CREATED:20260402T085843Z
LAST-MODIFIED:20260402T085846Z
UID:10022873-1817136000-1817136000@disfruta-denia.com
SUMMARY:Tardeos live Mr Fisher
DESCRIPTION:
URL:https://disfruta-denia.com/evento/tardeos-live-mr-fisher-3-2/2027-08-01/
LOCATION:Mr Fisher\, Moll de La Pansa s/n. Marina El Portet\, Denia\, Alicante\, 03700\, España
CATEGORIES:Concierto,Música,Tardeo
ATTACH;FMTTYPE=image/jpeg:https://disfruta-denia.com/wp-content/uploads/2026/03/PHOTO-2026-04-01-21-52-52.jpg
END:VEVENT
BEGIN:VEVENT
DTSTART;TZID=Europe/Madrid:20270808T160000
DTEND;TZID=Europe/Madrid:20270808T160000
DTSTAMP:20260421T040702
CREATED:20260402T085843Z
LAST-MODIFIED:20260402T085846Z
UID:10022874-1817740800-1817740800@disfruta-denia.com
SUMMARY:Tardeos live Mr Fisher
DESCRIPTION:
URL:https://disfruta-denia.com/evento/tardeos-live-mr-fisher-3-2/2027-08-08/
LOCATION:Mr Fisher\, Moll de La Pansa s/n. Marina El Portet\, Denia\, Alicante\, 03700\, España
CATEGORIES:Concierto,Música,Tardeo
ATTACH;FMTTYPE=image/jpeg:https://disfruta-denia.com/wp-content/uploads/2026/03/PHOTO-2026-04-01-21-52-52.jpg
END:VEVENT
BEGIN:VEVENT
DTSTART;TZID=Europe/Madrid:20270815T160000
DTEND;TZID=Europe/Madrid:20270815T160000
DTSTAMP:20260421T040702
CREATED:20260402T085843Z
LAST-MODIFIED:20260402T085846Z
UID:10022875-1818345600-1818345600@disfruta-denia.com
SUMMARY:Tardeos live Mr Fisher
DESCRIPTION:
URL:https://disfruta-denia.com/evento/tardeos-live-mr-fisher-3-2/2027-08-15/
LOCATION:Mr Fisher\, Moll de La Pansa s/n. Marina El Portet\, Denia\, Alicante\, 03700\, España
CATEGORIES:Concierto,Música,Tardeo
ATTACH;FMTTYPE=image/jpeg:https://disfruta-denia.com/wp-content/uploads/2026/03/PHOTO-2026-04-01-21-52-52.jpg
END:VEVENT
BEGIN:VEVENT
DTSTART;TZID=Europe/Madrid:20270822T160000
DTEND;TZID=Europe/Madrid:20270822T160000
DTSTAMP:20260421T040702
CREATED:20260402T085843Z
LAST-MODIFIED:20260402T085846Z
UID:10022876-1818950400-1818950400@disfruta-denia.com
SUMMARY:Tardeos live Mr Fisher
DESCRIPTION:
URL:https://disfruta-denia.com/evento/tardeos-live-mr-fisher-3-2/2027-08-22/
LOCATION:Mr Fisher\, Moll de La Pansa s/n. Marina El Portet\, Denia\, Alicante\, 03700\, España
CATEGORIES:Concierto,Música,Tardeo
ATTACH;FMTTYPE=image/jpeg:https://disfruta-denia.com/wp-content/uploads/2026/03/PHOTO-2026-04-01-21-52-52.jpg
END:VEVENT
BEGIN:VEVENT
DTSTART;TZID=Europe/Madrid:20270829T160000
DTEND;TZID=Europe/Madrid:20270829T160000
DTSTAMP:20260421T040702
CREATED:20260402T085843Z
LAST-MODIFIED:20260402T085846Z
UID:10022877-1819555200-1819555200@disfruta-denia.com
SUMMARY:Tardeos live Mr Fisher
DESCRIPTION:
URL:https://disfruta-denia.com/evento/tardeos-live-mr-fisher-3-2/2027-08-29/
LOCATION:Mr Fisher\, Moll de La Pansa s/n. Marina El Portet\, Denia\, Alicante\, 03700\, España
CATEGORIES:Concierto,Música,Tardeo
ATTACH;FMTTYPE=image/jpeg:https://disfruta-denia.com/wp-content/uploads/2026/03/PHOTO-2026-04-01-21-52-52.jpg
END:VEVENT
BEGIN:VEVENT
DTSTART;TZID=Europe/Madrid:20270905T160000
DTEND;TZID=Europe/Madrid:20270905T160000
DTSTAMP:20260421T040702
CREATED:20260402T085843Z
LAST-MODIFIED:20260402T085846Z
UID:10022878-1820160000-1820160000@disfruta-denia.com
SUMMARY:Tardeos live Mr Fisher
DESCRIPTION:
URL:https://disfruta-denia.com/evento/tardeos-live-mr-fisher-3-2/2027-09-05/
LOCATION:Mr Fisher\, Moll de La Pansa s/n. Marina El Portet\, Denia\, Alicante\, 03700\, España
CATEGORIES:Concierto,Música,Tardeo
ATTACH;FMTTYPE=image/jpeg:https://disfruta-denia.com/wp-content/uploads/2026/03/PHOTO-2026-04-01-21-52-52.jpg
END:VEVENT
BEGIN:VEVENT
DTSTART;TZID=Europe/Madrid:20270912T160000
DTEND;TZID=Europe/Madrid:20270912T160000
DTSTAMP:20260421T040702
CREATED:20260402T085843Z
LAST-MODIFIED:20260402T085846Z
UID:10022879-1820764800-1820764800@disfruta-denia.com
SUMMARY:Tardeos live Mr Fisher
DESCRIPTION:
URL:https://disfruta-denia.com/evento/tardeos-live-mr-fisher-3-2/2027-09-12/
LOCATION:Mr Fisher\, Moll de La Pansa s/n. Marina El Portet\, Denia\, Alicante\, 03700\, España
CATEGORIES:Concierto,Música,Tardeo
ATTACH;FMTTYPE=image/jpeg:https://disfruta-denia.com/wp-content/uploads/2026/03/PHOTO-2026-04-01-21-52-52.jpg
END:VEVENT
BEGIN:VEVENT
DTSTART;TZID=Europe/Madrid:20270919T160000
DTEND;TZID=Europe/Madrid:20270919T160000
DTSTAMP:20260421T040702
CREATED:20260402T085843Z
LAST-MODIFIED:20260402T085846Z
UID:10022880-1821369600-1821369600@disfruta-denia.com
SUMMARY:Tardeos live Mr Fisher
DESCRIPTION:
URL:https://disfruta-denia.com/evento/tardeos-live-mr-fisher-3-2/2027-09-19/
LOCATION:Mr Fisher\, Moll de La Pansa s/n. Marina El Portet\, Denia\, Alicante\, 03700\, España
CATEGORIES:Concierto,Música,Tardeo
ATTACH;FMTTYPE=image/jpeg:https://disfruta-denia.com/wp-content/uploads/2026/03/PHOTO-2026-04-01-21-52-52.jpg
END:VEVENT
BEGIN:VEVENT
DTSTART;TZID=Europe/Madrid:20270926T160000
DTEND;TZID=Europe/Madrid:20270926T160000
DTSTAMP:20260421T040702
CREATED:20260402T085843Z
LAST-MODIFIED:20260402T085846Z
UID:10022881-1821974400-1821974400@disfruta-denia.com
SUMMARY:Tardeos live Mr Fisher
DESCRIPTION:
URL:https://disfruta-denia.com/evento/tardeos-live-mr-fisher-3-2/2027-09-26/
LOCATION:Mr Fisher\, Moll de La Pansa s/n. Marina El Portet\, Denia\, Alicante\, 03700\, España
CATEGORIES:Concierto,Música,Tardeo
ATTACH;FMTTYPE=image/jpeg:https://disfruta-denia.com/wp-content/uploads/2026/03/PHOTO-2026-04-01-21-52-52.jpg
END:VEVENT
BEGIN:VEVENT
DTSTART;TZID=Europe/Madrid:20271003T160000
DTEND;TZID=Europe/Madrid:20271003T160000
DTSTAMP:20260421T040702
CREATED:20260402T085843Z
LAST-MODIFIED:20260402T085846Z
UID:10022882-1822579200-1822579200@disfruta-denia.com
SUMMARY:Tardeos live Mr Fisher
DESCRIPTION:
URL:https://disfruta-denia.com/evento/tardeos-live-mr-fisher-3-2/2027-10-03/
LOCATION:Mr Fisher\, Moll de La Pansa s/n. Marina El Portet\, Denia\, Alicante\, 03700\, España
CATEGORIES:Concierto,Música,Tardeo
ATTACH;FMTTYPE=image/jpeg:https://disfruta-denia.com/wp-content/uploads/2026/03/PHOTO-2026-04-01-21-52-52.jpg
END:VEVENT
BEGIN:VEVENT
DTSTART;TZID=Europe/Madrid:20271010T160000
DTEND;TZID=Europe/Madrid:20271010T160000
DTSTAMP:20260421T040702
CREATED:20260402T085843Z
LAST-MODIFIED:20260402T085846Z
UID:10022883-1823184000-1823184000@disfruta-denia.com
SUMMARY:Tardeos live Mr Fisher
DESCRIPTION:
URL:https://disfruta-denia.com/evento/tardeos-live-mr-fisher-3-2/2027-10-10/
LOCATION:Mr Fisher\, Moll de La Pansa s/n. Marina El Portet\, Denia\, Alicante\, 03700\, España
CATEGORIES:Concierto,Música,Tardeo
ATTACH;FMTTYPE=image/jpeg:https://disfruta-denia.com/wp-content/uploads/2026/03/PHOTO-2026-04-01-21-52-52.jpg
END:VEVENT
BEGIN:VEVENT
DTSTART;TZID=Europe/Madrid:20271017T160000
DTEND;TZID=Europe/Madrid:20271017T160000
DTSTAMP:20260421T040702
CREATED:20260402T085843Z
LAST-MODIFIED:20260402T085846Z
UID:10022884-1823788800-1823788800@disfruta-denia.com
SUMMARY:Tardeos live Mr Fisher
DESCRIPTION:
URL:https://disfruta-denia.com/evento/tardeos-live-mr-fisher-3-2/2027-10-17/
LOCATION:Mr Fisher\, Moll de La Pansa s/n. Marina El Portet\, Denia\, Alicante\, 03700\, España
CATEGORIES:Concierto,Música,Tardeo
ATTACH;FMTTYPE=image/jpeg:https://disfruta-denia.com/wp-content/uploads/2026/03/PHOTO-2026-04-01-21-52-52.jpg
END:VEVENT
BEGIN:VEVENT
DTSTART;TZID=Europe/Madrid:20271024T160000
DTEND;TZID=Europe/Madrid:20271024T160000
DTSTAMP:20260421T040702
CREATED:20260402T085843Z
LAST-MODIFIED:20260402T085846Z
UID:10022885-1824393600-1824393600@disfruta-denia.com
SUMMARY:Tardeos live Mr Fisher
DESCRIPTION:
URL:https://disfruta-denia.com/evento/tardeos-live-mr-fisher-3-2/2027-10-24/
LOCATION:Mr Fisher\, Moll de La Pansa s/n. Marina El Portet\, Denia\, Alicante\, 03700\, España
CATEGORIES:Concierto,Música,Tardeo
ATTACH;FMTTYPE=image/jpeg:https://disfruta-denia.com/wp-content/uploads/2026/03/PHOTO-2026-04-01-21-52-52.jpg
END:VEVENT
BEGIN:VEVENT
DTSTART;TZID=Europe/Madrid:20271031T160000
DTEND;TZID=Europe/Madrid:20271031T160000
DTSTAMP:20260421T040702
CREATED:20260402T085843Z
LAST-MODIFIED:20260402T085846Z
UID:10022886-1824998400-1824998400@disfruta-denia.com
SUMMARY:Tardeos live Mr Fisher
DESCRIPTION:
URL:https://disfruta-denia.com/evento/tardeos-live-mr-fisher-3-2/2027-10-31/
LOCATION:Mr Fisher\, Moll de La Pansa s/n. Marina El Portet\, Denia\, Alicante\, 03700\, España
CATEGORIES:Concierto,Música,Tardeo
ATTACH;FMTTYPE=image/jpeg:https://disfruta-denia.com/wp-content/uploads/2026/03/PHOTO-2026-04-01-21-52-52.jpg
END:VEVENT
BEGIN:VEVENT
DTSTART;TZID=Europe/Madrid:20271107T160000
DTEND;TZID=Europe/Madrid:20271107T160000
DTSTAMP:20260421T040702
CREATED:20260402T085843Z
LAST-MODIFIED:20260402T085846Z
UID:10022887-1825603200-1825603200@disfruta-denia.com
SUMMARY:Tardeos live Mr Fisher
DESCRIPTION:
URL:https://disfruta-denia.com/evento/tardeos-live-mr-fisher-3-2/2027-11-07/
LOCATION:Mr Fisher\, Moll de La Pansa s/n. Marina El Portet\, Denia\, Alicante\, 03700\, España
CATEGORIES:Concierto,Música,Tardeo
ATTACH;FMTTYPE=image/jpeg:https://disfruta-denia.com/wp-content/uploads/2026/03/PHOTO-2026-04-01-21-52-52.jpg
END:VEVENT
BEGIN:VEVENT
DTSTART;TZID=Europe/Madrid:20271114T160000
DTEND;TZID=Europe/Madrid:20271114T160000
DTSTAMP:20260421T040702
CREATED:20260402T085843Z
LAST-MODIFIED:20260402T085846Z
UID:10022888-1826208000-1826208000@disfruta-denia.com
SUMMARY:Tardeos live Mr Fisher
DESCRIPTION:
URL:https://disfruta-denia.com/evento/tardeos-live-mr-fisher-3-2/2027-11-14/
LOCATION:Mr Fisher\, Moll de La Pansa s/n. Marina El Portet\, Denia\, Alicante\, 03700\, España
CATEGORIES:Concierto,Música,Tardeo
ATTACH;FMTTYPE=image/jpeg:https://disfruta-denia.com/wp-content/uploads/2026/03/PHOTO-2026-04-01-21-52-52.jpg
END:VEVENT
BEGIN:VEVENT
DTSTART;TZID=Europe/Madrid:20271121T160000
DTEND;TZID=Europe/Madrid:20271121T160000
DTSTAMP:20260421T040702
CREATED:20260402T085843Z
LAST-MODIFIED:20260402T085846Z
UID:10022889-1826812800-1826812800@disfruta-denia.com
SUMMARY:Tardeos live Mr Fisher
DESCRIPTION:
URL:https://disfruta-denia.com/evento/tardeos-live-mr-fisher-3-2/2027-11-21/
LOCATION:Mr Fisher\, Moll de La Pansa s/n. Marina El Portet\, Denia\, Alicante\, 03700\, España
CATEGORIES:Concierto,Música,Tardeo
ATTACH;FMTTYPE=image/jpeg:https://disfruta-denia.com/wp-content/uploads/2026/03/PHOTO-2026-04-01-21-52-52.jpg
END:VEVENT
BEGIN:VEVENT
DTSTART;TZID=Europe/Madrid:20271128T160000
DTEND;TZID=Europe/Madrid:20271128T160000
DTSTAMP:20260421T040702
CREATED:20260402T085843Z
LAST-MODIFIED:20260402T085846Z
UID:10022890-1827417600-1827417600@disfruta-denia.com
SUMMARY:Tardeos live Mr Fisher
DESCRIPTION:
URL:https://disfruta-denia.com/evento/tardeos-live-mr-fisher-3-2/2027-11-28/
LOCATION:Mr Fisher\, Moll de La Pansa s/n. Marina El Portet\, Denia\, Alicante\, 03700\, España
CATEGORIES:Concierto,Música,Tardeo
ATTACH;FMTTYPE=image/jpeg:https://disfruta-denia.com/wp-content/uploads/2026/03/PHOTO-2026-04-01-21-52-52.jpg
END:VEVENT
BEGIN:VEVENT
DTSTART;TZID=Europe/Madrid:20271205T160000
DTEND;TZID=Europe/Madrid:20271205T160000
DTSTAMP:20260421T040702
CREATED:20260402T085843Z
LAST-MODIFIED:20260402T085846Z
UID:10022891-1828022400-1828022400@disfruta-denia.com
SUMMARY:Tardeos live Mr Fisher
DESCRIPTION:
URL:https://disfruta-denia.com/evento/tardeos-live-mr-fisher-3-2/2027-12-05/
LOCATION:Mr Fisher\, Moll de La Pansa s/n. Marina El Portet\, Denia\, Alicante\, 03700\, España
CATEGORIES:Concierto,Música,Tardeo
ATTACH;FMTTYPE=image/jpeg:https://disfruta-denia.com/wp-content/uploads/2026/03/PHOTO-2026-04-01-21-52-52.jpg
END:VEVENT
BEGIN:VEVENT
DTSTART;TZID=Europe/Madrid:20271212T160000
DTEND;TZID=Europe/Madrid:20271212T160000
DTSTAMP:20260421T040702
CREATED:20260402T085843Z
LAST-MODIFIED:20260402T085846Z
UID:10022892-1828627200-1828627200@disfruta-denia.com
SUMMARY:Tardeos live Mr Fisher
DESCRIPTION:
URL:https://disfruta-denia.com/evento/tardeos-live-mr-fisher-3-2/2027-12-12/
LOCATION:Mr Fisher\, Moll de La Pansa s/n. Marina El Portet\, Denia\, Alicante\, 03700\, España
CATEGORIES:Concierto,Música,Tardeo
ATTACH;FMTTYPE=image/jpeg:https://disfruta-denia.com/wp-content/uploads/2026/03/PHOTO-2026-04-01-21-52-52.jpg
END:VEVENT
BEGIN:VEVENT
DTSTART;TZID=Europe/Madrid:20271219T160000
DTEND;TZID=Europe/Madrid:20271219T160000
DTSTAMP:20260421T040702
CREATED:20260402T085843Z
LAST-MODIFIED:20260402T085846Z
UID:10022893-1829232000-1829232000@disfruta-denia.com
SUMMARY:Tardeos live Mr Fisher
DESCRIPTION:
URL:https://disfruta-denia.com/evento/tardeos-live-mr-fisher-3-2/2027-12-19/
LOCATION:Mr Fisher\, Moll de La Pansa s/n. Marina El Portet\, Denia\, Alicante\, 03700\, España
CATEGORIES:Concierto,Música,Tardeo
ATTACH;FMTTYPE=image/jpeg:https://disfruta-denia.com/wp-content/uploads/2026/03/PHOTO-2026-04-01-21-52-52.jpg
END:VEVENT
BEGIN:VEVENT
DTSTART;TZID=Europe/Madrid:20271226T160000
DTEND;TZID=Europe/Madrid:20271226T160000
DTSTAMP:20260421T040702
CREATED:20260402T085843Z
LAST-MODIFIED:20260402T085846Z
UID:10022894-1829836800-1829836800@disfruta-denia.com
SUMMARY:Tardeos live Mr Fisher
DESCRIPTION:
URL:https://disfruta-denia.com/evento/tardeos-live-mr-fisher-3-2/2027-12-26/
LOCATION:Mr Fisher\, Moll de La Pansa s/n. Marina El Portet\, Denia\, Alicante\, 03700\, España
CATEGORIES:Concierto,Música,Tardeo
ATTACH;FMTTYPE=image/jpeg:https://disfruta-denia.com/wp-content/uploads/2026/03/PHOTO-2026-04-01-21-52-52.jpg
END:VEVENT
BEGIN:VEVENT
DTSTART;TZID=Europe/Madrid:20280102T160000
DTEND;TZID=Europe/Madrid:20280102T160000
DTSTAMP:20260421T040702
CREATED:20260402T085843Z
LAST-MODIFIED:20260402T085846Z
UID:10022895-1830441600-1830441600@disfruta-denia.com
SUMMARY:Tardeos live Mr Fisher
DESCRIPTION:
URL:https://disfruta-denia.com/evento/tardeos-live-mr-fisher-3-2/2028-01-02/
LOCATION:Mr Fisher\, Moll de La Pansa s/n. Marina El Portet\, Denia\, Alicante\, 03700\, España
CATEGORIES:Concierto,Música,Tardeo
ATTACH;FMTTYPE=image/jpeg:https://disfruta-denia.com/wp-content/uploads/2026/03/PHOTO-2026-04-01-21-52-52.jpg
END:VEVENT
BEGIN:VEVENT
DTSTART;TZID=Europe/Madrid:20280109T160000
DTEND;TZID=Europe/Madrid:20280109T160000
DTSTAMP:20260421T040702
CREATED:20260402T085843Z
LAST-MODIFIED:20260402T085846Z
UID:10022896-1831046400-1831046400@disfruta-denia.com
SUMMARY:Tardeos live Mr Fisher
DESCRIPTION:
URL:https://disfruta-denia.com/evento/tardeos-live-mr-fisher-3-2/2028-01-09/
LOCATION:Mr Fisher\, Moll de La Pansa s/n. Marina El Portet\, Denia\, Alicante\, 03700\, España
CATEGORIES:Concierto,Música,Tardeo
ATTACH;FMTTYPE=image/jpeg:https://disfruta-denia.com/wp-content/uploads/2026/03/PHOTO-2026-04-01-21-52-52.jpg
END:VEVENT
END:VCALENDAR