BEGIN:VCALENDAR
VERSION:2.0
PRODID:-//Disfruta Denia - ECPv6.15.20//NONSGML v1.0//EN
CALSCALE:GREGORIAN
METHOD:PUBLISH
X-WR-CALNAME:Disfruta Denia
X-ORIGINAL-URL:https://disfruta-denia.com
X-WR-CALDESC:Eventos para Disfruta Denia
REFRESH-INTERVAL;VALUE=DURATION:PT1H
X-Robots-Tag:noindex
X-PUBLISHED-TTL:PT1H
BEGIN:VTIMEZONE
TZID:Europe/Madrid
BEGIN:DAYLIGHT
TZOFFSETFROM:+0100
TZOFFSETTO:+0200
TZNAME:CEST
DTSTART:20270328T010000
END:DAYLIGHT
BEGIN:STANDARD
TZOFFSETFROM:+0200
TZOFFSETTO:+0100
TZNAME:CET
DTSTART:20271031T010000
END:STANDARD
BEGIN:DAYLIGHT
TZOFFSETFROM:+0100
TZOFFSETTO:+0200
TZNAME:CEST
DTSTART:20280326T010000
END:DAYLIGHT
BEGIN:STANDARD
TZOFFSETFROM:+0200
TZOFFSETTO:+0100
TZNAME:CET
DTSTART:20281029T010000
END:STANDARD
BEGIN:DAYLIGHT
TZOFFSETFROM:+0100
TZOFFSETTO:+0200
TZNAME:CEST
DTSTART:20290325T010000
END:DAYLIGHT
BEGIN:STANDARD
TZOFFSETFROM:+0200
TZOFFSETTO:+0100
TZNAME:CET
DTSTART:20291028T010000
END:STANDARD
END:VTIMEZONE
BEGIN:VEVENT
DTSTART;TZID=Europe/Madrid:20280227T160000
DTEND;TZID=Europe/Madrid:20280227T160000
DTSTAMP:20260421T093714
CREATED:20260402T085843Z
LAST-MODIFIED:20260402T085846Z
UID:10022903-1835280000-1835280000@disfruta-denia.com
SUMMARY:Tardeos live Mr Fisher
DESCRIPTION:
URL:https://disfruta-denia.com/evento/tardeos-live-mr-fisher-3-2/2028-02-27/
LOCATION:Mr Fisher\, Moll de La Pansa s/n. Marina El Portet\, Denia\, Alicante\, 03700\, España
CATEGORIES:Concierto,Música,Tardeo
ATTACH;FMTTYPE=image/jpeg:https://disfruta-denia.com/wp-content/uploads/2026/03/PHOTO-2026-04-01-21-52-52.jpg
END:VEVENT
BEGIN:VEVENT
DTSTART;TZID=Europe/Madrid:20280305T160000
DTEND;TZID=Europe/Madrid:20280305T160000
DTSTAMP:20260421T093714
CREATED:20260402T085843Z
LAST-MODIFIED:20260402T085846Z
UID:10022904-1835884800-1835884800@disfruta-denia.com
SUMMARY:Tardeos live Mr Fisher
DESCRIPTION:
URL:https://disfruta-denia.com/evento/tardeos-live-mr-fisher-3-2/2028-03-05/
LOCATION:Mr Fisher\, Moll de La Pansa s/n. Marina El Portet\, Denia\, Alicante\, 03700\, España
CATEGORIES:Concierto,Música,Tardeo
ATTACH;FMTTYPE=image/jpeg:https://disfruta-denia.com/wp-content/uploads/2026/03/PHOTO-2026-04-01-21-52-52.jpg
END:VEVENT
BEGIN:VEVENT
DTSTART;TZID=Europe/Madrid:20280312T160000
DTEND;TZID=Europe/Madrid:20280312T160000
DTSTAMP:20260421T093714
CREATED:20260402T085843Z
LAST-MODIFIED:20260402T085846Z
UID:10022905-1836489600-1836489600@disfruta-denia.com
SUMMARY:Tardeos live Mr Fisher
DESCRIPTION:
URL:https://disfruta-denia.com/evento/tardeos-live-mr-fisher-3-2/2028-03-12/
LOCATION:Mr Fisher\, Moll de La Pansa s/n. Marina El Portet\, Denia\, Alicante\, 03700\, España
CATEGORIES:Concierto,Música,Tardeo
ATTACH;FMTTYPE=image/jpeg:https://disfruta-denia.com/wp-content/uploads/2026/03/PHOTO-2026-04-01-21-52-52.jpg
END:VEVENT
BEGIN:VEVENT
DTSTART;TZID=Europe/Madrid:20280319T160000
DTEND;TZID=Europe/Madrid:20280319T160000
DTSTAMP:20260421T093714
CREATED:20260402T085843Z
LAST-MODIFIED:20260402T085846Z
UID:10022906-1837094400-1837094400@disfruta-denia.com
SUMMARY:Tardeos live Mr Fisher
DESCRIPTION:
URL:https://disfruta-denia.com/evento/tardeos-live-mr-fisher-3-2/2028-03-19/
LOCATION:Mr Fisher\, Moll de La Pansa s/n. Marina El Portet\, Denia\, Alicante\, 03700\, España
CATEGORIES:Concierto,Música,Tardeo
ATTACH;FMTTYPE=image/jpeg:https://disfruta-denia.com/wp-content/uploads/2026/03/PHOTO-2026-04-01-21-52-52.jpg
END:VEVENT
BEGIN:VEVENT
DTSTART;TZID=Europe/Madrid:20280326T160000
DTEND;TZID=Europe/Madrid:20280326T160000
DTSTAMP:20260421T093714
CREATED:20260402T085843Z
LAST-MODIFIED:20260402T085846Z
UID:10022907-1837699200-1837699200@disfruta-denia.com
SUMMARY:Tardeos live Mr Fisher
DESCRIPTION:
URL:https://disfruta-denia.com/evento/tardeos-live-mr-fisher-3-2/2028-03-26/
LOCATION:Mr Fisher\, Moll de La Pansa s/n. Marina El Portet\, Denia\, Alicante\, 03700\, España
CATEGORIES:Concierto,Música,Tardeo
ATTACH;FMTTYPE=image/jpeg:https://disfruta-denia.com/wp-content/uploads/2026/03/PHOTO-2026-04-01-21-52-52.jpg
END:VEVENT
BEGIN:VEVENT
DTSTART;TZID=Europe/Madrid:20280402T160000
DTEND;TZID=Europe/Madrid:20280402T160000
DTSTAMP:20260421T093714
CREATED:20260402T085843Z
LAST-MODIFIED:20260402T085846Z
UID:10022908-1838304000-1838304000@disfruta-denia.com
SUMMARY:Tardeos live Mr Fisher
DESCRIPTION:
URL:https://disfruta-denia.com/evento/tardeos-live-mr-fisher-3-2/2028-04-02/
LOCATION:Mr Fisher\, Moll de La Pansa s/n. Marina El Portet\, Denia\, Alicante\, 03700\, España
CATEGORIES:Concierto,Música,Tardeo
ATTACH;FMTTYPE=image/jpeg:https://disfruta-denia.com/wp-content/uploads/2026/03/PHOTO-2026-04-01-21-52-52.jpg
END:VEVENT
BEGIN:VEVENT
DTSTART;TZID=Europe/Madrid:20280409T160000
DTEND;TZID=Europe/Madrid:20280409T160000
DTSTAMP:20260421T093714
CREATED:20260402T085843Z
LAST-MODIFIED:20260402T085846Z
UID:10022909-1838908800-1838908800@disfruta-denia.com
SUMMARY:Tardeos live Mr Fisher
DESCRIPTION:
URL:https://disfruta-denia.com/evento/tardeos-live-mr-fisher-3-2/2028-04-09/
LOCATION:Mr Fisher\, Moll de La Pansa s/n. Marina El Portet\, Denia\, Alicante\, 03700\, España
CATEGORIES:Concierto,Música,Tardeo
ATTACH;FMTTYPE=image/jpeg:https://disfruta-denia.com/wp-content/uploads/2026/03/PHOTO-2026-04-01-21-52-52.jpg
END:VEVENT
BEGIN:VEVENT
DTSTART;TZID=Europe/Madrid:20280416T160000
DTEND;TZID=Europe/Madrid:20280416T160000
DTSTAMP:20260421T093714
CREATED:20260402T085843Z
LAST-MODIFIED:20260402T085846Z
UID:10022910-1839513600-1839513600@disfruta-denia.com
SUMMARY:Tardeos live Mr Fisher
DESCRIPTION:
URL:https://disfruta-denia.com/evento/tardeos-live-mr-fisher-3-2/2028-04-16/
LOCATION:Mr Fisher\, Moll de La Pansa s/n. Marina El Portet\, Denia\, Alicante\, 03700\, España
CATEGORIES:Concierto,Música,Tardeo
ATTACH;FMTTYPE=image/jpeg:https://disfruta-denia.com/wp-content/uploads/2026/03/PHOTO-2026-04-01-21-52-52.jpg
END:VEVENT
BEGIN:VEVENT
DTSTART;TZID=Europe/Madrid:20280423T160000
DTEND;TZID=Europe/Madrid:20280423T160000
DTSTAMP:20260421T093714
CREATED:20260402T085843Z
LAST-MODIFIED:20260402T085846Z
UID:10022911-1840118400-1840118400@disfruta-denia.com
SUMMARY:Tardeos live Mr Fisher
DESCRIPTION:
URL:https://disfruta-denia.com/evento/tardeos-live-mr-fisher-3-2/2028-04-23/
LOCATION:Mr Fisher\, Moll de La Pansa s/n. Marina El Portet\, Denia\, Alicante\, 03700\, España
CATEGORIES:Concierto,Música,Tardeo
ATTACH;FMTTYPE=image/jpeg:https://disfruta-denia.com/wp-content/uploads/2026/03/PHOTO-2026-04-01-21-52-52.jpg
END:VEVENT
BEGIN:VEVENT
DTSTART;TZID=Europe/Madrid:20280430T160000
DTEND;TZID=Europe/Madrid:20280430T160000
DTSTAMP:20260421T093714
CREATED:20260402T085843Z
LAST-MODIFIED:20260402T085846Z
UID:10022912-1840723200-1840723200@disfruta-denia.com
SUMMARY:Tardeos live Mr Fisher
DESCRIPTION:
URL:https://disfruta-denia.com/evento/tardeos-live-mr-fisher-3-2/2028-04-30/
LOCATION:Mr Fisher\, Moll de La Pansa s/n. Marina El Portet\, Denia\, Alicante\, 03700\, España
CATEGORIES:Concierto,Música,Tardeo
ATTACH;FMTTYPE=image/jpeg:https://disfruta-denia.com/wp-content/uploads/2026/03/PHOTO-2026-04-01-21-52-52.jpg
END:VEVENT
BEGIN:VEVENT
DTSTART;TZID=Europe/Madrid:20280507T160000
DTEND;TZID=Europe/Madrid:20280507T160000
DTSTAMP:20260421T093714
CREATED:20260402T085843Z
LAST-MODIFIED:20260402T085846Z
UID:10022913-1841328000-1841328000@disfruta-denia.com
SUMMARY:Tardeos live Mr Fisher
DESCRIPTION:
URL:https://disfruta-denia.com/evento/tardeos-live-mr-fisher-3-2/2028-05-07/
LOCATION:Mr Fisher\, Moll de La Pansa s/n. Marina El Portet\, Denia\, Alicante\, 03700\, España
CATEGORIES:Concierto,Música,Tardeo
ATTACH;FMTTYPE=image/jpeg:https://disfruta-denia.com/wp-content/uploads/2026/03/PHOTO-2026-04-01-21-52-52.jpg
END:VEVENT
BEGIN:VEVENT
DTSTART;TZID=Europe/Madrid:20280514T160000
DTEND;TZID=Europe/Madrid:20280514T160000
DTSTAMP:20260421T093714
CREATED:20260402T085843Z
LAST-MODIFIED:20260402T085846Z
UID:10022914-1841932800-1841932800@disfruta-denia.com
SUMMARY:Tardeos live Mr Fisher
DESCRIPTION:
URL:https://disfruta-denia.com/evento/tardeos-live-mr-fisher-3-2/2028-05-14/
LOCATION:Mr Fisher\, Moll de La Pansa s/n. Marina El Portet\, Denia\, Alicante\, 03700\, España
CATEGORIES:Concierto,Música,Tardeo
ATTACH;FMTTYPE=image/jpeg:https://disfruta-denia.com/wp-content/uploads/2026/03/PHOTO-2026-04-01-21-52-52.jpg
END:VEVENT
BEGIN:VEVENT
DTSTART;TZID=Europe/Madrid:20280521T160000
DTEND;TZID=Europe/Madrid:20280521T160000
DTSTAMP:20260421T093714
CREATED:20260402T085843Z
LAST-MODIFIED:20260402T085846Z
UID:10022915-1842537600-1842537600@disfruta-denia.com
SUMMARY:Tardeos live Mr Fisher
DESCRIPTION:
URL:https://disfruta-denia.com/evento/tardeos-live-mr-fisher-3-2/2028-05-21/
LOCATION:Mr Fisher\, Moll de La Pansa s/n. Marina El Portet\, Denia\, Alicante\, 03700\, España
CATEGORIES:Concierto,Música,Tardeo
ATTACH;FMTTYPE=image/jpeg:https://disfruta-denia.com/wp-content/uploads/2026/03/PHOTO-2026-04-01-21-52-52.jpg
END:VEVENT
BEGIN:VEVENT
DTSTART;TZID=Europe/Madrid:20280528T160000
DTEND;TZID=Europe/Madrid:20280528T160000
DTSTAMP:20260421T093714
CREATED:20260402T085843Z
LAST-MODIFIED:20260402T085846Z
UID:10022916-1843142400-1843142400@disfruta-denia.com
SUMMARY:Tardeos live Mr Fisher
DESCRIPTION:
URL:https://disfruta-denia.com/evento/tardeos-live-mr-fisher-3-2/2028-05-28/
LOCATION:Mr Fisher\, Moll de La Pansa s/n. Marina El Portet\, Denia\, Alicante\, 03700\, España
CATEGORIES:Concierto,Música,Tardeo
ATTACH;FMTTYPE=image/jpeg:https://disfruta-denia.com/wp-content/uploads/2026/03/PHOTO-2026-04-01-21-52-52.jpg
END:VEVENT
BEGIN:VEVENT
DTSTART;TZID=Europe/Madrid:20280604T160000
DTEND;TZID=Europe/Madrid:20280604T160000
DTSTAMP:20260421T093714
CREATED:20260402T085843Z
LAST-MODIFIED:20260402T085846Z
UID:10022917-1843747200-1843747200@disfruta-denia.com
SUMMARY:Tardeos live Mr Fisher
DESCRIPTION:
URL:https://disfruta-denia.com/evento/tardeos-live-mr-fisher-3-2/2028-06-04/
LOCATION:Mr Fisher\, Moll de La Pansa s/n. Marina El Portet\, Denia\, Alicante\, 03700\, España
CATEGORIES:Concierto,Música,Tardeo
ATTACH;FMTTYPE=image/jpeg:https://disfruta-denia.com/wp-content/uploads/2026/03/PHOTO-2026-04-01-21-52-52.jpg
END:VEVENT
BEGIN:VEVENT
DTSTART;TZID=Europe/Madrid:20280611T160000
DTEND;TZID=Europe/Madrid:20280611T160000
DTSTAMP:20260421T093714
CREATED:20260402T085843Z
LAST-MODIFIED:20260402T085846Z
UID:10022918-1844352000-1844352000@disfruta-denia.com
SUMMARY:Tardeos live Mr Fisher
DESCRIPTION:
URL:https://disfruta-denia.com/evento/tardeos-live-mr-fisher-3-2/2028-06-11/
LOCATION:Mr Fisher\, Moll de La Pansa s/n. Marina El Portet\, Denia\, Alicante\, 03700\, España
CATEGORIES:Concierto,Música,Tardeo
ATTACH;FMTTYPE=image/jpeg:https://disfruta-denia.com/wp-content/uploads/2026/03/PHOTO-2026-04-01-21-52-52.jpg
END:VEVENT
BEGIN:VEVENT
DTSTART;TZID=Europe/Madrid:20280618T160000
DTEND;TZID=Europe/Madrid:20280618T160000
DTSTAMP:20260421T093714
CREATED:20260402T085843Z
LAST-MODIFIED:20260402T085846Z
UID:10022919-1844956800-1844956800@disfruta-denia.com
SUMMARY:Tardeos live Mr Fisher
DESCRIPTION:
URL:https://disfruta-denia.com/evento/tardeos-live-mr-fisher-3-2/2028-06-18/
LOCATION:Mr Fisher\, Moll de La Pansa s/n. Marina El Portet\, Denia\, Alicante\, 03700\, España
CATEGORIES:Concierto,Música,Tardeo
ATTACH;FMTTYPE=image/jpeg:https://disfruta-denia.com/wp-content/uploads/2026/03/PHOTO-2026-04-01-21-52-52.jpg
END:VEVENT
BEGIN:VEVENT
DTSTART;TZID=Europe/Madrid:20280625T160000
DTEND;TZID=Europe/Madrid:20280625T160000
DTSTAMP:20260421T093714
CREATED:20260402T085843Z
LAST-MODIFIED:20260402T085846Z
UID:10022920-1845561600-1845561600@disfruta-denia.com
SUMMARY:Tardeos live Mr Fisher
DESCRIPTION:
URL:https://disfruta-denia.com/evento/tardeos-live-mr-fisher-3-2/2028-06-25/
LOCATION:Mr Fisher\, Moll de La Pansa s/n. Marina El Portet\, Denia\, Alicante\, 03700\, España
CATEGORIES:Concierto,Música,Tardeo
ATTACH;FMTTYPE=image/jpeg:https://disfruta-denia.com/wp-content/uploads/2026/03/PHOTO-2026-04-01-21-52-52.jpg
END:VEVENT
BEGIN:VEVENT
DTSTART;TZID=Europe/Madrid:20280702T160000
DTEND;TZID=Europe/Madrid:20280702T160000
DTSTAMP:20260421T093714
CREATED:20260402T085843Z
LAST-MODIFIED:20260402T085846Z
UID:10022921-1846166400-1846166400@disfruta-denia.com
SUMMARY:Tardeos live Mr Fisher
DESCRIPTION:
URL:https://disfruta-denia.com/evento/tardeos-live-mr-fisher-3-2/2028-07-02/
LOCATION:Mr Fisher\, Moll de La Pansa s/n. Marina El Portet\, Denia\, Alicante\, 03700\, España
CATEGORIES:Concierto,Música,Tardeo
ATTACH;FMTTYPE=image/jpeg:https://disfruta-denia.com/wp-content/uploads/2026/03/PHOTO-2026-04-01-21-52-52.jpg
END:VEVENT
BEGIN:VEVENT
DTSTART;TZID=Europe/Madrid:20280709T160000
DTEND;TZID=Europe/Madrid:20280709T160000
DTSTAMP:20260421T093714
CREATED:20260402T085843Z
LAST-MODIFIED:20260402T085846Z
UID:10022922-1846771200-1846771200@disfruta-denia.com
SUMMARY:Tardeos live Mr Fisher
DESCRIPTION:
URL:https://disfruta-denia.com/evento/tardeos-live-mr-fisher-3-2/2028-07-09/
LOCATION:Mr Fisher\, Moll de La Pansa s/n. Marina El Portet\, Denia\, Alicante\, 03700\, España
CATEGORIES:Concierto,Música,Tardeo
ATTACH;FMTTYPE=image/jpeg:https://disfruta-denia.com/wp-content/uploads/2026/03/PHOTO-2026-04-01-21-52-52.jpg
END:VEVENT
BEGIN:VEVENT
DTSTART;TZID=Europe/Madrid:20280716T160000
DTEND;TZID=Europe/Madrid:20280716T160000
DTSTAMP:20260421T093714
CREATED:20260402T085843Z
LAST-MODIFIED:20260402T085846Z
UID:10022923-1847376000-1847376000@disfruta-denia.com
SUMMARY:Tardeos live Mr Fisher
DESCRIPTION:
URL:https://disfruta-denia.com/evento/tardeos-live-mr-fisher-3-2/2028-07-16/
LOCATION:Mr Fisher\, Moll de La Pansa s/n. Marina El Portet\, Denia\, Alicante\, 03700\, España
CATEGORIES:Concierto,Música,Tardeo
ATTACH;FMTTYPE=image/jpeg:https://disfruta-denia.com/wp-content/uploads/2026/03/PHOTO-2026-04-01-21-52-52.jpg
END:VEVENT
BEGIN:VEVENT
DTSTART;TZID=Europe/Madrid:20280723T160000
DTEND;TZID=Europe/Madrid:20280723T160000
DTSTAMP:20260421T093714
CREATED:20260402T085843Z
LAST-MODIFIED:20260402T085846Z
UID:10022924-1847980800-1847980800@disfruta-denia.com
SUMMARY:Tardeos live Mr Fisher
DESCRIPTION:
URL:https://disfruta-denia.com/evento/tardeos-live-mr-fisher-3-2/2028-07-23/
LOCATION:Mr Fisher\, Moll de La Pansa s/n. Marina El Portet\, Denia\, Alicante\, 03700\, España
CATEGORIES:Concierto,Música,Tardeo
ATTACH;FMTTYPE=image/jpeg:https://disfruta-denia.com/wp-content/uploads/2026/03/PHOTO-2026-04-01-21-52-52.jpg
END:VEVENT
BEGIN:VEVENT
DTSTART;TZID=Europe/Madrid:20280730T160000
DTEND;TZID=Europe/Madrid:20280730T160000
DTSTAMP:20260421T093714
CREATED:20260402T085843Z
LAST-MODIFIED:20260402T085846Z
UID:10022925-1848585600-1848585600@disfruta-denia.com
SUMMARY:Tardeos live Mr Fisher
DESCRIPTION:
URL:https://disfruta-denia.com/evento/tardeos-live-mr-fisher-3-2/2028-07-30/
LOCATION:Mr Fisher\, Moll de La Pansa s/n. Marina El Portet\, Denia\, Alicante\, 03700\, España
CATEGORIES:Concierto,Música,Tardeo
ATTACH;FMTTYPE=image/jpeg:https://disfruta-denia.com/wp-content/uploads/2026/03/PHOTO-2026-04-01-21-52-52.jpg
END:VEVENT
BEGIN:VEVENT
DTSTART;TZID=Europe/Madrid:20280806T160000
DTEND;TZID=Europe/Madrid:20280806T160000
DTSTAMP:20260421T093714
CREATED:20260402T085843Z
LAST-MODIFIED:20260402T085846Z
UID:10022926-1849190400-1849190400@disfruta-denia.com
SUMMARY:Tardeos live Mr Fisher
DESCRIPTION:
URL:https://disfruta-denia.com/evento/tardeos-live-mr-fisher-3-2/2028-08-06/
LOCATION:Mr Fisher\, Moll de La Pansa s/n. Marina El Portet\, Denia\, Alicante\, 03700\, España
CATEGORIES:Concierto,Música,Tardeo
ATTACH;FMTTYPE=image/jpeg:https://disfruta-denia.com/wp-content/uploads/2026/03/PHOTO-2026-04-01-21-52-52.jpg
END:VEVENT
BEGIN:VEVENT
DTSTART;TZID=Europe/Madrid:20280813T160000
DTEND;TZID=Europe/Madrid:20280813T160000
DTSTAMP:20260421T093714
CREATED:20260402T085843Z
LAST-MODIFIED:20260402T085846Z
UID:10022927-1849795200-1849795200@disfruta-denia.com
SUMMARY:Tardeos live Mr Fisher
DESCRIPTION:
URL:https://disfruta-denia.com/evento/tardeos-live-mr-fisher-3-2/2028-08-13/
LOCATION:Mr Fisher\, Moll de La Pansa s/n. Marina El Portet\, Denia\, Alicante\, 03700\, España
CATEGORIES:Concierto,Música,Tardeo
ATTACH;FMTTYPE=image/jpeg:https://disfruta-denia.com/wp-content/uploads/2026/03/PHOTO-2026-04-01-21-52-52.jpg
END:VEVENT
BEGIN:VEVENT
DTSTART;TZID=Europe/Madrid:20280820T160000
DTEND;TZID=Europe/Madrid:20280820T160000
DTSTAMP:20260421T093714
CREATED:20260402T085843Z
LAST-MODIFIED:20260402T085846Z
UID:10022928-1850400000-1850400000@disfruta-denia.com
SUMMARY:Tardeos live Mr Fisher
DESCRIPTION:
URL:https://disfruta-denia.com/evento/tardeos-live-mr-fisher-3-2/2028-08-20/
LOCATION:Mr Fisher\, Moll de La Pansa s/n. Marina El Portet\, Denia\, Alicante\, 03700\, España
CATEGORIES:Concierto,Música,Tardeo
ATTACH;FMTTYPE=image/jpeg:https://disfruta-denia.com/wp-content/uploads/2026/03/PHOTO-2026-04-01-21-52-52.jpg
END:VEVENT
BEGIN:VEVENT
DTSTART;TZID=Europe/Madrid:20280827T160000
DTEND;TZID=Europe/Madrid:20280827T160000
DTSTAMP:20260421T093714
CREATED:20260402T085843Z
LAST-MODIFIED:20260402T085846Z
UID:10022929-1851004800-1851004800@disfruta-denia.com
SUMMARY:Tardeos live Mr Fisher
DESCRIPTION:
URL:https://disfruta-denia.com/evento/tardeos-live-mr-fisher-3-2/2028-08-27/
LOCATION:Mr Fisher\, Moll de La Pansa s/n. Marina El Portet\, Denia\, Alicante\, 03700\, España
CATEGORIES:Concierto,Música,Tardeo
ATTACH;FMTTYPE=image/jpeg:https://disfruta-denia.com/wp-content/uploads/2026/03/PHOTO-2026-04-01-21-52-52.jpg
END:VEVENT
BEGIN:VEVENT
DTSTART;TZID=Europe/Madrid:20280903T160000
DTEND;TZID=Europe/Madrid:20280903T160000
DTSTAMP:20260421T093714
CREATED:20260402T085843Z
LAST-MODIFIED:20260402T085846Z
UID:10022930-1851609600-1851609600@disfruta-denia.com
SUMMARY:Tardeos live Mr Fisher
DESCRIPTION:
URL:https://disfruta-denia.com/evento/tardeos-live-mr-fisher-3-2/2028-09-03/
LOCATION:Mr Fisher\, Moll de La Pansa s/n. Marina El Portet\, Denia\, Alicante\, 03700\, España
CATEGORIES:Concierto,Música,Tardeo
ATTACH;FMTTYPE=image/jpeg:https://disfruta-denia.com/wp-content/uploads/2026/03/PHOTO-2026-04-01-21-52-52.jpg
END:VEVENT
BEGIN:VEVENT
DTSTART;TZID=Europe/Madrid:20280910T160000
DTEND;TZID=Europe/Madrid:20280910T160000
DTSTAMP:20260421T093714
CREATED:20260402T085843Z
LAST-MODIFIED:20260402T085846Z
UID:10022931-1852214400-1852214400@disfruta-denia.com
SUMMARY:Tardeos live Mr Fisher
DESCRIPTION:
URL:https://disfruta-denia.com/evento/tardeos-live-mr-fisher-3-2/2028-09-10/
LOCATION:Mr Fisher\, Moll de La Pansa s/n. Marina El Portet\, Denia\, Alicante\, 03700\, España
CATEGORIES:Concierto,Música,Tardeo
ATTACH;FMTTYPE=image/jpeg:https://disfruta-denia.com/wp-content/uploads/2026/03/PHOTO-2026-04-01-21-52-52.jpg
END:VEVENT
BEGIN:VEVENT
DTSTART;TZID=Europe/Madrid:20280917T160000
DTEND;TZID=Europe/Madrid:20280917T160000
DTSTAMP:20260421T093714
CREATED:20260402T085843Z
LAST-MODIFIED:20260402T085846Z
UID:10022932-1852819200-1852819200@disfruta-denia.com
SUMMARY:Tardeos live Mr Fisher
DESCRIPTION:
URL:https://disfruta-denia.com/evento/tardeos-live-mr-fisher-3-2/2028-09-17/
LOCATION:Mr Fisher\, Moll de La Pansa s/n. Marina El Portet\, Denia\, Alicante\, 03700\, España
CATEGORIES:Concierto,Música,Tardeo
ATTACH;FMTTYPE=image/jpeg:https://disfruta-denia.com/wp-content/uploads/2026/03/PHOTO-2026-04-01-21-52-52.jpg
END:VEVENT
END:VCALENDAR