BEGIN:VCALENDAR
VERSION:2.0
PRODID:-//Disfruta Denia - ECPv6.15.20//NONSGML v1.0//EN
CALSCALE:GREGORIAN
METHOD:PUBLISH
X-WR-CALNAME:Disfruta Denia
X-ORIGINAL-URL:https://disfruta-denia.com
X-WR-CALDESC:Eventos para Disfruta Denia
REFRESH-INTERVAL;VALUE=DURATION:PT1H
X-Robots-Tag:noindex
X-PUBLISHED-TTL:PT1H
BEGIN:VTIMEZONE
TZID:Europe/Madrid
BEGIN:DAYLIGHT
TZOFFSETFROM:+0100
TZOFFSETTO:+0200
TZNAME:CEST
DTSTART:20220327T010000
END:DAYLIGHT
BEGIN:STANDARD
TZOFFSETFROM:+0200
TZOFFSETTO:+0100
TZNAME:CET
DTSTART:20221030T010000
END:STANDARD
BEGIN:DAYLIGHT
TZOFFSETFROM:+0100
TZOFFSETTO:+0200
TZNAME:CEST
DTSTART:20230326T010000
END:DAYLIGHT
BEGIN:STANDARD
TZOFFSETFROM:+0200
TZOFFSETTO:+0100
TZNAME:CET
DTSTART:20231029T010000
END:STANDARD
BEGIN:DAYLIGHT
TZOFFSETFROM:+0100
TZOFFSETTO:+0200
TZNAME:CEST
DTSTART:20240331T010000
END:DAYLIGHT
BEGIN:STANDARD
TZOFFSETFROM:+0200
TZOFFSETTO:+0100
TZNAME:CET
DTSTART:20241027T010000
END:STANDARD
BEGIN:DAYLIGHT
TZOFFSETFROM:+0100
TZOFFSETTO:+0200
TZNAME:CEST
DTSTART:20250330T010000
END:DAYLIGHT
BEGIN:STANDARD
TZOFFSETFROM:+0200
TZOFFSETTO:+0100
TZNAME:CET
DTSTART:20251026T010000
END:STANDARD
BEGIN:DAYLIGHT
TZOFFSETFROM:+0100
TZOFFSETTO:+0200
TZNAME:CEST
DTSTART:20260329T010000
END:DAYLIGHT
BEGIN:STANDARD
TZOFFSETFROM:+0200
TZOFFSETTO:+0100
TZNAME:CET
DTSTART:20261025T010000
END:STANDARD
BEGIN:DAYLIGHT
TZOFFSETFROM:+0100
TZOFFSETTO:+0200
TZNAME:CEST
DTSTART:20270328T010000
END:DAYLIGHT
BEGIN:STANDARD
TZOFFSETFROM:+0200
TZOFFSETTO:+0100
TZNAME:CET
DTSTART:20271031T010000
END:STANDARD
END:VTIMEZONE
BEGIN:VEVENT
DTSTART;TZID=Europe/Madrid:20260131T100000
DTEND;TZID=Europe/Madrid:20260131T100000
DTSTAMP:20260420T194422
CREATED:20260127T104515Z
LAST-MODIFIED:20260127T104636Z
UID:10026382-1769853600-1769853600@disfruta-denia.com
SUMMARY:Juegos Deportivos Valencianos de las comarcas de Alicante
DESCRIPTION:Este sábado 31 de enero\, #Dénia acogerá por primera vez la celebración de los Juegos Deportivos Valencianos de las comarcas de Alicante para continuar promocionando el remo entre los clubs y centros educativos. Modalidad remergómetro Benjamín Relieve Mixto\, Alevín individual y relieves\, Infantil individual y relieves\, y Cadete individual y relieve Pabellón Polideportivo de #Dénia Sábado 31/01/26Organiza: Federació Rem de la Comunitat Valenciana i Club de Rem Marina Dénia
URL:https://disfruta-denia.com/evento/juegos-deportivos-valencianos-de-las-comarcas-de-alicante/
LOCATION:Pabellón Joan Fuster\, Partida Capsades\, 2B\, Denia\, Alicante\, 03700\, España
CATEGORIES:Deporte
ATTACH;FMTTYPE=image/jpeg:https://disfruta-denia.com/wp-content/uploads/2026/01/619996060_771027626039875_5576743921684602884_n.jpg
END:VEVENT
BEGIN:VEVENT
DTSTART;TZID=Europe/Madrid:20241020T120000
DTEND;TZID=Europe/Madrid:20241020T120000
DTSTAMP:20260420T194422
CREATED:20241016T174851Z
LAST-MODIFIED:20241016T174851Z
UID:10019664-1729425600-1729425600@disfruta-denia.com
SUMMARY:Presentación Escuelas Deportivas 2024/25
DESCRIPTION:Este domingo 20 de octubre a las 12 h\, ¡te esperamos en el Polideportivo Municipal para la gran Presentación de las Escuelas Deportivas de Dénia! 🤩 🏀⚽️🤸‍♂️ Podrás conocer a todas las niñas y niños inscritos\, acompañados por sus entrenadores\, coordinadores y delegados\, y descubrir 12 de las 16 modalidades que forman parte de la familia deportiva. 💪 Unos 2.000 deportistas forman parte de nuestras escuelas esta temporada.
URL:https://disfruta-denia.com/evento/presentacion-escuelas-deportivas-2024-25/
LOCATION:Pabellón Joan Fuster\, Partida Capsades\, 2B\, Denia\, Alicante\, 03700\, España
CATEGORIES:Deporte
ATTACH;FMTTYPE=image/png:https://disfruta-denia.com/wp-content/uploads/2024/10/Telegram-Contact-deniaesports-10-16-2024_07_48_PM.png
END:VEVENT
BEGIN:VEVENT
DTSTART;TZID=Europe/Madrid:20231203T123000
DTEND;TZID=Europe/Madrid:20231203T123000
DTSTAMP:20260420T194422
CREATED:20231201T151256Z
LAST-MODIFIED:20231201T151256Z
UID:10014922-1701606600-1701606600@disfruta-denia.com
SUMMARY:Basquet! JUNIOR FEMENINO PREFERENTE VS NB ALCOI
DESCRIPTION:CAS: JUNIOR FEMENINO PREFERENTE\nPABELLÓN JOAN FUSTER:\nJUNIOR FEMENINO PREFERENTE VS NB ALCOI\nDOMINGO 03 DICIEMBRE 12:30h
URL:https://disfruta-denia.com/evento/basquet-junior-femenino-preferente-vs-nb-alcoi/
LOCATION:Pabellón Joan Fuster\, Partida Capsades\, 2B\, Denia\, Alicante\, 03700\, España
CATEGORIES:Basket,Deporte
ATTACH;FMTTYPE=image/jpeg:https://disfruta-denia.com/wp-content/uploads/2023/12/406503483_18245866918212894_4358643494378359825_n.jpg
END:VEVENT
BEGIN:VEVENT
DTSTART;TZID=Europe/Madrid:20231119T170000
DTEND;TZID=Europe/Madrid:20231119T170000
DTSTAMP:20260420T194422
CREATED:20231117T201006Z
LAST-MODIFIED:20231117T201006Z
UID:10014826-1700413200-1700413200@disfruta-denia.com
SUMMARY:Basquet: JUNIOR MASCULINO PREFERENTE VS CB GENOVÉS
DESCRIPTION:JUNIOR MASCULINO PREFERENTE\nPABELLÓN JOAN FUSTER:\nJUNIOR MASCULINO PREFERENTE VS CB GENOVÉS\nDOMINGO 19\, NOVIEMBRE 17:00h
URL:https://disfruta-denia.com/evento/basquet-junior-masculino-preferente-vs-cb-genoves/
LOCATION:Pabellón Joan Fuster\, Partida Capsades\, 2B\, Denia\, Alicante\, 03700\, España
CATEGORIES:Basket,Deporte
ATTACH;FMTTYPE=image/jpeg:https://disfruta-denia.com/wp-content/uploads/2023/11/402873889_18244201489212894_7349253511463273199_n-1.jpg
END:VEVENT
BEGIN:VEVENT
DTSTART;TZID=Europe/Madrid:20231111T170000
DTEND;TZID=Europe/Madrid:20231111T170000
DTSTAMP:20260420T194422
CREATED:20231110T134417Z
LAST-MODIFIED:20231110T134417Z
UID:10014809-1699722000-1699722000@disfruta-denia.com
SUMMARY:Basquet: SENIOR NACIONAL MASCULINO DBC VS CA MONTEMAR
DESCRIPTION:CAS: PABELLÓN JOAN FUSTER:\nSENIOR NACIONAL MASCULINO DBC VS CA MONTEMAR\nSÁBADO 11 NOVIEMBRE 17:00h
URL:https://disfruta-denia.com/evento/basquet-senior-nacional-masculino-dbc-vs-ca-montemar/
LOCATION:Pabellón Joan Fuster\, Partida Capsades\, 2B\, Denia\, Alicante\, 03700\, España
CATEGORIES:Basket,Deporte
ATTACH;FMTTYPE=image/jpeg:https://disfruta-denia.com/wp-content/uploads/2023/11/400654214_18243048025212894_3402592671571336974_n.jpg
END:VEVENT
BEGIN:VEVENT
DTSTART;TZID=Europe/Madrid:20231104T170000
DTEND;TZID=Europe/Madrid:20231104T170000
DTSTAMP:20260420T194422
CREATED:20231103T113431Z
LAST-MODIFIED:20231103T113431Z
UID:10014785-1699117200-1699117200@disfruta-denia.com
SUMMARY:Basquet: SENIOR PREFERENTE MASCULINO DBC VS CB FOGUERA CANALS
DESCRIPTION:CAS: SENIOR MASCULINO PREFERENTE\nPABELLÓN JOAN FUSTER:\nSENIOR PREFERENTE MASCULINO DBC VS CB FOGUERA CANALS\nSÁBADO 04 NOVIEMBRE 17:00h
URL:https://disfruta-denia.com/evento/basquet-senior-preferente-masculino-dbc-vs-cb-foguera-canals/
LOCATION:Pabellón Joan Fuster\, Partida Capsades\, 2B\, Denia\, Alicante\, 03700\, España
CATEGORIES:Basket,Deporte
ATTACH;FMTTYPE=image/jpeg:https://disfruta-denia.com/wp-content/uploads/2023/11/398004408_18242093173212894_2694086574495335520_n.jpg
END:VEVENT
BEGIN:VEVENT
DTSTART;TZID=Europe/Madrid:20231021T170000
DTEND;TZID=Europe/Madrid:20231021T170000
DTSTAMP:20260420T194422
CREATED:20231020T164419Z
LAST-MODIFIED:20231020T164419Z
UID:10014744-1697907600-1697907600@disfruta-denia.com
SUMMARY:Basquet: SENIOR NACIONAL MASCULINO DBC VS CB ALGINET
DESCRIPTION:SENIOR MASCULINO NACIONAL\nPABELLÓN JOAN FUSTER:\nSENIOR NACIONAL MASCULINO DBC VS CB ALGINET\nSÁBADO 21 OCTUBRE 17:00h
URL:https://disfruta-denia.com/evento/basquet-senior-nacional-masculino-dbc-vs-cb-alginet/
LOCATION:Pabellón Joan Fuster\, Partida Capsades\, 2B\, Denia\, Alicante\, 03700\, España
CATEGORIES:Basket,Deporte
ATTACH;FMTTYPE=image/jpeg:https://disfruta-denia.com/wp-content/uploads/2023/10/391620730_18240006307212894_7056612631057262180_n.jpg
END:VEVENT
END:VCALENDAR